{"text_format":"1","workbook":"xlsx","n_sheets":19,"sheets":["Anleitung","Dat-Bl","w-E_R","Sum-w_R","Ez-w-R","P-60 m","P-60 m (2)","P-60 m (3)","P-Wurf","P-Weit","P-Staffel","P_Schulen_w","Ez-60m","Ez-Schlagball","Ez-Kugel","Ez-Weit","Ez-Staffel","Ges-Erg_R","Schweizer-Punktetabelle"],"not_rendered":{"charts":0,"images":2,"macros":1,"external_links":0,"defined_names":19,"comments":0,"pivot_tables":0},"unopened":[],"bounds":{"document_bytes":16777216,"sheet_cells":100000,"rows_first":2000,"rows_last":500,"rows_between":2000,"halvings":0,"cell_chars":16384,"cell_head_chars":4096},"cells_cut":0,"cells_raw":0,"read":"whole","date_system":"1900"}

{"sheet":"Anleitung","index":0,"n_rows":0,"n_cols":0,"rows_kept":0,"cut":false,"hidden":false,"merged":[]}

{"sheet":"Dat-Bl","index":1,"n_rows":246,"n_cols":15,"rows_kept":246,"cut":false,"hidden":false,"merged":[[240,0,245,0],[240,8,245,8],[222,0,227,0],[222,8,227,8],[228,0,233,0],[228,8,233,8],[234,0,239,0],[234,8,239,8],[174,0,179,0],[174,8,179,8],[180,0,185,0],[180,8,185,8],[216,8,221,8],[186,0,191,0],[186,8,191,8],[192,0,197,0],[192,8,197,8],[198,0,203,0],[198,8,203,8],[204,0,209,0],[204,8,209,8],[210,0,215,0],[210,8,215,8],[216,0,221,0],[156,0,161,0],[156,8,161,8],[162,0,167,0],[162,8,167,8],[168,0,173,0],[168,8,173,8],[138,0,143,0],[138,8,143,8],[144,0,149,0],[144,8,149,8],[150,0,155,0],[150,8,155,8],[126,0,131,0],[126,8,131,8],[123,1,125,1],[132,0,137,0],[132,8,137,8],[105,0,110,0],[105,8,110,8],[111,0,116,0],[111,8,116,8],[117,0,122,0],[117,8,122,8],[87,0,92,0],[87,8,92,8],[93,0,98,0],[93,8,98,8],[99,0,104,0],[99,8,104,8],[69,0,74,0],[69,8,74,8],[75,0,80,0],[75,8,80,8],[81,0,86,0],[81,8,86,8],[51,0,56,0],[51,8,56,8],[57,0,62,0],[57,8,62,8],[63,0,68,0],[63,8,68,8],[33,0,38,0],[33,8,38,8],[39,0,44,0],[39,8,44,8],[45,0,50,0],[45,8,50,8],[15,0,20,0],[15,8,20,8],[21,0,26,0],[21,8,26,8],[27,0,32,0],[27,8,32,8],[3,0,8,0],[3,8,8,8],[0,1,2,1],[9,0,14,0],[9,8,14,8],[0,10,1,14],[123,10,124,14],[0,9,2,9],[123,2,124,6],[0,2,1,6],[123,9,125,9]]}
[null,"Kenn - ziffer","Datenerfassung_Weiblich - Regelschulen",null,null,null,null,null,null,"Kenn - ziffer","Datenerfassung_Männlich - Regelschulen"]
[]
[null,null,"Start-Nr.","Schülerinnen","Geb.Dat.","Schule ","Bezirk/Bundesland",null,null,null,"Start-Nr.","Schülerinnen","Geb.Dat.","Schule ","Bezirk/Bundesland"]
["Schule 1",1,null,"Wallner Paulina",null,"BG St.Martin",null,null,"Schule 1",1,null,"M1/01-Regel"]
[null,2,null,"Feichter Nelly",null,{"$f":"F4","v":"BG St.Martin"},null,null,null,2,null,"M1/02-Regel",null,{"$f":"N4","v":0}]
[null,3,null,"Heincz Gerit",null,{"$f":"F5","v":"BG St.Martin"},null,null,null,3,null,"M1/03-Regel",null,{"$f":"N5","v":0}]
[null,4,null,"Enzi Sarah",null,"BG St.Martin",null,null,null,4,null,"M1/04-Regel",null,0]
[null,5,null,"Koch Anna",null,"BG St.Martin",null,null,null,5,null,"M1/05-Regel",null,0]
[null,6,null,"Fugger Sophie",null,"BG St.Martin",null,null,null,6,null,"M1/06-Regel",null,{"$f":"N8","v":0}]
["Schule 2",7,null,"Maier Celina",null,"Borg Wolfsberg",null,null,"Schule 2",7,null,"M2/01-Regel"]
[null,8,null,"Maier Magdalena",null,{"$f":"F10","v":"Borg Wolfsberg"},null,null,null,8,null,"M2/02-Regel",null,{"$f":"N10","v":0}]
[null,9,null,"Frauwallner Hanna",null,{"$f":"F11","v":"Borg Wolfsberg"},null,null,null,9,null,"M2/03-Regel",null,{"$f":"N11","v":0}]
[null,10,null,"Spendl Jennifer",null,{"$f":"F12","v":"Borg Wolfsberg"},null,null,null,10,null,"M2/04-Regel",null,0]
[null,11,null,"Pum Julia",null,"Borg Wolfsberg",null,null,null,11,null,"M2/05-Regel",null,0]
[null,12,null,"Riegler Vanessa",null,{"$f":"F14","v":"Borg Wolfsberg"},null,null,null,12,null,"M2/06-Regel",null,{"$f":"N14","v":0}]
["Schule 3",13,null,"Hartlieb Michelle",null,"BRG Spittal",null,null,"Schule 3",13,null,"M3/01-Regel"]
[null,14,null,"Reiter Anna-Lena",null,{"$f":"F16","v":"BRG Spittal"},null,null,null,14,null,"M3/02-Regel",null,{"$f":"N16","v":0}]
[null,15,null,"Krammer Kristin",null,{"$f":"F17","v":"BRG Spittal"},null,null,null,15,null,"M3/03-Regel",null,{"$f":"N17","v":0}]
[null,16,null,"Kowatsch Anna",null,{"$f":"F18","v":"BRG Spittal"},null,null,null,16,null,"M3/04-Regel",null,0]
[null,17,null,"Possegger Christina",null,"BRG Spittal",null,null,null,17,null,"M3/05-Regel",null,0]
[null,18,null,"Thaler Laurentine",null,{"$f":"F20","v":"BRG Spittal"},null,null,null,18,null,"M3/06-Regel",null,{"$f":"N20","v":0}]
["Schule 4",19,null,"Kampusch Michelle",null,"BZ Bad Eisenkappel",null,null,"Schule 4",19,null,"M4/01-Regel"]
[null,20,null,"Kaschnig Lea",null,{"$f":"F22","v":"BZ Bad Eisenkappel"},null,null,null,20,null,"M4/02-Regel",null,{"$f":"N22","v":0}]
[null,21,null,"Ebner Anna-Lena",null,{"$f":"F23","v":"BZ Bad Eisenkappel"},null,null,null,21,null,"M4/03-Regel",null,{"$f":"N23","v":0}]
[null,22,null,"Millicevvic Renate",null,"BZ Bad Eisenkappel",null,null,null,22,null,"M4/04-Regel",null,0]
[null,23,null,"Pudgar Domenika",null,"BZ Bad Eisenkappel",null,null,null,23,null,"M4/05-Regel",null,0]
[null,24,null,null,null,{"$f":"F26","v":"BZ Bad Eisenkappel"},null,null,null,24,null,"M4/06-Regel",null,{"$f":"N26","v":0}]
["Schule 5",25,null,"Donner Rosa",null,"Ingeborg Bachmann Gymnasium",null,null,"Schule 5",25,null,"M5/01-Regel"]
[null,26,null,"Lippitsch Amelie",null,{"$f":"F28","v":"Ingeborg Bachmann Gymnasium"},null,null,null,26,null,"M5/02-Regel",null,{"$f":"N28","v":0}]
[null,27,null,"Doboczky Sophie",null,{"$f":"F29","v":"Ingeborg Bachmann Gymnasium"},null,null,null,27,null,"M5/03-Regel",null,{"$f":"N29","v":0}]
[null,28,null,"Schmaranz Sophie",null,"Ingeborg Bachmann Gymnasium",null,null,null,28,null,"M5/04-Regel",null,0]
[null,29,null,"Zenkl Hannah",null,"Ingeborg Bachmann Gymnasium",null,null,null,29,null,"M5/05-Regel",null,0]
[null,30,null,"Laßnig Katharina",null,{"$f":"F32","v":"Ingeborg Bachmann Gymnasium"},null,null,null,30,null,"M5/06-Regel",null,{"$f":"N32","v":0}]
["Schule 6",31,null,"Fercher Annabell",null,"Musik NMS Hermagor",null,null,"Schule 6",31,null,"M6/01-Regel"]
[null,32,null,"Ebenwaldner Carina",null,{"$f":"F34","v":"Musik NMS Hermagor"},null,null,null,32,null,"M6/02-Regel",null,{"$f":"N34","v":0}]
[null,33,null,"Wernitznig Nina",null,{"$f":"F35","v":"Musik NMS Hermagor"},null,null,null,33,null,"M6/03-Regel",null,{"$f":"N35","v":0}]
[null,34,null,"Pettauer Sara",null,"Musik NMS Hermagor",null,null,null,34,null,"M6/04-Regel",null,0]
[null,35,null,"Matthei Laura",null,"Musik NMS Hermagor",null,null,null,35,null,"M6/05-Regel",null,0]
[null,36,null,"Seebacher Mathilda",null,{"$f":"F38","v":"Musik NMS Hermagor"},null,null,null,36,null,"M6/06-Regel",null,{"$f":"N38","v":0}]
["Schule 7",37,null,"Pörtschacher Vanessa",null,"NMS Friesach",null,null,"Schule 7",37,null,"M7/01-Regel"]
[null,38,null,"Kronlechner Bettina",null,{"$f":"F40","v":"NMS Friesach"},null,null,null,38,null,"M7/02-Regel",null,{"$f":"N40","v":0}]
[null,39,null,"Delfser Anna-Magdalena",null,{"$f":"F41","v":"NMS Friesach"},null,null,null,39,null,"M7/03-Regel",null,{"$f":"N41","v":0}]
[null,40,null,"Schaller Victoria",null,"NMS Friesach",null,null,null,40,null,"M7/04-Regel",null,0]
[null,41,null,"Hölbling Laura",null,"NMS Friesach",null,null,null,41,null,"M7/05-Regel",null,0]
[null,42,null,"Pacher Selina",null,{"$f":"F44","v":"NMS Friesach"},null,null,null,42,null,"M7/06-Regel",null,{"$f":"N44","v":0}]
["Schule 8",43,null,"Mayer Elena",null,"NMS Gegendtal",null,null,"Schule 8",43,null,"M8/01-Regel"]
[null,44,null,"Steiner Patricia",null,{"$f":"F46","v":"NMS Gegendtal"},null,null,null,44,null,"M8/02-Regel",null,{"$f":"N46","v":0}]
[null,45,null,"Maier Jasmin",null,{"$f":"F47","v":"NMS Gegendtal"},null,null,null,45,null,"M8/03-Regel",null,{"$f":"N47","v":0}]
[null,46,null,"Schweiger Nadja",null,"NMS Gegendtal",null,null,null,46,null,"M8/04-Regel",null,0]
[null,47,null,"Gasser Valentina",null,"NMS Gegendtal",null,null,null,47,null,"M8/05-Regel",null,0]
[null,48,null,"Ostertschnig Lisa",null,{"$f":"F50","v":"NMS Gegendtal"},null,null,null,48,null,"M8/06-Regel",null,{"$f":"N50","v":0}]
["Schule 9",49,null,"Kassin Larissa",null,"NMS Landskron",null,null,"Schule 9",49,null,"M9/01-Regel"]
[null,50,null,"Wiener Sophie",null,{"$f":"F52","v":"NMS Landskron"},null,null,null,50,null,"M9/02-Regel",null,{"$f":"N52","v":0}]
[null,51,null,"Neumann Lisa",null,{"$f":"F53","v":"NMS Landskron"},null,null,null,51,null,"M9/03-Regel",null,{"$f":"N53","v":0}]
[null,52,null,"Pinzer Alina",null,"NMS Landskron",null,null,null,52,null,"M9/04-Regel",null,0]
[null,53,null,"Santner Fabienne",null,"NMS Landskron",null,null,null,53,null,"M9/05-Regel",null,0]
[null,54,null,"Petscher Maria",null,{"$f":"F56","v":"NMS Landskron"},null,null,null,54,null,"M9/06-Regel",null,{"$f":"N56","v":0}]
["Schule 10",55,null,"Edlmann Chiara",null,"NMS Viktring",null,null,"Schule 10",55,null,"M10/01-Regel"]
[null,56,null,"Toth Lili",null,{"$f":"F58","v":"NMS Viktring"},null,null,null,56,null,"M10/02-Regel",null,{"$f":"N58","v":0}]
[null,57,null,"Krnjic Sonja",null,{"$f":"F59","v":"NMS Viktring"},null,null,null,57,null,"M10/03-Regel",null,{"$f":"N59","v":0}]
[null,58,null,"Esel Michelle",null,"NMS Viktring",null,null,null,58,null,"M10/04-Regel",null,0]
[null,59,null,"Bierbaumer Selina",null,"NMS Viktring",null,null,null,59,null,"M10/05-Regel",null,0]
[null,60,null,"Herkner Anna",null,{"$f":"F62","v":"NMS Viktring"},null,null,null,60,null,"M10/06-Regel",null,{"$f":"N62","v":0}]
["Schule 11",61,null,"Ebner Elena",null,"RNMS Feldkirchen",null,null,"Schule 11",61,null,"M11/01-Regel"]
[null,62,null,"Reiter Katharina",null,{"$f":"F64","v":"RNMS Feldkirchen"},null,null,null,62,null,"M11/02-Regel",null,{"$f":"N64","v":0}]
[null,63,null,"Hinteregger Katrin",null,{"$f":"F65","v":"RNMS Feldkirchen"},null,null,null,63,null,"M11/03-Regel",null,{"$f":"N65","v":0}]
[null,64,null,"Kircher Florentina",null,"RNMS Feldkirchen",null,null,null,64,null,"M11/04-Regel",null,0]
[null,65,null,"Mühlbacher Nina",null,"RNMS Feldkirchen",null,null,null,65,null,"M11/05-Regel",null,0]
[null,66,null,"Petrascu Elisabeth",null,{"$f":"F68","v":"RNMS Feldkirchen"},null,null,null,66,null,"M11/06-Regel",null,{"$f":"N68","v":0}]
["Schule 12",67,null,"W12/01-Regel",null,null,null,null,"Schule 12",67,null,"M12/01-Regel"]
[null,68,null,"W12/02-Regel",null,{"$f":"F70","v":0},null,null,null,68,null,"M12/02-Regel",null,{"$f":"N70","v":0}]
[null,69,null,"W12/03-Regel",null,{"$f":"F71","v":0},null,null,null,69,null,"M12/03-Regel",null,{"$f":"N71","v":0}]
[null,70,null,"W12/04-Regel",null,0,null,null,null,70,null,"M12/04-Regel",null,0]
[null,71,null,"W12/05-Regel",null,0,null,null,null,71,null,"M12/05-Regel",null,0]
[null,72,null,"W12/06-Regel",null,{"$f":"F74","v":0},null,null,null,72,null,"M12/06-Regel",null,{"$f":"N74","v":0}]
["Schule 13",73,null,"W13/01-Regel",null,null,null,null,"Schule 13",73,null,"M13/01-Regel"]
[null,74,null,"W13/02-Regel",null,{"$f":"F76","v":0},null,null,null,74,null,"M13/02-Regel",null,{"$f":"N76","v":0}]
[null,75,null,"W13/03-Regel",null,{"$f":"F77","v":0},null,null,null,75,null,"M13/03-Regel",null,{"$f":"N77","v":0}]
[null,76,null,"W13/04-Regel",null,0,null,null,null,76,null,"M13/04-Regel",null,0]
[null,77,null,"W13/05-Regel",null,0,null,null,null,77,null,"M13/05-Regel",null,0]
[null,78,null,"W13/06-Regel",null,{"$f":"F80","v":0},null,null,null,78,null,"M13/06-Regel",null,{"$f":"N80","v":0}]
["Schule 14",79,null,"W14/01-Regel",null,null,null,null,"Schule 14",79,null,"M14/01-Regel"]
[null,80,null,"W14/02-Regel",null,{"$f":"F82","v":0},null,null,null,80,null,"M14/02-Regel",null,{"$f":"N82","v":0}]
[null,81,null,"W14/03-Regel",null,{"$f":"F83","v":0},null,null,null,81,null,"M14/03-Regel",null,{"$f":"N83","v":0}]
[null,82,null,"W14/04-Regel",null,0,null,null,null,82,null,"M14/04-Regel",null,0]
[null,83,null,"W14/05-Regel",null,0,null,null,null,83,null,"M14/05-Regel",null,0]
[null,84,null,"W14/06-Regel",null,{"$f":"F86","v":0},null,null,null,84,null,"M14/06-Regel",null,{"$f":"N86","v":0}]
["Schule 15",85,null,"W15/01-Regel",null,null,null,null,"Schule 15",85,null,"M15/01-Regel"]
[null,86,null,"W15/02-Regel",null,{"$f":"F88","v":0},null,null,null,86,null,"M15/02-Regel",null,{"$f":"N88","v":0}]
[null,87,null,"W15/03-Regel",null,{"$f":"F89","v":0},null,null,null,87,null,"M15/03-Regel",null,{"$f":"N89","v":0}]
[null,88,null,"W15/04-Regel",null,0,null,null,null,88,null,"M15/04-Regel",null,0]
[null,89,null,"W15/05-Regel",null,0,null,null,null,89,null,"M15/05-Regel",null,0]
[null,90,null,"W15/06-Regel",null,{"$f":"F92","v":0},null,null,null,90,null,"M15/06-Regel",null,{"$f":"N92","v":0}]
["Schule 16",91,null,"W16/01-Regel",null,null,null,null,"Schule 16",91,null,"M16/01-Regel"]
[null,92,null,"W16/02-Regel",null,{"$f":"F94","v":0},null,null,null,92,null,"M16/02-Regel",null,{"$f":"N94","v":0}]
[null,93,null,"W16/03-Regel",null,{"$f":"F95","v":0},null,null,null,93,null,"M16/03-Regel",null,{"$f":"N95","v":0}]
[null,94,null,"W16/04-Regel",null,0,null,null,null,94,null,"M16/04-Regel",null,0]
[null,95,null,"W16/05-Regel",null,0,null,null,null,95,null,"M16/05-Regel",null,0]
[null,96,null,"W16/06-Regel",null,{"$f":"F98","v":0},null,null,null,96,null,"M16/06-Regel",null,{"$f":"N98","v":0}]
["Schule 17",97,null,"W17/01-Regel",null,null,null,null,"Schule 17",97,null,"M17/01-Regel"]
[null,98,null,"W17/02-Regel",null,{"$f":"F100","v":0},null,null,null,98,null,"M17/02-Regel",null,{"$f":"N100","v":0}]
[null,99,null,"W17/03-Regel",null,{"$f":"F101","v":0},null,null,null,99,null,"M17/03-Regel",null,{"$f":"N101","v":0}]
[null,100,null,"W17/04-Regel",null,0,null,null,null,100,null,"M17/04-Regel",null,0]
[null,101,null,"W17/05-Regel",null,0,null,null,null,101,null,"M17/05-Regel",null,0]
[null,102,null,"W17/06-Regel",null,{"$f":"F104","v":0},null,null,null,102,null,"M17/06-Regel",null,{"$f":"N104","v":0}]
["Schule 18",103,null,"W18/01-Regel",null,null,null,null,"Schule 18",103,null,"M18/01-Regel"]
[null,104,null,"W18/02-Regel",null,{"$f":"F106","v":0},null,null,null,104,null,"M18/02-Regel",null,{"$f":"N106","v":0}]
[null,105,null,"W18/03-Regel",null,{"$f":"F107","v":0},null,null,null,105,null,"M18/03-Regel",null,{"$f":"N107","v":0}]
[null,106,null,"W18/04-Regel",null,0,null,null,null,106,null,"M18/04-Regel",null,0]
[null,107,null,"W18/05-Regel",null,0,null,null,null,107,null,"M18/05-Regel",null,0]
[null,108,null,"W18/06-Regel",null,{"$f":"F110","v":0},null,null,null,108,null,"M18/06-Regel",null,{"$f":"N110","v":0}]
["Schule 19",109,null,"W19/01-Regel",null,null,null,null,"Schule 19",109,null,"M19/01-Regel"]
[null,110,null,"W19/02-Regel",null,{"$f":"F112","v":0},null,null,null,110,null,"M19/02-Regel",null,{"$f":"N112","v":0}]
[null,111,null,"W19/03-Regel",null,{"$f":"F113","v":0},null,null,null,111,null,"M19/03-Regel",null,{"$f":"N113","v":0}]
[null,112,null,"W19/04-Regel",null,0,null,null,null,112,null,"M19/04-Regel",null,0]
[null,113,null,"W19/05-Regel",null,0,null,null,null,113,null,"M19/05-Regel",null,0]
[null,114,null,"W19/06-Regel",null,{"$f":"F116","v":0},null,null,null,114,null,"M19/06-Regel",null,{"$f":"N116","v":0}]
["Schule 20",115,null,"W20/01-Regel",null,null,null,null,"Schule 20",115,null,"M20/01-Regel"]
[null,116,null,"W20/02-Regel",null,{"$f":"F118","v":0},null,null,null,116,null,"M20/02-Regel",null,{"$f":"N118","v":0}]
[null,117,null,"W20/03-Regel",null,{"$f":"F119","v":0},null,null,null,117,null,"M20/03-Regel",null,{"$f":"N119","v":0}]
[null,118,null,"W20/04-Regel",null,0,null,null,null,118,null,"M20/04-Regel",null,0]
[null,119,null,"W20/05-Regel",null,0,null,null,null,119,null,"M20/05-Regel",null,0]
[null,120,null,"W20/06-Regel",null,{"$f":"F122","v":0},null,null,null,120,null,"M20/06-Regel",null,{"$f":"N122","v":0}]
[null,"Kenn - ziffer","Datenerfassung_Weiblich - Sportschwerpunkt",null,null,null,null,null,null,"Kenn - ziffer","Datenerfassung_Männlich - Sportschwerpunkt"]
[]
[null,null,"Start-Nr.","Schülerinnen","Geb.Dat.","Schule ","Bezirk/Bundesland",null,null,null,"Start-Nr.","Schülerinnen","Geb.Dat.","Schule ","Bezirk/Bundesland"]
["Schule 1",1,null,"W1/01-Sport",null,null,null,null,"Schule 1",1,null,"M1/01-Sport"]
[null,2,null,"W1/02-Sport",null,{"$f":"F127","v":0},null,null,null,2,null,"M1/02-Sport",null,{"$f":"N127","v":0}]
[null,3,null,"W1/03-Sport",null,{"$f":"F128","v":0},null,null,null,3,null,"M1/03-Sport",null,{"$f":"N128","v":0}]
[null,4,null,"W1/04-Sport",null,0,null,null,null,4,null,"M1/04-Sport",null,0]
[null,5,null,"W1/05-Sport",null,0,null,null,null,5,null,"M1/05-Sport",null,0]
[null,6,null,"W1/06-Sport",null,{"$f":"F131","v":0},null,null,null,6,null,"M1/06-Sport",null,{"$f":"N131","v":0}]
["Schule 2",7,null,"W2/01-Sport",null,null,null,null,"Schule 2",7,null,"M2/01-Sport"]
[null,8,null,"W2/02-Sport",null,{"$f":"F133","v":0},null,null,null,8,null,"M2/02-Sport",null,{"$f":"N133","v":0}]
[null,9,null,"W2/03-Sport",null,{"$f":"F134","v":0},null,null,null,9,null,"M2/03-Sport",null,{"$f":"N134","v":0}]
[null,10,null,"W2/04-Sport",null,0,null,null,null,10,null,"M2/04-Sport",null,0]
[null,11,null,"W2/05-Sport",null,0,null,null,null,11,null,"M2/05-Sport",null,0]
[null,12,null,"W2/06-Sport",null,{"$f":"F137","v":0},null,null,null,12,null,"M2/06-Sport",null,{"$f":"N137","v":0}]
["Schule 3",13,null,"W3/01-Sport",null,null,null,null,"Schule 3",13,null,"M3/01-Sport"]
[null,14,null,"W3/02-Sport",null,{"$f":"F139","v":0},null,null,null,14,null,"M3/02-Sport",null,{"$f":"N139","v":0}]
[null,15,null,"W3/03-Sport",null,{"$f":"F140","v":0},null,null,null,15,null,"M3/03-Sport",null,{"$f":"N140","v":0}]
[null,16,null,"W3/04-Sport",null,0,null,null,null,16,null,"M3/04-Sport",null,0]
[null,17,null,"W3/05-Sport",null,0,null,null,null,17,null,"M3/05-Sport",null,0]
[null,18,null,"W3/06-Sport",null,{"$f":"F143","v":0},null,null,null,18,null,"M3/06-Sport",null,{"$f":"N143","v":0}]
["Schule 4",19,null,"W4/01-Sport",null,null,null,null,"Schule 4",19,null,"M4/01-Sport"]
[null,20,null,"W4/02-Sport",null,{"$f":"F145","v":0},null,null,null,20,null,"M4/02-Sport",null,{"$f":"N145","v":0}]
[null,21,null,"W4/03-Sport",null,{"$f":"F146","v":0},null,null,null,21,null,"M4/03-Sport",null,{"$f":"N146","v":0}]
[null,22,null,"W4/04-Sport",null,0,null,null,null,22,null,"M4/04-Sport",null,0]
[null,23,null,"W4/05-Sport",null,0,null,null,null,23,null,"M4/05-Sport",null,0]
[null,24,null,"W4/06-Sport",null,{"$f":"F149","v":0},null,null,null,24,null,"M4/06-Sport",null,{"$f":"N149","v":0}]
["Schule 5",25,null,"W5/01-Sport",null,null,null,null,"Schule 5",25,null,"M5/01-Sport"]
[null,26,null,"W5/02-Sport",null,{"$f":"F151","v":0},null,null,null,26,null,"M5/02-Sport",null,{"$f":"N151","v":0}]
[null,27,null,"W5/03-Sport",null,{"$f":"F152","v":0},null,null,null,27,null,"M5/03-Sport",null,{"$f":"N152","v":0}]
[null,28,null,"W5/04-Sport",null,0,null,null,null,28,null,"M5/04-Sport",null,0]
[null,29,null,"W5/05-Sport",null,0,null,null,null,29,null,"M5/05-Sport",null,0]
[null,30,null,"W5/06-Sport",null,{"$f":"F155","v":0},null,null,null,30,null,"M5/06-Sport",null,{"$f":"N155","v":0}]
["Schule 6",31,null,"W6/01-Sport",null,null,null,null,"Schule 6",31,null,"M6/01-Sport"]
[null,32,null,"W6/02-Sport",null,{"$f":"F157","v":0},null,null,null,32,null,"M6/02-Sport",null,{"$f":"N157","v":0}]
[null,33,null,"W6/03-Sport",null,{"$f":"F158","v":0},null,null,null,33,null,"M6/03-Sport",null,{"$f":"N158","v":0}]
[null,34,null,"W6/04-Sport",null,0,null,null,null,34,null,"M6/04-Sport",null,0]
[null,35,null,"W6/05-Sport",null,0,null,null,null,35,null,"M6/05-Sport",null,0]
[null,36,null,"W6/06-Sport",null,{"$f":"F161","v":0},null,null,null,36,null,"M6/06-Sport",null,{"$f":"N161","v":0}]
["Schule 7",37,null,"W7/01-Sport",null,null,null,null,"Schule 7",37,null,"M7/01-Sport"]
[null,38,null,"W7/02-Sport",null,{"$f":"F163","v":0},null,null,null,38,null,"M7/02-Sport",null,{"$f":"N163","v":0}]
[null,39,null,"W7/03-Sport",null,{"$f":"F164","v":0},null,null,null,39,null,"M7/03-Sport",null,{"$f":"N164","v":0}]
[null,40,null,"W7/04-Sport",null,0,null,null,null,40,null,"M7/04-Sport",null,0]
[null,41,null,"W7/05-Sport",null,0,null,null,null,41,null,"M7/05-Sport",null,0]
[null,42,null,"W7/06-Sport",null,{"$f":"F167","v":0},null,null,null,42,null,"M7/06-Sport",null,{"$f":"N167","v":0}]
["Schule 8",43,null,"W8/01-Sport",null,null,null,null,"Schule 8",43,null,"M8/01-Sport"]
[null,44,null,"W8/02-Sport",null,{"$f":"F169","v":0},null,null,null,44,null,"M8/02-Sport",null,{"$f":"N169","v":0}]
[null,45,null,"W8/03-Sport",null,{"$f":"F170","v":0},null,null,null,45,null,"M8/03-Sport",null,{"$f":"N170","v":0}]
[null,46,null,"W8/04-Sport",null,0,null,null,null,46,null,"M8/04-Sport",null,0]
[null,47,null,"W8/05-Sport",null,0,null,null,null,47,null,"M8/05-Sport",null,0]
[null,48,null,"W8/06-Sport",null,{"$f":"F173","v":0},null,null,null,48,null,"M8/06-Sport",null,{"$f":"N173","v":0}]
["Schule 9",49,null,"W9/01-Sport",null,null,null,null,"Schule 9",49,null,"M9/01-Sport"]
[null,50,null,"W9/02-Sport",null,{"$f":"F175","v":0},null,null,null,50,null,"M9/02-Sport",null,{"$f":"N175","v":0}]
[null,51,null,"W9/03-Sport",null,{"$f":"F176","v":0},null,null,null,51,null,"M9/03-Sport",null,{"$f":"N176","v":0}]
[null,52,null,"W9/04-Sport",null,0,null,null,null,52,null,"M9/04-Sport",null,0]
[null,53,null,"W9/05-Sport",null,0,null,null,null,53,null,"M9/05-Sport",null,0]
[null,54,null,"W9/06-Sport",null,{"$f":"F179","v":0},null,null,null,54,null,"M9/06-Sport",null,{"$f":"N179","v":0}]
["Schule 10",55,null,"W10/01-Sport",null,null,null,null,"Schule 10",55,null,"M10/01-Sport"]
[null,56,null,"W10/02-Sport",null,{"$f":"F181","v":0},null,null,null,56,null,"M10/02-Sport",null,{"$f":"N181","v":0}]
[null,57,null,"W10/03-Sport",null,{"$f":"F182","v":0},null,null,null,57,null,"M10/03-Sport",null,{"$f":"N182","v":0}]
[null,58,null,"W10/04-Sport",null,0,null,null,null,58,null,"M10/04-Sport",null,0]
[null,59,null,"W10/05-Sport",null,0,null,null,null,59,null,"M10/05-Sport",null,0]
[null,60,null,"W10/06-Sport",null,{"$f":"F185","v":0},null,null,null,60,null,"M10/06-Sport",null,{"$f":"N185","v":0}]
["Schule 11",61,null,"W11/01-Sport",null,null,null,null,"Schule 11",61,null,"M11/01-Sport"]
[null,62,null,"W11/02-Sport",null,{"$f":"F187","v":0},null,null,null,62,null,"M11/02-Sport",null,{"$f":"N187","v":0}]
[null,63,null,"W11/03-Sport",null,{"$f":"F188","v":0},null,null,null,63,null,"M11/03-Sport",null,{"$f":"N188","v":0}]
[null,64,null,"W11/04-Sport",null,0,null,null,null,64,null,"M11/04-Sport",null,0]
[null,65,null,"W11/05-Sport",null,0,null,null,null,65,null,"M11/05-Sport",null,0]
[null,66,null,"W11/06-Sport",null,{"$f":"F191","v":0},null,null,null,66,null,"M11/06-Sport",null,{"$f":"N191","v":0}]
["Schule 12",67,null,"W12/01-Sport",null,null,null,null,"Schule 12",67,null,"M12/01-Sport"]
[null,68,null,"W12/02-Sport",null,{"$f":"F193","v":0},null,null,null,68,null,"M12/02-Sport",null,{"$f":"N193","v":0}]
[null,69,null,"W12/03-Sport",null,{"$f":"F194","v":0},null,null,null,69,null,"M12/03-Sport",null,{"$f":"N194","v":0}]
[null,70,null,"W12/04-Sport",null,0,null,null,null,70,null,"M12/04-Sport",null,0]
[null,71,null,"W12/05-Sport",null,0,null,null,null,71,null,"M12/05-Sport",null,0]
[null,72,null,"W12/06-Sport",null,{"$f":"F197","v":0},null,null,null,72,null,"M12/06-Sport",null,{"$f":"N197","v":0}]
["Schule 13",73,null,"W13/01-Sport",null,null,null,null,"Schule 13",73,null,"M13/01-Sport"]
[null,74,null,"W13/02-Sport",null,{"$f":"F199","v":0},null,null,null,74,null,"M13/02-Sport",null,{"$f":"N199","v":0}]
[null,75,null,"W13/03-Sport",null,{"$f":"F200","v":0},null,null,null,75,null,"M13/03-Sport",null,{"$f":"N200","v":0}]
[null,76,null,"W13/04-Sport",null,0,null,null,null,76,null,"M13/04-Sport",null,0]
[null,77,null,"W13/05-Sport",null,0,null,null,null,77,null,"M13/05-Sport",null,0]
[null,78,null,"W13/06-Sport",null,{"$f":"F203","v":0},null,null,null,78,null,"M13/06-Sport",null,{"$f":"N203","v":0}]
["Schule 14",79,null,"W14/01-Sport",null,null,null,null,"Schule 14",79,null,"M14/01-Sport"]
[null,80,null,"W14/02-Sport",null,{"$f":"F205","v":0},null,null,null,80,null,"M14/02-Sport",null,{"$f":"N205","v":0}]
[null,81,null,"W14/03-Sport",null,{"$f":"F206","v":0},null,null,null,81,null,"M14/03-Sport",null,{"$f":"N206","v":0}]
[null,82,null,"W14/04-Sport",null,0,null,null,null,82,null,"M14/04-Sport",null,0]
[null,83,null,"W14/05-Sport",null,0,null,null,null,83,null,"M14/05-Sport",null,0]
[null,84,null,"W14/06-Sport",null,{"$f":"F209","v":0},null,null,null,84,null,"M14/06-Sport",null,{"$f":"N209","v":0}]
["Schule 15",85,null,"W15/01-Sport",null,null,null,null,"Schule 15",85,null,"M15/01-Sport"]
[null,86,null,"W15/02-Sport",null,{"$f":"F211","v":0},null,null,null,86,null,"M15/02-Sport",null,{"$f":"N211","v":0}]
[null,87,null,"W15/03-Sport",null,{"$f":"F212","v":0},null,null,null,87,null,"M15/03-Sport",null,{"$f":"N212","v":0}]
[null,88,null,"W15/04-Sport",null,0,null,null,null,88,null,"M15/04-Sport",null,0]
[null,89,null,"W15/05-Sport",null,0,null,null,null,89,null,"M15/05-Sport",null,0]
[null,90,null,"W15/06-Sport",null,{"$f":"F215","v":0},null,null,null,90,null,"M15/06-Sport",null,{"$f":"N215","v":0}]
["Schule 16",91,null,"W16/01-Sport",null,null,null,null,"Schule 16",91,null,"M16/01-Sport"]
[null,92,null,"W16/02-Sport",null,{"$f":"F217","v":0},null,null,null,92,null,"M16/02-Sport",null,{"$f":"N217","v":0}]
[null,93,null,"W16/03-Sport",null,{"$f":"F218","v":0},null,null,null,93,null,"M16/03-Sport",null,{"$f":"N218","v":0}]
[null,94,null,"W16/04-Sport",null,0,null,null,null,94,null,"M16/04-Sport",null,0]
[null,95,null,"W16/05-Sport",null,0,null,null,null,95,null,"M16/05-Sport",null,0]
[null,96,null,"W16/06-Sport",null,{"$f":"F221","v":0},null,null,null,96,null,"M16/06-Sport",null,{"$f":"N221","v":0}]
["Schule 17",97,null,"W17/01-Sport",null,null,null,null,"Schule 17",97,null,"M17/01-Sport"]
[null,98,null,"W17/02-Sport",null,{"$f":"F223","v":0},null,null,null,98,null,"M17/02-Sport",null,{"$f":"N223","v":0}]
[null,99,null,"W17/03-Sport",null,{"$f":"F224","v":0},null,null,null,99,null,"M17/03-Sport",null,{"$f":"N224","v":0}]
[null,100,null,"W17/04-Sport",null,0,null,null,null,100,null,"M17/04-Sport",null,0]
[null,101,null,"W17/05-Sport",null,0,null,null,null,101,null,"M17/05-Sport",null,0]
[null,102,null,"W17/06-Sport",null,{"$f":"F227","v":0},null,null,null,102,null,"M17/06-Sport",null,{"$f":"N227","v":0}]
["Schule 18",103,null,"W18/01-Sport",null,null,null,null,"Schule 18",103,null,"M18/01-Sport"]
[null,104,null,"W18/02-Sport",null,{"$f":"F229","v":0},null,null,null,104,null,"M18/02-Sport",null,{"$f":"N229","v":0}]
[null,105,null,"W18/03-Sport",null,{"$f":"F230","v":0},null,null,null,105,null,"M18/03-Sport",null,{"$f":"N230","v":0}]
[null,106,null,"W18/04-Sport",null,0,null,null,null,106,null,"M18/04-Sport",null,0]
[null,107,null,"W18/05-Sport",null,0,null,null,null,107,null,"M18/05-Sport",null,0]
[null,108,null,"W18/06-Sport",null,{"$f":"F233","v":0},null,null,null,108,null,"M18/06-Sport",null,{"$f":"N233","v":0}]
["Schule 19",109,null,"W19/01-Sport",null,null,null,null,"Schule 19",109,null,"M19/01-Sport"]
[null,110,null,"W19/02-Sport",null,{"$f":"F235","v":0},null,null,null,110,null,"M19/02-Sport",null,{"$f":"N235","v":0}]
[null,111,null,"W19/03-Sport",null,{"$f":"F236","v":0},null,null,null,111,null,"M19/03-Sport",null,{"$f":"N236","v":0}]
[null,112,null,"W19/04-Sport",null,0,null,null,null,112,null,"M19/04-Sport",null,0]
[null,113,null,"W19/05-Sport",null,0,null,null,null,113,null,"M19/05-Sport",null,0]
[null,114,null,"W19/06-Sport",null,{"$f":"F239","v":0},null,null,null,114,null,"M19/06-Sport",null,{"$f":"N239","v":0}]
["Schule 20",115,null,"W20/01-Sport",null,null,null,null,"Schule 20",115,null,"M20/01-Sport"]
[null,116,null,"W20/02-Sport",null,{"$f":"F241","v":0},null,null,null,116,null,"M20/02-Sport",null,{"$f":"N241","v":0}]
[null,117,null,"W20/03-Sport",null,{"$f":"F242","v":0},null,null,null,117,null,"M20/03-Sport",null,{"$f":"N242","v":0}]
[null,118,null,"W20/04-Sport",null,0,null,null,null,118,null,"M20/04-Sport",null,0]
[null,119,null,"W20/05-Sport",null,0,null,null,null,119,null,"M20/05-Sport",null,0]
[null,120,null,"W20/06-Sport",null,{"$f":"F245","v":0},null,null,null,120,null,"M20/06-Sport",null,{"$f":"N245","v":0}]

{"sheet":"w-E_R","index":2,"n_rows":141,"n_cols":17,"rows_kept":141,"cut":false,"hidden":false,"merged":[[0,0,0,1],[0,2,0,3],[0,4,0,9]]}
["Wettkampfdaten-Art",null,"D-C/Regel-Schulen","Ortsangabe","Ortsangabe,Datum"]
["Start-Nr.","Schülerinnen","Geb.Dat.","Schule 1","Bezirk/Bundesland","60m","PUNKTE","Schlagball","PUNKTE","Kugel","PUNKTE","Weit","PUNKTE","5x80M","PUNKTE","SUMME"]
[{"$f":"'Dat-Bl'!C4","v":0},{"$f":"'Dat-Bl'!D4","v":"Wallner Paulina"},{"$f":"'Dat-Bl'!E4","v":"00:00:00"},{"$f":"'Dat-Bl'!F4","v":"BG St.Martin"},{"$f":"'Dat-Bl'!G4","v":0},8.64,{"$f":"IF(F3=0,0,INT(19.742424*EXP(2.1*LN((1417-F3*100)/100))))","v":716},31.5,{"$f":"IF(H3=0,0,INT(22*EXP(0.9*LN((H3*100-500)/100))))","v":420},null,{"$f":"IF(J3=0,0,INT(83.435373*EXP(0.9*LN((J3*100-130)/100))))","v":0},4.4000000000000004,{"$f":"IF(L3=0,0,INT(220.628792*EXP(1*LN((L3*100-180)/100))))","v":573},56.97,{"$f":"IF(N3=0,0,INT(0.405548*EXP(2.1*LN((8720-N3*100)/100))))","v":521},{"$f":"SUM(G3,I3,K3,M3)","v":1709}]
[{"$f":"'Dat-Bl'!C5","v":0},{"$f":"'Dat-Bl'!D5","v":"Feichter Nelly"},{"$f":"'Dat-Bl'!E5","v":"00:00:00"},{"$f":"D3","v":"BG St.Martin"},null,9.25,560,39.4,531,null,0,4.4000000000000004,573,null,null,1664]
[{"$f":"'Dat-Bl'!C6","v":0},{"$f":"'Dat-Bl'!D6","v":"Heincz Gerit"},{"$f":"'Dat-Bl'!E6","v":"00:00:00"},{"$f":"D4","v":"BG St.Martin"},null,9.59,482,39.1,527,null,0,4.24,538,null,null,1547]
[{"$f":"'Dat-Bl'!C7","v":0},{"$f":"'Dat-Bl'!D7","v":"Enzi Sarah"},{"$f":"'Dat-Bl'!E7","v":"00:00:00"},"BG St.Martin",null,8.9,647,33.200000000000003,444,null,0,4.7,639,null,null,1730]
[{"$f":"'Dat-Bl'!C8","v":0},{"$f":"'Dat-Bl'!D8","v":"Koch Anna"},{"$f":"'Dat-Bl'!E8","v":"00:00:00"},"BG St.Martin",null,8.57,735,27.8,366,null,0,4.6500000000000004,628,null,null,1729,"Gesamtergebnis"]
[{"$f":"'Dat-Bl'!C9","v":0},{"$f":"'Dat-Bl'!D9","v":"Fugger Sophie"},{"$f":"'Dat-Bl'!E9","v":"00:00:00"},"BG St.Martin",null,8.7799999999999994,678,32.799999999999997,438,null,0,4.45,584,null,null,1700,{"$f":"SUM(P3:P8)-MIN(P3:P8)+O3","v":9053}]
["Start-Nr.","Schülerinnen","Geb.Dat.","Schule 2","Bezirk/Bundesland","60m","PUNKTE","Schlagball","PUNKTE","Kugel","PUNKTE","Weit","PUNKTE","5x80M","PUNKTE","SUMME"]
[{"$f":"'Dat-Bl'!C10","v":0},{"$f":"'Dat-Bl'!D10","v":"Maier Celina"},{"$f":"'Dat-Bl'!E10","v":"00:00:00"},{"$f":"'Dat-Bl'!F10","v":"Borg Wolfsberg"},{"$f":"'Dat-Bl'!G10","v":0},11.48,{"$f":"IF(F10=0,0,INT(19.742424*EXP(2.1*LN((1417-F10*100)/100))))","v":157},19,{"$f":"IF(H10=0,0,INT(22*EXP(0.9*LN((H10*100-500)/100))))","v":236},null,{"$f":"IF(J10=0,0,INT(83.435373*EXP(0.9*LN((J10*100-130)/100))))","v":0},2.69,{"$f":"IF(L10=0,0,INT(220.628792*EXP(1*LN((L10*100-180)/100))))","v":196},59.98,{"$f":"IF(N10=0,0,INT(0.405548*EXP(2.1*LN((8720-N10*100)/100))))","v":418},{"$f":"SUM(G10,I10,K10,M10)","v":589}]
[{"$f":"'Dat-Bl'!C11","v":0},{"$f":"'Dat-Bl'!D11","v":"Maier Magdalena"},{"$f":"'Dat-Bl'!E11","v":"00:00:00"},{"$f":"D10","v":"Borg Wolfsberg"},null,9.3800000000000008,529,23.4,302,null,0,4.34,560,null,null,1391]
[{"$f":"'Dat-Bl'!C12","v":0},{"$f":"'Dat-Bl'!D12","v":"Frauwallner Hanna"},{"$f":"'Dat-Bl'!E12","v":"00:00:00"},{"$f":"D11","v":"Borg Wolfsberg"},null,10.15,366,21.9,280,null,0,3.87,456,null,null,1102]
[{"$f":"'Dat-Bl'!C13","v":0},{"$f":"'Dat-Bl'!D13","v":"Spendl Jennifer"},{"$f":"'Dat-Bl'!E13","v":"00:00:00"},"Borg Wolfsberg",null,9.5399999999999991,493,35.799999999999997,480,null,0,3.99,483,null,null,1456]
[{"$f":"'Dat-Bl'!C14","v":0},{"$f":"'Dat-Bl'!D14","v":"Pum Julia"},{"$f":"'Dat-Bl'!E14","v":"00:00:00"},"Borg Wolfsberg",null,8.6,727,37,497,null,0,5,706,null,null,1930,"Gesamtergebnis"]
[{"$f":"'Dat-Bl'!C15","v":0},{"$f":"'Dat-Bl'!D15","v":"Riegler Vanessa"},{"$f":"'Dat-Bl'!E15","v":"00:00:00"},"Borg Wolfsberg",null,8.36,794,43.9,593,null,0,5.25,761,null,null,2148,{"$f":"SUM(P10:P15)-MIN(P10:P15)+O10","v":8445}]
["Start-Nr.","Schülerinnen","Geb.Dat.","Schule 3","Bezirk/Bundesland","60m","PUNKTE","Schlagball","PUNKTE","Kugel","PUNKTE","Weit","PUNKTE","5x80M","PUNKTE","SUMME"]
[{"$f":"'Dat-Bl'!C16","v":0},{"$f":"'Dat-Bl'!D16","v":"Hartlieb Michelle"},{"$f":"'Dat-Bl'!E16","v":"00:00:00"},{"$f":"'Dat-Bl'!F16","v":"BRG Spittal"},{"$f":"'Dat-Bl'!G16","v":0},9.09,{"$f":"IF(F17=0,0,INT(19.742424*EXP(2.1*LN((1417-F17*100)/100))))","v":599},36.799999999999997,{"$f":"IF(H17=0,0,INT(22*EXP(0.9*LN((H17*100-500)/100))))","v":495},null,{"$f":"IF(J17=0,0,INT(83.435373*EXP(0.9*LN((J17*100-130)/100))))","v":0},4.1100000000000003,{"$f":"IF(L17=0,0,INT(220.628792*EXP(1*LN((L17*100-180)/100))))","v":509},56.19,{"$f":"IF(N17=0,0,INT(0.405548*EXP(2.1*LN((8720-N17*100)/100))))","v":549},{"$f":"SUM(G17,I17,K17,M17)","v":1603}]
[{"$f":"'Dat-Bl'!C17","v":0},{"$f":"'Dat-Bl'!D17","v":"Reiter Anna-Lena"},{"$f":"'Dat-Bl'!E17","v":"00:00:00"},{"$f":"D17","v":"BRG Spittal"},null,9.11,594,31.4,418,null,0,4.55,606,null,null,1618]
[{"$f":"'Dat-Bl'!C18","v":0},{"$f":"'Dat-Bl'!D18","v":"Krammer Kristin"},{"$f":"'Dat-Bl'!E18","v":"00:00:00"},{"$f":"D18","v":"BRG Spittal"},null,9.24,562,32.799999999999997,438,null,0,4.5,595,null,null,1595]
[{"$f":"'Dat-Bl'!C19","v":0},{"$f":"'Dat-Bl'!D19","v":"Kowatsch Anna"},{"$f":"'Dat-Bl'!E19","v":"00:00:00"},"BRG Spittal",null,9.43,518,36.6,492,null,0,4.6500000000000004,628,null,null,1638]
[{"$f":"'Dat-Bl'!C20","v":0},{"$f":"'Dat-Bl'!D20","v":"Possegger Christina"},{"$f":"'Dat-Bl'!E20","v":"00:00:00"},"BRG Spittal",null,8.98,626,32.6,435,null,0,4.8899999999999997,681,null,null,1742,"Gesamtergebnis"]
[{"$f":"'Dat-Bl'!C21","v":0},{"$f":"'Dat-Bl'!D21","v":"Thaler Laurentine"},{"$f":"'Dat-Bl'!E21","v":"00:00:00"},"BRG Spittal",null,8.34,800,40.5,546,null,0,5.19,747,null,null,2093,{"$f":"SUM(P17:P22)-MIN(P17:P22)+O17","v":9243}]
["Start-Nr.","Schülerinnen","Geb.Dat.","Schule 4","Bezirk/Bundesland","60m","PUNKTE","Schlagball","PUNKTE","Kugel","PUNKTE","Weit","PUNKTE","5x80M","PUNKTE","SUMME"]
[{"$f":"'Dat-Bl'!C22","v":0},{"$f":"'Dat-Bl'!D22","v":"Kampusch Michelle"},{"$f":"'Dat-Bl'!E22","v":"00:00:00"},{"$f":"'Dat-Bl'!F22","v":"BZ Bad Eisenkappel"},{"$f":"'Dat-Bl'!G22","v":0},9.5500000000000007,{"$f":"IF(F24=0,0,INT(19.742424*EXP(2.1*LN((1417-F24*100)/100))))","v":491},37.700000000000003,{"$f":"IF(H24=0,0,INT(22*EXP(0.9*LN((H24*100-500)/100))))","v":507},null,{"$f":"IF(J24=0,0,INT(83.435373*EXP(0.9*LN((J24*100-130)/100))))","v":0},3.98,{"$f":"IF(L24=0,0,INT(220.628792*EXP(1*LN((L24*100-180)/100))))","v":480},59,{"$f":"IF(N24=0,0,INT(0.405548*EXP(2.1*LN((8720-N24*100)/100))))","v":450},{"$f":"SUM(G24,I24,K24,M24)","v":1478}]
[{"$f":"'Dat-Bl'!C23","v":0},{"$f":"'Dat-Bl'!D23","v":"Kaschnig Lea"},{"$f":"'Dat-Bl'!E23","v":"00:00:00"},{"$f":"D24","v":"BZ Bad Eisenkappel"},null,8.86,657,36.6,492,null,0,4.21,531,null,null,1680]
[{"$f":"'Dat-Bl'!C24","v":0},{"$f":"'Dat-Bl'!D24","v":"Ebner Anna-Lena"},{"$f":"'Dat-Bl'!E24","v":"00:00:00"},{"$f":"D25","v":"BZ Bad Eisenkappel"},null,8.5500000000000007,741,31.4,418,null,0,4.12,511,null,null,1670]
[{"$f":"'Dat-Bl'!C25","v":0},{"$f":"'Dat-Bl'!D25","v":"Millicevvic Renate"},{"$f":"'Dat-Bl'!E25","v":"00:00:00"},"BZ Bad Eisenkappel",null,9.76,445,35.299999999999997,473,null,0,4.0999999999999996,507,null,null,1425]
[{"$f":"'Dat-Bl'!C26","v":0},{"$f":"'Dat-Bl'!D26","v":"Pudgar Domenika"},{"$f":"'Dat-Bl'!E26","v":"00:00:00"},"BZ Bad Eisenkappel",null,9.7799999999999994,441,27.5,362,null,0,3.92,467,null,null,1270,"Gesamtergebnis"]
[{"$f":"'Dat-Bl'!C27","v":0},{"$f":"'Dat-Bl'!D27","v":0},{"$f":"'Dat-Bl'!E27","v":"00:00:00"},"BZ Bad Eisenkappel",null,null,0,null,0,null,0,null,0,null,null,0,{"$f":"SUM(P24:P29)-MIN(P24:P29)+O24","v":7973}]
["Start-Nr.","Schülerinnen","Geb.Dat.","Schule 5","Bezirk/Bundesland","60m","PUNKTE","Schlagball","PUNKTE","Kugel","PUNKTE","Weit","PUNKTE","5x80M","PUNKTE","SUMME"]
[{"$f":"'Dat-Bl'!C28","v":0},{"$f":"'Dat-Bl'!D28","v":"Donner Rosa"},{"$f":"'Dat-Bl'!E28","v":"00:00:00"},{"$f":"'Dat-Bl'!F28","v":"Ingeborg Bachmann Gymnasium"},{"$f":"'Dat-Bl'!G28","v":0},9.57,{"$f":"IF(F31=0,0,INT(19.742424*EXP(2.1*LN((1417-F31*100)/100))))","v":486},26.8,{"$f":"IF(H31=0,0,INT(22*EXP(0.9*LN((H31*100-500)/100))))","v":352},null,{"$f":"IF(J31=0,0,INT(83.435373*EXP(0.9*LN((J31*100-130)/100))))","v":0},4.13,{"$f":"IF(L31=0,0,INT(220.628792*EXP(1*LN((L31*100-180)/100))))","v":514},58.23,{"$f":"IF(N31=0,0,INT(0.405548*EXP(2.1*LN((8720-N31*100)/100))))","v":476},{"$f":"SUM(G31,I31,K31,M31)","v":1352}]
[{"$f":"'Dat-Bl'!C29","v":0},{"$f":"'Dat-Bl'!D29","v":"Lippitsch Amelie"},{"$f":"'Dat-Bl'!E29","v":"00:00:00"},{"$f":"D31","v":"Ingeborg Bachmann Gymnasium"},null,9.66,466,38.1,513,null,0,3.67,412,null,null,1391]
[{"$f":"'Dat-Bl'!C30","v":0},{"$f":"'Dat-Bl'!D30","v":"Doboczky Sophie"},{"$f":"'Dat-Bl'!E30","v":"00:00:00"},{"$f":"D32","v":"Ingeborg Bachmann Gymnasium"},null,9.02,616,28.1,371,null,0,4.18,525,null,null,1512]
[{"$f":"'Dat-Bl'!C31","v":0},{"$f":"'Dat-Bl'!D31","v":"Schmaranz Sophie"},{"$f":"'Dat-Bl'!E31","v":"00:00:00"},"Ingeborg Bachmann Gymnasium",null,8.51,752,23.1,298,null,0,5.07,721,null,null,1771]
[{"$f":"'Dat-Bl'!C32","v":0},{"$f":"'Dat-Bl'!D32","v":"Zenkl Hannah"},{"$f":"'Dat-Bl'!E32","v":"00:00:00"},"Ingeborg Bachmann Gymnasium",null,9.31,546,35.5,476,null,0,4.3600000000000003,564,null,null,1586,"Gesamtergebnis"]
[{"$f":"'Dat-Bl'!C33","v":0},{"$f":"'Dat-Bl'!D33","v":"Laßnig Katharina"},{"$f":"'Dat-Bl'!E33","v":"00:00:00"},"Ingeborg Bachmann Gymnasium",null,9.5299999999999994,495,34.700000000000003,465,null,0,4.3,551,null,null,1511,{"$f":"SUM(P31:P36)-MIN(P31:P36)+O31","v":8247}]
["Start-Nr.","Schülerinnen","Geb.Dat.","Schule 6","Bezirk/Bundesland","60m","PUNKTE","Schlagball","PUNKTE","Kugel","PUNKTE","Weit","PUNKTE","5x80M","PUNKTE","SUMME"]
[{"$f":"'Dat-Bl'!C34","v":0},{"$f":"'Dat-Bl'!D34","v":"Fercher Annabell"},{"$f":"'Dat-Bl'!E34","v":"00:00:00"},{"$f":"'Dat-Bl'!F34","v":"Musik NMS Hermagor"},{"$f":"'Dat-Bl'!G34","v":0},8.5500000000000007,{"$f":"IF(F38=0,0,INT(19.742424*EXP(2.1*LN((1417-F38*100)/100))))","v":741},41.9,{"$f":"IF(H38=0,0,INT(22*EXP(0.9*LN((H38*100-500)/100))))","v":565},null,{"$f":"IF(J38=0,0,INT(83.435373*EXP(0.9*LN((J38*100-130)/100))))","v":0},4.8,{"$f":"IF(L38=0,0,INT(220.628792*EXP(1*LN((L38*100-180)/100))))","v":661},56.92,{"$f":"IF(N38=0,0,INT(0.405548*EXP(2.1*LN((8720-N38*100)/100))))","v":522},{"$f":"SUM(G38,I38,K38,M38)","v":1967}]
[{"$f":"'Dat-Bl'!C35","v":0},{"$f":"'Dat-Bl'!D35","v":"Ebenwaldner Carina"},{"$f":"'Dat-Bl'!E35","v":"00:00:00"},{"$f":"D38","v":"Musik NMS Hermagor"},null,9.01,619,30.9,411,null,0,4.63,624,null,null,1654]
[{"$f":"'Dat-Bl'!C36","v":0},{"$f":"'Dat-Bl'!D36","v":"Wernitznig Nina"},{"$f":"'Dat-Bl'!E36","v":"00:00:00"},{"$f":"D39","v":"Musik NMS Hermagor"},null,9.2200000000000006,567,38.9,524,null,0,4.62,622,null,null,1713]
[{"$f":"'Dat-Bl'!C37","v":0},{"$f":"'Dat-Bl'!D37","v":"Pettauer Sara"},{"$f":"'Dat-Bl'!E37","v":"00:00:00"},"Musik NMS Hermagor",null,8.93,639,26.9,353,null,0,4.32,555,null,null,1547]
[{"$f":"'Dat-Bl'!C38","v":0},{"$f":"'Dat-Bl'!D38","v":"Matthei Laura"},{"$f":"'Dat-Bl'!E38","v":"00:00:00"},"Musik NMS Hermagor",null,9.3000000000000007,548,28,369,null,0,4.3499999999999996,562,null,null,1479,"Gesamtergebnis"]
[{"$f":"'Dat-Bl'!C39","v":0},{"$f":"'Dat-Bl'!D39","v":"Seebacher Mathilda"},{"$f":"'Dat-Bl'!E39","v":"00:00:00"},"Musik NMS Hermagor",null,9.3699999999999992,532,35.6,478,null,0,4.26,542,null,null,1552,{"$f":"SUM(P38:P43)-MIN(P38:P43)+O38","v":8955}]
["Start-Nr.","Schülerinnen","Geb.Dat.","Schule 7","Bezirk/Bundesland","60m","PUNKTE","Schlagball","PUNKTE","Kugel","PUNKTE","Weit","PUNKTE","5x80M","PUNKTE","SUMME"]
[{"$f":"'Dat-Bl'!C40","v":0},{"$f":"'Dat-Bl'!D40","v":"Pörtschacher Vanessa"},{"$f":"'Dat-Bl'!E40","v":"00:00:00"},{"$f":"'Dat-Bl'!F40","v":"NMS Friesach"},{"$f":"'Dat-Bl'!G40","v":0},9.39,{"$f":"IF(F45=0,0,INT(19.742424*EXP(2.1*LN((1417-F45*100)/100))))","v":527},29.2,{"$f":"IF(H45=0,0,INT(22*EXP(0.9*LN((H45*100-500)/100))))","v":387},null,{"$f":"IF(J45=0,0,INT(83.435373*EXP(0.9*LN((J45*100-130)/100))))","v":0},4.0999999999999996,{"$f":"IF(L45=0,0,INT(220.628792*EXP(1*LN((L45*100-180)/100))))","v":507},58.88,{"$f":"IF(N45=0,0,INT(0.405548*EXP(2.1*LN((8720-N45*100)/100))))","v":454},{"$f":"SUM(G45,I45,K45,M45)","v":1421}]
[{"$f":"'Dat-Bl'!C41","v":0},{"$f":"'Dat-Bl'!D41","v":"Kronlechner Bettina"},{"$f":"'Dat-Bl'!E41","v":"00:00:00"},{"$f":"D45","v":"NMS Friesach"},null,9.35,536,31.3,417,null,0,4.3,551,null,null,1504]
[{"$f":"'Dat-Bl'!C42","v":0},{"$f":"'Dat-Bl'!D42","v":"Delfser Anna-Magdalena"},{"$f":"'Dat-Bl'!E42","v":"00:00:00"},{"$f":"D46","v":"NMS Friesach"},null,9.26,558,28.2,372,null,0,4.16,520,null,null,1450]
[{"$f":"'Dat-Bl'!C43","v":0},{"$f":"'Dat-Bl'!D43","v":"Schaller Victoria"},{"$f":"'Dat-Bl'!E43","v":"00:00:00"},"NMS Friesach",null,9.32,543,35.9,482,null,0,4.3499999999999996,562,null,null,1587]
[{"$f":"'Dat-Bl'!C44","v":0},{"$f":"'Dat-Bl'!D44","v":"Hölbling Laura"},{"$f":"'Dat-Bl'!E44","v":"00:00:00"},"NMS Friesach",null,9.43,518,35.200000000000003,472,null,0,4.3,551,null,null,1541,"Gesamtergebnis"]
[{"$f":"'Dat-Bl'!C45","v":0},{"$f":"'Dat-Bl'!D45","v":"Pacher Selina"},{"$f":"'Dat-Bl'!E45","v":"00:00:00"},"NMS Friesach",null,9.4499999999999993,513,29.2,387,null,0,4.1399999999999997,516,null,null,1416,{"$f":"SUM(P45:P50)-MIN(P45:P50)+O45","v":7957}]
["Start-Nr.","Schülerinnen","Geb.Dat.","Schule 8","Bezirk/Bundesland","60m","PUNKTE","Schlagball","PUNKTE","Kugel","PUNKTE","Weit","PUNKTE","5x80M","PUNKTE","SUMME"]
[{"$f":"'Dat-Bl'!C46","v":0},{"$f":"'Dat-Bl'!D46","v":"Mayer Elena"},{"$f":"'Dat-Bl'!E46","v":"00:00:00"},{"$f":"'Dat-Bl'!F46","v":"NMS Gegendtal"},{"$f":"'Dat-Bl'!G46","v":0},9.5299999999999994,{"$f":"IF(F52=0,0,INT(19.742424*EXP(2.1*LN((1417-F52*100)/100))))","v":495},33.700000000000003,{"$f":"IF(H52=0,0,INT(22*EXP(0.9*LN((H52*100-500)/100))))","v":451},null,{"$f":"IF(J52=0,0,INT(83.435373*EXP(0.9*LN((J52*100-130)/100))))","v":0},4.33,{"$f":"IF(L52=0,0,INT(220.628792*EXP(1*LN((L52*100-180)/100))))","v":558},61.39,{"$f":"IF(N52=0,0,INT(0.405548*EXP(2.1*LN((8720-N52*100)/100))))","v":373},{"$f":"SUM(G52,I52,K52,M52)","v":1504}]
[{"$f":"'Dat-Bl'!C47","v":0},{"$f":"'Dat-Bl'!D47","v":"Steiner Patricia"},{"$f":"'Dat-Bl'!E47","v":"00:00:00"},{"$f":"D52","v":"NMS Gegendtal"},null,9.5299999999999994,495,null,0,7.29,417,4.18,525,null,null,1437]
[{"$f":"'Dat-Bl'!C48","v":0},{"$f":"'Dat-Bl'!D48","v":"Maier Jasmin"},{"$f":"'Dat-Bl'!E48","v":"00:00:00"},{"$f":"D53","v":"NMS Gegendtal"},null,10.02,392,30.8,410,null,0,3.79,439,null,null,1241]
[{"$f":"'Dat-Bl'!C49","v":0},{"$f":"'Dat-Bl'!D49","v":"Schweiger Nadja"},{"$f":"'Dat-Bl'!E49","v":"00:00:00"},"NMS Gegendtal",null,9.7100000000000009,456,null,0,6.93,395,3.9,463,null,null,1314]
[{"$f":"'Dat-Bl'!C50","v":0},{"$f":"'Dat-Bl'!D50","v":"Gasser Valentina"},{"$f":"'Dat-Bl'!E50","v":"00:00:00"},"NMS Gegendtal",null,9.7899999999999991,439,27.5,362,null,0,3.83,447,null,null,1248,"Gesamtergebnis"]
[{"$f":"'Dat-Bl'!C51","v":0},{"$f":"'Dat-Bl'!D51","v":"Ostertschnig Lisa"},{"$f":"'Dat-Bl'!E51","v":"00:00:00"},"NMS Gegendtal",null,9.74,449,27.6,364,null,0,3.83,447,null,null,1260,{"$f":"SUM(P52:P57)-MIN(P52:P57)+O52","v":7136}]
["Start-Nr.","Schülerinnen","Geb.Dat.","Schule 9","Bezirk/Bundesland","60m","PUNKTE","Schlagball","PUNKTE","Kugel","PUNKTE","Weit","PUNKTE","5x80M","PUNKTE","SUMME"]
[{"$f":"'Dat-Bl'!C52","v":0},{"$f":"'Dat-Bl'!D52","v":"Kassin Larissa"},{"$f":"'Dat-Bl'!E52","v":"00:00:00"},{"$f":"'Dat-Bl'!F52","v":"NMS Landskron"},{"$f":"'Dat-Bl'!G52","v":0},8.73,{"$f":"IF(F59=0,0,INT(19.742424*EXP(2.1*LN((1417-F59*100)/100))))","v":692},35.9,{"$f":"IF(H59=0,0,INT(22*EXP(0.9*LN((H59*100-500)/100))))","v":482},null,{"$f":"IF(J59=0,0,INT(83.435373*EXP(0.9*LN((J59*100-130)/100))))","v":0},4.41,{"$f":"IF(L59=0,0,INT(220.628792*EXP(1*LN((L59*100-180)/100))))","v":575},57.69,{"$f":"IF(N59=0,0,INT(0.405548*EXP(2.1*LN((8720-N59*100)/100))))","v":495},{"$f":"SUM(G59,I59,K59,M59)","v":1749}]
[{"$f":"'Dat-Bl'!C53","v":0},{"$f":"'Dat-Bl'!D53","v":"Wiener Sophie"},{"$f":"'Dat-Bl'!E53","v":"00:00:00"},{"$f":"D59","v":"NMS Landskron"},null,9.4499999999999993,513,38,511,null,0,4.3499999999999996,562,null,null,1586]
[{"$f":"'Dat-Bl'!C54","v":0},{"$f":"'Dat-Bl'!D54","v":"Neumann Lisa"},{"$f":"'Dat-Bl'!E54","v":"00:00:00"},{"$f":"D60","v":"NMS Landskron"},null,9.1,596,25.1,327,null,0,4.13,514,null,null,1437]
[{"$f":"'Dat-Bl'!C55","v":0},{"$f":"'Dat-Bl'!D55","v":"Pinzer Alina"},{"$f":"'Dat-Bl'!E55","v":"00:00:00"},"NMS Landskron",null,9.65,469,25.2,329,null,0,3.92,467,null,null,1265]
[{"$f":"'Dat-Bl'!C56","v":0},{"$f":"'Dat-Bl'!D56","v":"Santner Fabienne"},{"$f":"'Dat-Bl'!E56","v":"00:00:00"},"NMS Landskron",null,9.48,506,31.9,425,null,0,4.04,494,null,null,1425,"Gesamtergebnis"]
[{"$f":"'Dat-Bl'!C57","v":0},{"$f":"'Dat-Bl'!D57","v":"Petscher Maria"},{"$f":"'Dat-Bl'!E57","v":"00:00:00"},"NMS Landskron",null,9.23,565,20.2,254,null,0,4.0999999999999996,507,null,null,1326,{"$f":"SUM(P59:P64)-MIN(P59:P64)+O59","v":8018}]
["Start-Nr.","Schülerinnen","Geb.Dat.","Schule 10","Bezirk/Bundesland","60m","PUNKTE","Schlagball","PUNKTE","Kugel","PUNKTE","Weit","PUNKTE","5x80M","PUNKTE","SUMME"]
[{"$f":"'Dat-Bl'!C58","v":0},{"$f":"'Dat-Bl'!D58","v":"Edlmann Chiara"},{"$f":"'Dat-Bl'!E58","v":"00:00:00"},{"$f":"'Dat-Bl'!F58","v":"NMS Viktring"},{"$f":"'Dat-Bl'!G58","v":0},9.0399999999999991,{"$f":"IF(F66=0,0,INT(19.742424*EXP(2.1*LN((1417-F66*100)/100))))","v":611},29.5,{"$f":"IF(H66=0,0,INT(22*EXP(0.9*LN((H66*100-500)/100))))","v":391},null,{"$f":"IF(J66=0,0,INT(83.435373*EXP(0.9*LN((J66*100-130)/100))))","v":0},4.25,{"$f":"IF(L66=0,0,INT(220.628792*EXP(1*LN((L66*100-180)/100))))","v":540},61.09,{"$f":"IF(N66=0,0,INT(0.405548*EXP(2.1*LN((8720-N66*100)/100))))","v":383},{"$f":"SUM(G66,I66,K66,M66)","v":1542}]
[{"$f":"'Dat-Bl'!C59","v":0},{"$f":"'Dat-Bl'!D59","v":"Toth Lili"},{"$f":"'Dat-Bl'!E59","v":"00:00:00"},{"$f":"D66","v":"NMS Viktring"},null,10,395,31.8,424,null,0,4.25,540,null,null,1359]
[{"$f":"'Dat-Bl'!C60","v":0},{"$f":"'Dat-Bl'!D60","v":"Krnjic Sonja"},{"$f":"'Dat-Bl'!E60","v":"00:00:00"},{"$f":"D67","v":"NMS Viktring"},null,9.2200000000000006,567,41,553,null,0,4.0999999999999996,507,null,null,1627]
[{"$f":"'Dat-Bl'!C61","v":0},{"$f":"'Dat-Bl'!D61","v":"Esel Michelle"},{"$f":"'Dat-Bl'!E61","v":"00:00:00"},"NMS Viktring",null,9.94,408,24.8,323,null,0,4,485,null,null,1216]
[{"$f":"'Dat-Bl'!C62","v":0},{"$f":"'Dat-Bl'!D62","v":"Bierbaumer Selina"},{"$f":"'Dat-Bl'!E62","v":"00:00:00"},"NMS Viktring",null,10.59,287,31.3,417,null,0,3.48,370,null,null,1074,"Gesamtergebnis"]
[{"$f":"'Dat-Bl'!C63","v":0},{"$f":"'Dat-Bl'!D63","v":"Herkner Anna"},{"$f":"'Dat-Bl'!E63","v":"00:00:00"},"NMS Viktring",null,9.5500000000000007,491,28.7,379,null,0,4.2,529,null,null,1399,{"$f":"SUM(P66:P71)-MIN(P66:P71)+O66","v":7526}]
["Start-Nr.","Schülerinnen","Geb.Dat.","Schule 11","Bezirk/Bundesland","60m","PUNKTE","Schlagball","PUNKTE","Kugel","PUNKTE","Weit","PUNKTE","5x80M","PUNKTE","SUMME"]
[{"$f":"'Dat-Bl'!C64","v":0},{"$f":"'Dat-Bl'!D64","v":"Ebner Elena"},{"$f":"'Dat-Bl'!E64","v":"00:00:00"},{"$f":"'Dat-Bl'!F64","v":"RNMS Feldkirchen"},{"$f":"'Dat-Bl'!G64","v":0},8.92,{"$f":"IF(F73=0,0,INT(19.742424*EXP(2.1*LN((1417-F73*100)/100))))","v":642},35.200000000000003,{"$f":"IF(H73=0,0,INT(22*EXP(0.9*LN((H73*100-500)/100))))","v":472},null,{"$f":"IF(J73=0,0,INT(83.435373*EXP(0.9*LN((J73*100-130)/100))))","v":0},4.66,{"$f":"IF(L73=0,0,INT(220.628792*EXP(1*LN((L73*100-180)/100))))","v":630},56.95,{"$f":"IF(N73=0,0,INT(0.405548*EXP(2.1*LN((8720-N73*100)/100))))","v":521},{"$f":"SUM(G73,I73,K73,M73)","v":1744}]
[{"$f":"'Dat-Bl'!C65","v":0},{"$f":"'Dat-Bl'!D65","v":"Reiter Katharina"},{"$f":"'Dat-Bl'!E65","v":"00:00:00"},{"$f":"D73","v":"RNMS Feldkirchen"},null,9.2899999999999991,550,40.700000000000003,549,null,0,4.45,584,null,null,1683]
[{"$f":"'Dat-Bl'!C66","v":0},{"$f":"'Dat-Bl'!D66","v":"Hinteregger Katrin"},{"$f":"'Dat-Bl'!E66","v":"00:00:00"},{"$f":"D74","v":"RNMS Feldkirchen"},null,8.9,647,29.8,395,null,0,4.5599999999999996,608,null,null,1650]
[{"$f":"'Dat-Bl'!C67","v":0},{"$f":"'Dat-Bl'!D67","v":"Kircher Florentina"},{"$f":"'Dat-Bl'!E67","v":"00:00:00"},"RNMS Feldkirchen",null,9.5399999999999991,493,null,0,7.6,437,4.1500000000000004,518,null,null,1448]
[{"$f":"'Dat-Bl'!C68","v":0},{"$f":"'Dat-Bl'!D68","v":"Mühlbacher Nina"},{"$f":"'Dat-Bl'!E68","v":"00:00:00"},"RNMS Feldkirchen",null,9.86,424,null,0,6.97,397,4.0599999999999996,498,null,null,1319,"Gesamtergebnis"]
[{"$f":"'Dat-Bl'!C69","v":0},{"$f":"'Dat-Bl'!D69","v":"Petrascu Elisabeth"},{"$f":"'Dat-Bl'!E69","v":"00:00:00"},"RNMS Feldkirchen",null,9.25,560,23.4,302,null,0,4.53,602,null,null,1464,{"$f":"SUM(P73:P78)-MIN(P73:P78)+O73","v":8510}]
["Start-Nr.","Schülerinnen","Geb.Dat.","Schule 12","Bezirk/Bundesland","60m","PUNKTE","Schlagball","PUNKTE","Kugel","PUNKTE","Weit","PUNKTE","5x80M","PUNKTE","SUMME"]
[{"$f":"'Dat-Bl'!C70","v":0},{"$f":"'Dat-Bl'!D70","v":"W12/01-Regel"},{"$f":"'Dat-Bl'!E70","v":"00:00:00"},{"$f":"'Dat-Bl'!F70","v":0},{"$f":"'Dat-Bl'!G70","v":0},null,{"$f":"IF(F80=0,0,INT(19.742424*EXP(2.1*LN((1417-F80*100)/100))))","v":0},null,{"$f":"IF(H80=0,0,INT(22*EXP(0.9*LN((H80*100-500)/100))))","v":0},null,{"$f":"IF(J80=0,0,INT(83.435373*EXP(0.9*LN((J80*100-130)/100))))","v":0},null,{"$f":"IF(L80=0,0,INT(220.628792*EXP(1*LN((L80*100-180)/100))))","v":0},null,{"$f":"IF(N80=0,0,INT(0.405548*EXP(2.1*LN((8720-N80*100)/100))))","v":0},{"$f":"SUM(G80,I80,K80,M80)","v":0}]
[{"$f":"'Dat-Bl'!C71","v":0},{"$f":"'Dat-Bl'!D71","v":"W12/02-Regel"},{"$f":"'Dat-Bl'!E71","v":"00:00:00"},{"$f":"D80","v":0},null,null,0,null,0,null,0,null,0,null,null,0]
[{"$f":"'Dat-Bl'!C72","v":0},{"$f":"'Dat-Bl'!D72","v":"W12/03-Regel"},{"$f":"'Dat-Bl'!E72","v":"00:00:00"},{"$f":"D81","v":0},null,null,0,null,0,null,0,null,0,null,null,0]
[{"$f":"'Dat-Bl'!C73","v":0},{"$f":"'Dat-Bl'!D73","v":"W12/04-Regel"},{"$f":"'Dat-Bl'!E73","v":"00:00:00"},0,null,null,0,null,0,null,0,null,0,null,null,0]
[{"$f":"'Dat-Bl'!C74","v":0},{"$f":"'Dat-Bl'!D74","v":"W12/05-Regel"},{"$f":"'Dat-Bl'!E74","v":"00:00:00"},0,null,null,0,null,0,null,0,null,0,null,null,0,"Gesamtergebnis"]
[{"$f":"'Dat-Bl'!C75","v":0},{"$f":"'Dat-Bl'!D75","v":"W12/06-Regel"},{"$f":"'Dat-Bl'!E75","v":"00:00:00"},0,null,null,0,null,0,null,0,null,0,null,null,0,{"$f":"SUM(P80:P85)-MIN(P80:P85)+O80","v":0}]
["Start-Nr.","Schülerinnen","Geb.Dat.","Schule 13","Bezirk/Bundesland","60m","PUNKTE","Schlagball","PUNKTE","Kugel","PUNKTE","Weit","PUNKTE","5x80M","PUNKTE","SUMME"]
[{"$f":"'Dat-Bl'!C76","v":0},{"$f":"'Dat-Bl'!D76","v":"W13/01-Regel"},{"$f":"'Dat-Bl'!E76","v":"00:00:00"},{"$f":"'Dat-Bl'!F76","v":0},{"$f":"'Dat-Bl'!G76","v":0},null,{"$f":"IF(F87=0,0,INT(19.742424*EXP(2.1*LN((1417-F87*100)/100))))","v":0},null,{"$f":"IF(H87=0,0,INT(22*EXP(0.9*LN((H87*100-500)/100))))","v":0},null,{"$f":"IF(J87=0,0,INT(83.435373*EXP(0.9*LN((J87*100-130)/100))))","v":0},null,{"$f":"IF(L87=0,0,INT(220.628792*EXP(1*LN((L87*100-180)/100))))","v":0},null,{"$f":"IF(N87=0,0,INT(0.405548*EXP(2.1*LN((8720-N87*100)/100))))","v":0},{"$f":"SUM(G87,I87,K87,M87)","v":0}]
[{"$f":"'Dat-Bl'!C77","v":0},{"$f":"'Dat-Bl'!D77","v":"W13/02-Regel"},{"$f":"'Dat-Bl'!E77","v":"00:00:00"},{"$f":"D87","v":0},null,null,0,null,0,null,0,null,0,null,null,0]
[{"$f":"'Dat-Bl'!C78","v":0},{"$f":"'Dat-Bl'!D78","v":"W13/03-Regel"},{"$f":"'Dat-Bl'!E78","v":"00:00:00"},{"$f":"D88","v":0},null,null,0,null,0,null,0,null,0,null,null,0]
[{"$f":"'Dat-Bl'!C79","v":0},{"$f":"'Dat-Bl'!D79","v":"W13/04-Regel"},{"$f":"'Dat-Bl'!E79","v":"00:00:00"},0,null,null,0,null,0,null,0,null,0,null,null,0]
[{"$f":"'Dat-Bl'!C80","v":0},{"$f":"'Dat-Bl'!D80","v":"W13/05-Regel"},{"$f":"'Dat-Bl'!E80","v":"00:00:00"},0,null,null,0,null,0,null,0,null,0,null,null,0,"Gesamtergebnis"]
[{"$f":"'Dat-Bl'!C81","v":0},{"$f":"'Dat-Bl'!D81","v":"W13/06-Regel"},{"$f":"'Dat-Bl'!E81","v":"00:00:00"},0,null,null,0,null,0,null,0,null,0,null,null,0,{"$f":"SUM(P87:P92)-MIN(P87:P92)+O87","v":0}]
["Start-Nr.","Schülerinnen","Geb.Dat.","Schule 14","Bezirk/Bundesland","60m","PUNKTE","Schlagball","PUNKTE","Kugel","PUNKTE","Weit","PUNKTE","5x80M","PUNKTE","SUMME"]
[{"$f":"'Dat-Bl'!C82","v":0},{"$f":"'Dat-Bl'!D82","v":"W14/01-Regel"},{"$f":"'Dat-Bl'!E82","v":"00:00:00"},{"$f":"'Dat-Bl'!F82","v":0},{"$f":"'Dat-Bl'!G82","v":0},null,{"$f":"IF(F94=0,0,INT(19.742424*EXP(2.1*LN((1417-F94*100)/100))))","v":0},null,{"$f":"IF(H94=0,0,INT(22*EXP(0.9*LN((H94*100-500)/100))))","v":0},null,{"$f":"IF(J94=0,0,INT(83.435373*EXP(0.9*LN((J94*100-130)/100))))","v":0},null,{"$f":"IF(L94=0,0,INT(220.628792*EXP(1*LN((L94*100-180)/100))))","v":0},null,{"$f":"IF(N94=0,0,INT(0.405548*EXP(2.1*LN((8720-N94*100)/100))))","v":0},{"$f":"SUM(G94,I94,K94,M94)","v":0}]
[{"$f":"'Dat-Bl'!C83","v":0},{"$f":"'Dat-Bl'!D83","v":"W14/02-Regel"},{"$f":"'Dat-Bl'!E83","v":"00:00:00"},{"$f":"D94","v":0},null,null,0,null,0,null,0,null,0,null,null,0]
[{"$f":"'Dat-Bl'!C84","v":0},{"$f":"'Dat-Bl'!D84","v":"W14/03-Regel"},{"$f":"'Dat-Bl'!E84","v":"00:00:00"},{"$f":"D95","v":0},null,null,0,null,0,null,0,null,0,null,null,0]
[{"$f":"'Dat-Bl'!C85","v":0},{"$f":"'Dat-Bl'!D85","v":"W14/04-Regel"},{"$f":"'Dat-Bl'!E85","v":"00:00:00"},0,null,null,0,null,0,null,0,null,0,null,null,0]
[{"$f":"'Dat-Bl'!C86","v":0},{"$f":"'Dat-Bl'!D86","v":"W14/05-Regel"},{"$f":"'Dat-Bl'!E86","v":"00:00:00"},0,null,null,0,null,0,null,0,null,0,null,null,0,"Gesamtergebnis"]
[{"$f":"'Dat-Bl'!C87","v":0},{"$f":"'Dat-Bl'!D87","v":"W14/06-Regel"},{"$f":"'Dat-Bl'!E87","v":"00:00:00"},0,null,null,0,null,0,null,0,null,0,null,null,0,{"$f":"SUM(P94:P99)-MIN(P94:P99)+O94","v":0}]
["Start-Nr.","Schülerinnen","Geb.Dat.","Schule 15","Bezirk/Bundesland","60m","PUNKTE","Schlagball","PUNKTE","Kugel","PUNKTE","Weit","PUNKTE","5x80M","PUNKTE","SUMME"]
[{"$f":"'Dat-Bl'!C88","v":0},{"$f":"'Dat-Bl'!D88","v":"W15/01-Regel"},{"$f":"'Dat-Bl'!E88","v":"00:00:00"},{"$f":"'Dat-Bl'!F88","v":0},{"$f":"'Dat-Bl'!G88","v":0},null,{"$f":"IF(F101=0,0,INT(19.742424*EXP(2.1*LN((1417-F101*100)/100))))","v":0},null,{"$f":"IF(H101=0,0,INT(22*EXP(0.9*LN((H101*100-500)/100))))","v":0},null,{"$f":"IF(J101=0,0,INT(83.435373*EXP(0.9*LN((J101*100-130)/100))))","v":0},null,{"$f":"IF(L101=0,0,INT(220.628792*EXP(1*LN((L101*100-180)/100))))","v":0},null,{"$f":"IF(N101=0,0,INT(0.405548*EXP(2.1*LN((8720-N101*100)/100))))","v":0},{"$f":"SUM(G101,I101,K101,M101)","v":0}]
[{"$f":"'Dat-Bl'!C89","v":0},{"$f":"'Dat-Bl'!D89","v":"W15/02-Regel"},{"$f":"'Dat-Bl'!E89","v":"00:00:00"},{"$f":"D101","v":0},null,null,0,null,0,null,0,null,0,null,null,0]
[{"$f":"'Dat-Bl'!C90","v":0},{"$f":"'Dat-Bl'!D90","v":"W15/03-Regel"},{"$f":"'Dat-Bl'!E90","v":"00:00:00"},{"$f":"D102","v":0},null,null,0,null,0,null,0,null,0,null,null,0]
[{"$f":"'Dat-Bl'!C91","v":0},{"$f":"'Dat-Bl'!D91","v":"W15/04-Regel"},{"$f":"'Dat-Bl'!E91","v":"00:00:00"},0,null,null,0,null,0,null,0,null,0,null,null,0]
[{"$f":"'Dat-Bl'!C92","v":0},{"$f":"'Dat-Bl'!D92","v":"W15/05-Regel"},{"$f":"'Dat-Bl'!E92","v":"00:00:00"},0,null,null,0,null,0,null,0,null,0,null,null,0,"Gesamtergebnis"]
[{"$f":"'Dat-Bl'!C93","v":0},{"$f":"'Dat-Bl'!D93","v":"W15/06-Regel"},{"$f":"'Dat-Bl'!E93","v":"00:00:00"},0,null,null,0,null,0,null,0,null,0,null,null,0,{"$f":"SUM(P101:P106)-MIN(P101:P106)+O101","v":0}]
["Start-Nr.","Schülerinnen","Geb.Dat.","Schule 16","Bezirk/Bundesland","60m","PUNKTE","Schlagball","PUNKTE","Kugel","PUNKTE","Weit","PUNKTE","5x80M","PUNKTE","SUMME"]
[{"$f":"'Dat-Bl'!C94","v":0},{"$f":"'Dat-Bl'!D94","v":"W16/01-Regel"},{"$f":"'Dat-Bl'!E94","v":"00:00:00"},{"$f":"'Dat-Bl'!F94","v":0},{"$f":"'Dat-Bl'!G94","v":0},null,{"$f":"IF(F108=0,0,INT(19.742424*EXP(2.1*LN((1417-F108*100)/100))))","v":0},null,{"$f":"IF(H108=0,0,INT(22*EXP(0.9*LN((H108*100-500)/100))))","v":0},null,{"$f":"IF(J108=0,0,INT(83.435373*EXP(0.9*LN((J108*100-130)/100))))","v":0},null,{"$f":"IF(L108=0,0,INT(220.628792*EXP(1*LN((L108*100-180)/100))))","v":0},null,{"$f":"IF(N108=0,0,INT(0.405548*EXP(2.1*LN((8720-N108*100)/100))))","v":0},{"$f":"SUM(G108,I108,K108,M108)","v":0}]
[{"$f":"'Dat-Bl'!C95","v":0},{"$f":"'Dat-Bl'!D95","v":"W16/02-Regel"},{"$f":"'Dat-Bl'!E95","v":"00:00:00"},{"$f":"D108","v":0},null,null,0,null,0,null,0,null,0,null,null,0]
[{"$f":"'Dat-Bl'!C96","v":0},{"$f":"'Dat-Bl'!D96","v":"W16/03-Regel"},{"$f":"'Dat-Bl'!E96","v":"00:00:00"},{"$f":"D109","v":0},null,null,0,null,0,null,0,null,0,null,null,0]
[{"$f":"'Dat-Bl'!C97","v":0},{"$f":"'Dat-Bl'!D97","v":"W16/04-Regel"},{"$f":"'Dat-Bl'!E97","v":"00:00:00"},0,null,null,0,null,0,null,0,null,0,null,null,0]
[{"$f":"'Dat-Bl'!C98","v":0},{"$f":"'Dat-Bl'!D98","v":"W16/05-Regel"},{"$f":"'Dat-Bl'!E98","v":"00:00:00"},0,null,null,0,null,0,null,0,null,0,null,null,0,"Gesamtergebnis"]
[{"$f":"'Dat-Bl'!C99","v":0},{"$f":"'Dat-Bl'!D99","v":"W16/06-Regel"},{"$f":"'Dat-Bl'!E99","v":"00:00:00"},0,null,null,0,null,0,null,0,null,0,null,null,0,{"$f":"SUM(P108:P113)-MIN(P108:P113)+O108","v":0}]
["Start-Nr.","Schülerinnen","Geb.Dat.","Schule 17","Bezirk/Bundesland","60m","PUNKTE","Schlagball","PUNKTE","Kugel","PUNKTE","Weit","PUNKTE","5x80M","PUNKTE","SUMME"]
[{"$f":"'Dat-Bl'!C100","v":0},{"$f":"'Dat-Bl'!D100","v":"W17/01-Regel"},{"$f":"'Dat-Bl'!E100","v":"00:00:00"},{"$f":"'Dat-Bl'!F100","v":0},{"$f":"'Dat-Bl'!G100","v":0},null,{"$f":"IF(F115=0,0,INT(19.742424*EXP(2.1*LN((1417-F115*100)/100))))","v":0},null,{"$f":"IF(H115=0,0,INT(22*EXP(0.9*LN((H115*100-500)/100))))","v":0},null,{"$f":"IF(J115=0,0,INT(83.435373*EXP(0.9*LN((J115*100-130)/100))))","v":0},null,{"$f":"IF(L115=0,0,INT(220.628792*EXP(1*LN((L115*100-180)/100))))","v":0},null,{"$f":"IF(N115=0,0,INT(0.405548*EXP(2.1*LN((8720-N115*100)/100))))","v":0},{"$f":"SUM(G115,I115,K115,M115)","v":0}]
[{"$f":"'Dat-Bl'!C101","v":0},{"$f":"'Dat-Bl'!D101","v":"W17/02-Regel"},{"$f":"'Dat-Bl'!E101","v":"00:00:00"},{"$f":"D115","v":0},null,null,0,null,0,null,0,null,0,null,null,0]
[{"$f":"'Dat-Bl'!C102","v":0},{"$f":"'Dat-Bl'!D102","v":"W17/03-Regel"},{"$f":"'Dat-Bl'!E102","v":"00:00:00"},{"$f":"D116","v":0},null,null,0,null,0,null,0,null,0,null,null,0]
[{"$f":"'Dat-Bl'!C103","v":0},{"$f":"'Dat-Bl'!D103","v":"W17/04-Regel"},{"$f":"'Dat-Bl'!E103","v":"00:00:00"},0,null,null,0,null,0,null,0,null,0,null,null,0]
[{"$f":"'Dat-Bl'!C104","v":0},{"$f":"'Dat-Bl'!D104","v":"W17/05-Regel"},{"$f":"'Dat-Bl'!E104","v":"00:00:00"},0,null,null,0,null,0,null,0,null,0,null,null,0,"Gesamtergebnis"]
[{"$f":"'Dat-Bl'!C105","v":0},{"$f":"'Dat-Bl'!D105","v":"W17/06-Regel"},{"$f":"'Dat-Bl'!E105","v":"00:00:00"},0,null,null,0,null,0,null,0,null,0,null,null,0,{"$f":"SUM(P115:P120)-MIN(P115:P120)+O115","v":0}]
["Start-Nr.","Schülerinnen","Geb.Dat.","Schule 18","Bezirk/Bundesland","60m","PUNKTE","Schlagball","PUNKTE","Kugel","PUNKTE","Weit","PUNKTE","5x80M","PUNKTE","SUMME"]
[{"$f":"'Dat-Bl'!C106","v":0},{"$f":"'Dat-Bl'!D106","v":"W18/01-Regel"},{"$f":"'Dat-Bl'!E106","v":"00:00:00"},{"$f":"'Dat-Bl'!F106","v":0},{"$f":"'Dat-Bl'!G106","v":0},null,{"$f":"IF(F122=0,0,INT(19.742424*EXP(2.1*LN((1417-F122*100)/100))))","v":0},null,{"$f":"IF(H122=0,0,INT(22*EXP(0.9*LN((H122*100-500)/100))))","v":0},null,{"$f":"IF(J122=0,0,INT(83.435373*EXP(0.9*LN((J122*100-130)/100))))","v":0},null,{"$f":"IF(L122=0,0,INT(220.628792*EXP(1*LN((L122*100-180)/100))))","v":0},null,{"$f":"IF(N122=0,0,INT(0.405548*EXP(2.1*LN((8720-N122*100)/100))))","v":0},{"$f":"SUM(G122,I122,K122,M122)","v":0}]
[{"$f":"'Dat-Bl'!C107","v":0},{"$f":"'Dat-Bl'!D107","v":"W18/02-Regel"},{"$f":"'Dat-Bl'!E107","v":"00:00:00"},{"$f":"D122","v":0},null,null,0,null,0,null,0,null,0,null,null,0]
[{"$f":"'Dat-Bl'!C108","v":0},{"$f":"'Dat-Bl'!D108","v":"W18/03-Regel"},{"$f":"'Dat-Bl'!E108","v":"00:00:00"},{"$f":"D123","v":0},null,null,0,null,0,null,0,null,0,null,null,0]
[{"$f":"'Dat-Bl'!C109","v":0},{"$f":"'Dat-Bl'!D109","v":"W18/04-Regel"},{"$f":"'Dat-Bl'!E109","v":"00:00:00"},0,null,null,0,null,0,null,0,null,0,null,null,0]
[{"$f":"'Dat-Bl'!C110","v":0},{"$f":"'Dat-Bl'!D110","v":"W18/05-Regel"},{"$f":"'Dat-Bl'!E110","v":"00:00:00"},0,null,null,0,null,0,null,0,null,0,null,null,0,"Gesamtergebnis"]
[{"$f":"'Dat-Bl'!C111","v":0},{"$f":"'Dat-Bl'!D111","v":"W18/06-Regel"},{"$f":"'Dat-Bl'!E111","v":"00:00:00"},0,null,null,0,null,0,null,0,null,0,null,null,0,{"$f":"SUM(P122:P127)-MIN(P122:P127)+O122","v":0}]
["Start-Nr.","Schülerinnen","Geb.Dat.","Schule 19","Bezirk/Bundesland","60m","PUNKTE","Schlagball","PUNKTE","Kugel","PUNKTE","Weit","PUNKTE","5x80M","PUNKTE","SUMME"]
[{"$f":"'Dat-Bl'!C112","v":0},{"$f":"'Dat-Bl'!D112","v":"W19/01-Regel"},{"$f":"'Dat-Bl'!E112","v":"00:00:00"},{"$f":"'Dat-Bl'!F112","v":0},{"$f":"'Dat-Bl'!G112","v":0},null,{"$f":"IF(F129=0,0,INT(19.742424*EXP(2.1*LN((1417-F129*100)/100))))","v":0},null,{"$f":"IF(H129=0,0,INT(22*EXP(0.9*LN((H129*100-500)/100))))","v":0},null,{"$f":"IF(J129=0,0,INT(83.435373*EXP(0.9*LN((J129*100-130)/100))))","v":0},null,{"$f":"IF(L129=0,0,INT(220.628792*EXP(1*LN((L129*100-180)/100))))","v":0},null,{"$f":"IF(N129=0,0,INT(0.405548*EXP(2.1*LN((8720-N129*100)/100))))","v":0},{"$f":"SUM(G129,I129,K129,M129)","v":0}]
[{"$f":"'Dat-Bl'!C113","v":0},{"$f":"'Dat-Bl'!D113","v":"W19/02-Regel"},{"$f":"'Dat-Bl'!E113","v":"00:00:00"},{"$f":"D129","v":0},null,null,0,null,0,null,0,null,0,null,null,0]
[{"$f":"'Dat-Bl'!C114","v":0},{"$f":"'Dat-Bl'!D114","v":"W19/03-Regel"},{"$f":"'Dat-Bl'!E114","v":"00:00:00"},{"$f":"D130","v":0},null,null,0,null,0,null,0,null,0,null,null,0]
[{"$f":"'Dat-Bl'!C115","v":0},{"$f":"'Dat-Bl'!D115","v":"W19/04-Regel"},{"$f":"'Dat-Bl'!E115","v":"00:00:00"},0,null,null,0,null,0,null,0,null,0,null,null,0]
[{"$f":"'Dat-Bl'!C116","v":0},{"$f":"'Dat-Bl'!D116","v":"W19/05-Regel"},{"$f":"'Dat-Bl'!E116","v":"00:00:00"},0,null,null,0,null,0,null,0,null,0,null,null,0,"Gesamtergebnis"]
[{"$f":"'Dat-Bl'!C117","v":0},{"$f":"'Dat-Bl'!D117","v":"W19/06-Regel"},{"$f":"'Dat-Bl'!E117","v":"00:00:00"},0,null,null,0,null,0,null,0,null,0,null,null,0,{"$f":"SUM(P129:P134)-MIN(P129:P134)+O129","v":0}]
["Start-Nr.","Schülerinnen","Geb.Dat.","Schule 20","Bezirk/Bundesland","60m","PUNKTE","Schlagball","PUNKTE","Kugel","PUNKTE","Weit","PUNKTE","5x80M","PUNKTE","SUMME"]
[{"$f":"'Dat-Bl'!C118","v":0},{"$f":"'Dat-Bl'!D118","v":"W20/01-Regel"},{"$f":"'Dat-Bl'!E118","v":"00:00:00"},{"$f":"'Dat-Bl'!F118","v":0},{"$f":"'Dat-Bl'!G118","v":0},null,{"$f":"IF(F136=0,0,INT(19.742424*EXP(2.1*LN((1417-F136*100)/100))))","v":0},null,{"$f":"IF(H136=0,0,INT(22*EXP(0.9*LN((H136*100-500)/100))))","v":0},null,{"$f":"IF(J136=0,0,INT(83.435373*EXP(0.9*LN((J136*100-130)/100))))","v":0},null,{"$f":"IF(L136=0,0,INT(220.628792*EXP(1*LN((L136*100-180)/100))))","v":0},null,{"$f":"IF(N136=0,0,INT(0.405548*EXP(2.1*LN((8720-N136*100)/100))))","v":0},{"$f":"SUM(G136,I136,K136,M136)","v":0}]
[{"$f":"'Dat-Bl'!C119","v":0},{"$f":"'Dat-Bl'!D119","v":"W20/02-Regel"},{"$f":"'Dat-Bl'!E119","v":"00:00:00"},{"$f":"D136","v":0},null,null,0,null,0,null,0,null,0,null,null,0]
[{"$f":"'Dat-Bl'!C120","v":0},{"$f":"'Dat-Bl'!D120","v":"W20/03-Regel"},{"$f":"'Dat-Bl'!E120","v":"00:00:00"},{"$f":"D137","v":0},null,null,0,null,0,null,0,null,0,null,null,0]
[{"$f":"'Dat-Bl'!C121","v":0},{"$f":"'Dat-Bl'!D121","v":"W20/04-Regel"},{"$f":"'Dat-Bl'!E121","v":"00:00:00"},0,null,null,0,null,0,null,0,null,0,null,null,0]
[{"$f":"'Dat-Bl'!C122","v":0},{"$f":"'Dat-Bl'!D122","v":"W20/05-Regel"},{"$f":"'Dat-Bl'!E122","v":"00:00:00"},0,null,null,0,null,0,null,0,null,0,null,null,0,"Gesamtergebnis"]
[{"$f":"'Dat-Bl'!C123","v":0},{"$f":"'Dat-Bl'!D123","v":"W20/06-Regel"},{"$f":"'Dat-Bl'!E123","v":"00:00:00"},0,null,null,0,null,0,null,0,null,0,null,null,0,{"$f":"SUM(P136:P141)-MIN(P136:P141)+O136","v":0}]

{"sheet":"Sum-w_R","index":3,"n_rows":22,"n_cols":5,"rows_kept":22,"cut":false,"hidden":false,"merged":[[0,3,0,4],[0,0,0,1]]}
[{"$f":"'w-E_R'!A1","v":"Wettkampfdaten-Art"},null,{"$f":"'w-E_R'!C1","v":"D-C/Regel-Schulen"},{"$f":"'w-E_R'!E1","v":"Ortsangabe,Datum"}]
["Rang","Mannschaft-SCHÜLERINNEN","Bundesland/Bezirk","Punkte"]
[{"$f":"RANK(D3,$D$3:$D$22,0)","v":1},{"$f":"'w-E_R'!D17","v":"BRG Spittal"},{"$f":"'w-E_R'!E17","v":0},{"$f":"'w-E_R'!Q22","v":9243},"Pkt."]
[{"$f":"RANK(D4,$D$3:$D$22,0)","v":2},{"$f":"'w-E_R'!D3","v":"BG St.Martin"},{"$f":"'w-E_R'!E3","v":0},{"$f":"'w-E_R'!Q8","v":9053},"Pkt."]
[{"$f":"RANK(D5,$D$3:$D$22,0)","v":3},{"$f":"'w-E_R'!D38","v":"Musik NMS Hermagor"},{"$f":"'w-E_R'!E38","v":0},{"$f":"'w-E_R'!Q43","v":8955},"Pkt."]
[{"$f":"RANK(D6,$D$3:$D$22,0)","v":4},{"$f":"'w-E_R'!D73","v":"RNMS Feldkirchen"},{"$f":"'w-E_R'!E73","v":0},{"$f":"'w-E_R'!Q78","v":8510},"Pkt."]
[{"$f":"RANK(D7,$D$3:$D$22,0)","v":5},{"$f":"'w-E_R'!D10","v":"Borg Wolfsberg"},{"$f":"'w-E_R'!E10","v":0},{"$f":"'w-E_R'!Q15","v":8445},"Pkt."]
[{"$f":"RANK(D8,$D$3:$D$22,0)","v":6},{"$f":"'w-E_R'!D31","v":"Ingeborg Bachmann Gymnasium"},{"$f":"'w-E_R'!E31","v":0},{"$f":"'w-E_R'!Q36","v":8247},"Pkt."]
[{"$f":"RANK(D9,$D$3:$D$22,0)","v":7},{"$f":"'w-E_R'!D59","v":"NMS Landskron"},{"$f":"'w-E_R'!E59","v":0},{"$f":"'w-E_R'!Q64","v":8018},"Pkt."]
[{"$f":"RANK(D10,$D$3:$D$22,0)","v":8},{"$f":"'w-E_R'!D24","v":"BZ Bad Eisenkappel"},{"$f":"'w-E_R'!E24","v":0},{"$f":"'w-E_R'!Q29","v":7973},"Pkt."]
[{"$f":"RANK(D11,$D$3:$D$22,0)","v":9},{"$f":"'w-E_R'!D45","v":"NMS Friesach"},{"$f":"'w-E_R'!E45","v":0},{"$f":"'w-E_R'!Q50","v":7957},"Pkt."]
[{"$f":"RANK(D12,$D$3:$D$22,0)","v":10},{"$f":"'w-E_R'!D66","v":"NMS Viktring"},{"$f":"'w-E_R'!E66","v":0},{"$f":"'w-E_R'!Q71","v":7526},"Pkt."]
[{"$f":"RANK(D13,$D$3:$D$22,0)","v":11},{"$f":"'w-E_R'!D52","v":"NMS Gegendtal"},{"$f":"'w-E_R'!E52","v":0},{"$f":"'w-E_R'!Q57","v":7136},"Pkt."]
[{"$f":"RANK(D14,$D$3:$D$22,0)","v":12},{"$f":"'w-E_R'!D115","v":0},{"$f":"'w-E_R'!E115","v":0},{"$f":"'w-E_R'!Q120","v":0},"Pkt."]
[{"$f":"RANK(D15,$D$3:$D$22,0)","v":12},{"$f":"'w-E_R'!D87","v":0},{"$f":"'w-E_R'!E87","v":0},{"$f":"'w-E_R'!Q92","v":0},"Pkt."]
[{"$f":"RANK(D16,$D$3:$D$22,0)","v":12},{"$f":"'w-E_R'!D129","v":0},{"$f":"'w-E_R'!E129","v":0},{"$f":"'w-E_R'!Q134","v":0},"Pkt."]
[{"$f":"RANK(D17,$D$3:$D$22,0)","v":12},{"$f":"'w-E_R'!D94","v":0},{"$f":"'w-E_R'!E94","v":0},{"$f":"'w-E_R'!Q99","v":0},"Pkt."]
[{"$f":"RANK(D18,$D$3:$D$22,0)","v":12},{"$f":"'w-E_R'!D136","v":0},{"$f":"'w-E_R'!E136","v":0},{"$f":"'w-E_R'!Q141","v":0},"Pkt."]
[{"$f":"RANK(D19,$D$3:$D$22,0)","v":12},{"$f":"'w-E_R'!D80","v":0},{"$f":"'w-E_R'!E80","v":0},{"$f":"'w-E_R'!Q85","v":0},"Pkt."]
[{"$f":"RANK(D20,$D$3:$D$22,0)","v":12},{"$f":"'w-E_R'!D122","v":0},{"$f":"'w-E_R'!E122","v":0},{"$f":"'w-E_R'!Q127","v":0},"Pkt."]
[{"$f":"RANK(D21,$D$3:$D$22,0)","v":12},{"$f":"'w-E_R'!D101","v":0},{"$f":"'w-E_R'!E101","v":0},{"$f":"'w-E_R'!Q106","v":0},"Pkt."]
[{"$f":"RANK(D22,$D$3:$D$22,0)","v":12},{"$f":"'w-E_R'!D108","v":0},{"$f":"'w-E_R'!E108","v":0},{"$f":"'w-E_R'!Q113","v":0},"Pkt."]

{"sheet":"Ez-w-R","index":4,"n_rows":122,"n_cols":5,"rows_kept":122,"cut":false,"hidden":false,"merged":[[0,0,0,1],[0,3,0,4]]}
[{"$f":"'w-E_R'!A1","v":"Wettkampfdaten-Art"},null,{"$f":"'w-E_R'!C1","v":"D-C/Regel-Schulen"},{"$f":"'w-E_R'!E1","v":"Ortsangabe,Datum"}]
["Rang","SCHÜLERINNEN","Schule:","Punkte"]
[{"$f":"RANK(D3,$D$3:$D$122,0)","v":1},{"$f":"'w-E_R'!B15","v":"Riegler Vanessa"},{"$f":"'w-E_R'!D15","v":"Borg Wolfsberg"},{"$f":"'w-E_R'!P15","v":2148},"Pkt."]
[2,{"$f":"'w-E_R'!B22","v":"Thaler Laurentine"},{"$f":"'w-E_R'!D22","v":"BRG Spittal"},{"$f":"'w-E_R'!P22","v":2093},"Pkt."]
[3,{"$f":"'w-E_R'!B38","v":"Fercher Annabell"},{"$f":"'w-E_R'!D38","v":"Musik NMS Hermagor"},{"$f":"'w-E_R'!P38","v":1967},"Pkt."]
[4,{"$f":"'w-E_R'!B14","v":"Pum Julia"},{"$f":"'w-E_R'!D14","v":"Borg Wolfsberg"},{"$f":"'w-E_R'!P14","v":1930},"Pkt."]
[5,{"$f":"'w-E_R'!B34","v":"Schmaranz Sophie"},{"$f":"'w-E_R'!D34","v":"Ingeborg Bachmann Gymnasium"},{"$f":"'w-E_R'!P34","v":1771},"Pkt."]
[6,{"$f":"'w-E_R'!B59","v":"Kassin Larissa"},{"$f":"'w-E_R'!D59","v":"NMS Landskron"},{"$f":"'w-E_R'!P59","v":1749},"Pkt."]
[7,{"$f":"'w-E_R'!B73","v":"Ebner Elena"},{"$f":"'w-E_R'!D73","v":"RNMS Feldkirchen"},{"$f":"'w-E_R'!P73","v":1744},"Pkt."]
[8,{"$f":"'w-E_R'!B21","v":"Possegger Christina"},{"$f":"'w-E_R'!D21","v":"BRG Spittal"},{"$f":"'w-E_R'!P21","v":1742},"Pkt."]
[9,{"$f":"'w-E_R'!B6","v":"Enzi Sarah"},{"$f":"'w-E_R'!D6","v":"BG St.Martin"},{"$f":"'w-E_R'!P6","v":1730},"Pkt."]
[10,{"$f":"'w-E_R'!B7","v":"Koch Anna"},{"$f":"'w-E_R'!D7","v":"BG St.Martin"},{"$f":"'w-E_R'!P7","v":1729},"Pkt."]
[11,{"$f":"'w-E_R'!B40","v":"Wernitznig Nina"},{"$f":"'w-E_R'!D40","v":"Musik NMS Hermagor"},{"$f":"'w-E_R'!P40","v":1713},"Pkt."]
[12,{"$f":"'w-E_R'!B3","v":"Wallner Paulina"},{"$f":"'w-E_R'!D3","v":"BG St.Martin"},{"$f":"'w-E_R'!P3","v":1709},"Pkt."]
[13,{"$f":"'w-E_R'!B8","v":"Fugger Sophie"},{"$f":"'w-E_R'!D8","v":"BG St.Martin"},{"$f":"'w-E_R'!P8","v":1700},"Pkt."]
[14,{"$f":"'w-E_R'!B74","v":"Reiter Katharina"},{"$f":"'w-E_R'!D74","v":"RNMS Feldkirchen"},{"$f":"'w-E_R'!P74","v":1683},"Pkt."]
[15,{"$f":"'w-E_R'!B25","v":"Kaschnig Lea"},{"$f":"'w-E_R'!D25","v":"BZ Bad Eisenkappel"},{"$f":"'w-E_R'!P25","v":1680},"Pkt."]
[16,{"$f":"'w-E_R'!B26","v":"Ebner Anna-Lena"},{"$f":"'w-E_R'!D26","v":"BZ Bad Eisenkappel"},{"$f":"'w-E_R'!P26","v":1670},"Pkt."]
[17,{"$f":"'w-E_R'!B4","v":"Feichter Nelly"},{"$f":"'w-E_R'!D4","v":"BG St.Martin"},{"$f":"'w-E_R'!P4","v":1664},"Pkt."]
[18,{"$f":"'w-E_R'!B39","v":"Ebenwaldner Carina"},{"$f":"'w-E_R'!D39","v":"Musik NMS Hermagor"},{"$f":"'w-E_R'!P39","v":1654},"Pkt."]
[19,{"$f":"'w-E_R'!B75","v":"Hinteregger Katrin"},{"$f":"'w-E_R'!D75","v":"RNMS Feldkirchen"},{"$f":"'w-E_R'!P75","v":1650},"Pkt."]
[20,{"$f":"'w-E_R'!B20","v":"Kowatsch Anna"},{"$f":"'w-E_R'!D20","v":"BRG Spittal"},{"$f":"'w-E_R'!P20","v":1638},"Pkt."]
[21,{"$f":"'w-E_R'!B68","v":"Krnjic Sonja"},{"$f":"'w-E_R'!D68","v":"NMS Viktring"},{"$f":"'w-E_R'!P68","v":1627},"Pkt."]
[22,{"$f":"'w-E_R'!B18","v":"Reiter Anna-Lena"},{"$f":"'w-E_R'!D18","v":"BRG Spittal"},{"$f":"'w-E_R'!P18","v":1618},"Pkt."]
[23,{"$f":"'w-E_R'!B17","v":"Hartlieb Michelle"},{"$f":"'w-E_R'!D17","v":"BRG Spittal"},{"$f":"'w-E_R'!P17","v":1603},"Pkt."]
[24,{"$f":"'w-E_R'!B19","v":"Krammer Kristin"},{"$f":"'w-E_R'!D19","v":"BRG Spittal"},{"$f":"'w-E_R'!P19","v":1595},"Pkt."]
[25,{"$f":"'w-E_R'!B48","v":"Schaller Victoria"},{"$f":"'w-E_R'!D48","v":"NMS Friesach"},{"$f":"'w-E_R'!P48","v":1587},"Pkt."]
[26,{"$f":"'w-E_R'!B35","v":"Zenkl Hannah"},{"$f":"'w-E_R'!D35","v":"Ingeborg Bachmann Gymnasium"},{"$f":"'w-E_R'!P35","v":1586},"Pkt."]
[26,{"$f":"'w-E_R'!B60","v":"Wiener Sophie"},{"$f":"'w-E_R'!D60","v":"NMS Landskron"},{"$f":"'w-E_R'!P60","v":1586},"Pkt."]
[28,{"$f":"'w-E_R'!B43","v":"Seebacher Mathilda"},{"$f":"'w-E_R'!D43","v":"Musik NMS Hermagor"},{"$f":"'w-E_R'!P43","v":1552},"Pkt."]
[29,{"$f":"'w-E_R'!B5","v":"Heincz Gerit"},{"$f":"'w-E_R'!D5","v":"BG St.Martin"},{"$f":"'w-E_R'!P5","v":1547},"Pkt."]
[29,{"$f":"'w-E_R'!B41","v":"Pettauer Sara"},{"$f":"'w-E_R'!D41","v":"Musik NMS Hermagor"},{"$f":"'w-E_R'!P41","v":1547},"Pkt."]
[31,{"$f":"'w-E_R'!B66","v":"Edlmann Chiara"},{"$f":"'w-E_R'!D66","v":"NMS Viktring"},{"$f":"'w-E_R'!P66","v":1542},"Pkt."]
[32,{"$f":"'w-E_R'!B49","v":"Hölbling Laura"},{"$f":"'w-E_R'!D49","v":"NMS Friesach"},{"$f":"'w-E_R'!P49","v":1541},"Pkt."]
[{"$f":"RANK(D35,$D$3:$D$122,0)","v":33},{"$f":"'w-E_R'!B33","v":"Doboczky Sophie"},{"$f":"'w-E_R'!D33","v":"Ingeborg Bachmann Gymnasium"},{"$f":"'w-E_R'!P33","v":1512},"Pkt."]
[34,{"$f":"'w-E_R'!B36","v":"Laßnig Katharina"},{"$f":"'w-E_R'!D36","v":"Ingeborg Bachmann Gymnasium"},{"$f":"'w-E_R'!P36","v":1511},"Pkt."]
[35,{"$f":"'w-E_R'!B46","v":"Kronlechner Bettina"},{"$f":"'w-E_R'!D46","v":"NMS Friesach"},{"$f":"'w-E_R'!P46","v":1504},"Pkt."]
[35,{"$f":"'w-E_R'!B52","v":"Mayer Elena"},{"$f":"'w-E_R'!D52","v":"NMS Gegendtal"},{"$f":"'w-E_R'!P52","v":1504},"Pkt."]
[37,{"$f":"'w-E_R'!B42","v":"Matthei Laura"},{"$f":"'w-E_R'!D42","v":"Musik NMS Hermagor"},{"$f":"'w-E_R'!P42","v":1479},"Pkt."]
[38,{"$f":"'w-E_R'!B24","v":"Kampusch Michelle"},{"$f":"'w-E_R'!D24","v":"BZ Bad Eisenkappel"},{"$f":"'w-E_R'!P24","v":1478},"Pkt."]
[39,{"$f":"'w-E_R'!B78","v":"Petrascu Elisabeth"},{"$f":"'w-E_R'!D78","v":"RNMS Feldkirchen"},{"$f":"'w-E_R'!P78","v":1464},"Pkt."]
[40,{"$f":"'w-E_R'!B13","v":"Spendl Jennifer"},{"$f":"'w-E_R'!D13","v":"Borg Wolfsberg"},{"$f":"'w-E_R'!P13","v":1456},"Pkt."]
[41,{"$f":"'w-E_R'!B47","v":"Delfser Anna-Magdalena"},{"$f":"'w-E_R'!D47","v":"NMS Friesach"},{"$f":"'w-E_R'!P47","v":1450},"Pkt."]
[42,{"$f":"'w-E_R'!B76","v":"Kircher Florentina"},{"$f":"'w-E_R'!D76","v":"RNMS Feldkirchen"},{"$f":"'w-E_R'!P76","v":1448},"Pkt."]
[43,{"$f":"'w-E_R'!B53","v":"Steiner Patricia"},{"$f":"'w-E_R'!D53","v":"NMS Gegendtal"},{"$f":"'w-E_R'!P53","v":1437},"Pkt."]
[43,{"$f":"'w-E_R'!B61","v":"Neumann Lisa"},{"$f":"'w-E_R'!D61","v":"NMS Landskron"},{"$f":"'w-E_R'!P61","v":1437},"Pkt."]
[45,{"$f":"'w-E_R'!B27","v":"Millicevvic Renate"},{"$f":"'w-E_R'!D27","v":"BZ Bad Eisenkappel"},{"$f":"'w-E_R'!P27","v":1425},"Pkt."]
[45,{"$f":"'w-E_R'!B63","v":"Santner Fabienne"},{"$f":"'w-E_R'!D63","v":"NMS Landskron"},{"$f":"'w-E_R'!P63","v":1425},"Pkt."]
[47,{"$f":"'w-E_R'!B45","v":"Pörtschacher Vanessa"},{"$f":"'w-E_R'!D45","v":"NMS Friesach"},{"$f":"'w-E_R'!P45","v":1421},"Pkt."]
[48,{"$f":"'w-E_R'!B50","v":"Pacher Selina"},{"$f":"'w-E_R'!D50","v":"NMS Friesach"},{"$f":"'w-E_R'!P50","v":1416},"Pkt."]
[49,{"$f":"'w-E_R'!B71","v":"Herkner Anna"},{"$f":"'w-E_R'!D71","v":"NMS Viktring"},{"$f":"'w-E_R'!P71","v":1399},"Pkt."]
[50,{"$f":"'w-E_R'!B11","v":"Maier Magdalena"},{"$f":"'w-E_R'!D11","v":"Borg Wolfsberg"},{"$f":"'w-E_R'!P11","v":1391},"Pkt."]
[50,{"$f":"'w-E_R'!B32","v":"Lippitsch Amelie"},{"$f":"'w-E_R'!D32","v":"Ingeborg Bachmann Gymnasium"},{"$f":"'w-E_R'!P32","v":1391},"Pkt."]
[52,{"$f":"'w-E_R'!B67","v":"Toth Lili"},{"$f":"'w-E_R'!D67","v":"NMS Viktring"},{"$f":"'w-E_R'!P67","v":1359},"Pkt."]
[53,{"$f":"'w-E_R'!B31","v":"Donner Rosa"},{"$f":"'w-E_R'!D31","v":"Ingeborg Bachmann Gymnasium"},{"$f":"'w-E_R'!P31","v":1352},"Pkt."]
[54,{"$f":"'w-E_R'!B64","v":"Petscher Maria"},{"$f":"'w-E_R'!D64","v":"NMS Landskron"},{"$f":"'w-E_R'!P64","v":1326},"Pkt."]
[56,{"$f":"'w-E_R'!B55","v":"Schweiger Nadja"},{"$f":"'w-E_R'!D55","v":"NMS Gegendtal"},{"$f":"'w-E_R'!P55","v":1314},"Pkt."]
[55,{"$f":"'w-E_R'!B77","v":"Mühlbacher Nina"},{"$f":"'w-E_R'!D77","v":"RNMS Feldkirchen"},{"$f":"'w-E_R'!P77","v":1319},"Pkt."]
[57,{"$f":"'w-E_R'!B28","v":"Pudgar Domenika"},{"$f":"'w-E_R'!D28","v":"BZ Bad Eisenkappel"},{"$f":"'w-E_R'!P28","v":1270},"Pkt."]
[58,{"$f":"'w-E_R'!B62","v":"Pinzer Alina"},{"$f":"'w-E_R'!D62","v":"NMS Landskron"},{"$f":"'w-E_R'!P62","v":1265},"Pkt."]
[59,{"$f":"'w-E_R'!B57","v":"Ostertschnig Lisa"},{"$f":"'w-E_R'!D57","v":"NMS Gegendtal"},{"$f":"'w-E_R'!P57","v":1260},"Pkt."]
[60,{"$f":"'w-E_R'!B56","v":"Gasser Valentina"},{"$f":"'w-E_R'!D56","v":"NMS Gegendtal"},{"$f":"'w-E_R'!P56","v":1248},"Pkt."]
[61,{"$f":"'w-E_R'!B54","v":"Maier Jasmin"},{"$f":"'w-E_R'!D54","v":"NMS Gegendtal"},{"$f":"'w-E_R'!P54","v":1241},"Pkt."]
[62,{"$f":"'w-E_R'!B69","v":"Esel Michelle"},{"$f":"'w-E_R'!D69","v":"NMS Viktring"},{"$f":"'w-E_R'!P69","v":1216},"Pkt."]
[63,{"$f":"'w-E_R'!B12","v":"Frauwallner Hanna"},{"$f":"'w-E_R'!D12","v":"Borg Wolfsberg"},{"$f":"'w-E_R'!P12","v":1102},"Pkt."]
[64,{"$f":"'w-E_R'!B70","v":"Bierbaumer Selina"},{"$f":"'w-E_R'!D70","v":"NMS Viktring"},{"$f":"'w-E_R'!P70","v":1074},"Pkt."]
[{"$f":"RANK(D67,$D$3:$D$122,0)","v":65},{"$f":"'w-E_R'!B10","v":"Maier Celina"},{"$f":"'w-E_R'!D10","v":"Borg Wolfsberg"},{"$f":"'w-E_R'!P10","v":589},"Pkt."]
[66,{"$f":"'w-E_R'!B29","v":0},{"$f":"'w-E_R'!D29","v":"BZ Bad Eisenkappel"},{"$f":"'w-E_R'!P29","v":0},"Pkt."]
[66,{"$f":"'w-E_R'!B80","v":"W12/01-Regel"},{"$f":"'w-E_R'!D80","v":0},{"$f":"'w-E_R'!P80","v":0},"Pkt."]
[66,{"$f":"'w-E_R'!B81","v":"W12/02-Regel"},{"$f":"'w-E_R'!D81","v":0},{"$f":"'w-E_R'!P81","v":0},"Pkt."]
[66,{"$f":"'w-E_R'!B82","v":"W12/03-Regel"},{"$f":"'w-E_R'!D82","v":0},{"$f":"'w-E_R'!P82","v":0},"Pkt."]
[66,{"$f":"'w-E_R'!B83","v":"W12/04-Regel"},{"$f":"'w-E_R'!D83","v":0},{"$f":"'w-E_R'!P83","v":0},"Pkt."]
[66,{"$f":"'w-E_R'!B84","v":"W12/05-Regel"},{"$f":"'w-E_R'!D84","v":0},{"$f":"'w-E_R'!P84","v":0},"Pkt."]
[66,{"$f":"'w-E_R'!B85","v":"W12/06-Regel"},{"$f":"'w-E_R'!D85","v":0},{"$f":"'w-E_R'!P85","v":0},"Pkt."]
[66,{"$f":"'w-E_R'!B87","v":"W13/01-Regel"},{"$f":"'w-E_R'!D87","v":0},{"$f":"'w-E_R'!P87","v":0},"Pkt."]
[66,{"$f":"'w-E_R'!B88","v":"W13/02-Regel"},{"$f":"'w-E_R'!D88","v":0},{"$f":"'w-E_R'!P88","v":0},"Pkt."]
[66,{"$f":"'w-E_R'!B89","v":"W13/03-Regel"},{"$f":"'w-E_R'!D89","v":0},{"$f":"'w-E_R'!P89","v":0},"Pkt."]
[66,{"$f":"'w-E_R'!B90","v":"W13/04-Regel"},{"$f":"'w-E_R'!D90","v":0},{"$f":"'w-E_R'!P90","v":0},"Pkt."]
[66,{"$f":"'w-E_R'!B91","v":"W13/05-Regel"},{"$f":"'w-E_R'!D91","v":0},{"$f":"'w-E_R'!P91","v":0},"Pkt."]
[66,{"$f":"'w-E_R'!B92","v":"W13/06-Regel"},{"$f":"'w-E_R'!D92","v":0},{"$f":"'w-E_R'!P92","v":0},"Pkt."]
[66,{"$f":"'w-E_R'!B94","v":"W14/01-Regel"},{"$f":"'w-E_R'!D94","v":0},{"$f":"'w-E_R'!P94","v":0},"Pkt."]
[66,{"$f":"'w-E_R'!B95","v":"W14/02-Regel"},{"$f":"'w-E_R'!D95","v":0},{"$f":"'w-E_R'!P95","v":0},"Pkt."]
[66,{"$f":"'w-E_R'!B96","v":"W14/03-Regel"},{"$f":"'w-E_R'!D96","v":0},{"$f":"'w-E_R'!P96","v":0},"Pkt."]
[66,{"$f":"'w-E_R'!B97","v":"W14/04-Regel"},{"$f":"'w-E_R'!D97","v":0},{"$f":"'w-E_R'!P97","v":0},"Pkt."]
[66,{"$f":"'w-E_R'!B98","v":"W14/05-Regel"},{"$f":"'w-E_R'!D98","v":0},{"$f":"'w-E_R'!P98","v":0},"Pkt."]
[66,{"$f":"'w-E_R'!B99","v":"W14/06-Regel"},{"$f":"'w-E_R'!D99","v":0},{"$f":"'w-E_R'!P99","v":0},"Pkt."]
[66,{"$f":"'w-E_R'!B101","v":"W15/01-Regel"},{"$f":"'w-E_R'!D101","v":0},{"$f":"'w-E_R'!P101","v":0},"Pkt."]
[66,{"$f":"'w-E_R'!B102","v":"W15/02-Regel"},{"$f":"'w-E_R'!D102","v":0},{"$f":"'w-E_R'!P102","v":0},"Pkt."]
[66,{"$f":"'w-E_R'!B103","v":"W15/03-Regel"},{"$f":"'w-E_R'!D103","v":0},{"$f":"'w-E_R'!P103","v":0},"Pkt."]
[66,{"$f":"'w-E_R'!B104","v":"W15/04-Regel"},{"$f":"'w-E_R'!D104","v":0},{"$f":"'w-E_R'!P104","v":0},"Pkt."]
[66,{"$f":"'w-E_R'!B105","v":"W15/05-Regel"},{"$f":"'w-E_R'!D105","v":0},{"$f":"'w-E_R'!P105","v":0},"Pkt."]
[66,{"$f":"'w-E_R'!B106","v":"W15/06-Regel"},{"$f":"'w-E_R'!D106","v":0},{"$f":"'w-E_R'!P106","v":0},"Pkt."]
[66,{"$f":"'w-E_R'!B108","v":"W16/01-Regel"},{"$f":"'w-E_R'!D108","v":0},{"$f":"'w-E_R'!P108","v":0},"Pkt."]
[66,{"$f":"'w-E_R'!B109","v":"W16/02-Regel"},{"$f":"'w-E_R'!D109","v":0},{"$f":"'w-E_R'!P109","v":0},"Pkt."]
[66,{"$f":"'w-E_R'!B110","v":"W16/03-Regel"},{"$f":"'w-E_R'!D110","v":0},{"$f":"'w-E_R'!P110","v":0},"Pkt."]
[66,{"$f":"'w-E_R'!B111","v":"W16/04-Regel"},{"$f":"'w-E_R'!D111","v":0},{"$f":"'w-E_R'!P111","v":0},"Pkt."]
[66,{"$f":"'w-E_R'!B112","v":"W16/05-Regel"},{"$f":"'w-E_R'!D112","v":0},{"$f":"'w-E_R'!P112","v":0},"Pkt."]
[66,{"$f":"'w-E_R'!B113","v":"W16/06-Regel"},{"$f":"'w-E_R'!D113","v":0},{"$f":"'w-E_R'!P113","v":0},"Pkt."]
[{"$f":"RANK(D99,$D$3:$D$122,0)","v":66},{"$f":"'w-E_R'!B115","v":"W17/01-Regel"},{"$f":"'w-E_R'!D115","v":0},{"$f":"'w-E_R'!P115","v":0},"Pkt."]
[66,{"$f":"'w-E_R'!B116","v":"W17/02-Regel"},{"$f":"'w-E_R'!D116","v":0},{"$f":"'w-E_R'!P116","v":0},"Pkt."]
[66,{"$f":"'w-E_R'!B117","v":"W17/03-Regel"},{"$f":"'w-E_R'!D117","v":0},{"$f":"'w-E_R'!P117","v":0},"Pkt."]
[66,{"$f":"'w-E_R'!B118","v":"W17/04-Regel"},{"$f":"'w-E_R'!D118","v":0},{"$f":"'w-E_R'!P118","v":0},"Pkt."]
[66,{"$f":"'w-E_R'!B119","v":"W17/05-Regel"},{"$f":"'w-E_R'!D119","v":0},{"$f":"'w-E_R'!P119","v":0},"Pkt."]
[66,{"$f":"'w-E_R'!B120","v":"W17/06-Regel"},{"$f":"'w-E_R'!D120","v":0},{"$f":"'w-E_R'!P120","v":0},"Pkt."]
[66,{"$f":"'w-E_R'!B122","v":"W18/01-Regel"},{"$f":"'w-E_R'!D122","v":0},{"$f":"'w-E_R'!P122","v":0},"Pkt."]
[66,{"$f":"'w-E_R'!B123","v":"W18/02-Regel"},{"$f":"'w-E_R'!D123","v":0},{"$f":"'w-E_R'!P123","v":0},"Pkt."]
[66,{"$f":"'w-E_R'!B124","v":"W18/03-Regel"},{"$f":"'w-E_R'!D124","v":0},{"$f":"'w-E_R'!P124","v":0},"Pkt."]
[66,{"$f":"'w-E_R'!B125","v":"W18/04-Regel"},{"$f":"'w-E_R'!D125","v":0},{"$f":"'w-E_R'!P125","v":0},"Pkt."]
[66,{"$f":"'w-E_R'!B126","v":"W18/05-Regel"},{"$f":"'w-E_R'!D126","v":0},{"$f":"'w-E_R'!P126","v":0},"Pkt."]
[66,{"$f":"'w-E_R'!B127","v":"W18/06-Regel"},{"$f":"'w-E_R'!D127","v":0},{"$f":"'w-E_R'!P127","v":0},"Pkt."]
[66,{"$f":"'w-E_R'!B129","v":"W19/01-Regel"},{"$f":"'w-E_R'!D129","v":0},{"$f":"'w-E_R'!P129","v":0},"Pkt."]
[66,{"$f":"'w-E_R'!B130","v":"W19/02-Regel"},{"$f":"'w-E_R'!D130","v":0},{"$f":"'w-E_R'!P130","v":0},"Pkt."]
[66,{"$f":"'w-E_R'!B131","v":"W19/03-Regel"},{"$f":"'w-E_R'!D131","v":0},{"$f":"'w-E_R'!P131","v":0},"Pkt."]
[66,{"$f":"'w-E_R'!B132","v":"W19/04-Regel"},{"$f":"'w-E_R'!D132","v":0},{"$f":"'w-E_R'!P132","v":0},"Pkt."]
[66,{"$f":"'w-E_R'!B133","v":"W19/05-Regel"},{"$f":"'w-E_R'!D133","v":0},{"$f":"'w-E_R'!P133","v":0},"Pkt."]
[66,{"$f":"'w-E_R'!B134","v":"W19/06-Regel"},{"$f":"'w-E_R'!D134","v":0},{"$f":"'w-E_R'!P134","v":0},"Pkt."]
[66,{"$f":"'w-E_R'!B136","v":"W20/01-Regel"},{"$f":"'w-E_R'!D136","v":0},{"$f":"'w-E_R'!P136","v":0},"Pkt."]
[66,{"$f":"'w-E_R'!B137","v":"W20/02-Regel"},{"$f":"'w-E_R'!D137","v":0},{"$f":"'w-E_R'!P137","v":0},"Pkt."]
[66,{"$f":"'w-E_R'!B138","v":"W20/03-Regel"},{"$f":"'w-E_R'!D138","v":0},{"$f":"'w-E_R'!P138","v":0},"Pkt."]
[66,{"$f":"'w-E_R'!B139","v":"W20/04-Regel"},{"$f":"'w-E_R'!D139","v":0},{"$f":"'w-E_R'!P139","v":0},"Pkt."]
[66,{"$f":"'w-E_R'!B140","v":"W20/05-Regel"},{"$f":"'w-E_R'!D140","v":0},{"$f":"'w-E_R'!P140","v":0},"Pkt."]
[66,{"$f":"'w-E_R'!B141","v":"W20/06-Regel"},{"$f":"'w-E_R'!D141","v":0},{"$f":"'w-E_R'!P141","v":0},"Pkt."]

{"sheet":"P-60 m","index":5,"n_rows":147,"n_cols":6,"rows_kept":147,"cut":false,"hidden":false,"merged":[]}
["K-ziff","Lauf ","Startnr.:","Familienname Vorname","Schule-60m-weiblich_C / D - Regel","Zeit"]
[1,"Bahn 1",{"$f":"IF(A2=\"\",\"\",VLOOKUP(A2,'Dat-Bl'!$B$4:$F$123,2))","v":0},{"$f":"IF(A2=\"\",\"\",VLOOKUP(A2,'Dat-Bl'!$B$4:$F$123,3))","v":"Wallner Paulina"},{"$f":"IF(A2=\"\",\"\",VLOOKUP(A2,'Dat-Bl'!$B$4:$F$123,5))","v":"BG St.Martin"}]
[2,"Bahn 2",{"$f":"IF(A3=\"\",\"\",VLOOKUP(A3,'Dat-Bl'!$B$4:$F$123,2))","v":0},{"$f":"IF(A3=\"\",\"\",VLOOKUP(A3,'Dat-Bl'!$B$4:$F$123,3))","v":"Feichter Nelly"},{"$f":"IF(A3=\"\",\"\",VLOOKUP(A3,'Dat-Bl'!$B$4:$F$123,5))","v":"BG St.Martin"}]
[3,"Bahn 3",{"$f":"IF(A4=\"\",\"\",VLOOKUP(A4,'Dat-Bl'!$B$4:$F$123,2))","v":0},{"$f":"IF(A4=\"\",\"\",VLOOKUP(A4,'Dat-Bl'!$B$4:$F$123,3))","v":"Heincz Gerit"},{"$f":"IF(A4=\"\",\"\",VLOOKUP(A4,'Dat-Bl'!$B$4:$F$123,5))","v":"BG St.Martin"}]
[4,"Bahn 4",{"$f":"IF(A5=\"\",\"\",VLOOKUP(A5,'Dat-Bl'!$B$4:$F$123,2))","v":0},{"$f":"IF(A5=\"\",\"\",VLOOKUP(A5,'Dat-Bl'!$B$4:$F$123,3))","v":"Enzi Sarah"},{"$f":"IF(A5=\"\",\"\",VLOOKUP(A5,'Dat-Bl'!$B$4:$F$123,5))","v":"BG St.Martin"}]
[5,"Bahn 5",{"$f":"IF(A6=\"\",\"\",VLOOKUP(A6,'Dat-Bl'!$B$4:$F$123,2))","v":0},{"$f":"IF(A6=\"\",\"\",VLOOKUP(A6,'Dat-Bl'!$B$4:$F$123,3))","v":"Koch Anna"},{"$f":"IF(A6=\"\",\"\",VLOOKUP(A6,'Dat-Bl'!$B$4:$F$123,5))","v":"BG St.Martin"}]
[6,"Bahn 6",{"$f":"IF(A7=\"\",\"\",VLOOKUP(A7,'Dat-Bl'!$B$4:$F$123,2))","v":0},{"$f":"IF(A7=\"\",\"\",VLOOKUP(A7,'Dat-Bl'!$B$4:$F$123,3))","v":"Fugger Sophie"},{"$f":"IF(A7=\"\",\"\",VLOOKUP(A7,'Dat-Bl'!$B$4:$F$123,5))","v":"BG St.Martin"}]
[null,"Bahn 7",{"$f":"IF(A8=\"\",\"\",VLOOKUP(A8,'Dat-Bl'!$B$4:$F$123,2))","v":""},{"$f":"IF(A8=\"\",\"\",VLOOKUP(A8,'Dat-Bl'!$B$4:$F$123,3))","v":""},{"$f":"IF(A8=\"\",\"\",VLOOKUP(A8,'Dat-Bl'!$B$4:$F$123,5))","v":""}]
[null,"Bahn 8",{"$f":"IF(A9=\"\",\"\",VLOOKUP(A9,'Dat-Bl'!$B$4:$F$123,2))","v":""},{"$f":"IF(A9=\"\",\"\",VLOOKUP(A9,'Dat-Bl'!$B$4:$F$123,3))","v":""},{"$f":"IF(A9=\"\",\"\",VLOOKUP(A9,'Dat-Bl'!$B$4:$F$123,5))","v":""}]
["K-ziff","Lauf ","Startnr.:","Familienname Vorname",{"$f":"E1","v":"Schule-60m-weiblich_C / D - Regel"},"Zeit"]
[7,"Bahn 1",{"$f":"IF(A11=\"\",\"\",VLOOKUP(A11,'Dat-Bl'!$B$4:$F$123,2))","v":0},{"$f":"IF(A11=\"\",\"\",VLOOKUP(A11,'Dat-Bl'!$B$4:$F$123,3))","v":"Maier Celina"},{"$f":"IF(A11=\"\",\"\",VLOOKUP(A11,'Dat-Bl'!$B$4:$F$123,5))","v":"Borg Wolfsberg"}]
[8,"Bahn 2",{"$f":"IF(A12=\"\",\"\",VLOOKUP(A12,'Dat-Bl'!$B$4:$F$123,2))","v":0},{"$f":"IF(A12=\"\",\"\",VLOOKUP(A12,'Dat-Bl'!$B$4:$F$123,3))","v":"Maier Magdalena"},{"$f":"IF(A12=\"\",\"\",VLOOKUP(A12,'Dat-Bl'!$B$4:$F$123,5))","v":"Borg Wolfsberg"}]
[9,"Bahn 3",{"$f":"IF(A13=\"\",\"\",VLOOKUP(A13,'Dat-Bl'!$B$4:$F$123,2))","v":0},{"$f":"IF(A13=\"\",\"\",VLOOKUP(A13,'Dat-Bl'!$B$4:$F$123,3))","v":"Frauwallner Hanna"},{"$f":"IF(A13=\"\",\"\",VLOOKUP(A13,'Dat-Bl'!$B$4:$F$123,5))","v":"Borg Wolfsberg"}]
[10,"Bahn 4",{"$f":"IF(A14=\"\",\"\",VLOOKUP(A14,'Dat-Bl'!$B$4:$F$123,2))","v":0},{"$f":"IF(A14=\"\",\"\",VLOOKUP(A14,'Dat-Bl'!$B$4:$F$123,3))","v":"Spendl Jennifer"},{"$f":"IF(A14=\"\",\"\",VLOOKUP(A14,'Dat-Bl'!$B$4:$F$123,5))","v":"Borg Wolfsberg"}]
[11,"Bahn 5",{"$f":"IF(A15=\"\",\"\",VLOOKUP(A15,'Dat-Bl'!$B$4:$F$123,2))","v":0},{"$f":"IF(A15=\"\",\"\",VLOOKUP(A15,'Dat-Bl'!$B$4:$F$123,3))","v":"Pum Julia"},{"$f":"IF(A15=\"\",\"\",VLOOKUP(A15,'Dat-Bl'!$B$4:$F$123,5))","v":"Borg Wolfsberg"}]
[12,"Bahn 6",{"$f":"IF(A16=\"\",\"\",VLOOKUP(A16,'Dat-Bl'!$B$4:$F$123,2))","v":0},{"$f":"IF(A16=\"\",\"\",VLOOKUP(A16,'Dat-Bl'!$B$4:$F$123,3))","v":"Riegler Vanessa"},{"$f":"IF(A16=\"\",\"\",VLOOKUP(A16,'Dat-Bl'!$B$4:$F$123,5))","v":"Borg Wolfsberg"}]
[null,"Bahn 7",{"$f":"IF(A17=\"\",\"\",VLOOKUP(A17,'Dat-Bl'!$B$4:$F$123,2))","v":""},{"$f":"IF(A17=\"\",\"\",VLOOKUP(A17,'Dat-Bl'!$B$4:$F$123,3))","v":""},{"$f":"IF(A17=\"\",\"\",VLOOKUP(A17,'Dat-Bl'!$B$4:$F$123,5))","v":""}]
[null,"Bahn 8",{"$f":"IF(A18=\"\",\"\",VLOOKUP(A18,'Dat-Bl'!$B$4:$F$123,2))","v":""},{"$f":"IF(A18=\"\",\"\",VLOOKUP(A18,'Dat-Bl'!$B$4:$F$123,3))","v":""},{"$f":"IF(A18=\"\",\"\",VLOOKUP(A18,'Dat-Bl'!$B$4:$F$123,5))","v":""}]
["K-ziff","Lauf ","Startnr.:","Familienname Vorname",{"$f":"E1","v":"Schule-60m-weiblich_C / D - Regel"},"Zeit"]
[13,"Bahn 1",{"$f":"IF(A20=\"\",\"\",VLOOKUP(A20,'Dat-Bl'!$B$4:$F$123,2))","v":0},{"$f":"IF(A20=\"\",\"\",VLOOKUP(A20,'Dat-Bl'!$B$4:$F$123,3))","v":"Hartlieb Michelle"},{"$f":"IF(A20=\"\",\"\",VLOOKUP(A20,'Dat-Bl'!$B$4:$F$123,5))","v":"BRG Spittal"}]
[14,"Bahn 2",{"$f":"IF(A21=\"\",\"\",VLOOKUP(A21,'Dat-Bl'!$B$4:$F$123,2))","v":0},{"$f":"IF(A21=\"\",\"\",VLOOKUP(A21,'Dat-Bl'!$B$4:$F$123,3))","v":"Reiter Anna-Lena"},{"$f":"IF(A21=\"\",\"\",VLOOKUP(A21,'Dat-Bl'!$B$4:$F$123,5))","v":"BRG Spittal"}]
[15,"Bahn 3",{"$f":"IF(A22=\"\",\"\",VLOOKUP(A22,'Dat-Bl'!$B$4:$F$123,2))","v":0},{"$f":"IF(A22=\"\",\"\",VLOOKUP(A22,'Dat-Bl'!$B$4:$F$123,3))","v":"Krammer Kristin"},{"$f":"IF(A22=\"\",\"\",VLOOKUP(A22,'Dat-Bl'!$B$4:$F$123,5))","v":"BRG Spittal"}]
[16,"Bahn 4",{"$f":"IF(A23=\"\",\"\",VLOOKUP(A23,'Dat-Bl'!$B$4:$F$123,2))","v":0},{"$f":"IF(A23=\"\",\"\",VLOOKUP(A23,'Dat-Bl'!$B$4:$F$123,3))","v":"Kowatsch Anna"},{"$f":"IF(A23=\"\",\"\",VLOOKUP(A23,'Dat-Bl'!$B$4:$F$123,5))","v":"BRG Spittal"}]
[17,"Bahn 5",{"$f":"IF(A24=\"\",\"\",VLOOKUP(A24,'Dat-Bl'!$B$4:$F$123,2))","v":0},{"$f":"IF(A24=\"\",\"\",VLOOKUP(A24,'Dat-Bl'!$B$4:$F$123,3))","v":"Possegger Christina"},{"$f":"IF(A24=\"\",\"\",VLOOKUP(A24,'Dat-Bl'!$B$4:$F$123,5))","v":"BRG Spittal"}]
[18,"Bahn 6",{"$f":"IF(A25=\"\",\"\",VLOOKUP(A25,'Dat-Bl'!$B$4:$F$123,2))","v":0},{"$f":"IF(A25=\"\",\"\",VLOOKUP(A25,'Dat-Bl'!$B$4:$F$123,3))","v":"Thaler Laurentine"},{"$f":"IF(A25=\"\",\"\",VLOOKUP(A25,'Dat-Bl'!$B$4:$F$123,5))","v":"BRG Spittal"}]
[null,"Bahn 7",{"$f":"IF(A26=\"\",\"\",VLOOKUP(A26,'Dat-Bl'!$B$4:$F$123,2))","v":""},{"$f":"IF(A26=\"\",\"\",VLOOKUP(A26,'Dat-Bl'!$B$4:$F$123,3))","v":""},{"$f":"IF(A26=\"\",\"\",VLOOKUP(A26,'Dat-Bl'!$B$4:$F$123,5))","v":""}]
[null,"Bahn 8",{"$f":"IF(A27=\"\",\"\",VLOOKUP(A27,'Dat-Bl'!$B$4:$F$123,2))","v":""},{"$f":"IF(A27=\"\",\"\",VLOOKUP(A27,'Dat-Bl'!$B$4:$F$123,3))","v":""},{"$f":"IF(A27=\"\",\"\",VLOOKUP(A27,'Dat-Bl'!$B$4:$F$123,5))","v":""}]
["K-ziff","Lauf ","Startnr.:","Familienname Vorname",{"$f":"E1","v":"Schule-60m-weiblich_C / D - Regel"},"Zeit"]
[19,"Bahn 1",{"$f":"IF(A29=\"\",\"\",VLOOKUP(A29,'Dat-Bl'!$B$4:$F$123,2))","v":0},{"$f":"IF(A29=\"\",\"\",VLOOKUP(A29,'Dat-Bl'!$B$4:$F$123,3))","v":"Kampusch Michelle"},{"$f":"IF(A29=\"\",\"\",VLOOKUP(A29,'Dat-Bl'!$B$4:$F$123,5))","v":"BZ Bad Eisenkappel"}]
[20,"Bahn 2",{"$f":"IF(A30=\"\",\"\",VLOOKUP(A30,'Dat-Bl'!$B$4:$F$123,2))","v":0},{"$f":"IF(A30=\"\",\"\",VLOOKUP(A30,'Dat-Bl'!$B$4:$F$123,3))","v":"Kaschnig Lea"},{"$f":"IF(A30=\"\",\"\",VLOOKUP(A30,'Dat-Bl'!$B$4:$F$123,5))","v":"BZ Bad Eisenkappel"}]
[21,"Bahn 3",{"$f":"IF(A31=\"\",\"\",VLOOKUP(A31,'Dat-Bl'!$B$4:$F$123,2))","v":0},{"$f":"IF(A31=\"\",\"\",VLOOKUP(A31,'Dat-Bl'!$B$4:$F$123,3))","v":"Ebner Anna-Lena"},{"$f":"IF(A31=\"\",\"\",VLOOKUP(A31,'Dat-Bl'!$B$4:$F$123,5))","v":"BZ Bad Eisenkappel"}]
[22,"Bahn 4",{"$f":"IF(A32=\"\",\"\",VLOOKUP(A32,'Dat-Bl'!$B$4:$F$123,2))","v":0},{"$f":"IF(A32=\"\",\"\",VLOOKUP(A32,'Dat-Bl'!$B$4:$F$123,3))","v":"Millicevvic Renate"},{"$f":"IF(A32=\"\",\"\",VLOOKUP(A32,'Dat-Bl'!$B$4:$F$123,5))","v":"BZ Bad Eisenkappel"}]
[23,"Bahn 5",{"$f":"IF(A33=\"\",\"\",VLOOKUP(A33,'Dat-Bl'!$B$4:$F$123,2))","v":0},{"$f":"IF(A33=\"\",\"\",VLOOKUP(A33,'Dat-Bl'!$B$4:$F$123,3))","v":"Pudgar Domenika"},{"$f":"IF(A33=\"\",\"\",VLOOKUP(A33,'Dat-Bl'!$B$4:$F$123,5))","v":"BZ Bad Eisenkappel"}]
[24,"Bahn 6",{"$f":"IF(A34=\"\",\"\",VLOOKUP(A34,'Dat-Bl'!$B$4:$F$123,2))","v":0},{"$f":"IF(A34=\"\",\"\",VLOOKUP(A34,'Dat-Bl'!$B$4:$F$123,3))","v":0},{"$f":"IF(A34=\"\",\"\",VLOOKUP(A34,'Dat-Bl'!$B$4:$F$123,5))","v":"BZ Bad Eisenkappel"}]
[null,"Bahn 7",{"$f":"IF(A35=\"\",\"\",VLOOKUP(A35,'Dat-Bl'!$B$4:$F$123,2))","v":""},{"$f":"IF(A35=\"\",\"\",VLOOKUP(A35,'Dat-Bl'!$B$4:$F$123,3))","v":""},{"$f":"IF(A35=\"\",\"\",VLOOKUP(A35,'Dat-Bl'!$B$4:$F$123,5))","v":""}]
[null,"Bahn 8",{"$f":"IF(A36=\"\",\"\",VLOOKUP(A36,'Dat-Bl'!$B$4:$F$123,2))","v":""},{"$f":"IF(A36=\"\",\"\",VLOOKUP(A36,'Dat-Bl'!$B$4:$F$123,3))","v":""},{"$f":"IF(A36=\"\",\"\",VLOOKUP(A36,'Dat-Bl'!$B$4:$F$123,5))","v":""}]
[]
["K-ziff","Lauf ","Startnr.:","Familienname Vorname","Schule-60m-weiblich_C /D - Sport","Zeit"]
[null,"Bahn 1",{"$f":"IF(A39=\"\",\"\",VLOOKUP(A39,'Dat-Bl'!$B$127:$F$246,2))","v":""},{"$f":"IF(A39=\"\",\"\",VLOOKUP(A39,'Dat-Bl'!$B$127:$F$246,3))","v":""},{"$f":"IF(A39=\"\",\"\",VLOOKUP(A39,'Dat-Bl'!$B$127:$F$246,5))","v":""}]
[null,"Bahn 2",{"$f":"IF(A40=\"\",\"\",VLOOKUP(A40,'Dat-Bl'!$B$127:$F$246,2))","v":""},{"$f":"IF(A40=\"\",\"\",VLOOKUP(A40,'Dat-Bl'!$B$127:$F$246,3))","v":""},{"$f":"IF(A40=\"\",\"\",VLOOKUP(A40,'Dat-Bl'!$B$127:$F$246,5))","v":""}]
[null,"Bahn 3",{"$f":"IF(A41=\"\",\"\",VLOOKUP(A41,'Dat-Bl'!$B$127:$F$246,2))","v":""},{"$f":"IF(A41=\"\",\"\",VLOOKUP(A41,'Dat-Bl'!$B$127:$F$246,3))","v":""},{"$f":"IF(A41=\"\",\"\",VLOOKUP(A41,'Dat-Bl'!$B$127:$F$246,5))","v":""}]
[null,"Bahn 4",{"$f":"IF(A42=\"\",\"\",VLOOKUP(A42,'Dat-Bl'!$B$127:$F$246,2))","v":""},{"$f":"IF(A42=\"\",\"\",VLOOKUP(A42,'Dat-Bl'!$B$127:$F$246,3))","v":""},{"$f":"IF(A42=\"\",\"\",VLOOKUP(A42,'Dat-Bl'!$B$127:$F$246,5))","v":""}]
[null,"Bahn 5",{"$f":"IF(A43=\"\",\"\",VLOOKUP(A43,'Dat-Bl'!$B$127:$F$246,2))","v":""},{"$f":"IF(A43=\"\",\"\",VLOOKUP(A43,'Dat-Bl'!$B$127:$F$246,3))","v":""},{"$f":"IF(A43=\"\",\"\",VLOOKUP(A43,'Dat-Bl'!$B$127:$F$246,5))","v":""}]
[null,"Bahn 6",{"$f":"IF(A44=\"\",\"\",VLOOKUP(A44,'Dat-Bl'!$B$127:$F$246,2))","v":""},{"$f":"IF(A44=\"\",\"\",VLOOKUP(A44,'Dat-Bl'!$B$127:$F$246,3))","v":""},{"$f":"IF(A44=\"\",\"\",VLOOKUP(A44,'Dat-Bl'!$B$127:$F$246,5))","v":""}]
[null,"Bahn 7",{"$f":"IF(A45=\"\",\"\",VLOOKUP(A45,'Dat-Bl'!$B$127:$F$246,2))","v":""},{"$f":"IF(A45=\"\",\"\",VLOOKUP(A45,'Dat-Bl'!$B$127:$F$246,3))","v":""},{"$f":"IF(A45=\"\",\"\",VLOOKUP(A45,'Dat-Bl'!$B$127:$F$246,5))","v":""}]
[null,"Bahn 8",{"$f":"IF(A46=\"\",\"\",VLOOKUP(A46,'Dat-Bl'!$B$127:$F$246,2))","v":""},{"$f":"IF(A46=\"\",\"\",VLOOKUP(A46,'Dat-Bl'!$B$127:$F$246,3))","v":""},{"$f":"IF(A46=\"\",\"\",VLOOKUP(A46,'Dat-Bl'!$B$127:$F$246,5))","v":""}]
["K-ziff","Lauf ","Startnr.:","Familienname Vorname",{"$f":"E38","v":"Schule-60m-weiblich_C /D - Sport"},"Zeit"]
[null,"Bahn 1",{"$f":"IF(A48=\"\",\"\",VLOOKUP(A48,'Dat-Bl'!$B$127:$F$246,2))","v":""},{"$f":"IF(A48=\"\",\"\",VLOOKUP(A48,'Dat-Bl'!$B$127:$F$246,3))","v":""},{"$f":"IF(A48=\"\",\"\",VLOOKUP(A48,'Dat-Bl'!$B$127:$F$246,5))","v":""}]
[null,"Bahn 2",{"$f":"IF(A49=\"\",\"\",VLOOKUP(A49,'Dat-Bl'!$B$127:$F$246,2))","v":""},{"$f":"IF(A49=\"\",\"\",VLOOKUP(A49,'Dat-Bl'!$B$127:$F$246,3))","v":""},{"$f":"IF(A49=\"\",\"\",VLOOKUP(A49,'Dat-Bl'!$B$127:$F$246,5))","v":""}]
[null,"Bahn 3",{"$f":"IF(A50=\"\",\"\",VLOOKUP(A50,'Dat-Bl'!$B$127:$F$246,2))","v":""},{"$f":"IF(A50=\"\",\"\",VLOOKUP(A50,'Dat-Bl'!$B$127:$F$246,3))","v":""},{"$f":"IF(A50=\"\",\"\",VLOOKUP(A50,'Dat-Bl'!$B$127:$F$246,5))","v":""}]
[null,"Bahn 4",{"$f":"IF(A51=\"\",\"\",VLOOKUP(A51,'Dat-Bl'!$B$127:$F$246,2))","v":""},{"$f":"IF(A51=\"\",\"\",VLOOKUP(A51,'Dat-Bl'!$B$127:$F$246,3))","v":""},{"$f":"IF(A51=\"\",\"\",VLOOKUP(A51,'Dat-Bl'!$B$127:$F$246,5))","v":""}]
[null,"Bahn 5",{"$f":"IF(A52=\"\",\"\",VLOOKUP(A52,'Dat-Bl'!$B$127:$F$246,2))","v":""},{"$f":"IF(A52=\"\",\"\",VLOOKUP(A52,'Dat-Bl'!$B$127:$F$246,3))","v":""},{"$f":"IF(A52=\"\",\"\",VLOOKUP(A52,'Dat-Bl'!$B$127:$F$246,5))","v":""}]
[null,"Bahn 6",{"$f":"IF(A53=\"\",\"\",VLOOKUP(A53,'Dat-Bl'!$B$127:$F$246,2))","v":""},{"$f":"IF(A53=\"\",\"\",VLOOKUP(A53,'Dat-Bl'!$B$127:$F$246,3))","v":""},{"$f":"IF(A53=\"\",\"\",VLOOKUP(A53,'Dat-Bl'!$B$127:$F$246,5))","v":""}]
[null,"Bahn 7",{"$f":"IF(A54=\"\",\"\",VLOOKUP(A54,'Dat-Bl'!$B$127:$F$246,2))","v":""},{"$f":"IF(A54=\"\",\"\",VLOOKUP(A54,'Dat-Bl'!$B$127:$F$246,3))","v":""},{"$f":"IF(A54=\"\",\"\",VLOOKUP(A54,'Dat-Bl'!$B$127:$F$246,5))","v":""}]
[null,"Bahn 8",{"$f":"IF(A55=\"\",\"\",VLOOKUP(A55,'Dat-Bl'!$B$127:$F$246,2))","v":""},{"$f":"IF(A55=\"\",\"\",VLOOKUP(A55,'Dat-Bl'!$B$127:$F$246,3))","v":""},{"$f":"IF(A55=\"\",\"\",VLOOKUP(A55,'Dat-Bl'!$B$127:$F$246,5))","v":""}]
["K-ziff","Lauf ","Startnr.:","Familienname Vorname",{"$f":"E38","v":"Schule-60m-weiblich_C /D - Sport"},"Zeit"]
[null,"Bahn 1",{"$f":"IF(A57=\"\",\"\",VLOOKUP(A57,'Dat-Bl'!$B$127:$F$246,2))","v":""},{"$f":"IF(A57=\"\",\"\",VLOOKUP(A57,'Dat-Bl'!$B$127:$F$246,3))","v":""},{"$f":"IF(A57=\"\",\"\",VLOOKUP(A57,'Dat-Bl'!$B$127:$F$246,5))","v":""}]
[null,"Bahn 2",{"$f":"IF(A58=\"\",\"\",VLOOKUP(A58,'Dat-Bl'!$B$127:$F$246,2))","v":""},{"$f":"IF(A58=\"\",\"\",VLOOKUP(A58,'Dat-Bl'!$B$127:$F$246,3))","v":""},{"$f":"IF(A58=\"\",\"\",VLOOKUP(A58,'Dat-Bl'!$B$127:$F$246,5))","v":""}]
[null,"Bahn 3",{"$f":"IF(A59=\"\",\"\",VLOOKUP(A59,'Dat-Bl'!$B$127:$F$246,2))","v":""},{"$f":"IF(A59=\"\",\"\",VLOOKUP(A59,'Dat-Bl'!$B$127:$F$246,3))","v":""},{"$f":"IF(A59=\"\",\"\",VLOOKUP(A59,'Dat-Bl'!$B$127:$F$246,5))","v":""}]
[null,"Bahn 4",{"$f":"IF(A60=\"\",\"\",VLOOKUP(A60,'Dat-Bl'!$B$127:$F$246,2))","v":""},{"$f":"IF(A60=\"\",\"\",VLOOKUP(A60,'Dat-Bl'!$B$127:$F$246,3))","v":""},{"$f":"IF(A60=\"\",\"\",VLOOKUP(A60,'Dat-Bl'!$B$127:$F$246,5))","v":""}]
[null,"Bahn 5",{"$f":"IF(A61=\"\",\"\",VLOOKUP(A61,'Dat-Bl'!$B$127:$F$246,2))","v":""},{"$f":"IF(A61=\"\",\"\",VLOOKUP(A61,'Dat-Bl'!$B$127:$F$246,3))","v":""},{"$f":"IF(A61=\"\",\"\",VLOOKUP(A61,'Dat-Bl'!$B$127:$F$246,5))","v":""}]
[null,"Bahn 6",{"$f":"IF(A62=\"\",\"\",VLOOKUP(A62,'Dat-Bl'!$B$127:$F$246,2))","v":""},{"$f":"IF(A62=\"\",\"\",VLOOKUP(A62,'Dat-Bl'!$B$127:$F$246,3))","v":""},{"$f":"IF(A62=\"\",\"\",VLOOKUP(A62,'Dat-Bl'!$B$127:$F$246,5))","v":""}]
[null,"Bahn 7",{"$f":"IF(A63=\"\",\"\",VLOOKUP(A63,'Dat-Bl'!$B$127:$F$246,2))","v":""},{"$f":"IF(A63=\"\",\"\",VLOOKUP(A63,'Dat-Bl'!$B$127:$F$246,3))","v":""},{"$f":"IF(A63=\"\",\"\",VLOOKUP(A63,'Dat-Bl'!$B$127:$F$246,5))","v":""}]
[null,"Bahn 8",{"$f":"IF(A64=\"\",\"\",VLOOKUP(A64,'Dat-Bl'!$B$127:$F$246,2))","v":""},{"$f":"IF(A64=\"\",\"\",VLOOKUP(A64,'Dat-Bl'!$B$127:$F$246,3))","v":""},{"$f":"IF(A64=\"\",\"\",VLOOKUP(A64,'Dat-Bl'!$B$127:$F$246,5))","v":""}]
["K-ziff","Lauf ","Startnr.:","Familienname Vorname",{"$f":"E38","v":"Schule-60m-weiblich_C /D - Sport"},"Zeit"]
[null,"Bahn 1",{"$f":"IF(A66=\"\",\"\",VLOOKUP(A66,'Dat-Bl'!$B$127:$F$246,2))","v":""},{"$f":"IF(A66=\"\",\"\",VLOOKUP(A66,'Dat-Bl'!$B$127:$F$246,3))","v":""},{"$f":"IF(A66=\"\",\"\",VLOOKUP(A66,'Dat-Bl'!$B$127:$F$246,5))","v":""}]
[null,"Bahn 2",{"$f":"IF(A67=\"\",\"\",VLOOKUP(A67,'Dat-Bl'!$B$127:$F$246,2))","v":""},{"$f":"IF(A67=\"\",\"\",VLOOKUP(A67,'Dat-Bl'!$B$127:$F$246,3))","v":""},{"$f":"IF(A67=\"\",\"\",VLOOKUP(A67,'Dat-Bl'!$B$127:$F$246,5))","v":""}]
[null,"Bahn 3",{"$f":"IF(A68=\"\",\"\",VLOOKUP(A68,'Dat-Bl'!$B$127:$F$246,2))","v":""},{"$f":"IF(A68=\"\",\"\",VLOOKUP(A68,'Dat-Bl'!$B$127:$F$246,3))","v":""},{"$f":"IF(A68=\"\",\"\",VLOOKUP(A68,'Dat-Bl'!$B$127:$F$246,5))","v":""}]
[null,"Bahn 4",{"$f":"IF(A69=\"\",\"\",VLOOKUP(A69,'Dat-Bl'!$B$127:$F$246,2))","v":""},{"$f":"IF(A69=\"\",\"\",VLOOKUP(A69,'Dat-Bl'!$B$127:$F$246,3))","v":""},{"$f":"IF(A69=\"\",\"\",VLOOKUP(A69,'Dat-Bl'!$B$127:$F$246,5))","v":""}]
[null,"Bahn 5",{"$f":"IF(A70=\"\",\"\",VLOOKUP(A70,'Dat-Bl'!$B$127:$F$246,2))","v":""},{"$f":"IF(A70=\"\",\"\",VLOOKUP(A70,'Dat-Bl'!$B$127:$F$246,3))","v":""},{"$f":"IF(A70=\"\",\"\",VLOOKUP(A70,'Dat-Bl'!$B$127:$F$246,5))","v":""}]
[null,"Bahn 6",{"$f":"IF(A71=\"\",\"\",VLOOKUP(A71,'Dat-Bl'!$B$127:$F$246,2))","v":""},{"$f":"IF(A71=\"\",\"\",VLOOKUP(A71,'Dat-Bl'!$B$127:$F$246,3))","v":""},{"$f":"IF(A71=\"\",\"\",VLOOKUP(A71,'Dat-Bl'!$B$127:$F$246,5))","v":""}]
[null,"Bahn 7",{"$f":"IF(A72=\"\",\"\",VLOOKUP(A72,'Dat-Bl'!$B$127:$F$246,2))","v":""},{"$f":"IF(A72=\"\",\"\",VLOOKUP(A72,'Dat-Bl'!$B$127:$F$246,3))","v":""},{"$f":"IF(A72=\"\",\"\",VLOOKUP(A72,'Dat-Bl'!$B$127:$F$246,5))","v":""}]
[null,"Bahn 8",{"$f":"IF(A73=\"\",\"\",VLOOKUP(A73,'Dat-Bl'!$B$127:$F$246,2))","v":""},{"$f":"IF(A73=\"\",\"\",VLOOKUP(A73,'Dat-Bl'!$B$127:$F$246,3))","v":""},{"$f":"IF(A73=\"\",\"\",VLOOKUP(A73,'Dat-Bl'!$B$127:$F$246,5))","v":""}]
[]
["K-ziff","Lauf ","Startnr.:","Familienname Vorname","Schule-60m-männlich_C / D - Regel","Zeit"]
[null,"Bahn 1",{"$f":"IF(A76=\"\",\"\",VLOOKUP(A76,'Dat-Bl'!$J$4:$N$123,2))","v":""},{"$f":"IF(A76=\"\",\"\",VLOOKUP(A76,'Dat-Bl'!$J$4:$N$123,3))","v":""},{"$f":"IF(A76=\"\",\"\",VLOOKUP(A76,'Dat-Bl'!$J$4:$N$123,5))","v":""}]
[null,"Bahn 2",{"$f":"IF(A77=\"\",\"\",VLOOKUP(A77,'Dat-Bl'!$J$4:$N$123,2))","v":""},{"$f":"IF(A77=\"\",\"\",VLOOKUP(A77,'Dat-Bl'!$J$4:$N$123,3))","v":""},{"$f":"IF(A77=\"\",\"\",VLOOKUP(A77,'Dat-Bl'!$J$4:$N$123,5))","v":""}]
[null,"Bahn 3",{"$f":"IF(A78=\"\",\"\",VLOOKUP(A78,'Dat-Bl'!$J$4:$N$123,2))","v":""},{"$f":"IF(A78=\"\",\"\",VLOOKUP(A78,'Dat-Bl'!$J$4:$N$123,3))","v":""},{"$f":"IF(A78=\"\",\"\",VLOOKUP(A78,'Dat-Bl'!$J$4:$N$123,5))","v":""}]
[null,"Bahn 4",{"$f":"IF(A79=\"\",\"\",VLOOKUP(A79,'Dat-Bl'!$J$4:$N$123,2))","v":""},{"$f":"IF(A79=\"\",\"\",VLOOKUP(A79,'Dat-Bl'!$J$4:$N$123,3))","v":""},{"$f":"IF(A79=\"\",\"\",VLOOKUP(A79,'Dat-Bl'!$J$4:$N$123,5))","v":""}]
[null,"Bahn 5",{"$f":"IF(A80=\"\",\"\",VLOOKUP(A80,'Dat-Bl'!$J$4:$N$123,2))","v":""},{"$f":"IF(A80=\"\",\"\",VLOOKUP(A80,'Dat-Bl'!$J$4:$N$123,3))","v":""},{"$f":"IF(A80=\"\",\"\",VLOOKUP(A80,'Dat-Bl'!$J$4:$N$123,5))","v":""}]
[null,"Bahn 6",{"$f":"IF(A81=\"\",\"\",VLOOKUP(A81,'Dat-Bl'!$J$4:$N$123,2))","v":""},{"$f":"IF(A81=\"\",\"\",VLOOKUP(A81,'Dat-Bl'!$J$4:$N$123,3))","v":""},{"$f":"IF(A81=\"\",\"\",VLOOKUP(A81,'Dat-Bl'!$J$4:$N$123,5))","v":""}]
[null,"Bahn 7",{"$f":"IF(A82=\"\",\"\",VLOOKUP(A82,'Dat-Bl'!$J$4:$N$123,2))","v":""},{"$f":"IF(A82=\"\",\"\",VLOOKUP(A82,'Dat-Bl'!$J$4:$N$123,3))","v":""},{"$f":"IF(A82=\"\",\"\",VLOOKUP(A82,'Dat-Bl'!$J$4:$N$123,5))","v":""}]
[null,"Bahn 8",{"$f":"IF(A83=\"\",\"\",VLOOKUP(A83,'Dat-Bl'!$J$4:$N$123,2))","v":""},{"$f":"IF(A83=\"\",\"\",VLOOKUP(A83,'Dat-Bl'!$J$4:$N$123,3))","v":""},{"$f":"IF(A83=\"\",\"\",VLOOKUP(A83,'Dat-Bl'!$J$4:$N$123,5))","v":""}]
["K-ziff","Lauf ","Startnr.:","Familienname Vorname",{"$f":"E75","v":"Schule-60m-männlich_C / D - Regel"},"Zeit"]
[null,"Bahn 1",{"$f":"IF(A85=\"\",\"\",VLOOKUP(A85,'Dat-Bl'!$J$4:$N$123,2))","v":""},{"$f":"IF(A85=\"\",\"\",VLOOKUP(A85,'Dat-Bl'!$J$4:$N$123,3))","v":""},{"$f":"IF(A85=\"\",\"\",VLOOKUP(A85,'Dat-Bl'!$J$4:$N$123,5))","v":""}]
[null,"Bahn 2",{"$f":"IF(A86=\"\",\"\",VLOOKUP(A86,'Dat-Bl'!$J$4:$N$123,2))","v":""},{"$f":"IF(A86=\"\",\"\",VLOOKUP(A86,'Dat-Bl'!$J$4:$N$123,3))","v":""},{"$f":"IF(A86=\"\",\"\",VLOOKUP(A86,'Dat-Bl'!$J$4:$N$123,5))","v":""}]
[null,"Bahn 3",{"$f":"IF(A87=\"\",\"\",VLOOKUP(A87,'Dat-Bl'!$J$4:$N$123,2))","v":""},{"$f":"IF(A87=\"\",\"\",VLOOKUP(A87,'Dat-Bl'!$J$4:$N$123,3))","v":""},{"$f":"IF(A87=\"\",\"\",VLOOKUP(A87,'Dat-Bl'!$J$4:$N$123,5))","v":""}]
[null,"Bahn 4",{"$f":"IF(A88=\"\",\"\",VLOOKUP(A88,'Dat-Bl'!$J$4:$N$123,2))","v":""},{"$f":"IF(A88=\"\",\"\",VLOOKUP(A88,'Dat-Bl'!$J$4:$N$123,3))","v":""},{"$f":"IF(A88=\"\",\"\",VLOOKUP(A88,'Dat-Bl'!$J$4:$N$123,5))","v":""}]
[null,"Bahn 5",{"$f":"IF(A89=\"\",\"\",VLOOKUP(A89,'Dat-Bl'!$J$4:$N$123,2))","v":""},{"$f":"IF(A89=\"\",\"\",VLOOKUP(A89,'Dat-Bl'!$J$4:$N$123,3))","v":""},{"$f":"IF(A89=\"\",\"\",VLOOKUP(A89,'Dat-Bl'!$J$4:$N$123,5))","v":""}]
[null,"Bahn 6",{"$f":"IF(A90=\"\",\"\",VLOOKUP(A90,'Dat-Bl'!$J$4:$N$123,2))","v":""},{"$f":"IF(A90=\"\",\"\",VLOOKUP(A90,'Dat-Bl'!$J$4:$N$123,3))","v":""},{"$f":"IF(A90=\"\",\"\",VLOOKUP(A90,'Dat-Bl'!$J$4:$N$123,5))","v":""}]
[null,"Bahn 7",{"$f":"IF(A91=\"\",\"\",VLOOKUP(A91,'Dat-Bl'!$J$4:$N$123,2))","v":""},{"$f":"IF(A91=\"\",\"\",VLOOKUP(A91,'Dat-Bl'!$J$4:$N$123,3))","v":""},{"$f":"IF(A91=\"\",\"\",VLOOKUP(A91,'Dat-Bl'!$J$4:$N$123,5))","v":""}]
[null,"Bahn 8",{"$f":"IF(A92=\"\",\"\",VLOOKUP(A92,'Dat-Bl'!$J$4:$N$123,2))","v":""},{"$f":"IF(A92=\"\",\"\",VLOOKUP(A92,'Dat-Bl'!$J$4:$N$123,3))","v":""},{"$f":"IF(A92=\"\",\"\",VLOOKUP(A92,'Dat-Bl'!$J$4:$N$123,5))","v":""}]
["K-ziff","Lauf ","Startnr.:","Familienname Vorname",{"$f":"E75","v":"Schule-60m-männlich_C / D - Regel"},"Zeit"]
[null,"Bahn 1",{"$f":"IF(A94=\"\",\"\",VLOOKUP(A94,'Dat-Bl'!$J$4:$N$123,2))","v":""},{"$f":"IF(A94=\"\",\"\",VLOOKUP(A94,'Dat-Bl'!$J$4:$N$123,3))","v":""},{"$f":"IF(A94=\"\",\"\",VLOOKUP(A94,'Dat-Bl'!$J$4:$N$123,5))","v":""}]
[null,"Bahn 2",{"$f":"IF(A95=\"\",\"\",VLOOKUP(A95,'Dat-Bl'!$J$4:$N$123,2))","v":""},{"$f":"IF(A95=\"\",\"\",VLOOKUP(A95,'Dat-Bl'!$J$4:$N$123,3))","v":""},{"$f":"IF(A95=\"\",\"\",VLOOKUP(A95,'Dat-Bl'!$J$4:$N$123,5))","v":""}]
[null,"Bahn 3",{"$f":"IF(A96=\"\",\"\",VLOOKUP(A96,'Dat-Bl'!$J$4:$N$123,2))","v":""},{"$f":"IF(A96=\"\",\"\",VLOOKUP(A96,'Dat-Bl'!$J$4:$N$123,3))","v":""},{"$f":"IF(A96=\"\",\"\",VLOOKUP(A96,'Dat-Bl'!$J$4:$N$123,5))","v":""}]
[null,"Bahn 4",{"$f":"IF(A97=\"\",\"\",VLOOKUP(A97,'Dat-Bl'!$J$4:$N$123,2))","v":""},{"$f":"IF(A97=\"\",\"\",VLOOKUP(A97,'Dat-Bl'!$J$4:$N$123,3))","v":""},{"$f":"IF(A97=\"\",\"\",VLOOKUP(A97,'Dat-Bl'!$J$4:$N$123,5))","v":""}]
[null,"Bahn 5",{"$f":"IF(A98=\"\",\"\",VLOOKUP(A98,'Dat-Bl'!$J$4:$N$123,2))","v":""},{"$f":"IF(A98=\"\",\"\",VLOOKUP(A98,'Dat-Bl'!$J$4:$N$123,3))","v":""},{"$f":"IF(A98=\"\",\"\",VLOOKUP(A98,'Dat-Bl'!$J$4:$N$123,5))","v":""}]
[null,"Bahn 6",{"$f":"IF(A99=\"\",\"\",VLOOKUP(A99,'Dat-Bl'!$J$4:$N$123,2))","v":""},{"$f":"IF(A99=\"\",\"\",VLOOKUP(A99,'Dat-Bl'!$J$4:$N$123,3))","v":""},{"$f":"IF(A99=\"\",\"\",VLOOKUP(A99,'Dat-Bl'!$J$4:$N$123,5))","v":""}]
[null,"Bahn 7",{"$f":"IF(A100=\"\",\"\",VLOOKUP(A100,'Dat-Bl'!$J$4:$N$123,2))","v":""},{"$f":"IF(A100=\"\",\"\",VLOOKUP(A100,'Dat-Bl'!$J$4:$N$123,3))","v":""},{"$f":"IF(A100=\"\",\"\",VLOOKUP(A100,'Dat-Bl'!$J$4:$N$123,5))","v":""}]
[null,"Bahn 8",{"$f":"IF(A101=\"\",\"\",VLOOKUP(A101,'Dat-Bl'!$J$4:$N$123,2))","v":""},{"$f":"IF(A101=\"\",\"\",VLOOKUP(A101,'Dat-Bl'!$J$4:$N$123,3))","v":""},{"$f":"IF(A101=\"\",\"\",VLOOKUP(A101,'Dat-Bl'!$J$4:$N$123,5))","v":""}]
["K-ziff","Lauf ","Startnr.:","Familienname Vorname",{"$f":"E75","v":"Schule-60m-männlich_C / D - Regel"},"Zeit"]
[null,"Bahn 1",{"$f":"IF(A103=\"\",\"\",VLOOKUP(A103,'Dat-Bl'!$J$4:$N$123,2))","v":""},{"$f":"IF(A103=\"\",\"\",VLOOKUP(A103,'Dat-Bl'!$J$4:$N$123,3))","v":""},{"$f":"IF(A103=\"\",\"\",VLOOKUP(A103,'Dat-Bl'!$J$4:$N$123,5))","v":""}]
[null,"Bahn 2",{"$f":"IF(A104=\"\",\"\",VLOOKUP(A104,'Dat-Bl'!$J$4:$N$123,2))","v":""},{"$f":"IF(A104=\"\",\"\",VLOOKUP(A104,'Dat-Bl'!$J$4:$N$123,3))","v":""},{"$f":"IF(A104=\"\",\"\",VLOOKUP(A104,'Dat-Bl'!$J$4:$N$123,5))","v":""}]
[null,"Bahn 3",{"$f":"IF(A105=\"\",\"\",VLOOKUP(A105,'Dat-Bl'!$J$4:$N$123,2))","v":""},{"$f":"IF(A105=\"\",\"\",VLOOKUP(A105,'Dat-Bl'!$J$4:$N$123,3))","v":""},{"$f":"IF(A105=\"\",\"\",VLOOKUP(A105,'Dat-Bl'!$J$4:$N$123,5))","v":""}]
[null,"Bahn 4",{"$f":"IF(A106=\"\",\"\",VLOOKUP(A106,'Dat-Bl'!$J$4:$N$123,2))","v":""},{"$f":"IF(A106=\"\",\"\",VLOOKUP(A106,'Dat-Bl'!$J$4:$N$123,3))","v":""},{"$f":"IF(A106=\"\",\"\",VLOOKUP(A106,'Dat-Bl'!$J$4:$N$123,5))","v":""}]
[null,"Bahn 5",{"$f":"IF(A107=\"\",\"\",VLOOKUP(A107,'Dat-Bl'!$J$4:$N$123,2))","v":""},{"$f":"IF(A107=\"\",\"\",VLOOKUP(A107,'Dat-Bl'!$J$4:$N$123,3))","v":""},{"$f":"IF(A107=\"\",\"\",VLOOKUP(A107,'Dat-Bl'!$J$4:$N$123,5))","v":""}]
[null,"Bahn 6",{"$f":"IF(A108=\"\",\"\",VLOOKUP(A108,'Dat-Bl'!$J$4:$N$123,2))","v":""},{"$f":"IF(A108=\"\",\"\",VLOOKUP(A108,'Dat-Bl'!$J$4:$N$123,3))","v":""},{"$f":"IF(A108=\"\",\"\",VLOOKUP(A108,'Dat-Bl'!$J$4:$N$123,5))","v":""}]
[null,"Bahn 7",{"$f":"IF(A109=\"\",\"\",VLOOKUP(A109,'Dat-Bl'!$J$4:$N$123,2))","v":""},{"$f":"IF(A109=\"\",\"\",VLOOKUP(A109,'Dat-Bl'!$J$4:$N$123,3))","v":""},{"$f":"IF(A109=\"\",\"\",VLOOKUP(A109,'Dat-Bl'!$J$4:$N$123,5))","v":""}]
[null,"Bahn 8",{"$f":"IF(A110=\"\",\"\",VLOOKUP(A110,'Dat-Bl'!$J$4:$N$123,2))","v":""},{"$f":"IF(A110=\"\",\"\",VLOOKUP(A110,'Dat-Bl'!$J$4:$N$123,3))","v":""},{"$f":"IF(A110=\"\",\"\",VLOOKUP(A110,'Dat-Bl'!$J$4:$N$123,5))","v":""}]
[]
["K-ziff","Lauf ","Startnr.:","Familienname Vorname","Schule-60m-männlich_C /D - Sport","Zeit"]
[null,"Bahn 1",{"$f":"IF(A113=\"\",\"\",VLOOKUP(A113,'Dat-Bl'!$J$127:$N$246,2))","v":""},{"$f":"IF(A113=\"\",\"\",VLOOKUP(A113,'Dat-Bl'!$J$127:$N$246,3))","v":""},{"$f":"IF(A113=\"\",\"\",VLOOKUP(A113,'Dat-Bl'!$J$127:$N$246,5))","v":""}]
[null,"Bahn 2",{"$f":"IF(A114=\"\",\"\",VLOOKUP(A114,'Dat-Bl'!$J$127:$N$246,2))","v":""},{"$f":"IF(A114=\"\",\"\",VLOOKUP(A114,'Dat-Bl'!$J$127:$N$246,3))","v":""},{"$f":"IF(A114=\"\",\"\",VLOOKUP(A114,'Dat-Bl'!$J$127:$N$246,5))","v":""}]
[null,"Bahn 3",{"$f":"IF(A115=\"\",\"\",VLOOKUP(A115,'Dat-Bl'!$J$127:$N$246,2))","v":""},{"$f":"IF(A115=\"\",\"\",VLOOKUP(A115,'Dat-Bl'!$J$127:$N$246,3))","v":""},{"$f":"IF(A115=\"\",\"\",VLOOKUP(A115,'Dat-Bl'!$J$127:$N$246,5))","v":""}]
[null,"Bahn 4",{"$f":"IF(A116=\"\",\"\",VLOOKUP(A116,'Dat-Bl'!$J$127:$N$246,2))","v":""},{"$f":"IF(A116=\"\",\"\",VLOOKUP(A116,'Dat-Bl'!$J$127:$N$246,3))","v":""},{"$f":"IF(A116=\"\",\"\",VLOOKUP(A116,'Dat-Bl'!$J$127:$N$246,5))","v":""}]
[null,"Bahn 5",{"$f":"IF(A117=\"\",\"\",VLOOKUP(A117,'Dat-Bl'!$J$127:$N$246,2))","v":""},{"$f":"IF(A117=\"\",\"\",VLOOKUP(A117,'Dat-Bl'!$J$127:$N$246,3))","v":""},{"$f":"IF(A117=\"\",\"\",VLOOKUP(A117,'Dat-Bl'!$J$127:$N$246,5))","v":""}]
[null,"Bahn 6",{"$f":"IF(A118=\"\",\"\",VLOOKUP(A118,'Dat-Bl'!$J$127:$N$246,2))","v":""},{"$f":"IF(A118=\"\",\"\",VLOOKUP(A118,'Dat-Bl'!$J$127:$N$246,3))","v":""},{"$f":"IF(A118=\"\",\"\",VLOOKUP(A118,'Dat-Bl'!$J$127:$N$246,5))","v":""}]
[null,"Bahn 7",{"$f":"IF(A119=\"\",\"\",VLOOKUP(A119,'Dat-Bl'!$J$127:$N$246,2))","v":""},{"$f":"IF(A119=\"\",\"\",VLOOKUP(A119,'Dat-Bl'!$J$127:$N$246,3))","v":""},{"$f":"IF(A119=\"\",\"\",VLOOKUP(A119,'Dat-Bl'!$J$127:$N$246,5))","v":""}]
[null,"Bahn 8",{"$f":"IF(A120=\"\",\"\",VLOOKUP(A120,'Dat-Bl'!$J$127:$N$246,2))","v":""},{"$f":"IF(A120=\"\",\"\",VLOOKUP(A120,'Dat-Bl'!$J$127:$N$246,3))","v":""},{"$f":"IF(A120=\"\",\"\",VLOOKUP(A120,'Dat-Bl'!$J$127:$N$246,5))","v":""}]
["K-ziff","Lauf ","Startnr.:","Familienname Vorname",{"$f":"E112","v":"Schule-60m-männlich_C /D - Sport"},"Zeit"]
[null,"Bahn 1",{"$f":"IF(A122=\"\",\"\",VLOOKUP(A122,'Dat-Bl'!$J$127:$N$246,2))","v":""},{"$f":"IF(A122=\"\",\"\",VLOOKUP(A122,'Dat-Bl'!$J$127:$N$246,3))","v":""},{"$f":"IF(A122=\"\",\"\",VLOOKUP(A122,'Dat-Bl'!$J$127:$N$246,5))","v":""}]
[null,"Bahn 2",{"$f":"IF(A123=\"\",\"\",VLOOKUP(A123,'Dat-Bl'!$J$127:$N$246,2))","v":""},{"$f":"IF(A123=\"\",\"\",VLOOKUP(A123,'Dat-Bl'!$J$127:$N$246,3))","v":""},{"$f":"IF(A123=\"\",\"\",VLOOKUP(A123,'Dat-Bl'!$J$127:$N$246,5))","v":""}]
[null,"Bahn 3",{"$f":"IF(A124=\"\",\"\",VLOOKUP(A124,'Dat-Bl'!$J$127:$N$246,2))","v":""},{"$f":"IF(A124=\"\",\"\",VLOOKUP(A124,'Dat-Bl'!$J$127:$N$246,3))","v":""},{"$f":"IF(A124=\"\",\"\",VLOOKUP(A124,'Dat-Bl'!$J$127:$N$246,5))","v":""}]
[null,"Bahn 4",{"$f":"IF(A125=\"\",\"\",VLOOKUP(A125,'Dat-Bl'!$J$127:$N$246,2))","v":""},{"$f":"IF(A125=\"\",\"\",VLOOKUP(A125,'Dat-Bl'!$J$127:$N$246,3))","v":""},{"$f":"IF(A125=\"\",\"\",VLOOKUP(A125,'Dat-Bl'!$J$127:$N$246,5))","v":""}]
[null,"Bahn 5",{"$f":"IF(A126=\"\",\"\",VLOOKUP(A126,'Dat-Bl'!$J$127:$N$246,2))","v":""},{"$f":"IF(A126=\"\",\"\",VLOOKUP(A126,'Dat-Bl'!$J$127:$N$246,3))","v":""},{"$f":"IF(A126=\"\",\"\",VLOOKUP(A126,'Dat-Bl'!$J$127:$N$246,5))","v":""}]
[null,"Bahn 6",{"$f":"IF(A127=\"\",\"\",VLOOKUP(A127,'Dat-Bl'!$J$127:$N$246,2))","v":""},{"$f":"IF(A127=\"\",\"\",VLOOKUP(A127,'Dat-Bl'!$J$127:$N$246,3))","v":""},{"$f":"IF(A127=\"\",\"\",VLOOKUP(A127,'Dat-Bl'!$J$127:$N$246,5))","v":""}]
[null,"Bahn 7",{"$f":"IF(A128=\"\",\"\",VLOOKUP(A128,'Dat-Bl'!$J$127:$N$246,2))","v":""},{"$f":"IF(A128=\"\",\"\",VLOOKUP(A128,'Dat-Bl'!$J$127:$N$246,3))","v":""},{"$f":"IF(A128=\"\",\"\",VLOOKUP(A128,'Dat-Bl'!$J$127:$N$246,5))","v":""}]
[null,"Bahn 8",{"$f":"IF(A129=\"\",\"\",VLOOKUP(A129,'Dat-Bl'!$J$127:$N$246,2))","v":""},{"$f":"IF(A129=\"\",\"\",VLOOKUP(A129,'Dat-Bl'!$J$127:$N$246,3))","v":""},{"$f":"IF(A129=\"\",\"\",VLOOKUP(A129,'Dat-Bl'!$J$127:$N$246,5))","v":""}]
["K-ziff","Lauf ","Startnr.:","Familienname Vorname",{"$f":"E112","v":"Schule-60m-männlich_C /D - Sport"},"Zeit"]
[null,"Bahn 1",{"$f":"IF(A131=\"\",\"\",VLOOKUP(A131,'Dat-Bl'!$J$127:$N$246,2))","v":""},{"$f":"IF(A131=\"\",\"\",VLOOKUP(A131,'Dat-Bl'!$J$127:$N$246,3))","v":""},{"$f":"IF(A131=\"\",\"\",VLOOKUP(A131,'Dat-Bl'!$J$127:$N$246,5))","v":""}]
[null,"Bahn 2",{"$f":"IF(A132=\"\",\"\",VLOOKUP(A132,'Dat-Bl'!$J$127:$N$246,2))","v":""},{"$f":"IF(A132=\"\",\"\",VLOOKUP(A132,'Dat-Bl'!$J$127:$N$246,3))","v":""},{"$f":"IF(A132=\"\",\"\",VLOOKUP(A132,'Dat-Bl'!$J$127:$N$246,5))","v":""}]
[null,"Bahn 3",{"$f":"IF(A133=\"\",\"\",VLOOKUP(A133,'Dat-Bl'!$J$127:$N$246,2))","v":""},{"$f":"IF(A133=\"\",\"\",VLOOKUP(A133,'Dat-Bl'!$J$127:$N$246,3))","v":""},{"$f":"IF(A133=\"\",\"\",VLOOKUP(A133,'Dat-Bl'!$J$127:$N$246,5))","v":""}]
[null,"Bahn 4",{"$f":"IF(A134=\"\",\"\",VLOOKUP(A134,'Dat-Bl'!$J$127:$N$246,2))","v":""},{"$f":"IF(A134=\"\",\"\",VLOOKUP(A134,'Dat-Bl'!$J$127:$N$246,3))","v":""},{"$f":"IF(A134=\"\",\"\",VLOOKUP(A134,'Dat-Bl'!$J$127:$N$246,5))","v":""}]
[null,"Bahn 5",{"$f":"IF(A135=\"\",\"\",VLOOKUP(A135,'Dat-Bl'!$J$127:$N$246,2))","v":""},{"$f":"IF(A135=\"\",\"\",VLOOKUP(A135,'Dat-Bl'!$J$127:$N$246,3))","v":""},{"$f":"IF(A135=\"\",\"\",VLOOKUP(A135,'Dat-Bl'!$J$127:$N$246,5))","v":""}]
[null,"Bahn 6",{"$f":"IF(A136=\"\",\"\",VLOOKUP(A136,'Dat-Bl'!$J$127:$N$246,2))","v":""},{"$f":"IF(A136=\"\",\"\",VLOOKUP(A136,'Dat-Bl'!$J$127:$N$246,3))","v":""},{"$f":"IF(A136=\"\",\"\",VLOOKUP(A136,'Dat-Bl'!$J$127:$N$246,5))","v":""}]
[null,"Bahn 7",{"$f":"IF(A137=\"\",\"\",VLOOKUP(A137,'Dat-Bl'!$J$127:$N$246,2))","v":""},{"$f":"IF(A137=\"\",\"\",VLOOKUP(A137,'Dat-Bl'!$J$127:$N$246,3))","v":""},{"$f":"IF(A137=\"\",\"\",VLOOKUP(A137,'Dat-Bl'!$J$127:$N$246,5))","v":""}]
[null,"Bahn 8",{"$f":"IF(A138=\"\",\"\",VLOOKUP(A138,'Dat-Bl'!$J$127:$N$246,2))","v":""},{"$f":"IF(A138=\"\",\"\",VLOOKUP(A138,'Dat-Bl'!$J$127:$N$246,3))","v":""},{"$f":"IF(A138=\"\",\"\",VLOOKUP(A138,'Dat-Bl'!$J$127:$N$246,5))","v":""}]
["K-ziff","Lauf ","Startnr.:","Familienname Vorname",{"$f":"E112","v":"Schule-60m-männlich_C /D - Sport"},"Zeit"]
[null,"Bahn 1",{"$f":"IF(A140=\"\",\"\",VLOOKUP(A140,'Dat-Bl'!$J$127:$N$246,2))","v":""},{"$f":"IF(A140=\"\",\"\",VLOOKUP(A140,'Dat-Bl'!$J$127:$N$246,3))","v":""},{"$f":"IF(A140=\"\",\"\",VLOOKUP(A140,'Dat-Bl'!$J$127:$N$246,5))","v":""}]
[null,"Bahn 2",{"$f":"IF(A141=\"\",\"\",VLOOKUP(A141,'Dat-Bl'!$J$127:$N$246,2))","v":""},{"$f":"IF(A141=\"\",\"\",VLOOKUP(A141,'Dat-Bl'!$J$127:$N$246,3))","v":""},{"$f":"IF(A141=\"\",\"\",VLOOKUP(A141,'Dat-Bl'!$J$127:$N$246,5))","v":""}]
[null,"Bahn 3",{"$f":"IF(A142=\"\",\"\",VLOOKUP(A142,'Dat-Bl'!$J$127:$N$246,2))","v":""},{"$f":"IF(A142=\"\",\"\",VLOOKUP(A142,'Dat-Bl'!$J$127:$N$246,3))","v":""},{"$f":"IF(A142=\"\",\"\",VLOOKUP(A142,'Dat-Bl'!$J$127:$N$246,5))","v":""}]
[null,"Bahn 4",{"$f":"IF(A143=\"\",\"\",VLOOKUP(A143,'Dat-Bl'!$J$127:$N$246,2))","v":""},{"$f":"IF(A143=\"\",\"\",VLOOKUP(A143,'Dat-Bl'!$J$127:$N$246,3))","v":""},{"$f":"IF(A143=\"\",\"\",VLOOKUP(A143,'Dat-Bl'!$J$127:$N$246,5))","v":""}]
[null,"Bahn 5",{"$f":"IF(A144=\"\",\"\",VLOOKUP(A144,'Dat-Bl'!$J$127:$N$246,2))","v":""},{"$f":"IF(A144=\"\",\"\",VLOOKUP(A144,'Dat-Bl'!$J$127:$N$246,3))","v":""},{"$f":"IF(A144=\"\",\"\",VLOOKUP(A144,'Dat-Bl'!$J$127:$N$246,5))","v":""}]
[null,"Bahn 6",{"$f":"IF(A145=\"\",\"\",VLOOKUP(A145,'Dat-Bl'!$J$127:$N$246,2))","v":""},{"$f":"IF(A145=\"\",\"\",VLOOKUP(A145,'Dat-Bl'!$J$127:$N$246,3))","v":""},{"$f":"IF(A145=\"\",\"\",VLOOKUP(A145,'Dat-Bl'!$J$127:$N$246,5))","v":""}]
[null,"Bahn 7",{"$f":"IF(A146=\"\",\"\",VLOOKUP(A146,'Dat-Bl'!$J$127:$N$246,2))","v":""},{"$f":"IF(A146=\"\",\"\",VLOOKUP(A146,'Dat-Bl'!$J$127:$N$246,3))","v":""},{"$f":"IF(A146=\"\",\"\",VLOOKUP(A146,'Dat-Bl'!$J$127:$N$246,5))","v":""}]
[null,"Bahn 8",{"$f":"IF(A147=\"\",\"\",VLOOKUP(A147,'Dat-Bl'!$J$127:$N$246,2))","v":""},{"$f":"IF(A147=\"\",\"\",VLOOKUP(A147,'Dat-Bl'!$J$127:$N$246,3))","v":""},{"$f":"IF(A147=\"\",\"\",VLOOKUP(A147,'Dat-Bl'!$J$127:$N$246,5))","v":""}]

{"sheet":"P-60 m (2)","index":6,"n_rows":147,"n_cols":6,"rows_kept":147,"cut":false,"hidden":false,"merged":[]}
["K-ziff","Lauf ","Startnr.:","Familienname Vorname","Schule-60m-weiblich_C / D - Regel","Zeit"]
[25,"Bahn 1",{"$f":"IF(A2=\"\",\"\",VLOOKUP(A2,'Dat-Bl'!$B$4:$F$123,2))","v":0},{"$f":"IF(A2=\"\",\"\",VLOOKUP(A2,'Dat-Bl'!$B$4:$F$123,3))","v":"Donner Rosa"},{"$f":"IF(A2=\"\",\"\",VLOOKUP(A2,'Dat-Bl'!$B$4:$F$123,5))","v":"Ingeborg Bachmann Gymnasium"}]
[26,"Bahn 2",{"$f":"IF(A3=\"\",\"\",VLOOKUP(A3,'Dat-Bl'!$B$4:$F$123,2))","v":0},{"$f":"IF(A3=\"\",\"\",VLOOKUP(A3,'Dat-Bl'!$B$4:$F$123,3))","v":"Lippitsch Amelie"},{"$f":"IF(A3=\"\",\"\",VLOOKUP(A3,'Dat-Bl'!$B$4:$F$123,5))","v":"Ingeborg Bachmann Gymnasium"}]
[27,"Bahn 3",{"$f":"IF(A4=\"\",\"\",VLOOKUP(A4,'Dat-Bl'!$B$4:$F$123,2))","v":0},{"$f":"IF(A4=\"\",\"\",VLOOKUP(A4,'Dat-Bl'!$B$4:$F$123,3))","v":"Doboczky Sophie"},{"$f":"IF(A4=\"\",\"\",VLOOKUP(A4,'Dat-Bl'!$B$4:$F$123,5))","v":"Ingeborg Bachmann Gymnasium"}]
[28,"Bahn 4",{"$f":"IF(A5=\"\",\"\",VLOOKUP(A5,'Dat-Bl'!$B$4:$F$123,2))","v":0},{"$f":"IF(A5=\"\",\"\",VLOOKUP(A5,'Dat-Bl'!$B$4:$F$123,3))","v":"Schmaranz Sophie"},{"$f":"IF(A5=\"\",\"\",VLOOKUP(A5,'Dat-Bl'!$B$4:$F$123,5))","v":"Ingeborg Bachmann Gymnasium"}]
[29,"Bahn 5",{"$f":"IF(A6=\"\",\"\",VLOOKUP(A6,'Dat-Bl'!$B$4:$F$123,2))","v":0},{"$f":"IF(A6=\"\",\"\",VLOOKUP(A6,'Dat-Bl'!$B$4:$F$123,3))","v":"Zenkl Hannah"},{"$f":"IF(A6=\"\",\"\",VLOOKUP(A6,'Dat-Bl'!$B$4:$F$123,5))","v":"Ingeborg Bachmann Gymnasium"}]
[30,"Bahn 6",{"$f":"IF(A7=\"\",\"\",VLOOKUP(A7,'Dat-Bl'!$B$4:$F$123,2))","v":0},{"$f":"IF(A7=\"\",\"\",VLOOKUP(A7,'Dat-Bl'!$B$4:$F$123,3))","v":"Laßnig Katharina"},{"$f":"IF(A7=\"\",\"\",VLOOKUP(A7,'Dat-Bl'!$B$4:$F$123,5))","v":"Ingeborg Bachmann Gymnasium"}]
[null,"Bahn 7",{"$f":"IF(A8=\"\",\"\",VLOOKUP(A8,'Dat-Bl'!$B$4:$F$123,2))","v":""},{"$f":"IF(A8=\"\",\"\",VLOOKUP(A8,'Dat-Bl'!$B$4:$F$123,3))","v":""},{"$f":"IF(A8=\"\",\"\",VLOOKUP(A8,'Dat-Bl'!$B$4:$F$123,5))","v":""}]
[null,"Bahn 8",{"$f":"IF(A9=\"\",\"\",VLOOKUP(A9,'Dat-Bl'!$B$4:$F$123,2))","v":""},{"$f":"IF(A9=\"\",\"\",VLOOKUP(A9,'Dat-Bl'!$B$4:$F$123,3))","v":""},{"$f":"IF(A9=\"\",\"\",VLOOKUP(A9,'Dat-Bl'!$B$4:$F$123,5))","v":""}]
["K-ziff","Lauf ","Startnr.:","Familienname Vorname",{"$f":"E1","v":"Schule-60m-weiblich_C / D - Regel"},"Zeit"]
[31,"Bahn 1",{"$f":"IF(A11=\"\",\"\",VLOOKUP(A11,'Dat-Bl'!$B$4:$F$123,2))","v":0},{"$f":"IF(A11=\"\",\"\",VLOOKUP(A11,'Dat-Bl'!$B$4:$F$123,3))","v":"Fercher Annabell"},{"$f":"IF(A11=\"\",\"\",VLOOKUP(A11,'Dat-Bl'!$B$4:$F$123,5))","v":"Musik NMS Hermagor"}]
[32,"Bahn 2",{"$f":"IF(A12=\"\",\"\",VLOOKUP(A12,'Dat-Bl'!$B$4:$F$123,2))","v":0},{"$f":"IF(A12=\"\",\"\",VLOOKUP(A12,'Dat-Bl'!$B$4:$F$123,3))","v":"Ebenwaldner Carina"},{"$f":"IF(A12=\"\",\"\",VLOOKUP(A12,'Dat-Bl'!$B$4:$F$123,5))","v":"Musik NMS Hermagor"}]
[33,"Bahn 3",{"$f":"IF(A13=\"\",\"\",VLOOKUP(A13,'Dat-Bl'!$B$4:$F$123,2))","v":0},{"$f":"IF(A13=\"\",\"\",VLOOKUP(A13,'Dat-Bl'!$B$4:$F$123,3))","v":"Wernitznig Nina"},{"$f":"IF(A13=\"\",\"\",VLOOKUP(A13,'Dat-Bl'!$B$4:$F$123,5))","v":"Musik NMS Hermagor"}]
[34,"Bahn 4",{"$f":"IF(A14=\"\",\"\",VLOOKUP(A14,'Dat-Bl'!$B$4:$F$123,2))","v":0},{"$f":"IF(A14=\"\",\"\",VLOOKUP(A14,'Dat-Bl'!$B$4:$F$123,3))","v":"Pettauer Sara"},{"$f":"IF(A14=\"\",\"\",VLOOKUP(A14,'Dat-Bl'!$B$4:$F$123,5))","v":"Musik NMS Hermagor"}]
[35,"Bahn 5",{"$f":"IF(A15=\"\",\"\",VLOOKUP(A15,'Dat-Bl'!$B$4:$F$123,2))","v":0},{"$f":"IF(A15=\"\",\"\",VLOOKUP(A15,'Dat-Bl'!$B$4:$F$123,3))","v":"Matthei Laura"},{"$f":"IF(A15=\"\",\"\",VLOOKUP(A15,'Dat-Bl'!$B$4:$F$123,5))","v":"Musik NMS Hermagor"}]
[36,"Bahn 6",{"$f":"IF(A16=\"\",\"\",VLOOKUP(A16,'Dat-Bl'!$B$4:$F$123,2))","v":0},{"$f":"IF(A16=\"\",\"\",VLOOKUP(A16,'Dat-Bl'!$B$4:$F$123,3))","v":"Seebacher Mathilda"},{"$f":"IF(A16=\"\",\"\",VLOOKUP(A16,'Dat-Bl'!$B$4:$F$123,5))","v":"Musik NMS Hermagor"}]
[null,"Bahn 7",{"$f":"IF(A17=\"\",\"\",VLOOKUP(A17,'Dat-Bl'!$B$4:$F$123,2))","v":""},{"$f":"IF(A17=\"\",\"\",VLOOKUP(A17,'Dat-Bl'!$B$4:$F$123,3))","v":""},{"$f":"IF(A17=\"\",\"\",VLOOKUP(A17,'Dat-Bl'!$B$4:$F$123,5))","v":""}]
[null,"Bahn 8",{"$f":"IF(A18=\"\",\"\",VLOOKUP(A18,'Dat-Bl'!$B$4:$F$123,2))","v":""},{"$f":"IF(A18=\"\",\"\",VLOOKUP(A18,'Dat-Bl'!$B$4:$F$123,3))","v":""},{"$f":"IF(A18=\"\",\"\",VLOOKUP(A18,'Dat-Bl'!$B$4:$F$123,5))","v":""}]
["K-ziff","Lauf ","Startnr.:","Familienname Vorname",{"$f":"E1","v":"Schule-60m-weiblich_C / D - Regel"},"Zeit"]
[37,"Bahn 1",{"$f":"IF(A20=\"\",\"\",VLOOKUP(A20,'Dat-Bl'!$B$4:$F$123,2))","v":0},{"$f":"IF(A20=\"\",\"\",VLOOKUP(A20,'Dat-Bl'!$B$4:$F$123,3))","v":"Pörtschacher Vanessa"},{"$f":"IF(A20=\"\",\"\",VLOOKUP(A20,'Dat-Bl'!$B$4:$F$123,5))","v":"NMS Friesach"}]
[38,"Bahn 2",{"$f":"IF(A21=\"\",\"\",VLOOKUP(A21,'Dat-Bl'!$B$4:$F$123,2))","v":0},{"$f":"IF(A21=\"\",\"\",VLOOKUP(A21,'Dat-Bl'!$B$4:$F$123,3))","v":"Kronlechner Bettina"},{"$f":"IF(A21=\"\",\"\",VLOOKUP(A21,'Dat-Bl'!$B$4:$F$123,5))","v":"NMS Friesach"}]
[39,"Bahn 3",{"$f":"IF(A22=\"\",\"\",VLOOKUP(A22,'Dat-Bl'!$B$4:$F$123,2))","v":0},{"$f":"IF(A22=\"\",\"\",VLOOKUP(A22,'Dat-Bl'!$B$4:$F$123,3))","v":"Delfser Anna-Magdalena"},{"$f":"IF(A22=\"\",\"\",VLOOKUP(A22,'Dat-Bl'!$B$4:$F$123,5))","v":"NMS Friesach"}]
[40,"Bahn 4",{"$f":"IF(A23=\"\",\"\",VLOOKUP(A23,'Dat-Bl'!$B$4:$F$123,2))","v":0},{"$f":"IF(A23=\"\",\"\",VLOOKUP(A23,'Dat-Bl'!$B$4:$F$123,3))","v":"Schaller Victoria"},{"$f":"IF(A23=\"\",\"\",VLOOKUP(A23,'Dat-Bl'!$B$4:$F$123,5))","v":"NMS Friesach"}]
[41,"Bahn 5",{"$f":"IF(A24=\"\",\"\",VLOOKUP(A24,'Dat-Bl'!$B$4:$F$123,2))","v":0},{"$f":"IF(A24=\"\",\"\",VLOOKUP(A24,'Dat-Bl'!$B$4:$F$123,3))","v":"Hölbling Laura"},{"$f":"IF(A24=\"\",\"\",VLOOKUP(A24,'Dat-Bl'!$B$4:$F$123,5))","v":"NMS Friesach"}]
[42,"Bahn 6",{"$f":"IF(A25=\"\",\"\",VLOOKUP(A25,'Dat-Bl'!$B$4:$F$123,2))","v":0},{"$f":"IF(A25=\"\",\"\",VLOOKUP(A25,'Dat-Bl'!$B$4:$F$123,3))","v":"Pacher Selina"},{"$f":"IF(A25=\"\",\"\",VLOOKUP(A25,'Dat-Bl'!$B$4:$F$123,5))","v":"NMS Friesach"}]
[null,"Bahn 7",{"$f":"IF(A26=\"\",\"\",VLOOKUP(A26,'Dat-Bl'!$B$4:$F$123,2))","v":""},{"$f":"IF(A26=\"\",\"\",VLOOKUP(A26,'Dat-Bl'!$B$4:$F$123,3))","v":""},{"$f":"IF(A26=\"\",\"\",VLOOKUP(A26,'Dat-Bl'!$B$4:$F$123,5))","v":""}]
[null,"Bahn 8",{"$f":"IF(A27=\"\",\"\",VLOOKUP(A27,'Dat-Bl'!$B$4:$F$123,2))","v":""},{"$f":"IF(A27=\"\",\"\",VLOOKUP(A27,'Dat-Bl'!$B$4:$F$123,3))","v":""},{"$f":"IF(A27=\"\",\"\",VLOOKUP(A27,'Dat-Bl'!$B$4:$F$123,5))","v":""}]
["K-ziff","Lauf ","Startnr.:","Familienname Vorname",{"$f":"E1","v":"Schule-60m-weiblich_C / D - Regel"},"Zeit"]
[43,"Bahn 1",{"$f":"IF(A29=\"\",\"\",VLOOKUP(A29,'Dat-Bl'!$B$4:$F$123,2))","v":0},{"$f":"IF(A29=\"\",\"\",VLOOKUP(A29,'Dat-Bl'!$B$4:$F$123,3))","v":"Mayer Elena"},{"$f":"IF(A29=\"\",\"\",VLOOKUP(A29,'Dat-Bl'!$B$4:$F$123,5))","v":"NMS Gegendtal"}]
[44,"Bahn 2",{"$f":"IF(A30=\"\",\"\",VLOOKUP(A30,'Dat-Bl'!$B$4:$F$123,2))","v":0},{"$f":"IF(A30=\"\",\"\",VLOOKUP(A30,'Dat-Bl'!$B$4:$F$123,3))","v":"Steiner Patricia"},{"$f":"IF(A30=\"\",\"\",VLOOKUP(A30,'Dat-Bl'!$B$4:$F$123,5))","v":"NMS Gegendtal"}]
[45,"Bahn 3",{"$f":"IF(A31=\"\",\"\",VLOOKUP(A31,'Dat-Bl'!$B$4:$F$123,2))","v":0},{"$f":"IF(A31=\"\",\"\",VLOOKUP(A31,'Dat-Bl'!$B$4:$F$123,3))","v":"Maier Jasmin"},{"$f":"IF(A31=\"\",\"\",VLOOKUP(A31,'Dat-Bl'!$B$4:$F$123,5))","v":"NMS Gegendtal"}]
[46,"Bahn 4",{"$f":"IF(A32=\"\",\"\",VLOOKUP(A32,'Dat-Bl'!$B$4:$F$123,2))","v":0},{"$f":"IF(A32=\"\",\"\",VLOOKUP(A32,'Dat-Bl'!$B$4:$F$123,3))","v":"Schweiger Nadja"},{"$f":"IF(A32=\"\",\"\",VLOOKUP(A32,'Dat-Bl'!$B$4:$F$123,5))","v":"NMS Gegendtal"}]
[47,"Bahn 5",{"$f":"IF(A33=\"\",\"\",VLOOKUP(A33,'Dat-Bl'!$B$4:$F$123,2))","v":0},{"$f":"IF(A33=\"\",\"\",VLOOKUP(A33,'Dat-Bl'!$B$4:$F$123,3))","v":"Gasser Valentina"},{"$f":"IF(A33=\"\",\"\",VLOOKUP(A33,'Dat-Bl'!$B$4:$F$123,5))","v":"NMS Gegendtal"}]
[48,"Bahn 6",{"$f":"IF(A34=\"\",\"\",VLOOKUP(A34,'Dat-Bl'!$B$4:$F$123,2))","v":0},{"$f":"IF(A34=\"\",\"\",VLOOKUP(A34,'Dat-Bl'!$B$4:$F$123,3))","v":"Ostertschnig Lisa"},{"$f":"IF(A34=\"\",\"\",VLOOKUP(A34,'Dat-Bl'!$B$4:$F$123,5))","v":"NMS Gegendtal"}]
[null,"Bahn 7",{"$f":"IF(A35=\"\",\"\",VLOOKUP(A35,'Dat-Bl'!$B$4:$F$123,2))","v":""},{"$f":"IF(A35=\"\",\"\",VLOOKUP(A35,'Dat-Bl'!$B$4:$F$123,3))","v":""},{"$f":"IF(A35=\"\",\"\",VLOOKUP(A35,'Dat-Bl'!$B$4:$F$123,5))","v":""}]
[null,"Bahn 8",{"$f":"IF(A36=\"\",\"\",VLOOKUP(A36,'Dat-Bl'!$B$4:$F$123,2))","v":""},{"$f":"IF(A36=\"\",\"\",VLOOKUP(A36,'Dat-Bl'!$B$4:$F$123,3))","v":""},{"$f":"IF(A36=\"\",\"\",VLOOKUP(A36,'Dat-Bl'!$B$4:$F$123,5))","v":""}]
[]
["K-ziff","Lauf ","Startnr.:","Familienname Vorname","Schule-60m-weiblich_C /D - Sport","Zeit"]
[null,"Bahn 1",{"$f":"IF(A39=\"\",\"\",VLOOKUP(A39,'Dat-Bl'!$B$127:$F$246,2))","v":""},{"$f":"IF(A39=\"\",\"\",VLOOKUP(A39,'Dat-Bl'!$B$127:$F$246,3))","v":""},{"$f":"IF(A39=\"\",\"\",VLOOKUP(A39,'Dat-Bl'!$B$127:$F$246,5))","v":""}]
[null,"Bahn 2",{"$f":"IF(A40=\"\",\"\",VLOOKUP(A40,'Dat-Bl'!$B$127:$F$246,2))","v":""},{"$f":"IF(A40=\"\",\"\",VLOOKUP(A40,'Dat-Bl'!$B$127:$F$246,3))","v":""},{"$f":"IF(A40=\"\",\"\",VLOOKUP(A40,'Dat-Bl'!$B$127:$F$246,5))","v":""}]
[null,"Bahn 3",{"$f":"IF(A41=\"\",\"\",VLOOKUP(A41,'Dat-Bl'!$B$127:$F$246,2))","v":""},{"$f":"IF(A41=\"\",\"\",VLOOKUP(A41,'Dat-Bl'!$B$127:$F$246,3))","v":""},{"$f":"IF(A41=\"\",\"\",VLOOKUP(A41,'Dat-Bl'!$B$127:$F$246,5))","v":""}]
[null,"Bahn 4",{"$f":"IF(A42=\"\",\"\",VLOOKUP(A42,'Dat-Bl'!$B$127:$F$246,2))","v":""},{"$f":"IF(A42=\"\",\"\",VLOOKUP(A42,'Dat-Bl'!$B$127:$F$246,3))","v":""},{"$f":"IF(A42=\"\",\"\",VLOOKUP(A42,'Dat-Bl'!$B$127:$F$246,5))","v":""}]
[null,"Bahn 5",{"$f":"IF(A43=\"\",\"\",VLOOKUP(A43,'Dat-Bl'!$B$127:$F$246,2))","v":""},{"$f":"IF(A43=\"\",\"\",VLOOKUP(A43,'Dat-Bl'!$B$127:$F$246,3))","v":""},{"$f":"IF(A43=\"\",\"\",VLOOKUP(A43,'Dat-Bl'!$B$127:$F$246,5))","v":""}]
[null,"Bahn 6",{"$f":"IF(A44=\"\",\"\",VLOOKUP(A44,'Dat-Bl'!$B$127:$F$246,2))","v":""},{"$f":"IF(A44=\"\",\"\",VLOOKUP(A44,'Dat-Bl'!$B$127:$F$246,3))","v":""},{"$f":"IF(A44=\"\",\"\",VLOOKUP(A44,'Dat-Bl'!$B$127:$F$246,5))","v":""}]
[null,"Bahn 7",{"$f":"IF(A45=\"\",\"\",VLOOKUP(A45,'Dat-Bl'!$B$127:$F$246,2))","v":""},{"$f":"IF(A45=\"\",\"\",VLOOKUP(A45,'Dat-Bl'!$B$127:$F$246,3))","v":""},{"$f":"IF(A45=\"\",\"\",VLOOKUP(A45,'Dat-Bl'!$B$127:$F$246,5))","v":""}]
[null,"Bahn 8",{"$f":"IF(A46=\"\",\"\",VLOOKUP(A46,'Dat-Bl'!$B$127:$F$246,2))","v":""},{"$f":"IF(A46=\"\",\"\",VLOOKUP(A46,'Dat-Bl'!$B$127:$F$246,3))","v":""},{"$f":"IF(A46=\"\",\"\",VLOOKUP(A46,'Dat-Bl'!$B$127:$F$246,5))","v":""}]
["K-ziff","Lauf ","Startnr.:","Familienname Vorname",{"$f":"E38","v":"Schule-60m-weiblich_C /D - Sport"},"Zeit"]
[null,"Bahn 1",{"$f":"IF(A48=\"\",\"\",VLOOKUP(A48,'Dat-Bl'!$B$127:$F$246,2))","v":""},{"$f":"IF(A48=\"\",\"\",VLOOKUP(A48,'Dat-Bl'!$B$127:$F$246,3))","v":""},{"$f":"IF(A48=\"\",\"\",VLOOKUP(A48,'Dat-Bl'!$B$127:$F$246,5))","v":""}]
[null,"Bahn 2",{"$f":"IF(A49=\"\",\"\",VLOOKUP(A49,'Dat-Bl'!$B$127:$F$246,2))","v":""},{"$f":"IF(A49=\"\",\"\",VLOOKUP(A49,'Dat-Bl'!$B$127:$F$246,3))","v":""},{"$f":"IF(A49=\"\",\"\",VLOOKUP(A49,'Dat-Bl'!$B$127:$F$246,5))","v":""}]
[null,"Bahn 3",{"$f":"IF(A50=\"\",\"\",VLOOKUP(A50,'Dat-Bl'!$B$127:$F$246,2))","v":""},{"$f":"IF(A50=\"\",\"\",VLOOKUP(A50,'Dat-Bl'!$B$127:$F$246,3))","v":""},{"$f":"IF(A50=\"\",\"\",VLOOKUP(A50,'Dat-Bl'!$B$127:$F$246,5))","v":""}]
[null,"Bahn 4",{"$f":"IF(A51=\"\",\"\",VLOOKUP(A51,'Dat-Bl'!$B$127:$F$246,2))","v":""},{"$f":"IF(A51=\"\",\"\",VLOOKUP(A51,'Dat-Bl'!$B$127:$F$246,3))","v":""},{"$f":"IF(A51=\"\",\"\",VLOOKUP(A51,'Dat-Bl'!$B$127:$F$246,5))","v":""}]
[null,"Bahn 5",{"$f":"IF(A52=\"\",\"\",VLOOKUP(A52,'Dat-Bl'!$B$127:$F$246,2))","v":""},{"$f":"IF(A52=\"\",\"\",VLOOKUP(A52,'Dat-Bl'!$B$127:$F$246,3))","v":""},{"$f":"IF(A52=\"\",\"\",VLOOKUP(A52,'Dat-Bl'!$B$127:$F$246,5))","v":""}]
[null,"Bahn 6",{"$f":"IF(A53=\"\",\"\",VLOOKUP(A53,'Dat-Bl'!$B$127:$F$246,2))","v":""},{"$f":"IF(A53=\"\",\"\",VLOOKUP(A53,'Dat-Bl'!$B$127:$F$246,3))","v":""},{"$f":"IF(A53=\"\",\"\",VLOOKUP(A53,'Dat-Bl'!$B$127:$F$246,5))","v":""}]
[null,"Bahn 7",{"$f":"IF(A54=\"\",\"\",VLOOKUP(A54,'Dat-Bl'!$B$127:$F$246,2))","v":""},{"$f":"IF(A54=\"\",\"\",VLOOKUP(A54,'Dat-Bl'!$B$127:$F$246,3))","v":""},{"$f":"IF(A54=\"\",\"\",VLOOKUP(A54,'Dat-Bl'!$B$127:$F$246,5))","v":""}]
[null,"Bahn 8",{"$f":"IF(A55=\"\",\"\",VLOOKUP(A55,'Dat-Bl'!$B$127:$F$246,2))","v":""},{"$f":"IF(A55=\"\",\"\",VLOOKUP(A55,'Dat-Bl'!$B$127:$F$246,3))","v":""},{"$f":"IF(A55=\"\",\"\",VLOOKUP(A55,'Dat-Bl'!$B$127:$F$246,5))","v":""}]
["K-ziff","Lauf ","Startnr.:","Familienname Vorname",{"$f":"E38","v":"Schule-60m-weiblich_C /D - Sport"},"Zeit"]
[null,"Bahn 1",{"$f":"IF(A57=\"\",\"\",VLOOKUP(A57,'Dat-Bl'!$B$127:$F$246,2))","v":""},{"$f":"IF(A57=\"\",\"\",VLOOKUP(A57,'Dat-Bl'!$B$127:$F$246,3))","v":""},{"$f":"IF(A57=\"\",\"\",VLOOKUP(A57,'Dat-Bl'!$B$127:$F$246,5))","v":""}]
[null,"Bahn 2",{"$f":"IF(A58=\"\",\"\",VLOOKUP(A58,'Dat-Bl'!$B$127:$F$246,2))","v":""},{"$f":"IF(A58=\"\",\"\",VLOOKUP(A58,'Dat-Bl'!$B$127:$F$246,3))","v":""},{"$f":"IF(A58=\"\",\"\",VLOOKUP(A58,'Dat-Bl'!$B$127:$F$246,5))","v":""}]
[null,"Bahn 3",{"$f":"IF(A59=\"\",\"\",VLOOKUP(A59,'Dat-Bl'!$B$127:$F$246,2))","v":""},{"$f":"IF(A59=\"\",\"\",VLOOKUP(A59,'Dat-Bl'!$B$127:$F$246,3))","v":""},{"$f":"IF(A59=\"\",\"\",VLOOKUP(A59,'Dat-Bl'!$B$127:$F$246,5))","v":""}]
[null,"Bahn 4",{"$f":"IF(A60=\"\",\"\",VLOOKUP(A60,'Dat-Bl'!$B$127:$F$246,2))","v":""},{"$f":"IF(A60=\"\",\"\",VLOOKUP(A60,'Dat-Bl'!$B$127:$F$246,3))","v":""},{"$f":"IF(A60=\"\",\"\",VLOOKUP(A60,'Dat-Bl'!$B$127:$F$246,5))","v":""}]
[null,"Bahn 5",{"$f":"IF(A61=\"\",\"\",VLOOKUP(A61,'Dat-Bl'!$B$127:$F$246,2))","v":""},{"$f":"IF(A61=\"\",\"\",VLOOKUP(A61,'Dat-Bl'!$B$127:$F$246,3))","v":""},{"$f":"IF(A61=\"\",\"\",VLOOKUP(A61,'Dat-Bl'!$B$127:$F$246,5))","v":""}]
[null,"Bahn 6",{"$f":"IF(A62=\"\",\"\",VLOOKUP(A62,'Dat-Bl'!$B$127:$F$246,2))","v":""},{"$f":"IF(A62=\"\",\"\",VLOOKUP(A62,'Dat-Bl'!$B$127:$F$246,3))","v":""},{"$f":"IF(A62=\"\",\"\",VLOOKUP(A62,'Dat-Bl'!$B$127:$F$246,5))","v":""}]
[null,"Bahn 7",{"$f":"IF(A63=\"\",\"\",VLOOKUP(A63,'Dat-Bl'!$B$127:$F$246,2))","v":""},{"$f":"IF(A63=\"\",\"\",VLOOKUP(A63,'Dat-Bl'!$B$127:$F$246,3))","v":""},{"$f":"IF(A63=\"\",\"\",VLOOKUP(A63,'Dat-Bl'!$B$127:$F$246,5))","v":""}]
[null,"Bahn 8",{"$f":"IF(A64=\"\",\"\",VLOOKUP(A64,'Dat-Bl'!$B$127:$F$246,2))","v":""},{"$f":"IF(A64=\"\",\"\",VLOOKUP(A64,'Dat-Bl'!$B$127:$F$246,3))","v":""},{"$f":"IF(A64=\"\",\"\",VLOOKUP(A64,'Dat-Bl'!$B$127:$F$246,5))","v":""}]
["K-ziff","Lauf ","Startnr.:","Familienname Vorname",{"$f":"E38","v":"Schule-60m-weiblich_C /D - Sport"},"Zeit"]
[null,"Bahn 1",{"$f":"IF(A66=\"\",\"\",VLOOKUP(A66,'Dat-Bl'!$B$127:$F$246,2))","v":""},{"$f":"IF(A66=\"\",\"\",VLOOKUP(A66,'Dat-Bl'!$B$127:$F$246,3))","v":""},{"$f":"IF(A66=\"\",\"\",VLOOKUP(A66,'Dat-Bl'!$B$127:$F$246,5))","v":""}]
[null,"Bahn 2",{"$f":"IF(A67=\"\",\"\",VLOOKUP(A67,'Dat-Bl'!$B$127:$F$246,2))","v":""},{"$f":"IF(A67=\"\",\"\",VLOOKUP(A67,'Dat-Bl'!$B$127:$F$246,3))","v":""},{"$f":"IF(A67=\"\",\"\",VLOOKUP(A67,'Dat-Bl'!$B$127:$F$246,5))","v":""}]
[null,"Bahn 3",{"$f":"IF(A68=\"\",\"\",VLOOKUP(A68,'Dat-Bl'!$B$127:$F$246,2))","v":""},{"$f":"IF(A68=\"\",\"\",VLOOKUP(A68,'Dat-Bl'!$B$127:$F$246,3))","v":""},{"$f":"IF(A68=\"\",\"\",VLOOKUP(A68,'Dat-Bl'!$B$127:$F$246,5))","v":""}]
[null,"Bahn 4",{"$f":"IF(A69=\"\",\"\",VLOOKUP(A69,'Dat-Bl'!$B$127:$F$246,2))","v":""},{"$f":"IF(A69=\"\",\"\",VLOOKUP(A69,'Dat-Bl'!$B$127:$F$246,3))","v":""},{"$f":"IF(A69=\"\",\"\",VLOOKUP(A69,'Dat-Bl'!$B$127:$F$246,5))","v":""}]
[null,"Bahn 5",{"$f":"IF(A70=\"\",\"\",VLOOKUP(A70,'Dat-Bl'!$B$127:$F$246,2))","v":""},{"$f":"IF(A70=\"\",\"\",VLOOKUP(A70,'Dat-Bl'!$B$127:$F$246,3))","v":""},{"$f":"IF(A70=\"\",\"\",VLOOKUP(A70,'Dat-Bl'!$B$127:$F$246,5))","v":""}]
[null,"Bahn 6",{"$f":"IF(A71=\"\",\"\",VLOOKUP(A71,'Dat-Bl'!$B$127:$F$246,2))","v":""},{"$f":"IF(A71=\"\",\"\",VLOOKUP(A71,'Dat-Bl'!$B$127:$F$246,3))","v":""},{"$f":"IF(A71=\"\",\"\",VLOOKUP(A71,'Dat-Bl'!$B$127:$F$246,5))","v":""}]
[null,"Bahn 7",{"$f":"IF(A72=\"\",\"\",VLOOKUP(A72,'Dat-Bl'!$B$127:$F$246,2))","v":""},{"$f":"IF(A72=\"\",\"\",VLOOKUP(A72,'Dat-Bl'!$B$127:$F$246,3))","v":""},{"$f":"IF(A72=\"\",\"\",VLOOKUP(A72,'Dat-Bl'!$B$127:$F$246,5))","v":""}]
[null,"Bahn 8",{"$f":"IF(A73=\"\",\"\",VLOOKUP(A73,'Dat-Bl'!$B$127:$F$246,2))","v":""},{"$f":"IF(A73=\"\",\"\",VLOOKUP(A73,'Dat-Bl'!$B$127:$F$246,3))","v":""},{"$f":"IF(A73=\"\",\"\",VLOOKUP(A73,'Dat-Bl'!$B$127:$F$246,5))","v":""}]
[]
["K-ziff","Lauf ","Startnr.:","Familienname Vorname","Schule-60m-männlich_C / D - Regel","Zeit"]
[null,"Bahn 1",{"$f":"IF(A76=\"\",\"\",VLOOKUP(A76,'Dat-Bl'!$J$4:$N$123,2))","v":""},{"$f":"IF(A76=\"\",\"\",VLOOKUP(A76,'Dat-Bl'!$J$4:$N$123,3))","v":""},{"$f":"IF(A76=\"\",\"\",VLOOKUP(A76,'Dat-Bl'!$J$4:$N$123,5))","v":""}]
[null,"Bahn 2",{"$f":"IF(A77=\"\",\"\",VLOOKUP(A77,'Dat-Bl'!$J$4:$N$123,2))","v":""},{"$f":"IF(A77=\"\",\"\",VLOOKUP(A77,'Dat-Bl'!$J$4:$N$123,3))","v":""},{"$f":"IF(A77=\"\",\"\",VLOOKUP(A77,'Dat-Bl'!$J$4:$N$123,5))","v":""}]
[null,"Bahn 3",{"$f":"IF(A78=\"\",\"\",VLOOKUP(A78,'Dat-Bl'!$J$4:$N$123,2))","v":""},{"$f":"IF(A78=\"\",\"\",VLOOKUP(A78,'Dat-Bl'!$J$4:$N$123,3))","v":""},{"$f":"IF(A78=\"\",\"\",VLOOKUP(A78,'Dat-Bl'!$J$4:$N$123,5))","v":""}]
[null,"Bahn 4",{"$f":"IF(A79=\"\",\"\",VLOOKUP(A79,'Dat-Bl'!$J$4:$N$123,2))","v":""},{"$f":"IF(A79=\"\",\"\",VLOOKUP(A79,'Dat-Bl'!$J$4:$N$123,3))","v":""},{"$f":"IF(A79=\"\",\"\",VLOOKUP(A79,'Dat-Bl'!$J$4:$N$123,5))","v":""}]
[null,"Bahn 5",{"$f":"IF(A80=\"\",\"\",VLOOKUP(A80,'Dat-Bl'!$J$4:$N$123,2))","v":""},{"$f":"IF(A80=\"\",\"\",VLOOKUP(A80,'Dat-Bl'!$J$4:$N$123,3))","v":""},{"$f":"IF(A80=\"\",\"\",VLOOKUP(A80,'Dat-Bl'!$J$4:$N$123,5))","v":""}]
[null,"Bahn 6",{"$f":"IF(A81=\"\",\"\",VLOOKUP(A81,'Dat-Bl'!$J$4:$N$123,2))","v":""},{"$f":"IF(A81=\"\",\"\",VLOOKUP(A81,'Dat-Bl'!$J$4:$N$123,3))","v":""},{"$f":"IF(A81=\"\",\"\",VLOOKUP(A81,'Dat-Bl'!$J$4:$N$123,5))","v":""}]
[null,"Bahn 7",{"$f":"IF(A82=\"\",\"\",VLOOKUP(A82,'Dat-Bl'!$J$4:$N$123,2))","v":""},{"$f":"IF(A82=\"\",\"\",VLOOKUP(A82,'Dat-Bl'!$J$4:$N$123,3))","v":""},{"$f":"IF(A82=\"\",\"\",VLOOKUP(A82,'Dat-Bl'!$J$4:$N$123,5))","v":""}]
[null,"Bahn 8",{"$f":"IF(A83=\"\",\"\",VLOOKUP(A83,'Dat-Bl'!$J$4:$N$123,2))","v":""},{"$f":"IF(A83=\"\",\"\",VLOOKUP(A83,'Dat-Bl'!$J$4:$N$123,3))","v":""},{"$f":"IF(A83=\"\",\"\",VLOOKUP(A83,'Dat-Bl'!$J$4:$N$123,5))","v":""}]
["K-ziff","Lauf ","Startnr.:","Familienname Vorname",{"$f":"E75","v":"Schule-60m-männlich_C / D - Regel"},"Zeit"]
[null,"Bahn 1",{"$f":"IF(A85=\"\",\"\",VLOOKUP(A85,'Dat-Bl'!$J$4:$N$123,2))","v":""},{"$f":"IF(A85=\"\",\"\",VLOOKUP(A85,'Dat-Bl'!$J$4:$N$123,3))","v":""},{"$f":"IF(A85=\"\",\"\",VLOOKUP(A85,'Dat-Bl'!$J$4:$N$123,5))","v":""}]
[null,"Bahn 2",{"$f":"IF(A86=\"\",\"\",VLOOKUP(A86,'Dat-Bl'!$J$4:$N$123,2))","v":""},{"$f":"IF(A86=\"\",\"\",VLOOKUP(A86,'Dat-Bl'!$J$4:$N$123,3))","v":""},{"$f":"IF(A86=\"\",\"\",VLOOKUP(A86,'Dat-Bl'!$J$4:$N$123,5))","v":""}]
[null,"Bahn 3",{"$f":"IF(A87=\"\",\"\",VLOOKUP(A87,'Dat-Bl'!$J$4:$N$123,2))","v":""},{"$f":"IF(A87=\"\",\"\",VLOOKUP(A87,'Dat-Bl'!$J$4:$N$123,3))","v":""},{"$f":"IF(A87=\"\",\"\",VLOOKUP(A87,'Dat-Bl'!$J$4:$N$123,5))","v":""}]
[null,"Bahn 4",{"$f":"IF(A88=\"\",\"\",VLOOKUP(A88,'Dat-Bl'!$J$4:$N$123,2))","v":""},{"$f":"IF(A88=\"\",\"\",VLOOKUP(A88,'Dat-Bl'!$J$4:$N$123,3))","v":""},{"$f":"IF(A88=\"\",\"\",VLOOKUP(A88,'Dat-Bl'!$J$4:$N$123,5))","v":""}]
[null,"Bahn 5",{"$f":"IF(A89=\"\",\"\",VLOOKUP(A89,'Dat-Bl'!$J$4:$N$123,2))","v":""},{"$f":"IF(A89=\"\",\"\",VLOOKUP(A89,'Dat-Bl'!$J$4:$N$123,3))","v":""},{"$f":"IF(A89=\"\",\"\",VLOOKUP(A89,'Dat-Bl'!$J$4:$N$123,5))","v":""}]
[null,"Bahn 6",{"$f":"IF(A90=\"\",\"\",VLOOKUP(A90,'Dat-Bl'!$J$4:$N$123,2))","v":""},{"$f":"IF(A90=\"\",\"\",VLOOKUP(A90,'Dat-Bl'!$J$4:$N$123,3))","v":""},{"$f":"IF(A90=\"\",\"\",VLOOKUP(A90,'Dat-Bl'!$J$4:$N$123,5))","v":""}]
[null,"Bahn 7",{"$f":"IF(A91=\"\",\"\",VLOOKUP(A91,'Dat-Bl'!$J$4:$N$123,2))","v":""},{"$f":"IF(A91=\"\",\"\",VLOOKUP(A91,'Dat-Bl'!$J$4:$N$123,3))","v":""},{"$f":"IF(A91=\"\",\"\",VLOOKUP(A91,'Dat-Bl'!$J$4:$N$123,5))","v":""}]
[null,"Bahn 8",{"$f":"IF(A92=\"\",\"\",VLOOKUP(A92,'Dat-Bl'!$J$4:$N$123,2))","v":""},{"$f":"IF(A92=\"\",\"\",VLOOKUP(A92,'Dat-Bl'!$J$4:$N$123,3))","v":""},{"$f":"IF(A92=\"\",\"\",VLOOKUP(A92,'Dat-Bl'!$J$4:$N$123,5))","v":""}]
["K-ziff","Lauf ","Startnr.:","Familienname Vorname",{"$f":"E75","v":"Schule-60m-männlich_C / D - Regel"},"Zeit"]
[null,"Bahn 1",{"$f":"IF(A94=\"\",\"\",VLOOKUP(A94,'Dat-Bl'!$J$4:$N$123,2))","v":""},{"$f":"IF(A94=\"\",\"\",VLOOKUP(A94,'Dat-Bl'!$J$4:$N$123,3))","v":""},{"$f":"IF(A94=\"\",\"\",VLOOKUP(A94,'Dat-Bl'!$J$4:$N$123,5))","v":""}]
[null,"Bahn 2",{"$f":"IF(A95=\"\",\"\",VLOOKUP(A95,'Dat-Bl'!$J$4:$N$123,2))","v":""},{"$f":"IF(A95=\"\",\"\",VLOOKUP(A95,'Dat-Bl'!$J$4:$N$123,3))","v":""},{"$f":"IF(A95=\"\",\"\",VLOOKUP(A95,'Dat-Bl'!$J$4:$N$123,5))","v":""}]
[null,"Bahn 3",{"$f":"IF(A96=\"\",\"\",VLOOKUP(A96,'Dat-Bl'!$J$4:$N$123,2))","v":""},{"$f":"IF(A96=\"\",\"\",VLOOKUP(A96,'Dat-Bl'!$J$4:$N$123,3))","v":""},{"$f":"IF(A96=\"\",\"\",VLOOKUP(A96,'Dat-Bl'!$J$4:$N$123,5))","v":""}]
[null,"Bahn 4",{"$f":"IF(A97=\"\",\"\",VLOOKUP(A97,'Dat-Bl'!$J$4:$N$123,2))","v":""},{"$f":"IF(A97=\"\",\"\",VLOOKUP(A97,'Dat-Bl'!$J$4:$N$123,3))","v":""},{"$f":"IF(A97=\"\",\"\",VLOOKUP(A97,'Dat-Bl'!$J$4:$N$123,5))","v":""}]
[null,"Bahn 5",{"$f":"IF(A98=\"\",\"\",VLOOKUP(A98,'Dat-Bl'!$J$4:$N$123,2))","v":""},{"$f":"IF(A98=\"\",\"\",VLOOKUP(A98,'Dat-Bl'!$J$4:$N$123,3))","v":""},{"$f":"IF(A98=\"\",\"\",VLOOKUP(A98,'Dat-Bl'!$J$4:$N$123,5))","v":""}]
[null,"Bahn 6",{"$f":"IF(A99=\"\",\"\",VLOOKUP(A99,'Dat-Bl'!$J$4:$N$123,2))","v":""},{"$f":"IF(A99=\"\",\"\",VLOOKUP(A99,'Dat-Bl'!$J$4:$N$123,3))","v":""},{"$f":"IF(A99=\"\",\"\",VLOOKUP(A99,'Dat-Bl'!$J$4:$N$123,5))","v":""}]
[null,"Bahn 7",{"$f":"IF(A100=\"\",\"\",VLOOKUP(A100,'Dat-Bl'!$J$4:$N$123,2))","v":""},{"$f":"IF(A100=\"\",\"\",VLOOKUP(A100,'Dat-Bl'!$J$4:$N$123,3))","v":""},{"$f":"IF(A100=\"\",\"\",VLOOKUP(A100,'Dat-Bl'!$J$4:$N$123,5))","v":""}]
[null,"Bahn 8",{"$f":"IF(A101=\"\",\"\",VLOOKUP(A101,'Dat-Bl'!$J$4:$N$123,2))","v":""},{"$f":"IF(A101=\"\",\"\",VLOOKUP(A101,'Dat-Bl'!$J$4:$N$123,3))","v":""},{"$f":"IF(A101=\"\",\"\",VLOOKUP(A101,'Dat-Bl'!$J$4:$N$123,5))","v":""}]
["K-ziff","Lauf ","Startnr.:","Familienname Vorname",{"$f":"E75","v":"Schule-60m-männlich_C / D - Regel"},"Zeit"]
[null,"Bahn 1",{"$f":"IF(A103=\"\",\"\",VLOOKUP(A103,'Dat-Bl'!$J$4:$N$123,2))","v":""},{"$f":"IF(A103=\"\",\"\",VLOOKUP(A103,'Dat-Bl'!$J$4:$N$123,3))","v":""},{"$f":"IF(A103=\"\",\"\",VLOOKUP(A103,'Dat-Bl'!$J$4:$N$123,5))","v":""}]
[null,"Bahn 2",{"$f":"IF(A104=\"\",\"\",VLOOKUP(A104,'Dat-Bl'!$J$4:$N$123,2))","v":""},{"$f":"IF(A104=\"\",\"\",VLOOKUP(A104,'Dat-Bl'!$J$4:$N$123,3))","v":""},{"$f":"IF(A104=\"\",\"\",VLOOKUP(A104,'Dat-Bl'!$J$4:$N$123,5))","v":""}]
[null,"Bahn 3",{"$f":"IF(A105=\"\",\"\",VLOOKUP(A105,'Dat-Bl'!$J$4:$N$123,2))","v":""},{"$f":"IF(A105=\"\",\"\",VLOOKUP(A105,'Dat-Bl'!$J$4:$N$123,3))","v":""},{"$f":"IF(A105=\"\",\"\",VLOOKUP(A105,'Dat-Bl'!$J$4:$N$123,5))","v":""}]
[null,"Bahn 4",{"$f":"IF(A106=\"\",\"\",VLOOKUP(A106,'Dat-Bl'!$J$4:$N$123,2))","v":""},{"$f":"IF(A106=\"\",\"\",VLOOKUP(A106,'Dat-Bl'!$J$4:$N$123,3))","v":""},{"$f":"IF(A106=\"\",\"\",VLOOKUP(A106,'Dat-Bl'!$J$4:$N$123,5))","v":""}]
[null,"Bahn 5",{"$f":"IF(A107=\"\",\"\",VLOOKUP(A107,'Dat-Bl'!$J$4:$N$123,2))","v":""},{"$f":"IF(A107=\"\",\"\",VLOOKUP(A107,'Dat-Bl'!$J$4:$N$123,3))","v":""},{"$f":"IF(A107=\"\",\"\",VLOOKUP(A107,'Dat-Bl'!$J$4:$N$123,5))","v":""}]
[null,"Bahn 6",{"$f":"IF(A108=\"\",\"\",VLOOKUP(A108,'Dat-Bl'!$J$4:$N$123,2))","v":""},{"$f":"IF(A108=\"\",\"\",VLOOKUP(A108,'Dat-Bl'!$J$4:$N$123,3))","v":""},{"$f":"IF(A108=\"\",\"\",VLOOKUP(A108,'Dat-Bl'!$J$4:$N$123,5))","v":""}]
[null,"Bahn 7",{"$f":"IF(A109=\"\",\"\",VLOOKUP(A109,'Dat-Bl'!$J$4:$N$123,2))","v":""},{"$f":"IF(A109=\"\",\"\",VLOOKUP(A109,'Dat-Bl'!$J$4:$N$123,3))","v":""},{"$f":"IF(A109=\"\",\"\",VLOOKUP(A109,'Dat-Bl'!$J$4:$N$123,5))","v":""}]
[null,"Bahn 8",{"$f":"IF(A110=\"\",\"\",VLOOKUP(A110,'Dat-Bl'!$J$4:$N$123,2))","v":""},{"$f":"IF(A110=\"\",\"\",VLOOKUP(A110,'Dat-Bl'!$J$4:$N$123,3))","v":""},{"$f":"IF(A110=\"\",\"\",VLOOKUP(A110,'Dat-Bl'!$J$4:$N$123,5))","v":""}]
[]
["K-ziff","Lauf ","Startnr.:","Familienname Vorname","Schule-60m-männlich_C /D - Sport","Zeit"]
[null,"Bahn 1",{"$f":"IF(A113=\"\",\"\",VLOOKUP(A113,'Dat-Bl'!$J$127:$N$246,2))","v":""},{"$f":"IF(A113=\"\",\"\",VLOOKUP(A113,'Dat-Bl'!$J$127:$N$246,3))","v":""},{"$f":"IF(A113=\"\",\"\",VLOOKUP(A113,'Dat-Bl'!$J$127:$N$246,5))","v":""}]
[null,"Bahn 2",{"$f":"IF(A114=\"\",\"\",VLOOKUP(A114,'Dat-Bl'!$J$127:$N$246,2))","v":""},{"$f":"IF(A114=\"\",\"\",VLOOKUP(A114,'Dat-Bl'!$J$127:$N$246,3))","v":""},{"$f":"IF(A114=\"\",\"\",VLOOKUP(A114,'Dat-Bl'!$J$127:$N$246,5))","v":""}]
[null,"Bahn 3",{"$f":"IF(A115=\"\",\"\",VLOOKUP(A115,'Dat-Bl'!$J$127:$N$246,2))","v":""},{"$f":"IF(A115=\"\",\"\",VLOOKUP(A115,'Dat-Bl'!$J$127:$N$246,3))","v":""},{"$f":"IF(A115=\"\",\"\",VLOOKUP(A115,'Dat-Bl'!$J$127:$N$246,5))","v":""}]
[null,"Bahn 4",{"$f":"IF(A116=\"\",\"\",VLOOKUP(A116,'Dat-Bl'!$J$127:$N$246,2))","v":""},{"$f":"IF(A116=\"\",\"\",VLOOKUP(A116,'Dat-Bl'!$J$127:$N$246,3))","v":""},{"$f":"IF(A116=\"\",\"\",VLOOKUP(A116,'Dat-Bl'!$J$127:$N$246,5))","v":""}]
[null,"Bahn 5",{"$f":"IF(A117=\"\",\"\",VLOOKUP(A117,'Dat-Bl'!$J$127:$N$246,2))","v":""},{"$f":"IF(A117=\"\",\"\",VLOOKUP(A117,'Dat-Bl'!$J$127:$N$246,3))","v":""},{"$f":"IF(A117=\"\",\"\",VLOOKUP(A117,'Dat-Bl'!$J$127:$N$246,5))","v":""}]
[null,"Bahn 6",{"$f":"IF(A118=\"\",\"\",VLOOKUP(A118,'Dat-Bl'!$J$127:$N$246,2))","v":""},{"$f":"IF(A118=\"\",\"\",VLOOKUP(A118,'Dat-Bl'!$J$127:$N$246,3))","v":""},{"$f":"IF(A118=\"\",\"\",VLOOKUP(A118,'Dat-Bl'!$J$127:$N$246,5))","v":""}]
[null,"Bahn 7",{"$f":"IF(A119=\"\",\"\",VLOOKUP(A119,'Dat-Bl'!$J$127:$N$246,2))","v":""},{"$f":"IF(A119=\"\",\"\",VLOOKUP(A119,'Dat-Bl'!$J$127:$N$246,3))","v":""},{"$f":"IF(A119=\"\",\"\",VLOOKUP(A119,'Dat-Bl'!$J$127:$N$246,5))","v":""}]
[null,"Bahn 8",{"$f":"IF(A120=\"\",\"\",VLOOKUP(A120,'Dat-Bl'!$J$127:$N$246,2))","v":""},{"$f":"IF(A120=\"\",\"\",VLOOKUP(A120,'Dat-Bl'!$J$127:$N$246,3))","v":""},{"$f":"IF(A120=\"\",\"\",VLOOKUP(A120,'Dat-Bl'!$J$127:$N$246,5))","v":""}]
["K-ziff","Lauf ","Startnr.:","Familienname Vorname",{"$f":"E112","v":"Schule-60m-männlich_C /D - Sport"},"Zeit"]
[null,"Bahn 1",{"$f":"IF(A122=\"\",\"\",VLOOKUP(A122,'Dat-Bl'!$J$127:$N$246,2))","v":""},{"$f":"IF(A122=\"\",\"\",VLOOKUP(A122,'Dat-Bl'!$J$127:$N$246,3))","v":""},{"$f":"IF(A122=\"\",\"\",VLOOKUP(A122,'Dat-Bl'!$J$127:$N$246,5))","v":""}]
[null,"Bahn 2",{"$f":"IF(A123=\"\",\"\",VLOOKUP(A123,'Dat-Bl'!$J$127:$N$246,2))","v":""},{"$f":"IF(A123=\"\",\"\",VLOOKUP(A123,'Dat-Bl'!$J$127:$N$246,3))","v":""},{"$f":"IF(A123=\"\",\"\",VLOOKUP(A123,'Dat-Bl'!$J$127:$N$246,5))","v":""}]
[null,"Bahn 3",{"$f":"IF(A124=\"\",\"\",VLOOKUP(A124,'Dat-Bl'!$J$127:$N$246,2))","v":""},{"$f":"IF(A124=\"\",\"\",VLOOKUP(A124,'Dat-Bl'!$J$127:$N$246,3))","v":""},{"$f":"IF(A124=\"\",\"\",VLOOKUP(A124,'Dat-Bl'!$J$127:$N$246,5))","v":""}]
[null,"Bahn 4",{"$f":"IF(A125=\"\",\"\",VLOOKUP(A125,'Dat-Bl'!$J$127:$N$246,2))","v":""},{"$f":"IF(A125=\"\",\"\",VLOOKUP(A125,'Dat-Bl'!$J$127:$N$246,3))","v":""},{"$f":"IF(A125=\"\",\"\",VLOOKUP(A125,'Dat-Bl'!$J$127:$N$246,5))","v":""}]
[null,"Bahn 5",{"$f":"IF(A126=\"\",\"\",VLOOKUP(A126,'Dat-Bl'!$J$127:$N$246,2))","v":""},{"$f":"IF(A126=\"\",\"\",VLOOKUP(A126,'Dat-Bl'!$J$127:$N$246,3))","v":""},{"$f":"IF(A126=\"\",\"\",VLOOKUP(A126,'Dat-Bl'!$J$127:$N$246,5))","v":""}]
[null,"Bahn 6",{"$f":"IF(A127=\"\",\"\",VLOOKUP(A127,'Dat-Bl'!$J$127:$N$246,2))","v":""},{"$f":"IF(A127=\"\",\"\",VLOOKUP(A127,'Dat-Bl'!$J$127:$N$246,3))","v":""},{"$f":"IF(A127=\"\",\"\",VLOOKUP(A127,'Dat-Bl'!$J$127:$N$246,5))","v":""}]
[null,"Bahn 7",{"$f":"IF(A128=\"\",\"\",VLOOKUP(A128,'Dat-Bl'!$J$127:$N$246,2))","v":""},{"$f":"IF(A128=\"\",\"\",VLOOKUP(A128,'Dat-Bl'!$J$127:$N$246,3))","v":""},{"$f":"IF(A128=\"\",\"\",VLOOKUP(A128,'Dat-Bl'!$J$127:$N$246,5))","v":""}]
[null,"Bahn 8",{"$f":"IF(A129=\"\",\"\",VLOOKUP(A129,'Dat-Bl'!$J$127:$N$246,2))","v":""},{"$f":"IF(A129=\"\",\"\",VLOOKUP(A129,'Dat-Bl'!$J$127:$N$246,3))","v":""},{"$f":"IF(A129=\"\",\"\",VLOOKUP(A129,'Dat-Bl'!$J$127:$N$246,5))","v":""}]
["K-ziff","Lauf ","Startnr.:","Familienname Vorname",{"$f":"E112","v":"Schule-60m-männlich_C /D - Sport"},"Zeit"]
[null,"Bahn 1",{"$f":"IF(A131=\"\",\"\",VLOOKUP(A131,'Dat-Bl'!$J$127:$N$246,2))","v":""},{"$f":"IF(A131=\"\",\"\",VLOOKUP(A131,'Dat-Bl'!$J$127:$N$246,3))","v":""},{"$f":"IF(A131=\"\",\"\",VLOOKUP(A131,'Dat-Bl'!$J$127:$N$246,5))","v":""}]
[null,"Bahn 2",{"$f":"IF(A132=\"\",\"\",VLOOKUP(A132,'Dat-Bl'!$J$127:$N$246,2))","v":""},{"$f":"IF(A132=\"\",\"\",VLOOKUP(A132,'Dat-Bl'!$J$127:$N$246,3))","v":""},{"$f":"IF(A132=\"\",\"\",VLOOKUP(A132,'Dat-Bl'!$J$127:$N$246,5))","v":""}]
[null,"Bahn 3",{"$f":"IF(A133=\"\",\"\",VLOOKUP(A133,'Dat-Bl'!$J$127:$N$246,2))","v":""},{"$f":"IF(A133=\"\",\"\",VLOOKUP(A133,'Dat-Bl'!$J$127:$N$246,3))","v":""},{"$f":"IF(A133=\"\",\"\",VLOOKUP(A133,'Dat-Bl'!$J$127:$N$246,5))","v":""}]
[null,"Bahn 4",{"$f":"IF(A134=\"\",\"\",VLOOKUP(A134,'Dat-Bl'!$J$127:$N$246,2))","v":""},{"$f":"IF(A134=\"\",\"\",VLOOKUP(A134,'Dat-Bl'!$J$127:$N$246,3))","v":""},{"$f":"IF(A134=\"\",\"\",VLOOKUP(A134,'Dat-Bl'!$J$127:$N$246,5))","v":""}]
[null,"Bahn 5",{"$f":"IF(A135=\"\",\"\",VLOOKUP(A135,'Dat-Bl'!$J$127:$N$246,2))","v":""},{"$f":"IF(A135=\"\",\"\",VLOOKUP(A135,'Dat-Bl'!$J$127:$N$246,3))","v":""},{"$f":"IF(A135=\"\",\"\",VLOOKUP(A135,'Dat-Bl'!$J$127:$N$246,5))","v":""}]
[null,"Bahn 6",{"$f":"IF(A136=\"\",\"\",VLOOKUP(A136,'Dat-Bl'!$J$127:$N$246,2))","v":""},{"$f":"IF(A136=\"\",\"\",VLOOKUP(A136,'Dat-Bl'!$J$127:$N$246,3))","v":""},{"$f":"IF(A136=\"\",\"\",VLOOKUP(A136,'Dat-Bl'!$J$127:$N$246,5))","v":""}]
[null,"Bahn 7",{"$f":"IF(A137=\"\",\"\",VLOOKUP(A137,'Dat-Bl'!$J$127:$N$246,2))","v":""},{"$f":"IF(A137=\"\",\"\",VLOOKUP(A137,'Dat-Bl'!$J$127:$N$246,3))","v":""},{"$f":"IF(A137=\"\",\"\",VLOOKUP(A137,'Dat-Bl'!$J$127:$N$246,5))","v":""}]
[null,"Bahn 8",{"$f":"IF(A138=\"\",\"\",VLOOKUP(A138,'Dat-Bl'!$J$127:$N$246,2))","v":""},{"$f":"IF(A138=\"\",\"\",VLOOKUP(A138,'Dat-Bl'!$J$127:$N$246,3))","v":""},{"$f":"IF(A138=\"\",\"\",VLOOKUP(A138,'Dat-Bl'!$J$127:$N$246,5))","v":""}]
["K-ziff","Lauf ","Startnr.:","Familienname Vorname",{"$f":"E112","v":"Schule-60m-männlich_C /D - Sport"},"Zeit"]
[null,"Bahn 1",{"$f":"IF(A140=\"\",\"\",VLOOKUP(A140,'Dat-Bl'!$J$127:$N$246,2))","v":""},{"$f":"IF(A140=\"\",\"\",VLOOKUP(A140,'Dat-Bl'!$J$127:$N$246,3))","v":""},{"$f":"IF(A140=\"\",\"\",VLOOKUP(A140,'Dat-Bl'!$J$127:$N$246,5))","v":""}]
[null,"Bahn 2",{"$f":"IF(A141=\"\",\"\",VLOOKUP(A141,'Dat-Bl'!$J$127:$N$246,2))","v":""},{"$f":"IF(A141=\"\",\"\",VLOOKUP(A141,'Dat-Bl'!$J$127:$N$246,3))","v":""},{"$f":"IF(A141=\"\",\"\",VLOOKUP(A141,'Dat-Bl'!$J$127:$N$246,5))","v":""}]
[null,"Bahn 3",{"$f":"IF(A142=\"\",\"\",VLOOKUP(A142,'Dat-Bl'!$J$127:$N$246,2))","v":""},{"$f":"IF(A142=\"\",\"\",VLOOKUP(A142,'Dat-Bl'!$J$127:$N$246,3))","v":""},{"$f":"IF(A142=\"\",\"\",VLOOKUP(A142,'Dat-Bl'!$J$127:$N$246,5))","v":""}]
[null,"Bahn 4",{"$f":"IF(A143=\"\",\"\",VLOOKUP(A143,'Dat-Bl'!$J$127:$N$246,2))","v":""},{"$f":"IF(A143=\"\",\"\",VLOOKUP(A143,'Dat-Bl'!$J$127:$N$246,3))","v":""},{"$f":"IF(A143=\"\",\"\",VLOOKUP(A143,'Dat-Bl'!$J$127:$N$246,5))","v":""}]
[null,"Bahn 5",{"$f":"IF(A144=\"\",\"\",VLOOKUP(A144,'Dat-Bl'!$J$127:$N$246,2))","v":""},{"$f":"IF(A144=\"\",\"\",VLOOKUP(A144,'Dat-Bl'!$J$127:$N$246,3))","v":""},{"$f":"IF(A144=\"\",\"\",VLOOKUP(A144,'Dat-Bl'!$J$127:$N$246,5))","v":""}]
[null,"Bahn 6",{"$f":"IF(A145=\"\",\"\",VLOOKUP(A145,'Dat-Bl'!$J$127:$N$246,2))","v":""},{"$f":"IF(A145=\"\",\"\",VLOOKUP(A145,'Dat-Bl'!$J$127:$N$246,3))","v":""},{"$f":"IF(A145=\"\",\"\",VLOOKUP(A145,'Dat-Bl'!$J$127:$N$246,5))","v":""}]
[null,"Bahn 7",{"$f":"IF(A146=\"\",\"\",VLOOKUP(A146,'Dat-Bl'!$J$127:$N$246,2))","v":""},{"$f":"IF(A146=\"\",\"\",VLOOKUP(A146,'Dat-Bl'!$J$127:$N$246,3))","v":""},{"$f":"IF(A146=\"\",\"\",VLOOKUP(A146,'Dat-Bl'!$J$127:$N$246,5))","v":""}]
[null,"Bahn 8",{"$f":"IF(A147=\"\",\"\",VLOOKUP(A147,'Dat-Bl'!$J$127:$N$246,2))","v":""},{"$f":"IF(A147=\"\",\"\",VLOOKUP(A147,'Dat-Bl'!$J$127:$N$246,3))","v":""},{"$f":"IF(A147=\"\",\"\",VLOOKUP(A147,'Dat-Bl'!$J$127:$N$246,5))","v":""}]

{"sheet":"P-60 m (3)","index":7,"n_rows":147,"n_cols":6,"rows_kept":147,"cut":false,"hidden":false,"merged":[]}
["K-ziff","Lauf ","Startnr.:","Familienname Vorname","Schule-60m-weiblich_C / D - Regel","Zeit"]
[49,"Bahn 1",{"$f":"IF(A2=\"\",\"\",VLOOKUP(A2,'Dat-Bl'!$B$4:$F$123,2))","v":0},{"$f":"IF(A2=\"\",\"\",VLOOKUP(A2,'Dat-Bl'!$B$4:$F$123,3))","v":"Kassin Larissa"},{"$f":"IF(A2=\"\",\"\",VLOOKUP(A2,'Dat-Bl'!$B$4:$F$123,5))","v":"NMS Landskron"}]
[50,"Bahn 2",{"$f":"IF(A3=\"\",\"\",VLOOKUP(A3,'Dat-Bl'!$B$4:$F$123,2))","v":0},{"$f":"IF(A3=\"\",\"\",VLOOKUP(A3,'Dat-Bl'!$B$4:$F$123,3))","v":"Wiener Sophie"},{"$f":"IF(A3=\"\",\"\",VLOOKUP(A3,'Dat-Bl'!$B$4:$F$123,5))","v":"NMS Landskron"}]
[51,"Bahn 3",{"$f":"IF(A4=\"\",\"\",VLOOKUP(A4,'Dat-Bl'!$B$4:$F$123,2))","v":0},{"$f":"IF(A4=\"\",\"\",VLOOKUP(A4,'Dat-Bl'!$B$4:$F$123,3))","v":"Neumann Lisa"},{"$f":"IF(A4=\"\",\"\",VLOOKUP(A4,'Dat-Bl'!$B$4:$F$123,5))","v":"NMS Landskron"}]
[52,"Bahn 4",{"$f":"IF(A5=\"\",\"\",VLOOKUP(A5,'Dat-Bl'!$B$4:$F$123,2))","v":0},{"$f":"IF(A5=\"\",\"\",VLOOKUP(A5,'Dat-Bl'!$B$4:$F$123,3))","v":"Pinzer Alina"},{"$f":"IF(A5=\"\",\"\",VLOOKUP(A5,'Dat-Bl'!$B$4:$F$123,5))","v":"NMS Landskron"}]
[53,"Bahn 5",{"$f":"IF(A6=\"\",\"\",VLOOKUP(A6,'Dat-Bl'!$B$4:$F$123,2))","v":0},{"$f":"IF(A6=\"\",\"\",VLOOKUP(A6,'Dat-Bl'!$B$4:$F$123,3))","v":"Santner Fabienne"},{"$f":"IF(A6=\"\",\"\",VLOOKUP(A6,'Dat-Bl'!$B$4:$F$123,5))","v":"NMS Landskron"}]
[54,"Bahn 6",{"$f":"IF(A7=\"\",\"\",VLOOKUP(A7,'Dat-Bl'!$B$4:$F$123,2))","v":0},{"$f":"IF(A7=\"\",\"\",VLOOKUP(A7,'Dat-Bl'!$B$4:$F$123,3))","v":"Petscher Maria"},{"$f":"IF(A7=\"\",\"\",VLOOKUP(A7,'Dat-Bl'!$B$4:$F$123,5))","v":"NMS Landskron"}]
[null,"Bahn 7",{"$f":"IF(A8=\"\",\"\",VLOOKUP(A8,'Dat-Bl'!$B$4:$F$123,2))","v":""},{"$f":"IF(A8=\"\",\"\",VLOOKUP(A8,'Dat-Bl'!$B$4:$F$123,3))","v":""},{"$f":"IF(A8=\"\",\"\",VLOOKUP(A8,'Dat-Bl'!$B$4:$F$123,5))","v":""}]
[null,"Bahn 8",{"$f":"IF(A9=\"\",\"\",VLOOKUP(A9,'Dat-Bl'!$B$4:$F$123,2))","v":""},{"$f":"IF(A9=\"\",\"\",VLOOKUP(A9,'Dat-Bl'!$B$4:$F$123,3))","v":""},{"$f":"IF(A9=\"\",\"\",VLOOKUP(A9,'Dat-Bl'!$B$4:$F$123,5))","v":""}]
["K-ziff","Lauf ","Startnr.:","Familienname Vorname",{"$f":"E1","v":"Schule-60m-weiblich_C / D - Regel"},"Zeit"]
[55,"Bahn 1",{"$f":"IF(A11=\"\",\"\",VLOOKUP(A11,'Dat-Bl'!$B$4:$F$123,2))","v":0},{"$f":"IF(A11=\"\",\"\",VLOOKUP(A11,'Dat-Bl'!$B$4:$F$123,3))","v":"Edlmann Chiara"},{"$f":"IF(A11=\"\",\"\",VLOOKUP(A11,'Dat-Bl'!$B$4:$F$123,5))","v":"NMS Viktring"}]
[56,"Bahn 2",{"$f":"IF(A12=\"\",\"\",VLOOKUP(A12,'Dat-Bl'!$B$4:$F$123,2))","v":0},{"$f":"IF(A12=\"\",\"\",VLOOKUP(A12,'Dat-Bl'!$B$4:$F$123,3))","v":"Toth Lili"},{"$f":"IF(A12=\"\",\"\",VLOOKUP(A12,'Dat-Bl'!$B$4:$F$123,5))","v":"NMS Viktring"}]
[57,"Bahn 3",{"$f":"IF(A13=\"\",\"\",VLOOKUP(A13,'Dat-Bl'!$B$4:$F$123,2))","v":0},{"$f":"IF(A13=\"\",\"\",VLOOKUP(A13,'Dat-Bl'!$B$4:$F$123,3))","v":"Krnjic Sonja"},{"$f":"IF(A13=\"\",\"\",VLOOKUP(A13,'Dat-Bl'!$B$4:$F$123,5))","v":"NMS Viktring"}]
[58,"Bahn 4",{"$f":"IF(A14=\"\",\"\",VLOOKUP(A14,'Dat-Bl'!$B$4:$F$123,2))","v":0},{"$f":"IF(A14=\"\",\"\",VLOOKUP(A14,'Dat-Bl'!$B$4:$F$123,3))","v":"Esel Michelle"},{"$f":"IF(A14=\"\",\"\",VLOOKUP(A14,'Dat-Bl'!$B$4:$F$123,5))","v":"NMS Viktring"}]
[59,"Bahn 5",{"$f":"IF(A15=\"\",\"\",VLOOKUP(A15,'Dat-Bl'!$B$4:$F$123,2))","v":0},{"$f":"IF(A15=\"\",\"\",VLOOKUP(A15,'Dat-Bl'!$B$4:$F$123,3))","v":"Bierbaumer Selina"},{"$f":"IF(A15=\"\",\"\",VLOOKUP(A15,'Dat-Bl'!$B$4:$F$123,5))","v":"NMS Viktring"}]
[60,"Bahn 6",{"$f":"IF(A16=\"\",\"\",VLOOKUP(A16,'Dat-Bl'!$B$4:$F$123,2))","v":0},{"$f":"IF(A16=\"\",\"\",VLOOKUP(A16,'Dat-Bl'!$B$4:$F$123,3))","v":"Herkner Anna"},{"$f":"IF(A16=\"\",\"\",VLOOKUP(A16,'Dat-Bl'!$B$4:$F$123,5))","v":"NMS Viktring"}]
[null,"Bahn 7",{"$f":"IF(A17=\"\",\"\",VLOOKUP(A17,'Dat-Bl'!$B$4:$F$123,2))","v":""},{"$f":"IF(A17=\"\",\"\",VLOOKUP(A17,'Dat-Bl'!$B$4:$F$123,3))","v":""},{"$f":"IF(A17=\"\",\"\",VLOOKUP(A17,'Dat-Bl'!$B$4:$F$123,5))","v":""}]
[null,"Bahn 8",{"$f":"IF(A18=\"\",\"\",VLOOKUP(A18,'Dat-Bl'!$B$4:$F$123,2))","v":""},{"$f":"IF(A18=\"\",\"\",VLOOKUP(A18,'Dat-Bl'!$B$4:$F$123,3))","v":""},{"$f":"IF(A18=\"\",\"\",VLOOKUP(A18,'Dat-Bl'!$B$4:$F$123,5))","v":""}]
["K-ziff","Lauf ","Startnr.:","Familienname Vorname",{"$f":"E1","v":"Schule-60m-weiblich_C / D - Regel"},"Zeit"]
[61,"Bahn 1",{"$f":"IF(A20=\"\",\"\",VLOOKUP(A20,'Dat-Bl'!$B$4:$F$123,2))","v":0},{"$f":"IF(A20=\"\",\"\",VLOOKUP(A20,'Dat-Bl'!$B$4:$F$123,3))","v":"Ebner Elena"},{"$f":"IF(A20=\"\",\"\",VLOOKUP(A20,'Dat-Bl'!$B$4:$F$123,5))","v":"RNMS Feldkirchen"}]
[62,"Bahn 2",{"$f":"IF(A21=\"\",\"\",VLOOKUP(A21,'Dat-Bl'!$B$4:$F$123,2))","v":0},{"$f":"IF(A21=\"\",\"\",VLOOKUP(A21,'Dat-Bl'!$B$4:$F$123,3))","v":"Reiter Katharina"},{"$f":"IF(A21=\"\",\"\",VLOOKUP(A21,'Dat-Bl'!$B$4:$F$123,5))","v":"RNMS Feldkirchen"}]
[63,"Bahn 3",{"$f":"IF(A22=\"\",\"\",VLOOKUP(A22,'Dat-Bl'!$B$4:$F$123,2))","v":0},{"$f":"IF(A22=\"\",\"\",VLOOKUP(A22,'Dat-Bl'!$B$4:$F$123,3))","v":"Hinteregger Katrin"},{"$f":"IF(A22=\"\",\"\",VLOOKUP(A22,'Dat-Bl'!$B$4:$F$123,5))","v":"RNMS Feldkirchen"}]
[64,"Bahn 4",{"$f":"IF(A23=\"\",\"\",VLOOKUP(A23,'Dat-Bl'!$B$4:$F$123,2))","v":0},{"$f":"IF(A23=\"\",\"\",VLOOKUP(A23,'Dat-Bl'!$B$4:$F$123,3))","v":"Kircher Florentina"},{"$f":"IF(A23=\"\",\"\",VLOOKUP(A23,'Dat-Bl'!$B$4:$F$123,5))","v":"RNMS Feldkirchen"}]
[65,"Bahn 5",{"$f":"IF(A24=\"\",\"\",VLOOKUP(A24,'Dat-Bl'!$B$4:$F$123,2))","v":0},{"$f":"IF(A24=\"\",\"\",VLOOKUP(A24,'Dat-Bl'!$B$4:$F$123,3))","v":"Mühlbacher Nina"},{"$f":"IF(A24=\"\",\"\",VLOOKUP(A24,'Dat-Bl'!$B$4:$F$123,5))","v":"RNMS Feldkirchen"}]
[66,"Bahn 6",{"$f":"IF(A25=\"\",\"\",VLOOKUP(A25,'Dat-Bl'!$B$4:$F$123,2))","v":0},{"$f":"IF(A25=\"\",\"\",VLOOKUP(A25,'Dat-Bl'!$B$4:$F$123,3))","v":"Petrascu Elisabeth"},{"$f":"IF(A25=\"\",\"\",VLOOKUP(A25,'Dat-Bl'!$B$4:$F$123,5))","v":"RNMS Feldkirchen"}]
[null,"Bahn 7",{"$f":"IF(A26=\"\",\"\",VLOOKUP(A26,'Dat-Bl'!$B$4:$F$123,2))","v":""},{"$f":"IF(A26=\"\",\"\",VLOOKUP(A26,'Dat-Bl'!$B$4:$F$123,3))","v":""},{"$f":"IF(A26=\"\",\"\",VLOOKUP(A26,'Dat-Bl'!$B$4:$F$123,5))","v":""}]
[null,"Bahn 8",{"$f":"IF(A27=\"\",\"\",VLOOKUP(A27,'Dat-Bl'!$B$4:$F$123,2))","v":""},{"$f":"IF(A27=\"\",\"\",VLOOKUP(A27,'Dat-Bl'!$B$4:$F$123,3))","v":""},{"$f":"IF(A27=\"\",\"\",VLOOKUP(A27,'Dat-Bl'!$B$4:$F$123,5))","v":""}]
["K-ziff","Lauf ","Startnr.:","Familienname Vorname",{"$f":"E1","v":"Schule-60m-weiblich_C / D - Regel"},"Zeit"]
[null,"Bahn 1",{"$f":"IF(A29=\"\",\"\",VLOOKUP(A29,'Dat-Bl'!$B$4:$F$123,2))","v":""},{"$f":"IF(A29=\"\",\"\",VLOOKUP(A29,'Dat-Bl'!$B$4:$F$123,3))","v":""},{"$f":"IF(A29=\"\",\"\",VLOOKUP(A29,'Dat-Bl'!$B$4:$F$123,5))","v":""}]
[null,"Bahn 2",{"$f":"IF(A30=\"\",\"\",VLOOKUP(A30,'Dat-Bl'!$B$4:$F$123,2))","v":""},{"$f":"IF(A30=\"\",\"\",VLOOKUP(A30,'Dat-Bl'!$B$4:$F$123,3))","v":""},{"$f":"IF(A30=\"\",\"\",VLOOKUP(A30,'Dat-Bl'!$B$4:$F$123,5))","v":""}]
[null,"Bahn 3",{"$f":"IF(A31=\"\",\"\",VLOOKUP(A31,'Dat-Bl'!$B$4:$F$123,2))","v":""},{"$f":"IF(A31=\"\",\"\",VLOOKUP(A31,'Dat-Bl'!$B$4:$F$123,3))","v":""},{"$f":"IF(A31=\"\",\"\",VLOOKUP(A31,'Dat-Bl'!$B$4:$F$123,5))","v":""}]
[null,"Bahn 4",{"$f":"IF(A32=\"\",\"\",VLOOKUP(A32,'Dat-Bl'!$B$4:$F$123,2))","v":""},{"$f":"IF(A32=\"\",\"\",VLOOKUP(A32,'Dat-Bl'!$B$4:$F$123,3))","v":""},{"$f":"IF(A32=\"\",\"\",VLOOKUP(A32,'Dat-Bl'!$B$4:$F$123,5))","v":""}]
[null,"Bahn 5",{"$f":"IF(A33=\"\",\"\",VLOOKUP(A33,'Dat-Bl'!$B$4:$F$123,2))","v":""},{"$f":"IF(A33=\"\",\"\",VLOOKUP(A33,'Dat-Bl'!$B$4:$F$123,3))","v":""},{"$f":"IF(A33=\"\",\"\",VLOOKUP(A33,'Dat-Bl'!$B$4:$F$123,5))","v":""}]
[null,"Bahn 6",{"$f":"IF(A34=\"\",\"\",VLOOKUP(A34,'Dat-Bl'!$B$4:$F$123,2))","v":""},{"$f":"IF(A34=\"\",\"\",VLOOKUP(A34,'Dat-Bl'!$B$4:$F$123,3))","v":""},{"$f":"IF(A34=\"\",\"\",VLOOKUP(A34,'Dat-Bl'!$B$4:$F$123,5))","v":""}]
[null,"Bahn 7",{"$f":"IF(A35=\"\",\"\",VLOOKUP(A35,'Dat-Bl'!$B$4:$F$123,2))","v":""},{"$f":"IF(A35=\"\",\"\",VLOOKUP(A35,'Dat-Bl'!$B$4:$F$123,3))","v":""},{"$f":"IF(A35=\"\",\"\",VLOOKUP(A35,'Dat-Bl'!$B$4:$F$123,5))","v":""}]
[null,"Bahn 8",{"$f":"IF(A36=\"\",\"\",VLOOKUP(A36,'Dat-Bl'!$B$4:$F$123,2))","v":""},{"$f":"IF(A36=\"\",\"\",VLOOKUP(A36,'Dat-Bl'!$B$4:$F$123,3))","v":""},{"$f":"IF(A36=\"\",\"\",VLOOKUP(A36,'Dat-Bl'!$B$4:$F$123,5))","v":""}]
[]
["K-ziff","Lauf ","Startnr.:","Familienname Vorname","Schule-60m-weiblich_C /D - Sport","Zeit"]
[null,"Bahn 1",{"$f":"IF(A39=\"\",\"\",VLOOKUP(A39,'Dat-Bl'!$B$127:$F$246,2))","v":""},{"$f":"IF(A39=\"\",\"\",VLOOKUP(A39,'Dat-Bl'!$B$127:$F$246,3))","v":""},{"$f":"IF(A39=\"\",\"\",VLOOKUP(A39,'Dat-Bl'!$B$127:$F$246,5))","v":""}]
[null,"Bahn 2",{"$f":"IF(A40=\"\",\"\",VLOOKUP(A40,'Dat-Bl'!$B$127:$F$246,2))","v":""},{"$f":"IF(A40=\"\",\"\",VLOOKUP(A40,'Dat-Bl'!$B$127:$F$246,3))","v":""},{"$f":"IF(A40=\"\",\"\",VLOOKUP(A40,'Dat-Bl'!$B$127:$F$246,5))","v":""}]
[null,"Bahn 3",{"$f":"IF(A41=\"\",\"\",VLOOKUP(A41,'Dat-Bl'!$B$127:$F$246,2))","v":""},{"$f":"IF(A41=\"\",\"\",VLOOKUP(A41,'Dat-Bl'!$B$127:$F$246,3))","v":""},{"$f":"IF(A41=\"\",\"\",VLOOKUP(A41,'Dat-Bl'!$B$127:$F$246,5))","v":""}]
[null,"Bahn 4",{"$f":"IF(A42=\"\",\"\",VLOOKUP(A42,'Dat-Bl'!$B$127:$F$246,2))","v":""},{"$f":"IF(A42=\"\",\"\",VLOOKUP(A42,'Dat-Bl'!$B$127:$F$246,3))","v":""},{"$f":"IF(A42=\"\",\"\",VLOOKUP(A42,'Dat-Bl'!$B$127:$F$246,5))","v":""}]
[null,"Bahn 5",{"$f":"IF(A43=\"\",\"\",VLOOKUP(A43,'Dat-Bl'!$B$127:$F$246,2))","v":""},{"$f":"IF(A43=\"\",\"\",VLOOKUP(A43,'Dat-Bl'!$B$127:$F$246,3))","v":""},{"$f":"IF(A43=\"\",\"\",VLOOKUP(A43,'Dat-Bl'!$B$127:$F$246,5))","v":""}]
[null,"Bahn 6",{"$f":"IF(A44=\"\",\"\",VLOOKUP(A44,'Dat-Bl'!$B$127:$F$246,2))","v":""},{"$f":"IF(A44=\"\",\"\",VLOOKUP(A44,'Dat-Bl'!$B$127:$F$246,3))","v":""},{"$f":"IF(A44=\"\",\"\",VLOOKUP(A44,'Dat-Bl'!$B$127:$F$246,5))","v":""}]
[null,"Bahn 7",{"$f":"IF(A45=\"\",\"\",VLOOKUP(A45,'Dat-Bl'!$B$127:$F$246,2))","v":""},{"$f":"IF(A45=\"\",\"\",VLOOKUP(A45,'Dat-Bl'!$B$127:$F$246,3))","v":""},{"$f":"IF(A45=\"\",\"\",VLOOKUP(A45,'Dat-Bl'!$B$127:$F$246,5))","v":""}]
[null,"Bahn 8",{"$f":"IF(A46=\"\",\"\",VLOOKUP(A46,'Dat-Bl'!$B$127:$F$246,2))","v":""},{"$f":"IF(A46=\"\",\"\",VLOOKUP(A46,'Dat-Bl'!$B$127:$F$246,3))","v":""},{"$f":"IF(A46=\"\",\"\",VLOOKUP(A46,'Dat-Bl'!$B$127:$F$246,5))","v":""}]
["K-ziff","Lauf ","Startnr.:","Familienname Vorname",{"$f":"E38","v":"Schule-60m-weiblich_C /D - Sport"},"Zeit"]
[null,"Bahn 1",{"$f":"IF(A48=\"\",\"\",VLOOKUP(A48,'Dat-Bl'!$B$127:$F$246,2))","v":""},{"$f":"IF(A48=\"\",\"\",VLOOKUP(A48,'Dat-Bl'!$B$127:$F$246,3))","v":""},{"$f":"IF(A48=\"\",\"\",VLOOKUP(A48,'Dat-Bl'!$B$127:$F$246,5))","v":""}]
[null,"Bahn 2",{"$f":"IF(A49=\"\",\"\",VLOOKUP(A49,'Dat-Bl'!$B$127:$F$246,2))","v":""},{"$f":"IF(A49=\"\",\"\",VLOOKUP(A49,'Dat-Bl'!$B$127:$F$246,3))","v":""},{"$f":"IF(A49=\"\",\"\",VLOOKUP(A49,'Dat-Bl'!$B$127:$F$246,5))","v":""}]
[null,"Bahn 3",{"$f":"IF(A50=\"\",\"\",VLOOKUP(A50,'Dat-Bl'!$B$127:$F$246,2))","v":""},{"$f":"IF(A50=\"\",\"\",VLOOKUP(A50,'Dat-Bl'!$B$127:$F$246,3))","v":""},{"$f":"IF(A50=\"\",\"\",VLOOKUP(A50,'Dat-Bl'!$B$127:$F$246,5))","v":""}]
[null,"Bahn 4",{"$f":"IF(A51=\"\",\"\",VLOOKUP(A51,'Dat-Bl'!$B$127:$F$246,2))","v":""},{"$f":"IF(A51=\"\",\"\",VLOOKUP(A51,'Dat-Bl'!$B$127:$F$246,3))","v":""},{"$f":"IF(A51=\"\",\"\",VLOOKUP(A51,'Dat-Bl'!$B$127:$F$246,5))","v":""}]
[null,"Bahn 5",{"$f":"IF(A52=\"\",\"\",VLOOKUP(A52,'Dat-Bl'!$B$127:$F$246,2))","v":""},{"$f":"IF(A52=\"\",\"\",VLOOKUP(A52,'Dat-Bl'!$B$127:$F$246,3))","v":""},{"$f":"IF(A52=\"\",\"\",VLOOKUP(A52,'Dat-Bl'!$B$127:$F$246,5))","v":""}]
[null,"Bahn 6",{"$f":"IF(A53=\"\",\"\",VLOOKUP(A53,'Dat-Bl'!$B$127:$F$246,2))","v":""},{"$f":"IF(A53=\"\",\"\",VLOOKUP(A53,'Dat-Bl'!$B$127:$F$246,3))","v":""},{"$f":"IF(A53=\"\",\"\",VLOOKUP(A53,'Dat-Bl'!$B$127:$F$246,5))","v":""}]
[null,"Bahn 7",{"$f":"IF(A54=\"\",\"\",VLOOKUP(A54,'Dat-Bl'!$B$127:$F$246,2))","v":""},{"$f":"IF(A54=\"\",\"\",VLOOKUP(A54,'Dat-Bl'!$B$127:$F$246,3))","v":""},{"$f":"IF(A54=\"\",\"\",VLOOKUP(A54,'Dat-Bl'!$B$127:$F$246,5))","v":""}]
[null,"Bahn 8",{"$f":"IF(A55=\"\",\"\",VLOOKUP(A55,'Dat-Bl'!$B$127:$F$246,2))","v":""},{"$f":"IF(A55=\"\",\"\",VLOOKUP(A55,'Dat-Bl'!$B$127:$F$246,3))","v":""},{"$f":"IF(A55=\"\",\"\",VLOOKUP(A55,'Dat-Bl'!$B$127:$F$246,5))","v":""}]
["K-ziff","Lauf ","Startnr.:","Familienname Vorname",{"$f":"E38","v":"Schule-60m-weiblich_C /D - Sport"},"Zeit"]
[null,"Bahn 1",{"$f":"IF(A57=\"\",\"\",VLOOKUP(A57,'Dat-Bl'!$B$127:$F$246,2))","v":""},{"$f":"IF(A57=\"\",\"\",VLOOKUP(A57,'Dat-Bl'!$B$127:$F$246,3))","v":""},{"$f":"IF(A57=\"\",\"\",VLOOKUP(A57,'Dat-Bl'!$B$127:$F$246,5))","v":""}]
[null,"Bahn 2",{"$f":"IF(A58=\"\",\"\",VLOOKUP(A58,'Dat-Bl'!$B$127:$F$246,2))","v":""},{"$f":"IF(A58=\"\",\"\",VLOOKUP(A58,'Dat-Bl'!$B$127:$F$246,3))","v":""},{"$f":"IF(A58=\"\",\"\",VLOOKUP(A58,'Dat-Bl'!$B$127:$F$246,5))","v":""}]
[null,"Bahn 3",{"$f":"IF(A59=\"\",\"\",VLOOKUP(A59,'Dat-Bl'!$B$127:$F$246,2))","v":""},{"$f":"IF(A59=\"\",\"\",VLOOKUP(A59,'Dat-Bl'!$B$127:$F$246,3))","v":""},{"$f":"IF(A59=\"\",\"\",VLOOKUP(A59,'Dat-Bl'!$B$127:$F$246,5))","v":""}]
[null,"Bahn 4",{"$f":"IF(A60=\"\",\"\",VLOOKUP(A60,'Dat-Bl'!$B$127:$F$246,2))","v":""},{"$f":"IF(A60=\"\",\"\",VLOOKUP(A60,'Dat-Bl'!$B$127:$F$246,3))","v":""},{"$f":"IF(A60=\"\",\"\",VLOOKUP(A60,'Dat-Bl'!$B$127:$F$246,5))","v":""}]
[null,"Bahn 5",{"$f":"IF(A61=\"\",\"\",VLOOKUP(A61,'Dat-Bl'!$B$127:$F$246,2))","v":""},{"$f":"IF(A61=\"\",\"\",VLOOKUP(A61,'Dat-Bl'!$B$127:$F$246,3))","v":""},{"$f":"IF(A61=\"\",\"\",VLOOKUP(A61,'Dat-Bl'!$B$127:$F$246,5))","v":""}]
[null,"Bahn 6",{"$f":"IF(A62=\"\",\"\",VLOOKUP(A62,'Dat-Bl'!$B$127:$F$246,2))","v":""},{"$f":"IF(A62=\"\",\"\",VLOOKUP(A62,'Dat-Bl'!$B$127:$F$246,3))","v":""},{"$f":"IF(A62=\"\",\"\",VLOOKUP(A62,'Dat-Bl'!$B$127:$F$246,5))","v":""}]
[null,"Bahn 7",{"$f":"IF(A63=\"\",\"\",VLOOKUP(A63,'Dat-Bl'!$B$127:$F$246,2))","v":""},{"$f":"IF(A63=\"\",\"\",VLOOKUP(A63,'Dat-Bl'!$B$127:$F$246,3))","v":""},{"$f":"IF(A63=\"\",\"\",VLOOKUP(A63,'Dat-Bl'!$B$127:$F$246,5))","v":""}]
[null,"Bahn 8",{"$f":"IF(A64=\"\",\"\",VLOOKUP(A64,'Dat-Bl'!$B$127:$F$246,2))","v":""},{"$f":"IF(A64=\"\",\"\",VLOOKUP(A64,'Dat-Bl'!$B$127:$F$246,3))","v":""},{"$f":"IF(A64=\"\",\"\",VLOOKUP(A64,'Dat-Bl'!$B$127:$F$246,5))","v":""}]
["K-ziff","Lauf ","Startnr.:","Familienname Vorname",{"$f":"E38","v":"Schule-60m-weiblich_C /D - Sport"},"Zeit"]
[null,"Bahn 1",{"$f":"IF(A66=\"\",\"\",VLOOKUP(A66,'Dat-Bl'!$B$127:$F$246,2))","v":""},{"$f":"IF(A66=\"\",\"\",VLOOKUP(A66,'Dat-Bl'!$B$127:$F$246,3))","v":""},{"$f":"IF(A66=\"\",\"\",VLOOKUP(A66,'Dat-Bl'!$B$127:$F$246,5))","v":""}]
[null,"Bahn 2",{"$f":"IF(A67=\"\",\"\",VLOOKUP(A67,'Dat-Bl'!$B$127:$F$246,2))","v":""},{"$f":"IF(A67=\"\",\"\",VLOOKUP(A67,'Dat-Bl'!$B$127:$F$246,3))","v":""},{"$f":"IF(A67=\"\",\"\",VLOOKUP(A67,'Dat-Bl'!$B$127:$F$246,5))","v":""}]
[null,"Bahn 3",{"$f":"IF(A68=\"\",\"\",VLOOKUP(A68,'Dat-Bl'!$B$127:$F$246,2))","v":""},{"$f":"IF(A68=\"\",\"\",VLOOKUP(A68,'Dat-Bl'!$B$127:$F$246,3))","v":""},{"$f":"IF(A68=\"\",\"\",VLOOKUP(A68,'Dat-Bl'!$B$127:$F$246,5))","v":""}]
[null,"Bahn 4",{"$f":"IF(A69=\"\",\"\",VLOOKUP(A69,'Dat-Bl'!$B$127:$F$246,2))","v":""},{"$f":"IF(A69=\"\",\"\",VLOOKUP(A69,'Dat-Bl'!$B$127:$F$246,3))","v":""},{"$f":"IF(A69=\"\",\"\",VLOOKUP(A69,'Dat-Bl'!$B$127:$F$246,5))","v":""}]
[null,"Bahn 5",{"$f":"IF(A70=\"\",\"\",VLOOKUP(A70,'Dat-Bl'!$B$127:$F$246,2))","v":""},{"$f":"IF(A70=\"\",\"\",VLOOKUP(A70,'Dat-Bl'!$B$127:$F$246,3))","v":""},{"$f":"IF(A70=\"\",\"\",VLOOKUP(A70,'Dat-Bl'!$B$127:$F$246,5))","v":""}]
[null,"Bahn 6",{"$f":"IF(A71=\"\",\"\",VLOOKUP(A71,'Dat-Bl'!$B$127:$F$246,2))","v":""},{"$f":"IF(A71=\"\",\"\",VLOOKUP(A71,'Dat-Bl'!$B$127:$F$246,3))","v":""},{"$f":"IF(A71=\"\",\"\",VLOOKUP(A71,'Dat-Bl'!$B$127:$F$246,5))","v":""}]
[null,"Bahn 7",{"$f":"IF(A72=\"\",\"\",VLOOKUP(A72,'Dat-Bl'!$B$127:$F$246,2))","v":""},{"$f":"IF(A72=\"\",\"\",VLOOKUP(A72,'Dat-Bl'!$B$127:$F$246,3))","v":""},{"$f":"IF(A72=\"\",\"\",VLOOKUP(A72,'Dat-Bl'!$B$127:$F$246,5))","v":""}]
[null,"Bahn 8",{"$f":"IF(A73=\"\",\"\",VLOOKUP(A73,'Dat-Bl'!$B$127:$F$246,2))","v":""},{"$f":"IF(A73=\"\",\"\",VLOOKUP(A73,'Dat-Bl'!$B$127:$F$246,3))","v":""},{"$f":"IF(A73=\"\",\"\",VLOOKUP(A73,'Dat-Bl'!$B$127:$F$246,5))","v":""}]
[]
["K-ziff","Lauf ","Startnr.:","Familienname Vorname","Schule-60m-männlich_C / D - Regel","Zeit"]
[null,"Bahn 1",{"$f":"IF(A76=\"\",\"\",VLOOKUP(A76,'Dat-Bl'!$J$4:$N$123,2))","v":""},{"$f":"IF(A76=\"\",\"\",VLOOKUP(A76,'Dat-Bl'!$J$4:$N$123,3))","v":""},{"$f":"IF(A76=\"\",\"\",VLOOKUP(A76,'Dat-Bl'!$J$4:$N$123,5))","v":""}]
[null,"Bahn 2",{"$f":"IF(A77=\"\",\"\",VLOOKUP(A77,'Dat-Bl'!$J$4:$N$123,2))","v":""},{"$f":"IF(A77=\"\",\"\",VLOOKUP(A77,'Dat-Bl'!$J$4:$N$123,3))","v":""},{"$f":"IF(A77=\"\",\"\",VLOOKUP(A77,'Dat-Bl'!$J$4:$N$123,5))","v":""}]
[null,"Bahn 3",{"$f":"IF(A78=\"\",\"\",VLOOKUP(A78,'Dat-Bl'!$J$4:$N$123,2))","v":""},{"$f":"IF(A78=\"\",\"\",VLOOKUP(A78,'Dat-Bl'!$J$4:$N$123,3))","v":""},{"$f":"IF(A78=\"\",\"\",VLOOKUP(A78,'Dat-Bl'!$J$4:$N$123,5))","v":""}]
[null,"Bahn 4",{"$f":"IF(A79=\"\",\"\",VLOOKUP(A79,'Dat-Bl'!$J$4:$N$123,2))","v":""},{"$f":"IF(A79=\"\",\"\",VLOOKUP(A79,'Dat-Bl'!$J$4:$N$123,3))","v":""},{"$f":"IF(A79=\"\",\"\",VLOOKUP(A79,'Dat-Bl'!$J$4:$N$123,5))","v":""}]
[null,"Bahn 5",{"$f":"IF(A80=\"\",\"\",VLOOKUP(A80,'Dat-Bl'!$J$4:$N$123,2))","v":""},{"$f":"IF(A80=\"\",\"\",VLOOKUP(A80,'Dat-Bl'!$J$4:$N$123,3))","v":""},{"$f":"IF(A80=\"\",\"\",VLOOKUP(A80,'Dat-Bl'!$J$4:$N$123,5))","v":""}]
[null,"Bahn 6",{"$f":"IF(A81=\"\",\"\",VLOOKUP(A81,'Dat-Bl'!$J$4:$N$123,2))","v":""},{"$f":"IF(A81=\"\",\"\",VLOOKUP(A81,'Dat-Bl'!$J$4:$N$123,3))","v":""},{"$f":"IF(A81=\"\",\"\",VLOOKUP(A81,'Dat-Bl'!$J$4:$N$123,5))","v":""}]
[null,"Bahn 7",{"$f":"IF(A82=\"\",\"\",VLOOKUP(A82,'Dat-Bl'!$J$4:$N$123,2))","v":""},{"$f":"IF(A82=\"\",\"\",VLOOKUP(A82,'Dat-Bl'!$J$4:$N$123,3))","v":""},{"$f":"IF(A82=\"\",\"\",VLOOKUP(A82,'Dat-Bl'!$J$4:$N$123,5))","v":""}]
[null,"Bahn 8",{"$f":"IF(A83=\"\",\"\",VLOOKUP(A83,'Dat-Bl'!$J$4:$N$123,2))","v":""},{"$f":"IF(A83=\"\",\"\",VLOOKUP(A83,'Dat-Bl'!$J$4:$N$123,3))","v":""},{"$f":"IF(A83=\"\",\"\",VLOOKUP(A83,'Dat-Bl'!$J$4:$N$123,5))","v":""}]
["K-ziff","Lauf ","Startnr.:","Familienname Vorname",{"$f":"E75","v":"Schule-60m-männlich_C / D - Regel"},"Zeit"]
[null,"Bahn 1",{"$f":"IF(A85=\"\",\"\",VLOOKUP(A85,'Dat-Bl'!$J$4:$N$123,2))","v":""},{"$f":"IF(A85=\"\",\"\",VLOOKUP(A85,'Dat-Bl'!$J$4:$N$123,3))","v":""},{"$f":"IF(A85=\"\",\"\",VLOOKUP(A85,'Dat-Bl'!$J$4:$N$123,5))","v":""}]
[null,"Bahn 2",{"$f":"IF(A86=\"\",\"\",VLOOKUP(A86,'Dat-Bl'!$J$4:$N$123,2))","v":""},{"$f":"IF(A86=\"\",\"\",VLOOKUP(A86,'Dat-Bl'!$J$4:$N$123,3))","v":""},{"$f":"IF(A86=\"\",\"\",VLOOKUP(A86,'Dat-Bl'!$J$4:$N$123,5))","v":""}]
[null,"Bahn 3",{"$f":"IF(A87=\"\",\"\",VLOOKUP(A87,'Dat-Bl'!$J$4:$N$123,2))","v":""},{"$f":"IF(A87=\"\",\"\",VLOOKUP(A87,'Dat-Bl'!$J$4:$N$123,3))","v":""},{"$f":"IF(A87=\"\",\"\",VLOOKUP(A87,'Dat-Bl'!$J$4:$N$123,5))","v":""}]
[null,"Bahn 4",{"$f":"IF(A88=\"\",\"\",VLOOKUP(A88,'Dat-Bl'!$J$4:$N$123,2))","v":""},{"$f":"IF(A88=\"\",\"\",VLOOKUP(A88,'Dat-Bl'!$J$4:$N$123,3))","v":""},{"$f":"IF(A88=\"\",\"\",VLOOKUP(A88,'Dat-Bl'!$J$4:$N$123,5))","v":""}]
[null,"Bahn 5",{"$f":"IF(A89=\"\",\"\",VLOOKUP(A89,'Dat-Bl'!$J$4:$N$123,2))","v":""},{"$f":"IF(A89=\"\",\"\",VLOOKUP(A89,'Dat-Bl'!$J$4:$N$123,3))","v":""},{"$f":"IF(A89=\"\",\"\",VLOOKUP(A89,'Dat-Bl'!$J$4:$N$123,5))","v":""}]
[null,"Bahn 6",{"$f":"IF(A90=\"\",\"\",VLOOKUP(A90,'Dat-Bl'!$J$4:$N$123,2))","v":""},{"$f":"IF(A90=\"\",\"\",VLOOKUP(A90,'Dat-Bl'!$J$4:$N$123,3))","v":""},{"$f":"IF(A90=\"\",\"\",VLOOKUP(A90,'Dat-Bl'!$J$4:$N$123,5))","v":""}]
[null,"Bahn 7",{"$f":"IF(A91=\"\",\"\",VLOOKUP(A91,'Dat-Bl'!$J$4:$N$123,2))","v":""},{"$f":"IF(A91=\"\",\"\",VLOOKUP(A91,'Dat-Bl'!$J$4:$N$123,3))","v":""},{"$f":"IF(A91=\"\",\"\",VLOOKUP(A91,'Dat-Bl'!$J$4:$N$123,5))","v":""}]
[null,"Bahn 8",{"$f":"IF(A92=\"\",\"\",VLOOKUP(A92,'Dat-Bl'!$J$4:$N$123,2))","v":""},{"$f":"IF(A92=\"\",\"\",VLOOKUP(A92,'Dat-Bl'!$J$4:$N$123,3))","v":""},{"$f":"IF(A92=\"\",\"\",VLOOKUP(A92,'Dat-Bl'!$J$4:$N$123,5))","v":""}]
["K-ziff","Lauf ","Startnr.:","Familienname Vorname",{"$f":"E75","v":"Schule-60m-männlich_C / D - Regel"},"Zeit"]
[null,"Bahn 1",{"$f":"IF(A94=\"\",\"\",VLOOKUP(A94,'Dat-Bl'!$J$4:$N$123,2))","v":""},{"$f":"IF(A94=\"\",\"\",VLOOKUP(A94,'Dat-Bl'!$J$4:$N$123,3))","v":""},{"$f":"IF(A94=\"\",\"\",VLOOKUP(A94,'Dat-Bl'!$J$4:$N$123,5))","v":""}]
[null,"Bahn 2",{"$f":"IF(A95=\"\",\"\",VLOOKUP(A95,'Dat-Bl'!$J$4:$N$123,2))","v":""},{"$f":"IF(A95=\"\",\"\",VLOOKUP(A95,'Dat-Bl'!$J$4:$N$123,3))","v":""},{"$f":"IF(A95=\"\",\"\",VLOOKUP(A95,'Dat-Bl'!$J$4:$N$123,5))","v":""}]
[null,"Bahn 3",{"$f":"IF(A96=\"\",\"\",VLOOKUP(A96,'Dat-Bl'!$J$4:$N$123,2))","v":""},{"$f":"IF(A96=\"\",\"\",VLOOKUP(A96,'Dat-Bl'!$J$4:$N$123,3))","v":""},{"$f":"IF(A96=\"\",\"\",VLOOKUP(A96,'Dat-Bl'!$J$4:$N$123,5))","v":""}]
[null,"Bahn 4",{"$f":"IF(A97=\"\",\"\",VLOOKUP(A97,'Dat-Bl'!$J$4:$N$123,2))","v":""},{"$f":"IF(A97=\"\",\"\",VLOOKUP(A97,'Dat-Bl'!$J$4:$N$123,3))","v":""},{"$f":"IF(A97=\"\",\"\",VLOOKUP(A97,'Dat-Bl'!$J$4:$N$123,5))","v":""}]
[null,"Bahn 5",{"$f":"IF(A98=\"\",\"\",VLOOKUP(A98,'Dat-Bl'!$J$4:$N$123,2))","v":""},{"$f":"IF(A98=\"\",\"\",VLOOKUP(A98,'Dat-Bl'!$J$4:$N$123,3))","v":""},{"$f":"IF(A98=\"\",\"\",VLOOKUP(A98,'Dat-Bl'!$J$4:$N$123,5))","v":""}]
[null,"Bahn 6",{"$f":"IF(A99=\"\",\"\",VLOOKUP(A99,'Dat-Bl'!$J$4:$N$123,2))","v":""},{"$f":"IF(A99=\"\",\"\",VLOOKUP(A99,'Dat-Bl'!$J$4:$N$123,3))","v":""},{"$f":"IF(A99=\"\",\"\",VLOOKUP(A99,'Dat-Bl'!$J$4:$N$123,5))","v":""}]
[null,"Bahn 7",{"$f":"IF(A100=\"\",\"\",VLOOKUP(A100,'Dat-Bl'!$J$4:$N$123,2))","v":""},{"$f":"IF(A100=\"\",\"\",VLOOKUP(A100,'Dat-Bl'!$J$4:$N$123,3))","v":""},{"$f":"IF(A100=\"\",\"\",VLOOKUP(A100,'Dat-Bl'!$J$4:$N$123,5))","v":""}]
[null,"Bahn 8",{"$f":"IF(A101=\"\",\"\",VLOOKUP(A101,'Dat-Bl'!$J$4:$N$123,2))","v":""},{"$f":"IF(A101=\"\",\"\",VLOOKUP(A101,'Dat-Bl'!$J$4:$N$123,3))","v":""},{"$f":"IF(A101=\"\",\"\",VLOOKUP(A101,'Dat-Bl'!$J$4:$N$123,5))","v":""}]
["K-ziff","Lauf ","Startnr.:","Familienname Vorname",{"$f":"E75","v":"Schule-60m-männlich_C / D - Regel"},"Zeit"]
[null,"Bahn 1",{"$f":"IF(A103=\"\",\"\",VLOOKUP(A103,'Dat-Bl'!$J$4:$N$123,2))","v":""},{"$f":"IF(A103=\"\",\"\",VLOOKUP(A103,'Dat-Bl'!$J$4:$N$123,3))","v":""},{"$f":"IF(A103=\"\",\"\",VLOOKUP(A103,'Dat-Bl'!$J$4:$N$123,5))","v":""}]
[null,"Bahn 2",{"$f":"IF(A104=\"\",\"\",VLOOKUP(A104,'Dat-Bl'!$J$4:$N$123,2))","v":""},{"$f":"IF(A104=\"\",\"\",VLOOKUP(A104,'Dat-Bl'!$J$4:$N$123,3))","v":""},{"$f":"IF(A104=\"\",\"\",VLOOKUP(A104,'Dat-Bl'!$J$4:$N$123,5))","v":""}]
[null,"Bahn 3",{"$f":"IF(A105=\"\",\"\",VLOOKUP(A105,'Dat-Bl'!$J$4:$N$123,2))","v":""},{"$f":"IF(A105=\"\",\"\",VLOOKUP(A105,'Dat-Bl'!$J$4:$N$123,3))","v":""},{"$f":"IF(A105=\"\",\"\",VLOOKUP(A105,'Dat-Bl'!$J$4:$N$123,5))","v":""}]
[null,"Bahn 4",{"$f":"IF(A106=\"\",\"\",VLOOKUP(A106,'Dat-Bl'!$J$4:$N$123,2))","v":""},{"$f":"IF(A106=\"\",\"\",VLOOKUP(A106,'Dat-Bl'!$J$4:$N$123,3))","v":""},{"$f":"IF(A106=\"\",\"\",VLOOKUP(A106,'Dat-Bl'!$J$4:$N$123,5))","v":""}]
[null,"Bahn 5",{"$f":"IF(A107=\"\",\"\",VLOOKUP(A107,'Dat-Bl'!$J$4:$N$123,2))","v":""},{"$f":"IF(A107=\"\",\"\",VLOOKUP(A107,'Dat-Bl'!$J$4:$N$123,3))","v":""},{"$f":"IF(A107=\"\",\"\",VLOOKUP(A107,'Dat-Bl'!$J$4:$N$123,5))","v":""}]
[null,"Bahn 6",{"$f":"IF(A108=\"\",\"\",VLOOKUP(A108,'Dat-Bl'!$J$4:$N$123,2))","v":""},{"$f":"IF(A108=\"\",\"\",VLOOKUP(A108,'Dat-Bl'!$J$4:$N$123,3))","v":""},{"$f":"IF(A108=\"\",\"\",VLOOKUP(A108,'Dat-Bl'!$J$4:$N$123,5))","v":""}]
[null,"Bahn 7",{"$f":"IF(A109=\"\",\"\",VLOOKUP(A109,'Dat-Bl'!$J$4:$N$123,2))","v":""},{"$f":"IF(A109=\"\",\"\",VLOOKUP(A109,'Dat-Bl'!$J$4:$N$123,3))","v":""},{"$f":"IF(A109=\"\",\"\",VLOOKUP(A109,'Dat-Bl'!$J$4:$N$123,5))","v":""}]
[null,"Bahn 8",{"$f":"IF(A110=\"\",\"\",VLOOKUP(A110,'Dat-Bl'!$J$4:$N$123,2))","v":""},{"$f":"IF(A110=\"\",\"\",VLOOKUP(A110,'Dat-Bl'!$J$4:$N$123,3))","v":""},{"$f":"IF(A110=\"\",\"\",VLOOKUP(A110,'Dat-Bl'!$J$4:$N$123,5))","v":""}]
[]
["K-ziff","Lauf ","Startnr.:","Familienname Vorname","Schule-60m-männlich_C /D - Sport","Zeit"]
[null,"Bahn 1",{"$f":"IF(A113=\"\",\"\",VLOOKUP(A113,'Dat-Bl'!$J$127:$N$246,2))","v":""},{"$f":"IF(A113=\"\",\"\",VLOOKUP(A113,'Dat-Bl'!$J$127:$N$246,3))","v":""},{"$f":"IF(A113=\"\",\"\",VLOOKUP(A113,'Dat-Bl'!$J$127:$N$246,5))","v":""}]
[null,"Bahn 2",{"$f":"IF(A114=\"\",\"\",VLOOKUP(A114,'Dat-Bl'!$J$127:$N$246,2))","v":""},{"$f":"IF(A114=\"\",\"\",VLOOKUP(A114,'Dat-Bl'!$J$127:$N$246,3))","v":""},{"$f":"IF(A114=\"\",\"\",VLOOKUP(A114,'Dat-Bl'!$J$127:$N$246,5))","v":""}]
[null,"Bahn 3",{"$f":"IF(A115=\"\",\"\",VLOOKUP(A115,'Dat-Bl'!$J$127:$N$246,2))","v":""},{"$f":"IF(A115=\"\",\"\",VLOOKUP(A115,'Dat-Bl'!$J$127:$N$246,3))","v":""},{"$f":"IF(A115=\"\",\"\",VLOOKUP(A115,'Dat-Bl'!$J$127:$N$246,5))","v":""}]
[null,"Bahn 4",{"$f":"IF(A116=\"\",\"\",VLOOKUP(A116,'Dat-Bl'!$J$127:$N$246,2))","v":""},{"$f":"IF(A116=\"\",\"\",VLOOKUP(A116,'Dat-Bl'!$J$127:$N$246,3))","v":""},{"$f":"IF(A116=\"\",\"\",VLOOKUP(A116,'Dat-Bl'!$J$127:$N$246,5))","v":""}]
[null,"Bahn 5",{"$f":"IF(A117=\"\",\"\",VLOOKUP(A117,'Dat-Bl'!$J$127:$N$246,2))","v":""},{"$f":"IF(A117=\"\",\"\",VLOOKUP(A117,'Dat-Bl'!$J$127:$N$246,3))","v":""},{"$f":"IF(A117=\"\",\"\",VLOOKUP(A117,'Dat-Bl'!$J$127:$N$246,5))","v":""}]
[null,"Bahn 6",{"$f":"IF(A118=\"\",\"\",VLOOKUP(A118,'Dat-Bl'!$J$127:$N$246,2))","v":""},{"$f":"IF(A118=\"\",\"\",VLOOKUP(A118,'Dat-Bl'!$J$127:$N$246,3))","v":""},{"$f":"IF(A118=\"\",\"\",VLOOKUP(A118,'Dat-Bl'!$J$127:$N$246,5))","v":""}]
[null,"Bahn 7",{"$f":"IF(A119=\"\",\"\",VLOOKUP(A119,'Dat-Bl'!$J$127:$N$246,2))","v":""},{"$f":"IF(A119=\"\",\"\",VLOOKUP(A119,'Dat-Bl'!$J$127:$N$246,3))","v":""},{"$f":"IF(A119=\"\",\"\",VLOOKUP(A119,'Dat-Bl'!$J$127:$N$246,5))","v":""}]
[null,"Bahn 8",{"$f":"IF(A120=\"\",\"\",VLOOKUP(A120,'Dat-Bl'!$J$127:$N$246,2))","v":""},{"$f":"IF(A120=\"\",\"\",VLOOKUP(A120,'Dat-Bl'!$J$127:$N$246,3))","v":""},{"$f":"IF(A120=\"\",\"\",VLOOKUP(A120,'Dat-Bl'!$J$127:$N$246,5))","v":""}]
["K-ziff","Lauf ","Startnr.:","Familienname Vorname",{"$f":"E112","v":"Schule-60m-männlich_C /D - Sport"},"Zeit"]
[null,"Bahn 1",{"$f":"IF(A122=\"\",\"\",VLOOKUP(A122,'Dat-Bl'!$J$127:$N$246,2))","v":""},{"$f":"IF(A122=\"\",\"\",VLOOKUP(A122,'Dat-Bl'!$J$127:$N$246,3))","v":""},{"$f":"IF(A122=\"\",\"\",VLOOKUP(A122,'Dat-Bl'!$J$127:$N$246,5))","v":""}]
[null,"Bahn 2",{"$f":"IF(A123=\"\",\"\",VLOOKUP(A123,'Dat-Bl'!$J$127:$N$246,2))","v":""},{"$f":"IF(A123=\"\",\"\",VLOOKUP(A123,'Dat-Bl'!$J$127:$N$246,3))","v":""},{"$f":"IF(A123=\"\",\"\",VLOOKUP(A123,'Dat-Bl'!$J$127:$N$246,5))","v":""}]
[null,"Bahn 3",{"$f":"IF(A124=\"\",\"\",VLOOKUP(A124,'Dat-Bl'!$J$127:$N$246,2))","v":""},{"$f":"IF(A124=\"\",\"\",VLOOKUP(A124,'Dat-Bl'!$J$127:$N$246,3))","v":""},{"$f":"IF(A124=\"\",\"\",VLOOKUP(A124,'Dat-Bl'!$J$127:$N$246,5))","v":""}]
[null,"Bahn 4",{"$f":"IF(A125=\"\",\"\",VLOOKUP(A125,'Dat-Bl'!$J$127:$N$246,2))","v":""},{"$f":"IF(A125=\"\",\"\",VLOOKUP(A125,'Dat-Bl'!$J$127:$N$246,3))","v":""},{"$f":"IF(A125=\"\",\"\",VLOOKUP(A125,'Dat-Bl'!$J$127:$N$246,5))","v":""}]
[null,"Bahn 5",{"$f":"IF(A126=\"\",\"\",VLOOKUP(A126,'Dat-Bl'!$J$127:$N$246,2))","v":""},{"$f":"IF(A126=\"\",\"\",VLOOKUP(A126,'Dat-Bl'!$J$127:$N$246,3))","v":""},{"$f":"IF(A126=\"\",\"\",VLOOKUP(A126,'Dat-Bl'!$J$127:$N$246,5))","v":""}]
[null,"Bahn 6",{"$f":"IF(A127=\"\",\"\",VLOOKUP(A127,'Dat-Bl'!$J$127:$N$246,2))","v":""},{"$f":"IF(A127=\"\",\"\",VLOOKUP(A127,'Dat-Bl'!$J$127:$N$246,3))","v":""},{"$f":"IF(A127=\"\",\"\",VLOOKUP(A127,'Dat-Bl'!$J$127:$N$246,5))","v":""}]
[null,"Bahn 7",{"$f":"IF(A128=\"\",\"\",VLOOKUP(A128,'Dat-Bl'!$J$127:$N$246,2))","v":""},{"$f":"IF(A128=\"\",\"\",VLOOKUP(A128,'Dat-Bl'!$J$127:$N$246,3))","v":""},{"$f":"IF(A128=\"\",\"\",VLOOKUP(A128,'Dat-Bl'!$J$127:$N$246,5))","v":""}]
[null,"Bahn 8",{"$f":"IF(A129=\"\",\"\",VLOOKUP(A129,'Dat-Bl'!$J$127:$N$246,2))","v":""},{"$f":"IF(A129=\"\",\"\",VLOOKUP(A129,'Dat-Bl'!$J$127:$N$246,3))","v":""},{"$f":"IF(A129=\"\",\"\",VLOOKUP(A129,'Dat-Bl'!$J$127:$N$246,5))","v":""}]
["K-ziff","Lauf ","Startnr.:","Familienname Vorname",{"$f":"E112","v":"Schule-60m-männlich_C /D - Sport"},"Zeit"]
[null,"Bahn 1",{"$f":"IF(A131=\"\",\"\",VLOOKUP(A131,'Dat-Bl'!$J$127:$N$246,2))","v":""},{"$f":"IF(A131=\"\",\"\",VLOOKUP(A131,'Dat-Bl'!$J$127:$N$246,3))","v":""},{"$f":"IF(A131=\"\",\"\",VLOOKUP(A131,'Dat-Bl'!$J$127:$N$246,5))","v":""}]
[null,"Bahn 2",{"$f":"IF(A132=\"\",\"\",VLOOKUP(A132,'Dat-Bl'!$J$127:$N$246,2))","v":""},{"$f":"IF(A132=\"\",\"\",VLOOKUP(A132,'Dat-Bl'!$J$127:$N$246,3))","v":""},{"$f":"IF(A132=\"\",\"\",VLOOKUP(A132,'Dat-Bl'!$J$127:$N$246,5))","v":""}]
[null,"Bahn 3",{"$f":"IF(A133=\"\",\"\",VLOOKUP(A133,'Dat-Bl'!$J$127:$N$246,2))","v":""},{"$f":"IF(A133=\"\",\"\",VLOOKUP(A133,'Dat-Bl'!$J$127:$N$246,3))","v":""},{"$f":"IF(A133=\"\",\"\",VLOOKUP(A133,'Dat-Bl'!$J$127:$N$246,5))","v":""}]
[null,"Bahn 4",{"$f":"IF(A134=\"\",\"\",VLOOKUP(A134,'Dat-Bl'!$J$127:$N$246,2))","v":""},{"$f":"IF(A134=\"\",\"\",VLOOKUP(A134,'Dat-Bl'!$J$127:$N$246,3))","v":""},{"$f":"IF(A134=\"\",\"\",VLOOKUP(A134,'Dat-Bl'!$J$127:$N$246,5))","v":""}]
[null,"Bahn 5",{"$f":"IF(A135=\"\",\"\",VLOOKUP(A135,'Dat-Bl'!$J$127:$N$246,2))","v":""},{"$f":"IF(A135=\"\",\"\",VLOOKUP(A135,'Dat-Bl'!$J$127:$N$246,3))","v":""},{"$f":"IF(A135=\"\",\"\",VLOOKUP(A135,'Dat-Bl'!$J$127:$N$246,5))","v":""}]
[null,"Bahn 6",{"$f":"IF(A136=\"\",\"\",VLOOKUP(A136,'Dat-Bl'!$J$127:$N$246,2))","v":""},{"$f":"IF(A136=\"\",\"\",VLOOKUP(A136,'Dat-Bl'!$J$127:$N$246,3))","v":""},{"$f":"IF(A136=\"\",\"\",VLOOKUP(A136,'Dat-Bl'!$J$127:$N$246,5))","v":""}]
[null,"Bahn 7",{"$f":"IF(A137=\"\",\"\",VLOOKUP(A137,'Dat-Bl'!$J$127:$N$246,2))","v":""},{"$f":"IF(A137=\"\",\"\",VLOOKUP(A137,'Dat-Bl'!$J$127:$N$246,3))","v":""},{"$f":"IF(A137=\"\",\"\",VLOOKUP(A137,'Dat-Bl'!$J$127:$N$246,5))","v":""}]
[null,"Bahn 8",{"$f":"IF(A138=\"\",\"\",VLOOKUP(A138,'Dat-Bl'!$J$127:$N$246,2))","v":""},{"$f":"IF(A138=\"\",\"\",VLOOKUP(A138,'Dat-Bl'!$J$127:$N$246,3))","v":""},{"$f":"IF(A138=\"\",\"\",VLOOKUP(A138,'Dat-Bl'!$J$127:$N$246,5))","v":""}]
["K-ziff","Lauf ","Startnr.:","Familienname Vorname",{"$f":"E112","v":"Schule-60m-männlich_C /D - Sport"},"Zeit"]
[null,"Bahn 1",{"$f":"IF(A140=\"\",\"\",VLOOKUP(A140,'Dat-Bl'!$J$127:$N$246,2))","v":""},{"$f":"IF(A140=\"\",\"\",VLOOKUP(A140,'Dat-Bl'!$J$127:$N$246,3))","v":""},{"$f":"IF(A140=\"\",\"\",VLOOKUP(A140,'Dat-Bl'!$J$127:$N$246,5))","v":""}]
[null,"Bahn 2",{"$f":"IF(A141=\"\",\"\",VLOOKUP(A141,'Dat-Bl'!$J$127:$N$246,2))","v":""},{"$f":"IF(A141=\"\",\"\",VLOOKUP(A141,'Dat-Bl'!$J$127:$N$246,3))","v":""},{"$f":"IF(A141=\"\",\"\",VLOOKUP(A141,'Dat-Bl'!$J$127:$N$246,5))","v":""}]
[null,"Bahn 3",{"$f":"IF(A142=\"\",\"\",VLOOKUP(A142,'Dat-Bl'!$J$127:$N$246,2))","v":""},{"$f":"IF(A142=\"\",\"\",VLOOKUP(A142,'Dat-Bl'!$J$127:$N$246,3))","v":""},{"$f":"IF(A142=\"\",\"\",VLOOKUP(A142,'Dat-Bl'!$J$127:$N$246,5))","v":""}]
[null,"Bahn 4",{"$f":"IF(A143=\"\",\"\",VLOOKUP(A143,'Dat-Bl'!$J$127:$N$246,2))","v":""},{"$f":"IF(A143=\"\",\"\",VLOOKUP(A143,'Dat-Bl'!$J$127:$N$246,3))","v":""},{"$f":"IF(A143=\"\",\"\",VLOOKUP(A143,'Dat-Bl'!$J$127:$N$246,5))","v":""}]
[null,"Bahn 5",{"$f":"IF(A144=\"\",\"\",VLOOKUP(A144,'Dat-Bl'!$J$127:$N$246,2))","v":""},{"$f":"IF(A144=\"\",\"\",VLOOKUP(A144,'Dat-Bl'!$J$127:$N$246,3))","v":""},{"$f":"IF(A144=\"\",\"\",VLOOKUP(A144,'Dat-Bl'!$J$127:$N$246,5))","v":""}]
[null,"Bahn 6",{"$f":"IF(A145=\"\",\"\",VLOOKUP(A145,'Dat-Bl'!$J$127:$N$246,2))","v":""},{"$f":"IF(A145=\"\",\"\",VLOOKUP(A145,'Dat-Bl'!$J$127:$N$246,3))","v":""},{"$f":"IF(A145=\"\",\"\",VLOOKUP(A145,'Dat-Bl'!$J$127:$N$246,5))","v":""}]
[null,"Bahn 7",{"$f":"IF(A146=\"\",\"\",VLOOKUP(A146,'Dat-Bl'!$J$127:$N$246,2))","v":""},{"$f":"IF(A146=\"\",\"\",VLOOKUP(A146,'Dat-Bl'!$J$127:$N$246,3))","v":""},{"$f":"IF(A146=\"\",\"\",VLOOKUP(A146,'Dat-Bl'!$J$127:$N$246,5))","v":""}]
[null,"Bahn 8",{"$f":"IF(A147=\"\",\"\",VLOOKUP(A147,'Dat-Bl'!$J$127:$N$246,2))","v":""},{"$f":"IF(A147=\"\",\"\",VLOOKUP(A147,'Dat-Bl'!$J$127:$N$246,3))","v":""},{"$f":"IF(A147=\"\",\"\",VLOOKUP(A147,'Dat-Bl'!$J$127:$N$246,5))","v":""}]

{"sheet":"P-Wurf","index":8,"n_rows":131,"n_cols":8,"rows_kept":131,"cut":false,"hidden":false,"merged":[[33,3,33,4],[66,3,66,4],[99,3,99,4],[0,3,0,4]]}
[null,null,"Schlagball/Kugel","Weiblich_D,C / Regel",null,"Anlage ",null,"Uhr:"]
["K-ziff","Startnr.:","Name","Schule","1. Versuch","2. Versuch","3. Versuch","Bester V."]
[null,{"$f":"IF(A3=\"\",\"\",VLOOKUP(A3,'Dat-Bl'!$B$4:$F$123,2))","v":""},{"$f":"IF(A3=\"\",\"\",VLOOKUP(A3,'Dat-Bl'!$B$4:$F$123,3))","v":""},{"$f":"IF(A3=\"\",\"\",VLOOKUP(A3,'Dat-Bl'!$B$4:$F$123,5))","v":""}]
[null,{"$f":"IF(A4=\"\",\"\",VLOOKUP(A4,'Dat-Bl'!$B$4:$F$123,2))","v":""},{"$f":"IF(A4=\"\",\"\",VLOOKUP(A4,'Dat-Bl'!$B$4:$F$123,3))","v":""},{"$f":"IF(A4=\"\",\"\",VLOOKUP(A4,'Dat-Bl'!$B$4:$F$123,5))","v":""}]
[null,{"$f":"IF(A5=\"\",\"\",VLOOKUP(A5,'Dat-Bl'!$B$4:$F$123,2))","v":""},{"$f":"IF(A5=\"\",\"\",VLOOKUP(A5,'Dat-Bl'!$B$4:$F$123,3))","v":""},{"$f":"IF(A5=\"\",\"\",VLOOKUP(A5,'Dat-Bl'!$B$4:$F$123,5))","v":""}]
[null,{"$f":"IF(A6=\"\",\"\",VLOOKUP(A6,'Dat-Bl'!$B$4:$F$123,2))","v":""},{"$f":"IF(A6=\"\",\"\",VLOOKUP(A6,'Dat-Bl'!$B$4:$F$123,3))","v":""},{"$f":"IF(A6=\"\",\"\",VLOOKUP(A6,'Dat-Bl'!$B$4:$F$123,5))","v":""}]
[null,{"$f":"IF(A7=\"\",\"\",VLOOKUP(A7,'Dat-Bl'!$B$4:$F$123,2))","v":""},{"$f":"IF(A7=\"\",\"\",VLOOKUP(A7,'Dat-Bl'!$B$4:$F$123,3))","v":""},{"$f":"IF(A7=\"\",\"\",VLOOKUP(A7,'Dat-Bl'!$B$4:$F$123,5))","v":""}]
[null,{"$f":"IF(A8=\"\",\"\",VLOOKUP(A8,'Dat-Bl'!$B$4:$F$123,2))","v":""},{"$f":"IF(A8=\"\",\"\",VLOOKUP(A8,'Dat-Bl'!$B$4:$F$123,3))","v":""},{"$f":"IF(A8=\"\",\"\",VLOOKUP(A8,'Dat-Bl'!$B$4:$F$123,5))","v":""}]
[null,{"$f":"IF(A9=\"\",\"\",VLOOKUP(A9,'Dat-Bl'!$B$4:$F$123,2))","v":""},{"$f":"IF(A9=\"\",\"\",VLOOKUP(A9,'Dat-Bl'!$B$4:$F$123,3))","v":""},{"$f":"IF(A9=\"\",\"\",VLOOKUP(A9,'Dat-Bl'!$B$4:$F$123,5))","v":""}]
[null,{"$f":"IF(A10=\"\",\"\",VLOOKUP(A10,'Dat-Bl'!$B$4:$F$123,2))","v":""},{"$f":"IF(A10=\"\",\"\",VLOOKUP(A10,'Dat-Bl'!$B$4:$F$123,3))","v":""},{"$f":"IF(A10=\"\",\"\",VLOOKUP(A10,'Dat-Bl'!$B$4:$F$123,5))","v":""}]
[null,{"$f":"IF(A11=\"\",\"\",VLOOKUP(A11,'Dat-Bl'!$B$4:$F$123,2))","v":""},{"$f":"IF(A11=\"\",\"\",VLOOKUP(A11,'Dat-Bl'!$B$4:$F$123,3))","v":""},{"$f":"IF(A11=\"\",\"\",VLOOKUP(A11,'Dat-Bl'!$B$4:$F$123,5))","v":""}]
[null,{"$f":"IF(A12=\"\",\"\",VLOOKUP(A12,'Dat-Bl'!$B$4:$F$123,2))","v":""},{"$f":"IF(A12=\"\",\"\",VLOOKUP(A12,'Dat-Bl'!$B$4:$F$123,3))","v":""},{"$f":"IF(A12=\"\",\"\",VLOOKUP(A12,'Dat-Bl'!$B$4:$F$123,5))","v":""}]
[null,{"$f":"IF(A13=\"\",\"\",VLOOKUP(A13,'Dat-Bl'!$B$4:$F$123,2))","v":""},{"$f":"IF(A13=\"\",\"\",VLOOKUP(A13,'Dat-Bl'!$B$4:$F$123,3))","v":""},{"$f":"IF(A13=\"\",\"\",VLOOKUP(A13,'Dat-Bl'!$B$4:$F$123,5))","v":""}]
[null,{"$f":"IF(A14=\"\",\"\",VLOOKUP(A14,'Dat-Bl'!$B$4:$F$123,2))","v":""},{"$f":"IF(A14=\"\",\"\",VLOOKUP(A14,'Dat-Bl'!$B$4:$F$123,3))","v":""},{"$f":"IF(A14=\"\",\"\",VLOOKUP(A14,'Dat-Bl'!$B$4:$F$123,5))","v":""}]
[null,{"$f":"IF(A15=\"\",\"\",VLOOKUP(A15,'Dat-Bl'!$B$4:$F$123,2))","v":""},{"$f":"IF(A15=\"\",\"\",VLOOKUP(A15,'Dat-Bl'!$B$4:$F$123,3))","v":""},{"$f":"IF(A15=\"\",\"\",VLOOKUP(A15,'Dat-Bl'!$B$4:$F$123,5))","v":""}]
[null,{"$f":"IF(A16=\"\",\"\",VLOOKUP(A16,'Dat-Bl'!$B$4:$F$123,2))","v":""},{"$f":"IF(A16=\"\",\"\",VLOOKUP(A16,'Dat-Bl'!$B$4:$F$123,3))","v":""},{"$f":"IF(A16=\"\",\"\",VLOOKUP(A16,'Dat-Bl'!$B$4:$F$123,5))","v":""}]
[null,{"$f":"IF(A17=\"\",\"\",VLOOKUP(A17,'Dat-Bl'!$B$4:$F$123,2))","v":""},{"$f":"IF(A17=\"\",\"\",VLOOKUP(A17,'Dat-Bl'!$B$4:$F$123,3))","v":""},{"$f":"IF(A17=\"\",\"\",VLOOKUP(A17,'Dat-Bl'!$B$4:$F$123,5))","v":""}]
[null,{"$f":"IF(A18=\"\",\"\",VLOOKUP(A18,'Dat-Bl'!$B$4:$F$123,2))","v":""},{"$f":"IF(A18=\"\",\"\",VLOOKUP(A18,'Dat-Bl'!$B$4:$F$123,3))","v":""},{"$f":"IF(A18=\"\",\"\",VLOOKUP(A18,'Dat-Bl'!$B$4:$F$123,5))","v":""}]
[null,{"$f":"IF(A19=\"\",\"\",VLOOKUP(A19,'Dat-Bl'!$B$4:$F$123,2))","v":""},{"$f":"IF(A19=\"\",\"\",VLOOKUP(A19,'Dat-Bl'!$B$4:$F$123,3))","v":""},{"$f":"IF(A19=\"\",\"\",VLOOKUP(A19,'Dat-Bl'!$B$4:$F$123,5))","v":""}]
[null,{"$f":"IF(A20=\"\",\"\",VLOOKUP(A20,'Dat-Bl'!$B$4:$F$123,2))","v":""},{"$f":"IF(A20=\"\",\"\",VLOOKUP(A20,'Dat-Bl'!$B$4:$F$123,3))","v":""},{"$f":"IF(A20=\"\",\"\",VLOOKUP(A20,'Dat-Bl'!$B$4:$F$123,5))","v":""}]
[null,{"$f":"IF(A21=\"\",\"\",VLOOKUP(A21,'Dat-Bl'!$B$4:$F$123,2))","v":""},{"$f":"IF(A21=\"\",\"\",VLOOKUP(A21,'Dat-Bl'!$B$4:$F$123,3))","v":""},{"$f":"IF(A21=\"\",\"\",VLOOKUP(A21,'Dat-Bl'!$B$4:$F$123,5))","v":""}]
[null,{"$f":"IF(A22=\"\",\"\",VLOOKUP(A22,'Dat-Bl'!$B$4:$F$123,2))","v":""},{"$f":"IF(A22=\"\",\"\",VLOOKUP(A22,'Dat-Bl'!$B$4:$F$123,3))","v":""},{"$f":"IF(A22=\"\",\"\",VLOOKUP(A22,'Dat-Bl'!$B$4:$F$123,5))","v":""}]
[null,{"$f":"IF(A23=\"\",\"\",VLOOKUP(A23,'Dat-Bl'!$B$4:$F$123,2))","v":""},{"$f":"IF(A23=\"\",\"\",VLOOKUP(A23,'Dat-Bl'!$B$4:$F$123,3))","v":""},{"$f":"IF(A23=\"\",\"\",VLOOKUP(A23,'Dat-Bl'!$B$4:$F$123,5))","v":""}]
[null,{"$f":"IF(A24=\"\",\"\",VLOOKUP(A24,'Dat-Bl'!$B$4:$F$123,2))","v":""},{"$f":"IF(A24=\"\",\"\",VLOOKUP(A24,'Dat-Bl'!$B$4:$F$123,3))","v":""},{"$f":"IF(A24=\"\",\"\",VLOOKUP(A24,'Dat-Bl'!$B$4:$F$123,5))","v":""}]
[null,{"$f":"IF(A25=\"\",\"\",VLOOKUP(A25,'Dat-Bl'!$B$4:$F$123,2))","v":""},{"$f":"IF(A25=\"\",\"\",VLOOKUP(A25,'Dat-Bl'!$B$4:$F$123,3))","v":""},{"$f":"IF(A25=\"\",\"\",VLOOKUP(A25,'Dat-Bl'!$B$4:$F$123,5))","v":""}]
[null,{"$f":"IF(A26=\"\",\"\",VLOOKUP(A26,'Dat-Bl'!$B$4:$F$123,2))","v":""},{"$f":"IF(A26=\"\",\"\",VLOOKUP(A26,'Dat-Bl'!$B$4:$F$123,3))","v":""},{"$f":"IF(A26=\"\",\"\",VLOOKUP(A26,'Dat-Bl'!$B$4:$F$123,5))","v":""}]
[null,{"$f":"IF(A27=\"\",\"\",VLOOKUP(A27,'Dat-Bl'!$B$4:$F$123,2))","v":""},{"$f":"IF(A27=\"\",\"\",VLOOKUP(A27,'Dat-Bl'!$B$4:$F$123,3))","v":""},{"$f":"IF(A27=\"\",\"\",VLOOKUP(A27,'Dat-Bl'!$B$4:$F$123,5))","v":""}]
[null,{"$f":"IF(A28=\"\",\"\",VLOOKUP(A28,'Dat-Bl'!$B$4:$F$123,2))","v":""},{"$f":"IF(A28=\"\",\"\",VLOOKUP(A28,'Dat-Bl'!$B$4:$F$123,3))","v":""},{"$f":"IF(A28=\"\",\"\",VLOOKUP(A28,'Dat-Bl'!$B$4:$F$123,5))","v":""}]
[null,{"$f":"IF(A29=\"\",\"\",VLOOKUP(A29,'Dat-Bl'!$B$4:$F$123,2))","v":""},{"$f":"IF(A29=\"\",\"\",VLOOKUP(A29,'Dat-Bl'!$B$4:$F$123,3))","v":""},{"$f":"IF(A29=\"\",\"\",VLOOKUP(A29,'Dat-Bl'!$B$4:$F$123,5))","v":""}]
[null,{"$f":"IF(A30=\"\",\"\",VLOOKUP(A30,'Dat-Bl'!$B$4:$F$123,2))","v":""},{"$f":"IF(A30=\"\",\"\",VLOOKUP(A30,'Dat-Bl'!$B$4:$F$123,3))","v":""},{"$f":"IF(A30=\"\",\"\",VLOOKUP(A30,'Dat-Bl'!$B$4:$F$123,5))","v":""}]
[null,{"$f":"IF(A31=\"\",\"\",VLOOKUP(A31,'Dat-Bl'!$B$4:$F$123,2))","v":""},{"$f":"IF(A31=\"\",\"\",VLOOKUP(A31,'Dat-Bl'!$B$4:$F$123,3))","v":""},{"$f":"IF(A31=\"\",\"\",VLOOKUP(A31,'Dat-Bl'!$B$4:$F$123,5))","v":""}]
[null,{"$f":"IF(A32=\"\",\"\",VLOOKUP(A32,'Dat-Bl'!$B$4:$F$123,2))","v":""},{"$f":"IF(A32=\"\",\"\",VLOOKUP(A32,'Dat-Bl'!$B$4:$F$123,3))","v":""},{"$f":"IF(A32=\"\",\"\",VLOOKUP(A32,'Dat-Bl'!$B$4:$F$123,5))","v":""}]
[]
[null,null,"Schlagball/Kugel","Weiblich_D,C / Sport",null,"Anlage ",null,"Uhr"]
["K-ziff","Startnr.:","Name","Schule","1. Versuch","2. Versuch","3. Versuch","Bester V."]
[null,{"$f":"IF(A36=\"\",\"\",VLOOKUP(A36,'Dat-Bl'!$B$127:$F$246,2))","v":""},{"$f":"IF(A36=\"\",\"\",VLOOKUP(A36,'Dat-Bl'!$B$127:$F$246,3))","v":""},{"$f":"IF(A36=\"\",\"\",VLOOKUP(A36,'Dat-Bl'!$B$127:$F$246,5))","v":""}]
[null,{"$f":"IF(A37=\"\",\"\",VLOOKUP(A37,'Dat-Bl'!$B$127:$F$246,2))","v":""},{"$f":"IF(A37=\"\",\"\",VLOOKUP(A37,'Dat-Bl'!$B$127:$F$246,3))","v":""},{"$f":"IF(A37=\"\",\"\",VLOOKUP(A37,'Dat-Bl'!$B$127:$F$246,5))","v":""}]
[null,{"$f":"IF(A38=\"\",\"\",VLOOKUP(A38,'Dat-Bl'!$B$127:$F$246,2))","v":""},{"$f":"IF(A38=\"\",\"\",VLOOKUP(A38,'Dat-Bl'!$B$127:$F$246,3))","v":""},{"$f":"IF(A38=\"\",\"\",VLOOKUP(A38,'Dat-Bl'!$B$127:$F$246,5))","v":""}]
[null,{"$f":"IF(A39=\"\",\"\",VLOOKUP(A39,'Dat-Bl'!$B$127:$F$246,2))","v":""},{"$f":"IF(A39=\"\",\"\",VLOOKUP(A39,'Dat-Bl'!$B$127:$F$246,3))","v":""},{"$f":"IF(A39=\"\",\"\",VLOOKUP(A39,'Dat-Bl'!$B$127:$F$246,5))","v":""}]
[null,{"$f":"IF(A40=\"\",\"\",VLOOKUP(A40,'Dat-Bl'!$B$127:$F$246,2))","v":""},{"$f":"IF(A40=\"\",\"\",VLOOKUP(A40,'Dat-Bl'!$B$127:$F$246,3))","v":""},{"$f":"IF(A40=\"\",\"\",VLOOKUP(A40,'Dat-Bl'!$B$127:$F$246,5))","v":""}]
[null,{"$f":"IF(A41=\"\",\"\",VLOOKUP(A41,'Dat-Bl'!$B$127:$F$246,2))","v":""},{"$f":"IF(A41=\"\",\"\",VLOOKUP(A41,'Dat-Bl'!$B$127:$F$246,3))","v":""},{"$f":"IF(A41=\"\",\"\",VLOOKUP(A41,'Dat-Bl'!$B$127:$F$246,5))","v":""}]
[null,{"$f":"IF(A42=\"\",\"\",VLOOKUP(A42,'Dat-Bl'!$B$127:$F$246,2))","v":""},{"$f":"IF(A42=\"\",\"\",VLOOKUP(A42,'Dat-Bl'!$B$127:$F$246,3))","v":""},{"$f":"IF(A42=\"\",\"\",VLOOKUP(A42,'Dat-Bl'!$B$127:$F$246,5))","v":""}]
[null,{"$f":"IF(A43=\"\",\"\",VLOOKUP(A43,'Dat-Bl'!$B$127:$F$246,2))","v":""},{"$f":"IF(A43=\"\",\"\",VLOOKUP(A43,'Dat-Bl'!$B$127:$F$246,3))","v":""},{"$f":"IF(A43=\"\",\"\",VLOOKUP(A43,'Dat-Bl'!$B$127:$F$246,5))","v":""}]
[null,{"$f":"IF(A44=\"\",\"\",VLOOKUP(A44,'Dat-Bl'!$B$127:$F$246,2))","v":""},{"$f":"IF(A44=\"\",\"\",VLOOKUP(A44,'Dat-Bl'!$B$127:$F$246,3))","v":""},{"$f":"IF(A44=\"\",\"\",VLOOKUP(A44,'Dat-Bl'!$B$127:$F$246,5))","v":""}]
[null,{"$f":"IF(A45=\"\",\"\",VLOOKUP(A45,'Dat-Bl'!$B$127:$F$246,2))","v":""},{"$f":"IF(A45=\"\",\"\",VLOOKUP(A45,'Dat-Bl'!$B$127:$F$246,3))","v":""},{"$f":"IF(A45=\"\",\"\",VLOOKUP(A45,'Dat-Bl'!$B$127:$F$246,5))","v":""}]
[null,{"$f":"IF(A46=\"\",\"\",VLOOKUP(A46,'Dat-Bl'!$B$127:$F$246,2))","v":""},{"$f":"IF(A46=\"\",\"\",VLOOKUP(A46,'Dat-Bl'!$B$127:$F$246,3))","v":""},{"$f":"IF(A46=\"\",\"\",VLOOKUP(A46,'Dat-Bl'!$B$127:$F$246,5))","v":""}]
[null,{"$f":"IF(A47=\"\",\"\",VLOOKUP(A47,'Dat-Bl'!$B$127:$F$246,2))","v":""},{"$f":"IF(A47=\"\",\"\",VLOOKUP(A47,'Dat-Bl'!$B$127:$F$246,3))","v":""},{"$f":"IF(A47=\"\",\"\",VLOOKUP(A47,'Dat-Bl'!$B$127:$F$246,5))","v":""}]
[null,{"$f":"IF(A48=\"\",\"\",VLOOKUP(A48,'Dat-Bl'!$B$127:$F$246,2))","v":""},{"$f":"IF(A48=\"\",\"\",VLOOKUP(A48,'Dat-Bl'!$B$127:$F$246,3))","v":""},{"$f":"IF(A48=\"\",\"\",VLOOKUP(A48,'Dat-Bl'!$B$127:$F$246,5))","v":""}]
[null,{"$f":"IF(A49=\"\",\"\",VLOOKUP(A49,'Dat-Bl'!$B$127:$F$246,2))","v":""},{"$f":"IF(A49=\"\",\"\",VLOOKUP(A49,'Dat-Bl'!$B$127:$F$246,3))","v":""},{"$f":"IF(A49=\"\",\"\",VLOOKUP(A49,'Dat-Bl'!$B$127:$F$246,5))","v":""}]
[null,{"$f":"IF(A50=\"\",\"\",VLOOKUP(A50,'Dat-Bl'!$B$127:$F$246,2))","v":""},{"$f":"IF(A50=\"\",\"\",VLOOKUP(A50,'Dat-Bl'!$B$127:$F$246,3))","v":""},{"$f":"IF(A50=\"\",\"\",VLOOKUP(A50,'Dat-Bl'!$B$127:$F$246,5))","v":""}]
[null,{"$f":"IF(A51=\"\",\"\",VLOOKUP(A51,'Dat-Bl'!$B$127:$F$246,2))","v":""},{"$f":"IF(A51=\"\",\"\",VLOOKUP(A51,'Dat-Bl'!$B$127:$F$246,3))","v":""},{"$f":"IF(A51=\"\",\"\",VLOOKUP(A51,'Dat-Bl'!$B$127:$F$246,5))","v":""}]
[null,{"$f":"IF(A52=\"\",\"\",VLOOKUP(A52,'Dat-Bl'!$B$127:$F$246,2))","v":""},{"$f":"IF(A52=\"\",\"\",VLOOKUP(A52,'Dat-Bl'!$B$127:$F$246,3))","v":""},{"$f":"IF(A52=\"\",\"\",VLOOKUP(A52,'Dat-Bl'!$B$127:$F$246,5))","v":""}]
[null,{"$f":"IF(A53=\"\",\"\",VLOOKUP(A53,'Dat-Bl'!$B$127:$F$246,2))","v":""},{"$f":"IF(A53=\"\",\"\",VLOOKUP(A53,'Dat-Bl'!$B$127:$F$246,3))","v":""},{"$f":"IF(A53=\"\",\"\",VLOOKUP(A53,'Dat-Bl'!$B$127:$F$246,5))","v":""}]
[null,{"$f":"IF(A54=\"\",\"\",VLOOKUP(A54,'Dat-Bl'!$B$127:$F$246,2))","v":""},{"$f":"IF(A54=\"\",\"\",VLOOKUP(A54,'Dat-Bl'!$B$127:$F$246,3))","v":""},{"$f":"IF(A54=\"\",\"\",VLOOKUP(A54,'Dat-Bl'!$B$127:$F$246,5))","v":""}]
[null,{"$f":"IF(A55=\"\",\"\",VLOOKUP(A55,'Dat-Bl'!$B$127:$F$246,2))","v":""},{"$f":"IF(A55=\"\",\"\",VLOOKUP(A55,'Dat-Bl'!$B$127:$F$246,3))","v":""},{"$f":"IF(A55=\"\",\"\",VLOOKUP(A55,'Dat-Bl'!$B$127:$F$246,5))","v":""}]
[null,{"$f":"IF(A56=\"\",\"\",VLOOKUP(A56,'Dat-Bl'!$B$127:$F$246,2))","v":""},{"$f":"IF(A56=\"\",\"\",VLOOKUP(A56,'Dat-Bl'!$B$127:$F$246,3))","v":""},{"$f":"IF(A56=\"\",\"\",VLOOKUP(A56,'Dat-Bl'!$B$127:$F$246,5))","v":""}]
[null,{"$f":"IF(A57=\"\",\"\",VLOOKUP(A57,'Dat-Bl'!$B$127:$F$246,2))","v":""},{"$f":"IF(A57=\"\",\"\",VLOOKUP(A57,'Dat-Bl'!$B$127:$F$246,3))","v":""},{"$f":"IF(A57=\"\",\"\",VLOOKUP(A57,'Dat-Bl'!$B$127:$F$246,5))","v":""}]
[null,{"$f":"IF(A58=\"\",\"\",VLOOKUP(A58,'Dat-Bl'!$B$127:$F$246,2))","v":""},{"$f":"IF(A58=\"\",\"\",VLOOKUP(A58,'Dat-Bl'!$B$127:$F$246,3))","v":""},{"$f":"IF(A58=\"\",\"\",VLOOKUP(A58,'Dat-Bl'!$B$127:$F$246,5))","v":""}]
[null,{"$f":"IF(A59=\"\",\"\",VLOOKUP(A59,'Dat-Bl'!$B$127:$F$246,2))","v":""},{"$f":"IF(A59=\"\",\"\",VLOOKUP(A59,'Dat-Bl'!$B$127:$F$246,3))","v":""},{"$f":"IF(A59=\"\",\"\",VLOOKUP(A59,'Dat-Bl'!$B$127:$F$246,5))","v":""}]
[null,{"$f":"IF(A60=\"\",\"\",VLOOKUP(A60,'Dat-Bl'!$B$127:$F$246,2))","v":""},{"$f":"IF(A60=\"\",\"\",VLOOKUP(A60,'Dat-Bl'!$B$127:$F$246,3))","v":""},{"$f":"IF(A60=\"\",\"\",VLOOKUP(A60,'Dat-Bl'!$B$127:$F$246,5))","v":""}]
[null,{"$f":"IF(A61=\"\",\"\",VLOOKUP(A61,'Dat-Bl'!$B$127:$F$246,2))","v":""},{"$f":"IF(A61=\"\",\"\",VLOOKUP(A61,'Dat-Bl'!$B$127:$F$246,3))","v":""},{"$f":"IF(A61=\"\",\"\",VLOOKUP(A61,'Dat-Bl'!$B$127:$F$246,5))","v":""}]
[null,{"$f":"IF(A62=\"\",\"\",VLOOKUP(A62,'Dat-Bl'!$B$127:$F$246,2))","v":""},{"$f":"IF(A62=\"\",\"\",VLOOKUP(A62,'Dat-Bl'!$B$127:$F$246,3))","v":""},{"$f":"IF(A62=\"\",\"\",VLOOKUP(A62,'Dat-Bl'!$B$127:$F$246,5))","v":""}]
[null,{"$f":"IF(A63=\"\",\"\",VLOOKUP(A63,'Dat-Bl'!$B$127:$F$246,2))","v":""},{"$f":"IF(A63=\"\",\"\",VLOOKUP(A63,'Dat-Bl'!$B$127:$F$246,3))","v":""},{"$f":"IF(A63=\"\",\"\",VLOOKUP(A63,'Dat-Bl'!$B$127:$F$246,5))","v":""}]
[null,{"$f":"IF(A64=\"\",\"\",VLOOKUP(A64,'Dat-Bl'!$B$127:$F$246,2))","v":""},{"$f":"IF(A64=\"\",\"\",VLOOKUP(A64,'Dat-Bl'!$B$127:$F$246,3))","v":""},{"$f":"IF(A64=\"\",\"\",VLOOKUP(A64,'Dat-Bl'!$B$127:$F$246,5))","v":""}]
[null,{"$f":"IF(A65=\"\",\"\",VLOOKUP(A65,'Dat-Bl'!$B$127:$F$246,2))","v":""},{"$f":"IF(A65=\"\",\"\",VLOOKUP(A65,'Dat-Bl'!$B$127:$F$246,3))","v":""},{"$f":"IF(A65=\"\",\"\",VLOOKUP(A65,'Dat-Bl'!$B$127:$F$246,5))","v":""}]
[]
[null,null,"Schlagball/Kugel","Männlich_D,C / Regel",null,"Anlage ",null,"Uhr"]
["K-ziff","Startnr.:","Name","Schule","1. Versuch","2. Versuch","3. Versuch","Bester V."]
[null,{"$f":"IF(A69=\"\",\"\",VLOOKUP(A69,'Dat-Bl'!$J$4:$N$123,2))","v":""},{"$f":"IF(A69=\"\",\"\",VLOOKUP(A69,'Dat-Bl'!$J$4:$N$123,3))","v":""},{"$f":"IF(A69=\"\",\"\",VLOOKUP(A69,'Dat-Bl'!$J$4:$N$123,5))","v":""}]
[null,{"$f":"IF(A70=\"\",\"\",VLOOKUP(A70,'Dat-Bl'!$J$4:$N$123,2))","v":""},{"$f":"IF(A70=\"\",\"\",VLOOKUP(A70,'Dat-Bl'!$J$4:$N$123,3))","v":""},{"$f":"IF(A70=\"\",\"\",VLOOKUP(A70,'Dat-Bl'!$J$4:$N$123,5))","v":""}]
[null,{"$f":"IF(A71=\"\",\"\",VLOOKUP(A71,'Dat-Bl'!$J$4:$N$123,2))","v":""},{"$f":"IF(A71=\"\",\"\",VLOOKUP(A71,'Dat-Bl'!$J$4:$N$123,3))","v":""},{"$f":"IF(A71=\"\",\"\",VLOOKUP(A71,'Dat-Bl'!$J$4:$N$123,5))","v":""}]
[null,{"$f":"IF(A72=\"\",\"\",VLOOKUP(A72,'Dat-Bl'!$J$4:$N$123,2))","v":""},{"$f":"IF(A72=\"\",\"\",VLOOKUP(A72,'Dat-Bl'!$J$4:$N$123,3))","v":""},{"$f":"IF(A72=\"\",\"\",VLOOKUP(A72,'Dat-Bl'!$J$4:$N$123,5))","v":""}]
[null,{"$f":"IF(A73=\"\",\"\",VLOOKUP(A73,'Dat-Bl'!$J$4:$N$123,2))","v":""},{"$f":"IF(A73=\"\",\"\",VLOOKUP(A73,'Dat-Bl'!$J$4:$N$123,3))","v":""},{"$f":"IF(A73=\"\",\"\",VLOOKUP(A73,'Dat-Bl'!$J$4:$N$123,5))","v":""}]
[null,{"$f":"IF(A74=\"\",\"\",VLOOKUP(A74,'Dat-Bl'!$J$4:$N$123,2))","v":""},{"$f":"IF(A74=\"\",\"\",VLOOKUP(A74,'Dat-Bl'!$J$4:$N$123,3))","v":""},{"$f":"IF(A74=\"\",\"\",VLOOKUP(A74,'Dat-Bl'!$J$4:$N$123,5))","v":""}]
[null,{"$f":"IF(A75=\"\",\"\",VLOOKUP(A75,'Dat-Bl'!$J$4:$N$123,2))","v":""},{"$f":"IF(A75=\"\",\"\",VLOOKUP(A75,'Dat-Bl'!$J$4:$N$123,3))","v":""},{"$f":"IF(A75=\"\",\"\",VLOOKUP(A75,'Dat-Bl'!$J$4:$N$123,5))","v":""}]
[null,{"$f":"IF(A76=\"\",\"\",VLOOKUP(A76,'Dat-Bl'!$J$4:$N$123,2))","v":""},{"$f":"IF(A76=\"\",\"\",VLOOKUP(A76,'Dat-Bl'!$J$4:$N$123,3))","v":""},{"$f":"IF(A76=\"\",\"\",VLOOKUP(A76,'Dat-Bl'!$J$4:$N$123,5))","v":""}]
[null,{"$f":"IF(A77=\"\",\"\",VLOOKUP(A77,'Dat-Bl'!$J$4:$N$123,2))","v":""},{"$f":"IF(A77=\"\",\"\",VLOOKUP(A77,'Dat-Bl'!$J$4:$N$123,3))","v":""},{"$f":"IF(A77=\"\",\"\",VLOOKUP(A77,'Dat-Bl'!$J$4:$N$123,5))","v":""}]
[null,{"$f":"IF(A78=\"\",\"\",VLOOKUP(A78,'Dat-Bl'!$J$4:$N$123,2))","v":""},{"$f":"IF(A78=\"\",\"\",VLOOKUP(A78,'Dat-Bl'!$J$4:$N$123,3))","v":""},{"$f":"IF(A78=\"\",\"\",VLOOKUP(A78,'Dat-Bl'!$J$4:$N$123,5))","v":""}]
[null,{"$f":"IF(A79=\"\",\"\",VLOOKUP(A79,'Dat-Bl'!$J$4:$N$123,2))","v":""},{"$f":"IF(A79=\"\",\"\",VLOOKUP(A79,'Dat-Bl'!$J$4:$N$123,3))","v":""},{"$f":"IF(A79=\"\",\"\",VLOOKUP(A79,'Dat-Bl'!$J$4:$N$123,5))","v":""}]
[null,{"$f":"IF(A80=\"\",\"\",VLOOKUP(A80,'Dat-Bl'!$J$4:$N$123,2))","v":""},{"$f":"IF(A80=\"\",\"\",VLOOKUP(A80,'Dat-Bl'!$J$4:$N$123,3))","v":""},{"$f":"IF(A80=\"\",\"\",VLOOKUP(A80,'Dat-Bl'!$J$4:$N$123,5))","v":""}]
[null,{"$f":"IF(A81=\"\",\"\",VLOOKUP(A81,'Dat-Bl'!$J$4:$N$123,2))","v":""},{"$f":"IF(A81=\"\",\"\",VLOOKUP(A81,'Dat-Bl'!$J$4:$N$123,3))","v":""},{"$f":"IF(A81=\"\",\"\",VLOOKUP(A81,'Dat-Bl'!$J$4:$N$123,5))","v":""}]
[null,{"$f":"IF(A82=\"\",\"\",VLOOKUP(A82,'Dat-Bl'!$J$4:$N$123,2))","v":""},{"$f":"IF(A82=\"\",\"\",VLOOKUP(A82,'Dat-Bl'!$J$4:$N$123,3))","v":""},{"$f":"IF(A82=\"\",\"\",VLOOKUP(A82,'Dat-Bl'!$J$4:$N$123,5))","v":""}]
[null,{"$f":"IF(A83=\"\",\"\",VLOOKUP(A83,'Dat-Bl'!$J$4:$N$123,2))","v":""},{"$f":"IF(A83=\"\",\"\",VLOOKUP(A83,'Dat-Bl'!$J$4:$N$123,3))","v":""},{"$f":"IF(A83=\"\",\"\",VLOOKUP(A83,'Dat-Bl'!$J$4:$N$123,5))","v":""}]
[null,{"$f":"IF(A84=\"\",\"\",VLOOKUP(A84,'Dat-Bl'!$J$4:$N$123,2))","v":""},{"$f":"IF(A84=\"\",\"\",VLOOKUP(A84,'Dat-Bl'!$J$4:$N$123,3))","v":""},{"$f":"IF(A84=\"\",\"\",VLOOKUP(A84,'Dat-Bl'!$J$4:$N$123,5))","v":""}]
[null,{"$f":"IF(A85=\"\",\"\",VLOOKUP(A85,'Dat-Bl'!$J$4:$N$123,2))","v":""},{"$f":"IF(A85=\"\",\"\",VLOOKUP(A85,'Dat-Bl'!$J$4:$N$123,3))","v":""},{"$f":"IF(A85=\"\",\"\",VLOOKUP(A85,'Dat-Bl'!$J$4:$N$123,5))","v":""}]
[null,{"$f":"IF(A86=\"\",\"\",VLOOKUP(A86,'Dat-Bl'!$J$4:$N$123,2))","v":""},{"$f":"IF(A86=\"\",\"\",VLOOKUP(A86,'Dat-Bl'!$J$4:$N$123,3))","v":""},{"$f":"IF(A86=\"\",\"\",VLOOKUP(A86,'Dat-Bl'!$J$4:$N$123,5))","v":""}]
[null,{"$f":"IF(A87=\"\",\"\",VLOOKUP(A87,'Dat-Bl'!$J$4:$N$123,2))","v":""},{"$f":"IF(A87=\"\",\"\",VLOOKUP(A87,'Dat-Bl'!$J$4:$N$123,3))","v":""},{"$f":"IF(A87=\"\",\"\",VLOOKUP(A87,'Dat-Bl'!$J$4:$N$123,5))","v":""}]
[null,{"$f":"IF(A88=\"\",\"\",VLOOKUP(A88,'Dat-Bl'!$J$4:$N$123,2))","v":""},{"$f":"IF(A88=\"\",\"\",VLOOKUP(A88,'Dat-Bl'!$J$4:$N$123,3))","v":""},{"$f":"IF(A88=\"\",\"\",VLOOKUP(A88,'Dat-Bl'!$J$4:$N$123,5))","v":""}]
[null,{"$f":"IF(A89=\"\",\"\",VLOOKUP(A89,'Dat-Bl'!$J$4:$N$123,2))","v":""},{"$f":"IF(A89=\"\",\"\",VLOOKUP(A89,'Dat-Bl'!$J$4:$N$123,3))","v":""},{"$f":"IF(A89=\"\",\"\",VLOOKUP(A89,'Dat-Bl'!$J$4:$N$123,5))","v":""}]
[null,{"$f":"IF(A90=\"\",\"\",VLOOKUP(A90,'Dat-Bl'!$J$4:$N$123,2))","v":""},{"$f":"IF(A90=\"\",\"\",VLOOKUP(A90,'Dat-Bl'!$J$4:$N$123,3))","v":""},{"$f":"IF(A90=\"\",\"\",VLOOKUP(A90,'Dat-Bl'!$J$4:$N$123,5))","v":""}]
[null,{"$f":"IF(A91=\"\",\"\",VLOOKUP(A91,'Dat-Bl'!$J$4:$N$123,2))","v":""},{"$f":"IF(A91=\"\",\"\",VLOOKUP(A91,'Dat-Bl'!$J$4:$N$123,3))","v":""},{"$f":"IF(A91=\"\",\"\",VLOOKUP(A91,'Dat-Bl'!$J$4:$N$123,5))","v":""}]
[null,{"$f":"IF(A92=\"\",\"\",VLOOKUP(A92,'Dat-Bl'!$J$4:$N$123,2))","v":""},{"$f":"IF(A92=\"\",\"\",VLOOKUP(A92,'Dat-Bl'!$J$4:$N$123,3))","v":""},{"$f":"IF(A92=\"\",\"\",VLOOKUP(A92,'Dat-Bl'!$J$4:$N$123,5))","v":""}]
[null,{"$f":"IF(A93=\"\",\"\",VLOOKUP(A93,'Dat-Bl'!$J$4:$N$123,2))","v":""},{"$f":"IF(A93=\"\",\"\",VLOOKUP(A93,'Dat-Bl'!$J$4:$N$123,3))","v":""},{"$f":"IF(A93=\"\",\"\",VLOOKUP(A93,'Dat-Bl'!$J$4:$N$123,5))","v":""}]
[null,{"$f":"IF(A94=\"\",\"\",VLOOKUP(A94,'Dat-Bl'!$J$4:$N$123,2))","v":""},{"$f":"IF(A94=\"\",\"\",VLOOKUP(A94,'Dat-Bl'!$J$4:$N$123,3))","v":""},{"$f":"IF(A94=\"\",\"\",VLOOKUP(A94,'Dat-Bl'!$J$4:$N$123,5))","v":""}]
[null,{"$f":"IF(A95=\"\",\"\",VLOOKUP(A95,'Dat-Bl'!$J$4:$N$123,2))","v":""},{"$f":"IF(A95=\"\",\"\",VLOOKUP(A95,'Dat-Bl'!$J$4:$N$123,3))","v":""},{"$f":"IF(A95=\"\",\"\",VLOOKUP(A95,'Dat-Bl'!$J$4:$N$123,5))","v":""}]
[null,{"$f":"IF(A96=\"\",\"\",VLOOKUP(A96,'Dat-Bl'!$J$4:$N$123,2))","v":""},{"$f":"IF(A96=\"\",\"\",VLOOKUP(A96,'Dat-Bl'!$J$4:$N$123,3))","v":""},{"$f":"IF(A96=\"\",\"\",VLOOKUP(A96,'Dat-Bl'!$J$4:$N$123,5))","v":""}]
[null,{"$f":"IF(A97=\"\",\"\",VLOOKUP(A97,'Dat-Bl'!$J$4:$N$123,2))","v":""},{"$f":"IF(A97=\"\",\"\",VLOOKUP(A97,'Dat-Bl'!$J$4:$N$123,3))","v":""},{"$f":"IF(A97=\"\",\"\",VLOOKUP(A97,'Dat-Bl'!$J$4:$N$123,5))","v":""}]
[null,{"$f":"IF(A98=\"\",\"\",VLOOKUP(A98,'Dat-Bl'!$J$4:$N$123,2))","v":""},{"$f":"IF(A98=\"\",\"\",VLOOKUP(A98,'Dat-Bl'!$J$4:$N$123,3))","v":""},{"$f":"IF(A98=\"\",\"\",VLOOKUP(A98,'Dat-Bl'!$J$4:$N$123,5))","v":""}]
[]
[null,null,"Schlagball/Kugel","Männlich_D,C / Sport",null,"Anlage ",null,"Uhr"]
["K-ziff","Startnr.:","Name","Schule","1. Versuch","2. Versuch","3. Versuch","Bester V."]
[null,{"$f":"IF(A102=\"\",\"\",VLOOKUP(A102,'Dat-Bl'!$J$127:$N$246,2))","v":""},{"$f":"IF(A102=\"\",\"\",VLOOKUP(A102,'Dat-Bl'!$J$127:$N$246,3))","v":""},{"$f":"IF(A102=\"\",\"\",VLOOKUP(A102,'Dat-Bl'!$J$127:$N$246,5))","v":""}]
[null,{"$f":"IF(A103=\"\",\"\",VLOOKUP(A103,'Dat-Bl'!$J$127:$N$246,2))","v":""},{"$f":"IF(A103=\"\",\"\",VLOOKUP(A103,'Dat-Bl'!$J$127:$N$246,3))","v":""},{"$f":"IF(A103=\"\",\"\",VLOOKUP(A103,'Dat-Bl'!$J$127:$N$246,5))","v":""}]
[null,{"$f":"IF(A104=\"\",\"\",VLOOKUP(A104,'Dat-Bl'!$J$127:$N$246,2))","v":""},{"$f":"IF(A104=\"\",\"\",VLOOKUP(A104,'Dat-Bl'!$J$127:$N$246,3))","v":""},{"$f":"IF(A104=\"\",\"\",VLOOKUP(A104,'Dat-Bl'!$J$127:$N$246,5))","v":""}]
[null,{"$f":"IF(A105=\"\",\"\",VLOOKUP(A105,'Dat-Bl'!$J$127:$N$246,2))","v":""},{"$f":"IF(A105=\"\",\"\",VLOOKUP(A105,'Dat-Bl'!$J$127:$N$246,3))","v":""},{"$f":"IF(A105=\"\",\"\",VLOOKUP(A105,'Dat-Bl'!$J$127:$N$246,5))","v":""}]
[null,{"$f":"IF(A106=\"\",\"\",VLOOKUP(A106,'Dat-Bl'!$J$127:$N$246,2))","v":""},{"$f":"IF(A106=\"\",\"\",VLOOKUP(A106,'Dat-Bl'!$J$127:$N$246,3))","v":""},{"$f":"IF(A106=\"\",\"\",VLOOKUP(A106,'Dat-Bl'!$J$127:$N$246,5))","v":""}]
[null,{"$f":"IF(A107=\"\",\"\",VLOOKUP(A107,'Dat-Bl'!$J$127:$N$246,2))","v":""},{"$f":"IF(A107=\"\",\"\",VLOOKUP(A107,'Dat-Bl'!$J$127:$N$246,3))","v":""},{"$f":"IF(A107=\"\",\"\",VLOOKUP(A107,'Dat-Bl'!$J$127:$N$246,5))","v":""}]
[null,{"$f":"IF(A108=\"\",\"\",VLOOKUP(A108,'Dat-Bl'!$J$127:$N$246,2))","v":""},{"$f":"IF(A108=\"\",\"\",VLOOKUP(A108,'Dat-Bl'!$J$127:$N$246,3))","v":""},{"$f":"IF(A108=\"\",\"\",VLOOKUP(A108,'Dat-Bl'!$J$127:$N$246,5))","v":""}]
[null,{"$f":"IF(A109=\"\",\"\",VLOOKUP(A109,'Dat-Bl'!$J$127:$N$246,2))","v":""},{"$f":"IF(A109=\"\",\"\",VLOOKUP(A109,'Dat-Bl'!$J$127:$N$246,3))","v":""},{"$f":"IF(A109=\"\",\"\",VLOOKUP(A109,'Dat-Bl'!$J$127:$N$246,5))","v":""}]
[null,{"$f":"IF(A110=\"\",\"\",VLOOKUP(A110,'Dat-Bl'!$J$127:$N$246,2))","v":""},{"$f":"IF(A110=\"\",\"\",VLOOKUP(A110,'Dat-Bl'!$J$127:$N$246,3))","v":""},{"$f":"IF(A110=\"\",\"\",VLOOKUP(A110,'Dat-Bl'!$J$127:$N$246,5))","v":""}]
[null,{"$f":"IF(A111=\"\",\"\",VLOOKUP(A111,'Dat-Bl'!$J$127:$N$246,2))","v":""},{"$f":"IF(A111=\"\",\"\",VLOOKUP(A111,'Dat-Bl'!$J$127:$N$246,3))","v":""},{"$f":"IF(A111=\"\",\"\",VLOOKUP(A111,'Dat-Bl'!$J$127:$N$246,5))","v":""}]
[null,{"$f":"IF(A112=\"\",\"\",VLOOKUP(A112,'Dat-Bl'!$J$127:$N$246,2))","v":""},{"$f":"IF(A112=\"\",\"\",VLOOKUP(A112,'Dat-Bl'!$J$127:$N$246,3))","v":""},{"$f":"IF(A112=\"\",\"\",VLOOKUP(A112,'Dat-Bl'!$J$127:$N$246,5))","v":""}]
[null,{"$f":"IF(A113=\"\",\"\",VLOOKUP(A113,'Dat-Bl'!$J$127:$N$246,2))","v":""},{"$f":"IF(A113=\"\",\"\",VLOOKUP(A113,'Dat-Bl'!$J$127:$N$246,3))","v":""},{"$f":"IF(A113=\"\",\"\",VLOOKUP(A113,'Dat-Bl'!$J$127:$N$246,5))","v":""}]
[null,{"$f":"IF(A114=\"\",\"\",VLOOKUP(A114,'Dat-Bl'!$J$127:$N$246,2))","v":""},{"$f":"IF(A114=\"\",\"\",VLOOKUP(A114,'Dat-Bl'!$J$127:$N$246,3))","v":""},{"$f":"IF(A114=\"\",\"\",VLOOKUP(A114,'Dat-Bl'!$J$127:$N$246,5))","v":""}]
[null,{"$f":"IF(A115=\"\",\"\",VLOOKUP(A115,'Dat-Bl'!$J$127:$N$246,2))","v":""},{"$f":"IF(A115=\"\",\"\",VLOOKUP(A115,'Dat-Bl'!$J$127:$N$246,3))","v":""},{"$f":"IF(A115=\"\",\"\",VLOOKUP(A115,'Dat-Bl'!$J$127:$N$246,5))","v":""}]
[null,{"$f":"IF(A116=\"\",\"\",VLOOKUP(A116,'Dat-Bl'!$J$127:$N$246,2))","v":""},{"$f":"IF(A116=\"\",\"\",VLOOKUP(A116,'Dat-Bl'!$J$127:$N$246,3))","v":""},{"$f":"IF(A116=\"\",\"\",VLOOKUP(A116,'Dat-Bl'!$J$127:$N$246,5))","v":""}]
[null,{"$f":"IF(A117=\"\",\"\",VLOOKUP(A117,'Dat-Bl'!$J$127:$N$246,2))","v":""},{"$f":"IF(A117=\"\",\"\",VLOOKUP(A117,'Dat-Bl'!$J$127:$N$246,3))","v":""},{"$f":"IF(A117=\"\",\"\",VLOOKUP(A117,'Dat-Bl'!$J$127:$N$246,5))","v":""}]
[null,{"$f":"IF(A118=\"\",\"\",VLOOKUP(A118,'Dat-Bl'!$J$127:$N$246,2))","v":""},{"$f":"IF(A118=\"\",\"\",VLOOKUP(A118,'Dat-Bl'!$J$127:$N$246,3))","v":""},{"$f":"IF(A118=\"\",\"\",VLOOKUP(A118,'Dat-Bl'!$J$127:$N$246,5))","v":""}]
[null,{"$f":"IF(A119=\"\",\"\",VLOOKUP(A119,'Dat-Bl'!$J$127:$N$246,2))","v":""},{"$f":"IF(A119=\"\",\"\",VLOOKUP(A119,'Dat-Bl'!$J$127:$N$246,3))","v":""},{"$f":"IF(A119=\"\",\"\",VLOOKUP(A119,'Dat-Bl'!$J$127:$N$246,5))","v":""}]
[null,{"$f":"IF(A120=\"\",\"\",VLOOKUP(A120,'Dat-Bl'!$J$127:$N$246,2))","v":""},{"$f":"IF(A120=\"\",\"\",VLOOKUP(A120,'Dat-Bl'!$J$127:$N$246,3))","v":""},{"$f":"IF(A120=\"\",\"\",VLOOKUP(A120,'Dat-Bl'!$J$127:$N$246,5))","v":""}]
[null,{"$f":"IF(A121=\"\",\"\",VLOOKUP(A121,'Dat-Bl'!$J$127:$N$246,2))","v":""},{"$f":"IF(A121=\"\",\"\",VLOOKUP(A121,'Dat-Bl'!$J$127:$N$246,3))","v":""},{"$f":"IF(A121=\"\",\"\",VLOOKUP(A121,'Dat-Bl'!$J$127:$N$246,5))","v":""}]
[null,{"$f":"IF(A122=\"\",\"\",VLOOKUP(A122,'Dat-Bl'!$J$127:$N$246,2))","v":""},{"$f":"IF(A122=\"\",\"\",VLOOKUP(A122,'Dat-Bl'!$J$127:$N$246,3))","v":""},{"$f":"IF(A122=\"\",\"\",VLOOKUP(A122,'Dat-Bl'!$J$127:$N$246,5))","v":""}]
[null,{"$f":"IF(A123=\"\",\"\",VLOOKUP(A123,'Dat-Bl'!$J$127:$N$246,2))","v":""},{"$f":"IF(A123=\"\",\"\",VLOOKUP(A123,'Dat-Bl'!$J$127:$N$246,3))","v":""},{"$f":"IF(A123=\"\",\"\",VLOOKUP(A123,'Dat-Bl'!$J$127:$N$246,5))","v":""}]
[null,{"$f":"IF(A124=\"\",\"\",VLOOKUP(A124,'Dat-Bl'!$J$127:$N$246,2))","v":""},{"$f":"IF(A124=\"\",\"\",VLOOKUP(A124,'Dat-Bl'!$J$127:$N$246,3))","v":""},{"$f":"IF(A124=\"\",\"\",VLOOKUP(A124,'Dat-Bl'!$J$127:$N$246,5))","v":""}]
[null,{"$f":"IF(A125=\"\",\"\",VLOOKUP(A125,'Dat-Bl'!$J$127:$N$246,2))","v":""},{"$f":"IF(A125=\"\",\"\",VLOOKUP(A125,'Dat-Bl'!$J$127:$N$246,3))","v":""},{"$f":"IF(A125=\"\",\"\",VLOOKUP(A125,'Dat-Bl'!$J$127:$N$246,5))","v":""}]
[null,{"$f":"IF(A126=\"\",\"\",VLOOKUP(A126,'Dat-Bl'!$J$127:$N$246,2))","v":""},{"$f":"IF(A126=\"\",\"\",VLOOKUP(A126,'Dat-Bl'!$J$127:$N$246,3))","v":""},{"$f":"IF(A126=\"\",\"\",VLOOKUP(A126,'Dat-Bl'!$J$127:$N$246,5))","v":""}]
[null,{"$f":"IF(A127=\"\",\"\",VLOOKUP(A127,'Dat-Bl'!$J$127:$N$246,2))","v":""},{"$f":"IF(A127=\"\",\"\",VLOOKUP(A127,'Dat-Bl'!$J$127:$N$246,3))","v":""},{"$f":"IF(A127=\"\",\"\",VLOOKUP(A127,'Dat-Bl'!$J$127:$N$246,5))","v":""}]
[null,{"$f":"IF(A128=\"\",\"\",VLOOKUP(A128,'Dat-Bl'!$J$127:$N$246,2))","v":""},{"$f":"IF(A128=\"\",\"\",VLOOKUP(A128,'Dat-Bl'!$J$127:$N$246,3))","v":""},{"$f":"IF(A128=\"\",\"\",VLOOKUP(A128,'Dat-Bl'!$J$127:$N$246,5))","v":""}]
[null,{"$f":"IF(A129=\"\",\"\",VLOOKUP(A129,'Dat-Bl'!$J$127:$N$246,2))","v":""},{"$f":"IF(A129=\"\",\"\",VLOOKUP(A129,'Dat-Bl'!$J$127:$N$246,3))","v":""},{"$f":"IF(A129=\"\",\"\",VLOOKUP(A129,'Dat-Bl'!$J$127:$N$246,5))","v":""}]
[null,{"$f":"IF(A130=\"\",\"\",VLOOKUP(A130,'Dat-Bl'!$J$127:$N$246,2))","v":""},{"$f":"IF(A130=\"\",\"\",VLOOKUP(A130,'Dat-Bl'!$J$127:$N$246,3))","v":""},{"$f":"IF(A130=\"\",\"\",VLOOKUP(A130,'Dat-Bl'!$J$127:$N$246,5))","v":""}]
[null,{"$f":"IF(A131=\"\",\"\",VLOOKUP(A131,'Dat-Bl'!$J$127:$N$246,2))","v":""},{"$f":"IF(A131=\"\",\"\",VLOOKUP(A131,'Dat-Bl'!$J$127:$N$246,3))","v":""},{"$f":"IF(A131=\"\",\"\",VLOOKUP(A131,'Dat-Bl'!$J$127:$N$246,5))","v":""}]

{"sheet":"P-Weit","index":9,"n_rows":131,"n_cols":8,"rows_kept":131,"cut":false,"hidden":false,"merged":[[99,3,99,4],[0,3,0,4],[33,3,33,4],[66,3,66,4]]}
[null,null,"Weitsprung","Weiblich_D,C / Regel",null,"Anlage ",null,"Uhr"]
["K-ziff","Startnr.:","Name","Schule","1. Versuch","2. Versuch","3. Versuch","Bester V."]
[null,{"$f":"IF(A3=\"\",\"\",VLOOKUP(A3,'Dat-Bl'!$B$4:$F$123,2))","v":""},{"$f":"IF(A3=\"\",\"\",VLOOKUP(A3,'Dat-Bl'!$B$4:$F$123,3))","v":""},{"$f":"IF(A3=\"\",\"\",VLOOKUP(A3,'Dat-Bl'!$B$4:$F$123,5))","v":""}]
[null,{"$f":"IF(A4=\"\",\"\",VLOOKUP(A4,'Dat-Bl'!$B$4:$F$123,2))","v":""},{"$f":"IF(A4=\"\",\"\",VLOOKUP(A4,'Dat-Bl'!$B$4:$F$123,3))","v":""},{"$f":"IF(A4=\"\",\"\",VLOOKUP(A4,'Dat-Bl'!$B$4:$F$123,5))","v":""}]
[null,{"$f":"IF(A5=\"\",\"\",VLOOKUP(A5,'Dat-Bl'!$B$4:$F$123,2))","v":""},{"$f":"IF(A5=\"\",\"\",VLOOKUP(A5,'Dat-Bl'!$B$4:$F$123,3))","v":""},{"$f":"IF(A5=\"\",\"\",VLOOKUP(A5,'Dat-Bl'!$B$4:$F$123,5))","v":""}]
[null,{"$f":"IF(A6=\"\",\"\",VLOOKUP(A6,'Dat-Bl'!$B$4:$F$123,2))","v":""},{"$f":"IF(A6=\"\",\"\",VLOOKUP(A6,'Dat-Bl'!$B$4:$F$123,3))","v":""},{"$f":"IF(A6=\"\",\"\",VLOOKUP(A6,'Dat-Bl'!$B$4:$F$123,5))","v":""}]
[null,{"$f":"IF(A7=\"\",\"\",VLOOKUP(A7,'Dat-Bl'!$B$4:$F$123,2))","v":""},{"$f":"IF(A7=\"\",\"\",VLOOKUP(A7,'Dat-Bl'!$B$4:$F$123,3))","v":""},{"$f":"IF(A7=\"\",\"\",VLOOKUP(A7,'Dat-Bl'!$B$4:$F$123,5))","v":""}]
[null,{"$f":"IF(A8=\"\",\"\",VLOOKUP(A8,'Dat-Bl'!$B$4:$F$123,2))","v":""},{"$f":"IF(A8=\"\",\"\",VLOOKUP(A8,'Dat-Bl'!$B$4:$F$123,3))","v":""},{"$f":"IF(A8=\"\",\"\",VLOOKUP(A8,'Dat-Bl'!$B$4:$F$123,5))","v":""}]
[null,{"$f":"IF(A9=\"\",\"\",VLOOKUP(A9,'Dat-Bl'!$B$4:$F$123,2))","v":""},{"$f":"IF(A9=\"\",\"\",VLOOKUP(A9,'Dat-Bl'!$B$4:$F$123,3))","v":""},{"$f":"IF(A9=\"\",\"\",VLOOKUP(A9,'Dat-Bl'!$B$4:$F$123,5))","v":""}]
[null,{"$f":"IF(A10=\"\",\"\",VLOOKUP(A10,'Dat-Bl'!$B$4:$F$123,2))","v":""},{"$f":"IF(A10=\"\",\"\",VLOOKUP(A10,'Dat-Bl'!$B$4:$F$123,3))","v":""},{"$f":"IF(A10=\"\",\"\",VLOOKUP(A10,'Dat-Bl'!$B$4:$F$123,5))","v":""}]
[null,{"$f":"IF(A11=\"\",\"\",VLOOKUP(A11,'Dat-Bl'!$B$4:$F$123,2))","v":""},{"$f":"IF(A11=\"\",\"\",VLOOKUP(A11,'Dat-Bl'!$B$4:$F$123,3))","v":""},{"$f":"IF(A11=\"\",\"\",VLOOKUP(A11,'Dat-Bl'!$B$4:$F$123,5))","v":""}]
[null,{"$f":"IF(A12=\"\",\"\",VLOOKUP(A12,'Dat-Bl'!$B$4:$F$123,2))","v":""},{"$f":"IF(A12=\"\",\"\",VLOOKUP(A12,'Dat-Bl'!$B$4:$F$123,3))","v":""},{"$f":"IF(A12=\"\",\"\",VLOOKUP(A12,'Dat-Bl'!$B$4:$F$123,5))","v":""}]
[null,{"$f":"IF(A13=\"\",\"\",VLOOKUP(A13,'Dat-Bl'!$B$4:$F$123,2))","v":""},{"$f":"IF(A13=\"\",\"\",VLOOKUP(A13,'Dat-Bl'!$B$4:$F$123,3))","v":""},{"$f":"IF(A13=\"\",\"\",VLOOKUP(A13,'Dat-Bl'!$B$4:$F$123,5))","v":""}]
[null,{"$f":"IF(A14=\"\",\"\",VLOOKUP(A14,'Dat-Bl'!$B$4:$F$123,2))","v":""},{"$f":"IF(A14=\"\",\"\",VLOOKUP(A14,'Dat-Bl'!$B$4:$F$123,3))","v":""},{"$f":"IF(A14=\"\",\"\",VLOOKUP(A14,'Dat-Bl'!$B$4:$F$123,5))","v":""}]
[null,{"$f":"IF(A15=\"\",\"\",VLOOKUP(A15,'Dat-Bl'!$B$4:$F$123,2))","v":""},{"$f":"IF(A15=\"\",\"\",VLOOKUP(A15,'Dat-Bl'!$B$4:$F$123,3))","v":""},{"$f":"IF(A15=\"\",\"\",VLOOKUP(A15,'Dat-Bl'!$B$4:$F$123,5))","v":""}]
[null,{"$f":"IF(A16=\"\",\"\",VLOOKUP(A16,'Dat-Bl'!$B$4:$F$123,2))","v":""},{"$f":"IF(A16=\"\",\"\",VLOOKUP(A16,'Dat-Bl'!$B$4:$F$123,3))","v":""},{"$f":"IF(A16=\"\",\"\",VLOOKUP(A16,'Dat-Bl'!$B$4:$F$123,5))","v":""}]
[null,{"$f":"IF(A17=\"\",\"\",VLOOKUP(A17,'Dat-Bl'!$B$4:$F$123,2))","v":""},{"$f":"IF(A17=\"\",\"\",VLOOKUP(A17,'Dat-Bl'!$B$4:$F$123,3))","v":""},{"$f":"IF(A17=\"\",\"\",VLOOKUP(A17,'Dat-Bl'!$B$4:$F$123,5))","v":""}]
[null,{"$f":"IF(A18=\"\",\"\",VLOOKUP(A18,'Dat-Bl'!$B$4:$F$123,2))","v":""},{"$f":"IF(A18=\"\",\"\",VLOOKUP(A18,'Dat-Bl'!$B$4:$F$123,3))","v":""},{"$f":"IF(A18=\"\",\"\",VLOOKUP(A18,'Dat-Bl'!$B$4:$F$123,5))","v":""}]
[null,{"$f":"IF(A19=\"\",\"\",VLOOKUP(A19,'Dat-Bl'!$B$4:$F$123,2))","v":""},{"$f":"IF(A19=\"\",\"\",VLOOKUP(A19,'Dat-Bl'!$B$4:$F$123,3))","v":""},{"$f":"IF(A19=\"\",\"\",VLOOKUP(A19,'Dat-Bl'!$B$4:$F$123,5))","v":""}]
[null,{"$f":"IF(A20=\"\",\"\",VLOOKUP(A20,'Dat-Bl'!$B$4:$F$123,2))","v":""},{"$f":"IF(A20=\"\",\"\",VLOOKUP(A20,'Dat-Bl'!$B$4:$F$123,3))","v":""},{"$f":"IF(A20=\"\",\"\",VLOOKUP(A20,'Dat-Bl'!$B$4:$F$123,5))","v":""}]
[null,{"$f":"IF(A21=\"\",\"\",VLOOKUP(A21,'Dat-Bl'!$B$4:$F$123,2))","v":""},{"$f":"IF(A21=\"\",\"\",VLOOKUP(A21,'Dat-Bl'!$B$4:$F$123,3))","v":""},{"$f":"IF(A21=\"\",\"\",VLOOKUP(A21,'Dat-Bl'!$B$4:$F$123,5))","v":""}]
[null,{"$f":"IF(A22=\"\",\"\",VLOOKUP(A22,'Dat-Bl'!$B$4:$F$123,2))","v":""},{"$f":"IF(A22=\"\",\"\",VLOOKUP(A22,'Dat-Bl'!$B$4:$F$123,3))","v":""},{"$f":"IF(A22=\"\",\"\",VLOOKUP(A22,'Dat-Bl'!$B$4:$F$123,5))","v":""}]
[null,{"$f":"IF(A23=\"\",\"\",VLOOKUP(A23,'Dat-Bl'!$B$4:$F$123,2))","v":""},{"$f":"IF(A23=\"\",\"\",VLOOKUP(A23,'Dat-Bl'!$B$4:$F$123,3))","v":""},{"$f":"IF(A23=\"\",\"\",VLOOKUP(A23,'Dat-Bl'!$B$4:$F$123,5))","v":""}]
[null,{"$f":"IF(A24=\"\",\"\",VLOOKUP(A24,'Dat-Bl'!$B$4:$F$123,2))","v":""},{"$f":"IF(A24=\"\",\"\",VLOOKUP(A24,'Dat-Bl'!$B$4:$F$123,3))","v":""},{"$f":"IF(A24=\"\",\"\",VLOOKUP(A24,'Dat-Bl'!$B$4:$F$123,5))","v":""}]
[null,{"$f":"IF(A25=\"\",\"\",VLOOKUP(A25,'Dat-Bl'!$B$4:$F$123,2))","v":""},{"$f":"IF(A25=\"\",\"\",VLOOKUP(A25,'Dat-Bl'!$B$4:$F$123,3))","v":""},{"$f":"IF(A25=\"\",\"\",VLOOKUP(A25,'Dat-Bl'!$B$4:$F$123,5))","v":""}]
[null,{"$f":"IF(A26=\"\",\"\",VLOOKUP(A26,'Dat-Bl'!$B$4:$F$123,2))","v":""},{"$f":"IF(A26=\"\",\"\",VLOOKUP(A26,'Dat-Bl'!$B$4:$F$123,3))","v":""},{"$f":"IF(A26=\"\",\"\",VLOOKUP(A26,'Dat-Bl'!$B$4:$F$123,5))","v":""}]
[null,{"$f":"IF(A27=\"\",\"\",VLOOKUP(A27,'Dat-Bl'!$B$4:$F$123,2))","v":""},{"$f":"IF(A27=\"\",\"\",VLOOKUP(A27,'Dat-Bl'!$B$4:$F$123,3))","v":""},{"$f":"IF(A27=\"\",\"\",VLOOKUP(A27,'Dat-Bl'!$B$4:$F$123,5))","v":""}]
[null,{"$f":"IF(A28=\"\",\"\",VLOOKUP(A28,'Dat-Bl'!$B$4:$F$123,2))","v":""},{"$f":"IF(A28=\"\",\"\",VLOOKUP(A28,'Dat-Bl'!$B$4:$F$123,3))","v":""},{"$f":"IF(A28=\"\",\"\",VLOOKUP(A28,'Dat-Bl'!$B$4:$F$123,5))","v":""}]
[null,{"$f":"IF(A29=\"\",\"\",VLOOKUP(A29,'Dat-Bl'!$B$4:$F$123,2))","v":""},{"$f":"IF(A29=\"\",\"\",VLOOKUP(A29,'Dat-Bl'!$B$4:$F$123,3))","v":""},{"$f":"IF(A29=\"\",\"\",VLOOKUP(A29,'Dat-Bl'!$B$4:$F$123,5))","v":""}]
[null,{"$f":"IF(A30=\"\",\"\",VLOOKUP(A30,'Dat-Bl'!$B$4:$F$123,2))","v":""},{"$f":"IF(A30=\"\",\"\",VLOOKUP(A30,'Dat-Bl'!$B$4:$F$123,3))","v":""},{"$f":"IF(A30=\"\",\"\",VLOOKUP(A30,'Dat-Bl'!$B$4:$F$123,5))","v":""}]
[null,{"$f":"IF(A31=\"\",\"\",VLOOKUP(A31,'Dat-Bl'!$B$4:$F$123,2))","v":""},{"$f":"IF(A31=\"\",\"\",VLOOKUP(A31,'Dat-Bl'!$B$4:$F$123,3))","v":""},{"$f":"IF(A31=\"\",\"\",VLOOKUP(A31,'Dat-Bl'!$B$4:$F$123,5))","v":""}]
[null,{"$f":"IF(A32=\"\",\"\",VLOOKUP(A32,'Dat-Bl'!$B$4:$F$123,2))","v":""},{"$f":"IF(A32=\"\",\"\",VLOOKUP(A32,'Dat-Bl'!$B$4:$F$123,3))","v":""},{"$f":"IF(A32=\"\",\"\",VLOOKUP(A32,'Dat-Bl'!$B$4:$F$123,5))","v":""}]
[]
[null,null,"Weitsprung","Weiblich_D,C / Sport",null,"Anlage ",null,"Uhr"]
["K-ziff","Startnr.:","Name","Schule","1. Versuch","2. Versuch","3. Versuch","Bester V."]
[null,{"$f":"IF(A36=\"\",\"\",VLOOKUP(A36,'Dat-Bl'!$B$127:$F$246,2))","v":""},{"$f":"IF(A36=\"\",\"\",VLOOKUP(A36,'Dat-Bl'!$B$127:$F$246,3))","v":""},{"$f":"IF(A36=\"\",\"\",VLOOKUP(A36,'Dat-Bl'!$B$127:$F$246,5))","v":""}]
[null,{"$f":"IF(A37=\"\",\"\",VLOOKUP(A37,'Dat-Bl'!$B$127:$F$246,2))","v":""},{"$f":"IF(A37=\"\",\"\",VLOOKUP(A37,'Dat-Bl'!$B$127:$F$246,3))","v":""},{"$f":"IF(A37=\"\",\"\",VLOOKUP(A37,'Dat-Bl'!$B$127:$F$246,5))","v":""}]
[null,{"$f":"IF(A38=\"\",\"\",VLOOKUP(A38,'Dat-Bl'!$B$127:$F$246,2))","v":""},{"$f":"IF(A38=\"\",\"\",VLOOKUP(A38,'Dat-Bl'!$B$127:$F$246,3))","v":""},{"$f":"IF(A38=\"\",\"\",VLOOKUP(A38,'Dat-Bl'!$B$127:$F$246,5))","v":""}]
[null,{"$f":"IF(A39=\"\",\"\",VLOOKUP(A39,'Dat-Bl'!$B$127:$F$246,2))","v":""},{"$f":"IF(A39=\"\",\"\",VLOOKUP(A39,'Dat-Bl'!$B$127:$F$246,3))","v":""},{"$f":"IF(A39=\"\",\"\",VLOOKUP(A39,'Dat-Bl'!$B$127:$F$246,5))","v":""}]
[null,{"$f":"IF(A40=\"\",\"\",VLOOKUP(A40,'Dat-Bl'!$B$127:$F$246,2))","v":""},{"$f":"IF(A40=\"\",\"\",VLOOKUP(A40,'Dat-Bl'!$B$127:$F$246,3))","v":""},{"$f":"IF(A40=\"\",\"\",VLOOKUP(A40,'Dat-Bl'!$B$127:$F$246,5))","v":""}]
[null,{"$f":"IF(A41=\"\",\"\",VLOOKUP(A41,'Dat-Bl'!$B$127:$F$246,2))","v":""},{"$f":"IF(A41=\"\",\"\",VLOOKUP(A41,'Dat-Bl'!$B$127:$F$246,3))","v":""},{"$f":"IF(A41=\"\",\"\",VLOOKUP(A41,'Dat-Bl'!$B$127:$F$246,5))","v":""}]
[null,{"$f":"IF(A42=\"\",\"\",VLOOKUP(A42,'Dat-Bl'!$B$127:$F$246,2))","v":""},{"$f":"IF(A42=\"\",\"\",VLOOKUP(A42,'Dat-Bl'!$B$127:$F$246,3))","v":""},{"$f":"IF(A42=\"\",\"\",VLOOKUP(A42,'Dat-Bl'!$B$127:$F$246,5))","v":""}]
[null,{"$f":"IF(A43=\"\",\"\",VLOOKUP(A43,'Dat-Bl'!$B$127:$F$246,2))","v":""},{"$f":"IF(A43=\"\",\"\",VLOOKUP(A43,'Dat-Bl'!$B$127:$F$246,3))","v":""},{"$f":"IF(A43=\"\",\"\",VLOOKUP(A43,'Dat-Bl'!$B$127:$F$246,5))","v":""}]
[null,{"$f":"IF(A44=\"\",\"\",VLOOKUP(A44,'Dat-Bl'!$B$127:$F$246,2))","v":""},{"$f":"IF(A44=\"\",\"\",VLOOKUP(A44,'Dat-Bl'!$B$127:$F$246,3))","v":""},{"$f":"IF(A44=\"\",\"\",VLOOKUP(A44,'Dat-Bl'!$B$127:$F$246,5))","v":""}]
[null,{"$f":"IF(A45=\"\",\"\",VLOOKUP(A45,'Dat-Bl'!$B$127:$F$246,2))","v":""},{"$f":"IF(A45=\"\",\"\",VLOOKUP(A45,'Dat-Bl'!$B$127:$F$246,3))","v":""},{"$f":"IF(A45=\"\",\"\",VLOOKUP(A45,'Dat-Bl'!$B$127:$F$246,5))","v":""}]
[null,{"$f":"IF(A46=\"\",\"\",VLOOKUP(A46,'Dat-Bl'!$B$127:$F$246,2))","v":""},{"$f":"IF(A46=\"\",\"\",VLOOKUP(A46,'Dat-Bl'!$B$127:$F$246,3))","v":""},{"$f":"IF(A46=\"\",\"\",VLOOKUP(A46,'Dat-Bl'!$B$127:$F$246,5))","v":""}]
[null,{"$f":"IF(A47=\"\",\"\",VLOOKUP(A47,'Dat-Bl'!$B$127:$F$246,2))","v":""},{"$f":"IF(A47=\"\",\"\",VLOOKUP(A47,'Dat-Bl'!$B$127:$F$246,3))","v":""},{"$f":"IF(A47=\"\",\"\",VLOOKUP(A47,'Dat-Bl'!$B$127:$F$246,5))","v":""}]
[null,{"$f":"IF(A48=\"\",\"\",VLOOKUP(A48,'Dat-Bl'!$B$127:$F$246,2))","v":""},{"$f":"IF(A48=\"\",\"\",VLOOKUP(A48,'Dat-Bl'!$B$127:$F$246,3))","v":""},{"$f":"IF(A48=\"\",\"\",VLOOKUP(A48,'Dat-Bl'!$B$127:$F$246,5))","v":""}]
[null,{"$f":"IF(A49=\"\",\"\",VLOOKUP(A49,'Dat-Bl'!$B$127:$F$246,2))","v":""},{"$f":"IF(A49=\"\",\"\",VLOOKUP(A49,'Dat-Bl'!$B$127:$F$246,3))","v":""},{"$f":"IF(A49=\"\",\"\",VLOOKUP(A49,'Dat-Bl'!$B$127:$F$246,5))","v":""}]
[null,{"$f":"IF(A50=\"\",\"\",VLOOKUP(A50,'Dat-Bl'!$B$127:$F$246,2))","v":""},{"$f":"IF(A50=\"\",\"\",VLOOKUP(A50,'Dat-Bl'!$B$127:$F$246,3))","v":""},{"$f":"IF(A50=\"\",\"\",VLOOKUP(A50,'Dat-Bl'!$B$127:$F$246,5))","v":""}]
[null,{"$f":"IF(A51=\"\",\"\",VLOOKUP(A51,'Dat-Bl'!$B$127:$F$246,2))","v":""},{"$f":"IF(A51=\"\",\"\",VLOOKUP(A51,'Dat-Bl'!$B$127:$F$246,3))","v":""},{"$f":"IF(A51=\"\",\"\",VLOOKUP(A51,'Dat-Bl'!$B$127:$F$246,5))","v":""}]
[null,{"$f":"IF(A52=\"\",\"\",VLOOKUP(A52,'Dat-Bl'!$B$127:$F$246,2))","v":""},{"$f":"IF(A52=\"\",\"\",VLOOKUP(A52,'Dat-Bl'!$B$127:$F$246,3))","v":""},{"$f":"IF(A52=\"\",\"\",VLOOKUP(A52,'Dat-Bl'!$B$127:$F$246,5))","v":""}]
[null,{"$f":"IF(A53=\"\",\"\",VLOOKUP(A53,'Dat-Bl'!$B$127:$F$246,2))","v":""},{"$f":"IF(A53=\"\",\"\",VLOOKUP(A53,'Dat-Bl'!$B$127:$F$246,3))","v":""},{"$f":"IF(A53=\"\",\"\",VLOOKUP(A53,'Dat-Bl'!$B$127:$F$246,5))","v":""}]
[null,{"$f":"IF(A54=\"\",\"\",VLOOKUP(A54,'Dat-Bl'!$B$127:$F$246,2))","v":""},{"$f":"IF(A54=\"\",\"\",VLOOKUP(A54,'Dat-Bl'!$B$127:$F$246,3))","v":""},{"$f":"IF(A54=\"\",\"\",VLOOKUP(A54,'Dat-Bl'!$B$127:$F$246,5))","v":""}]
[null,{"$f":"IF(A55=\"\",\"\",VLOOKUP(A55,'Dat-Bl'!$B$127:$F$246,2))","v":""},{"$f":"IF(A55=\"\",\"\",VLOOKUP(A55,'Dat-Bl'!$B$127:$F$246,3))","v":""},{"$f":"IF(A55=\"\",\"\",VLOOKUP(A55,'Dat-Bl'!$B$127:$F$246,5))","v":""}]
[null,{"$f":"IF(A56=\"\",\"\",VLOOKUP(A56,'Dat-Bl'!$B$127:$F$246,2))","v":""},{"$f":"IF(A56=\"\",\"\",VLOOKUP(A56,'Dat-Bl'!$B$127:$F$246,3))","v":""},{"$f":"IF(A56=\"\",\"\",VLOOKUP(A56,'Dat-Bl'!$B$127:$F$246,5))","v":""}]
[null,{"$f":"IF(A57=\"\",\"\",VLOOKUP(A57,'Dat-Bl'!$B$127:$F$246,2))","v":""},{"$f":"IF(A57=\"\",\"\",VLOOKUP(A57,'Dat-Bl'!$B$127:$F$246,3))","v":""},{"$f":"IF(A57=\"\",\"\",VLOOKUP(A57,'Dat-Bl'!$B$127:$F$246,5))","v":""}]
[null,{"$f":"IF(A58=\"\",\"\",VLOOKUP(A58,'Dat-Bl'!$B$127:$F$246,2))","v":""},{"$f":"IF(A58=\"\",\"\",VLOOKUP(A58,'Dat-Bl'!$B$127:$F$246,3))","v":""},{"$f":"IF(A58=\"\",\"\",VLOOKUP(A58,'Dat-Bl'!$B$127:$F$246,5))","v":""}]
[null,{"$f":"IF(A59=\"\",\"\",VLOOKUP(A59,'Dat-Bl'!$B$127:$F$246,2))","v":""},{"$f":"IF(A59=\"\",\"\",VLOOKUP(A59,'Dat-Bl'!$B$127:$F$246,3))","v":""},{"$f":"IF(A59=\"\",\"\",VLOOKUP(A59,'Dat-Bl'!$B$127:$F$246,5))","v":""}]
[null,{"$f":"IF(A60=\"\",\"\",VLOOKUP(A60,'Dat-Bl'!$B$127:$F$246,2))","v":""},{"$f":"IF(A60=\"\",\"\",VLOOKUP(A60,'Dat-Bl'!$B$127:$F$246,3))","v":""},{"$f":"IF(A60=\"\",\"\",VLOOKUP(A60,'Dat-Bl'!$B$127:$F$246,5))","v":""}]
[null,{"$f":"IF(A61=\"\",\"\",VLOOKUP(A61,'Dat-Bl'!$B$127:$F$246,2))","v":""},{"$f":"IF(A61=\"\",\"\",VLOOKUP(A61,'Dat-Bl'!$B$127:$F$246,3))","v":""},{"$f":"IF(A61=\"\",\"\",VLOOKUP(A61,'Dat-Bl'!$B$127:$F$246,5))","v":""}]
[null,{"$f":"IF(A62=\"\",\"\",VLOOKUP(A62,'Dat-Bl'!$B$127:$F$246,2))","v":""},{"$f":"IF(A62=\"\",\"\",VLOOKUP(A62,'Dat-Bl'!$B$127:$F$246,3))","v":""},{"$f":"IF(A62=\"\",\"\",VLOOKUP(A62,'Dat-Bl'!$B$127:$F$246,5))","v":""}]
[null,{"$f":"IF(A63=\"\",\"\",VLOOKUP(A63,'Dat-Bl'!$B$127:$F$246,2))","v":""},{"$f":"IF(A63=\"\",\"\",VLOOKUP(A63,'Dat-Bl'!$B$127:$F$246,3))","v":""},{"$f":"IF(A63=\"\",\"\",VLOOKUP(A63,'Dat-Bl'!$B$127:$F$246,5))","v":""}]
[null,{"$f":"IF(A64=\"\",\"\",VLOOKUP(A64,'Dat-Bl'!$B$127:$F$246,2))","v":""},{"$f":"IF(A64=\"\",\"\",VLOOKUP(A64,'Dat-Bl'!$B$127:$F$246,3))","v":""},{"$f":"IF(A64=\"\",\"\",VLOOKUP(A64,'Dat-Bl'!$B$127:$F$246,5))","v":""}]
[null,{"$f":"IF(A65=\"\",\"\",VLOOKUP(A65,'Dat-Bl'!$B$127:$F$246,2))","v":""},{"$f":"IF(A65=\"\",\"\",VLOOKUP(A65,'Dat-Bl'!$B$127:$F$246,3))","v":""},{"$f":"IF(A65=\"\",\"\",VLOOKUP(A65,'Dat-Bl'!$B$127:$F$246,5))","v":""}]
[]
[null,null,"Weitsprung","Männlich_D,C / Regel",null,"Anlage ",null,"Uhr"]
["K-ziff","Startnr.:","Name","Schule","1. Versuch","2. Versuch","3. Versuch","Bester V."]
[null,{"$f":"IF(A69=\"\",\"\",VLOOKUP(A69,'Dat-Bl'!$J$4:$N$123,2))","v":""},{"$f":"IF(A69=\"\",\"\",VLOOKUP(A69,'Dat-Bl'!$J$4:$N$123,3))","v":""},{"$f":"IF(A69=\"\",\"\",VLOOKUP(A69,'Dat-Bl'!$J$4:$N$123,5))","v":""}]
[null,{"$f":"IF(A70=\"\",\"\",VLOOKUP(A70,'Dat-Bl'!$J$4:$N$123,2))","v":""},{"$f":"IF(A70=\"\",\"\",VLOOKUP(A70,'Dat-Bl'!$J$4:$N$123,3))","v":""},{"$f":"IF(A70=\"\",\"\",VLOOKUP(A70,'Dat-Bl'!$J$4:$N$123,5))","v":""}]
[null,{"$f":"IF(A71=\"\",\"\",VLOOKUP(A71,'Dat-Bl'!$J$4:$N$123,2))","v":""},{"$f":"IF(A71=\"\",\"\",VLOOKUP(A71,'Dat-Bl'!$J$4:$N$123,3))","v":""},{"$f":"IF(A71=\"\",\"\",VLOOKUP(A71,'Dat-Bl'!$J$4:$N$123,5))","v":""}]
[null,{"$f":"IF(A72=\"\",\"\",VLOOKUP(A72,'Dat-Bl'!$J$4:$N$123,2))","v":""},{"$f":"IF(A72=\"\",\"\",VLOOKUP(A72,'Dat-Bl'!$J$4:$N$123,3))","v":""},{"$f":"IF(A72=\"\",\"\",VLOOKUP(A72,'Dat-Bl'!$J$4:$N$123,5))","v":""}]
[null,{"$f":"IF(A73=\"\",\"\",VLOOKUP(A73,'Dat-Bl'!$J$4:$N$123,2))","v":""},{"$f":"IF(A73=\"\",\"\",VLOOKUP(A73,'Dat-Bl'!$J$4:$N$123,3))","v":""},{"$f":"IF(A73=\"\",\"\",VLOOKUP(A73,'Dat-Bl'!$J$4:$N$123,5))","v":""}]
[null,{"$f":"IF(A74=\"\",\"\",VLOOKUP(A74,'Dat-Bl'!$J$4:$N$123,2))","v":""},{"$f":"IF(A74=\"\",\"\",VLOOKUP(A74,'Dat-Bl'!$J$4:$N$123,3))","v":""},{"$f":"IF(A74=\"\",\"\",VLOOKUP(A74,'Dat-Bl'!$J$4:$N$123,5))","v":""}]
[null,{"$f":"IF(A75=\"\",\"\",VLOOKUP(A75,'Dat-Bl'!$J$4:$N$123,2))","v":""},{"$f":"IF(A75=\"\",\"\",VLOOKUP(A75,'Dat-Bl'!$J$4:$N$123,3))","v":""},{"$f":"IF(A75=\"\",\"\",VLOOKUP(A75,'Dat-Bl'!$J$4:$N$123,5))","v":""}]
[null,{"$f":"IF(A76=\"\",\"\",VLOOKUP(A76,'Dat-Bl'!$J$4:$N$123,2))","v":""},{"$f":"IF(A76=\"\",\"\",VLOOKUP(A76,'Dat-Bl'!$J$4:$N$123,3))","v":""},{"$f":"IF(A76=\"\",\"\",VLOOKUP(A76,'Dat-Bl'!$J$4:$N$123,5))","v":""}]
[null,{"$f":"IF(A77=\"\",\"\",VLOOKUP(A77,'Dat-Bl'!$J$4:$N$123,2))","v":""},{"$f":"IF(A77=\"\",\"\",VLOOKUP(A77,'Dat-Bl'!$J$4:$N$123,3))","v":""},{"$f":"IF(A77=\"\",\"\",VLOOKUP(A77,'Dat-Bl'!$J$4:$N$123,5))","v":""}]
[null,{"$f":"IF(A78=\"\",\"\",VLOOKUP(A78,'Dat-Bl'!$J$4:$N$123,2))","v":""},{"$f":"IF(A78=\"\",\"\",VLOOKUP(A78,'Dat-Bl'!$J$4:$N$123,3))","v":""},{"$f":"IF(A78=\"\",\"\",VLOOKUP(A78,'Dat-Bl'!$J$4:$N$123,5))","v":""}]
[null,{"$f":"IF(A79=\"\",\"\",VLOOKUP(A79,'Dat-Bl'!$J$4:$N$123,2))","v":""},{"$f":"IF(A79=\"\",\"\",VLOOKUP(A79,'Dat-Bl'!$J$4:$N$123,3))","v":""},{"$f":"IF(A79=\"\",\"\",VLOOKUP(A79,'Dat-Bl'!$J$4:$N$123,5))","v":""}]
[null,{"$f":"IF(A80=\"\",\"\",VLOOKUP(A80,'Dat-Bl'!$J$4:$N$123,2))","v":""},{"$f":"IF(A80=\"\",\"\",VLOOKUP(A80,'Dat-Bl'!$J$4:$N$123,3))","v":""},{"$f":"IF(A80=\"\",\"\",VLOOKUP(A80,'Dat-Bl'!$J$4:$N$123,5))","v":""}]
[null,{"$f":"IF(A81=\"\",\"\",VLOOKUP(A81,'Dat-Bl'!$J$4:$N$123,2))","v":""},{"$f":"IF(A81=\"\",\"\",VLOOKUP(A81,'Dat-Bl'!$J$4:$N$123,3))","v":""},{"$f":"IF(A81=\"\",\"\",VLOOKUP(A81,'Dat-Bl'!$J$4:$N$123,5))","v":""}]
[null,{"$f":"IF(A82=\"\",\"\",VLOOKUP(A82,'Dat-Bl'!$J$4:$N$123,2))","v":""},{"$f":"IF(A82=\"\",\"\",VLOOKUP(A82,'Dat-Bl'!$J$4:$N$123,3))","v":""},{"$f":"IF(A82=\"\",\"\",VLOOKUP(A82,'Dat-Bl'!$J$4:$N$123,5))","v":""}]
[null,{"$f":"IF(A83=\"\",\"\",VLOOKUP(A83,'Dat-Bl'!$J$4:$N$123,2))","v":""},{"$f":"IF(A83=\"\",\"\",VLOOKUP(A83,'Dat-Bl'!$J$4:$N$123,3))","v":""},{"$f":"IF(A83=\"\",\"\",VLOOKUP(A83,'Dat-Bl'!$J$4:$N$123,5))","v":""}]
[null,{"$f":"IF(A84=\"\",\"\",VLOOKUP(A84,'Dat-Bl'!$J$4:$N$123,2))","v":""},{"$f":"IF(A84=\"\",\"\",VLOOKUP(A84,'Dat-Bl'!$J$4:$N$123,3))","v":""},{"$f":"IF(A84=\"\",\"\",VLOOKUP(A84,'Dat-Bl'!$J$4:$N$123,5))","v":""}]
[null,{"$f":"IF(A85=\"\",\"\",VLOOKUP(A85,'Dat-Bl'!$J$4:$N$123,2))","v":""},{"$f":"IF(A85=\"\",\"\",VLOOKUP(A85,'Dat-Bl'!$J$4:$N$123,3))","v":""},{"$f":"IF(A85=\"\",\"\",VLOOKUP(A85,'Dat-Bl'!$J$4:$N$123,5))","v":""}]
[null,{"$f":"IF(A86=\"\",\"\",VLOOKUP(A86,'Dat-Bl'!$J$4:$N$123,2))","v":""},{"$f":"IF(A86=\"\",\"\",VLOOKUP(A86,'Dat-Bl'!$J$4:$N$123,3))","v":""},{"$f":"IF(A86=\"\",\"\",VLOOKUP(A86,'Dat-Bl'!$J$4:$N$123,5))","v":""}]
[null,{"$f":"IF(A87=\"\",\"\",VLOOKUP(A87,'Dat-Bl'!$J$4:$N$123,2))","v":""},{"$f":"IF(A87=\"\",\"\",VLOOKUP(A87,'Dat-Bl'!$J$4:$N$123,3))","v":""},{"$f":"IF(A87=\"\",\"\",VLOOKUP(A87,'Dat-Bl'!$J$4:$N$123,5))","v":""}]
[null,{"$f":"IF(A88=\"\",\"\",VLOOKUP(A88,'Dat-Bl'!$J$4:$N$123,2))","v":""},{"$f":"IF(A88=\"\",\"\",VLOOKUP(A88,'Dat-Bl'!$J$4:$N$123,3))","v":""},{"$f":"IF(A88=\"\",\"\",VLOOKUP(A88,'Dat-Bl'!$J$4:$N$123,5))","v":""}]
[null,{"$f":"IF(A89=\"\",\"\",VLOOKUP(A89,'Dat-Bl'!$J$4:$N$123,2))","v":""},{"$f":"IF(A89=\"\",\"\",VLOOKUP(A89,'Dat-Bl'!$J$4:$N$123,3))","v":""},{"$f":"IF(A89=\"\",\"\",VLOOKUP(A89,'Dat-Bl'!$J$4:$N$123,5))","v":""}]
[null,{"$f":"IF(A90=\"\",\"\",VLOOKUP(A90,'Dat-Bl'!$J$4:$N$123,2))","v":""},{"$f":"IF(A90=\"\",\"\",VLOOKUP(A90,'Dat-Bl'!$J$4:$N$123,3))","v":""},{"$f":"IF(A90=\"\",\"\",VLOOKUP(A90,'Dat-Bl'!$J$4:$N$123,5))","v":""}]
[null,{"$f":"IF(A91=\"\",\"\",VLOOKUP(A91,'Dat-Bl'!$J$4:$N$123,2))","v":""},{"$f":"IF(A91=\"\",\"\",VLOOKUP(A91,'Dat-Bl'!$J$4:$N$123,3))","v":""},{"$f":"IF(A91=\"\",\"\",VLOOKUP(A91,'Dat-Bl'!$J$4:$N$123,5))","v":""}]
[null,{"$f":"IF(A92=\"\",\"\",VLOOKUP(A92,'Dat-Bl'!$J$4:$N$123,2))","v":""},{"$f":"IF(A92=\"\",\"\",VLOOKUP(A92,'Dat-Bl'!$J$4:$N$123,3))","v":""},{"$f":"IF(A92=\"\",\"\",VLOOKUP(A92,'Dat-Bl'!$J$4:$N$123,5))","v":""}]
[null,{"$f":"IF(A93=\"\",\"\",VLOOKUP(A93,'Dat-Bl'!$J$4:$N$123,2))","v":""},{"$f":"IF(A93=\"\",\"\",VLOOKUP(A93,'Dat-Bl'!$J$4:$N$123,3))","v":""},{"$f":"IF(A93=\"\",\"\",VLOOKUP(A93,'Dat-Bl'!$J$4:$N$123,5))","v":""}]
[null,{"$f":"IF(A94=\"\",\"\",VLOOKUP(A94,'Dat-Bl'!$J$4:$N$123,2))","v":""},{"$f":"IF(A94=\"\",\"\",VLOOKUP(A94,'Dat-Bl'!$J$4:$N$123,3))","v":""},{"$f":"IF(A94=\"\",\"\",VLOOKUP(A94,'Dat-Bl'!$J$4:$N$123,5))","v":""}]
[null,{"$f":"IF(A95=\"\",\"\",VLOOKUP(A95,'Dat-Bl'!$J$4:$N$123,2))","v":""},{"$f":"IF(A95=\"\",\"\",VLOOKUP(A95,'Dat-Bl'!$J$4:$N$123,3))","v":""},{"$f":"IF(A95=\"\",\"\",VLOOKUP(A95,'Dat-Bl'!$J$4:$N$123,5))","v":""}]
[null,{"$f":"IF(A96=\"\",\"\",VLOOKUP(A96,'Dat-Bl'!$J$4:$N$123,2))","v":""},{"$f":"IF(A96=\"\",\"\",VLOOKUP(A96,'Dat-Bl'!$J$4:$N$123,3))","v":""},{"$f":"IF(A96=\"\",\"\",VLOOKUP(A96,'Dat-Bl'!$J$4:$N$123,5))","v":""}]
[null,{"$f":"IF(A97=\"\",\"\",VLOOKUP(A97,'Dat-Bl'!$J$4:$N$123,2))","v":""},{"$f":"IF(A97=\"\",\"\",VLOOKUP(A97,'Dat-Bl'!$J$4:$N$123,3))","v":""},{"$f":"IF(A97=\"\",\"\",VLOOKUP(A97,'Dat-Bl'!$J$4:$N$123,5))","v":""}]
[null,{"$f":"IF(A98=\"\",\"\",VLOOKUP(A98,'Dat-Bl'!$J$4:$N$123,2))","v":""},{"$f":"IF(A98=\"\",\"\",VLOOKUP(A98,'Dat-Bl'!$J$4:$N$123,3))","v":""},{"$f":"IF(A98=\"\",\"\",VLOOKUP(A98,'Dat-Bl'!$J$4:$N$123,5))","v":""}]
[]
[null,null,"Weitsprung","Männlich_D,C / Sport",null,"Anlage ",null,"Uhr"]
["K-ziff","Startnr.:","Name","Schule","1. Versuch","2. Versuch","3. Versuch","Bester V."]
[null,{"$f":"IF(A102=\"\",\"\",VLOOKUP(A102,'Dat-Bl'!$J$127:$N$246,2))","v":""},{"$f":"IF(A102=\"\",\"\",VLOOKUP(A102,'Dat-Bl'!$J$127:$N$246,3))","v":""},{"$f":"IF(A102=\"\",\"\",VLOOKUP(A102,'Dat-Bl'!$J$127:$N$246,5))","v":""}]
[null,{"$f":"IF(A103=\"\",\"\",VLOOKUP(A103,'Dat-Bl'!$J$127:$N$246,2))","v":""},{"$f":"IF(A103=\"\",\"\",VLOOKUP(A103,'Dat-Bl'!$J$127:$N$246,3))","v":""},{"$f":"IF(A103=\"\",\"\",VLOOKUP(A103,'Dat-Bl'!$J$127:$N$246,5))","v":""}]
[null,{"$f":"IF(A104=\"\",\"\",VLOOKUP(A104,'Dat-Bl'!$J$127:$N$246,2))","v":""},{"$f":"IF(A104=\"\",\"\",VLOOKUP(A104,'Dat-Bl'!$J$127:$N$246,3))","v":""},{"$f":"IF(A104=\"\",\"\",VLOOKUP(A104,'Dat-Bl'!$J$127:$N$246,5))","v":""}]
[null,{"$f":"IF(A105=\"\",\"\",VLOOKUP(A105,'Dat-Bl'!$J$127:$N$246,2))","v":""},{"$f":"IF(A105=\"\",\"\",VLOOKUP(A105,'Dat-Bl'!$J$127:$N$246,3))","v":""},{"$f":"IF(A105=\"\",\"\",VLOOKUP(A105,'Dat-Bl'!$J$127:$N$246,5))","v":""}]
[null,{"$f":"IF(A106=\"\",\"\",VLOOKUP(A106,'Dat-Bl'!$J$127:$N$246,2))","v":""},{"$f":"IF(A106=\"\",\"\",VLOOKUP(A106,'Dat-Bl'!$J$127:$N$246,3))","v":""},{"$f":"IF(A106=\"\",\"\",VLOOKUP(A106,'Dat-Bl'!$J$127:$N$246,5))","v":""}]
[null,{"$f":"IF(A107=\"\",\"\",VLOOKUP(A107,'Dat-Bl'!$J$127:$N$246,2))","v":""},{"$f":"IF(A107=\"\",\"\",VLOOKUP(A107,'Dat-Bl'!$J$127:$N$246,3))","v":""},{"$f":"IF(A107=\"\",\"\",VLOOKUP(A107,'Dat-Bl'!$J$127:$N$246,5))","v":""}]
[null,{"$f":"IF(A108=\"\",\"\",VLOOKUP(A108,'Dat-Bl'!$J$127:$N$246,2))","v":""},{"$f":"IF(A108=\"\",\"\",VLOOKUP(A108,'Dat-Bl'!$J$127:$N$246,3))","v":""},{"$f":"IF(A108=\"\",\"\",VLOOKUP(A108,'Dat-Bl'!$J$127:$N$246,5))","v":""}]
[null,{"$f":"IF(A109=\"\",\"\",VLOOKUP(A109,'Dat-Bl'!$J$127:$N$246,2))","v":""},{"$f":"IF(A109=\"\",\"\",VLOOKUP(A109,'Dat-Bl'!$J$127:$N$246,3))","v":""},{"$f":"IF(A109=\"\",\"\",VLOOKUP(A109,'Dat-Bl'!$J$127:$N$246,5))","v":""}]
[null,{"$f":"IF(A110=\"\",\"\",VLOOKUP(A110,'Dat-Bl'!$J$127:$N$246,2))","v":""},{"$f":"IF(A110=\"\",\"\",VLOOKUP(A110,'Dat-Bl'!$J$127:$N$246,3))","v":""},{"$f":"IF(A110=\"\",\"\",VLOOKUP(A110,'Dat-Bl'!$J$127:$N$246,5))","v":""}]
[null,{"$f":"IF(A111=\"\",\"\",VLOOKUP(A111,'Dat-Bl'!$J$127:$N$246,2))","v":""},{"$f":"IF(A111=\"\",\"\",VLOOKUP(A111,'Dat-Bl'!$J$127:$N$246,3))","v":""},{"$f":"IF(A111=\"\",\"\",VLOOKUP(A111,'Dat-Bl'!$J$127:$N$246,5))","v":""}]
[null,{"$f":"IF(A112=\"\",\"\",VLOOKUP(A112,'Dat-Bl'!$J$127:$N$246,2))","v":""},{"$f":"IF(A112=\"\",\"\",VLOOKUP(A112,'Dat-Bl'!$J$127:$N$246,3))","v":""},{"$f":"IF(A112=\"\",\"\",VLOOKUP(A112,'Dat-Bl'!$J$127:$N$246,5))","v":""}]
[null,{"$f":"IF(A113=\"\",\"\",VLOOKUP(A113,'Dat-Bl'!$J$127:$N$246,2))","v":""},{"$f":"IF(A113=\"\",\"\",VLOOKUP(A113,'Dat-Bl'!$J$127:$N$246,3))","v":""},{"$f":"IF(A113=\"\",\"\",VLOOKUP(A113,'Dat-Bl'!$J$127:$N$246,5))","v":""}]
[null,{"$f":"IF(A114=\"\",\"\",VLOOKUP(A114,'Dat-Bl'!$J$127:$N$246,2))","v":""},{"$f":"IF(A114=\"\",\"\",VLOOKUP(A114,'Dat-Bl'!$J$127:$N$246,3))","v":""},{"$f":"IF(A114=\"\",\"\",VLOOKUP(A114,'Dat-Bl'!$J$127:$N$246,5))","v":""}]
[null,{"$f":"IF(A115=\"\",\"\",VLOOKUP(A115,'Dat-Bl'!$J$127:$N$246,2))","v":""},{"$f":"IF(A115=\"\",\"\",VLOOKUP(A115,'Dat-Bl'!$J$127:$N$246,3))","v":""},{"$f":"IF(A115=\"\",\"\",VLOOKUP(A115,'Dat-Bl'!$J$127:$N$246,5))","v":""}]
[null,{"$f":"IF(A116=\"\",\"\",VLOOKUP(A116,'Dat-Bl'!$J$127:$N$246,2))","v":""},{"$f":"IF(A116=\"\",\"\",VLOOKUP(A116,'Dat-Bl'!$J$127:$N$246,3))","v":""},{"$f":"IF(A116=\"\",\"\",VLOOKUP(A116,'Dat-Bl'!$J$127:$N$246,5))","v":""}]
[null,{"$f":"IF(A117=\"\",\"\",VLOOKUP(A117,'Dat-Bl'!$J$127:$N$246,2))","v":""},{"$f":"IF(A117=\"\",\"\",VLOOKUP(A117,'Dat-Bl'!$J$127:$N$246,3))","v":""},{"$f":"IF(A117=\"\",\"\",VLOOKUP(A117,'Dat-Bl'!$J$127:$N$246,5))","v":""}]
[null,{"$f":"IF(A118=\"\",\"\",VLOOKUP(A118,'Dat-Bl'!$J$127:$N$246,2))","v":""},{"$f":"IF(A118=\"\",\"\",VLOOKUP(A118,'Dat-Bl'!$J$127:$N$246,3))","v":""},{"$f":"IF(A118=\"\",\"\",VLOOKUP(A118,'Dat-Bl'!$J$127:$N$246,5))","v":""}]
[null,{"$f":"IF(A119=\"\",\"\",VLOOKUP(A119,'Dat-Bl'!$J$127:$N$246,2))","v":""},{"$f":"IF(A119=\"\",\"\",VLOOKUP(A119,'Dat-Bl'!$J$127:$N$246,3))","v":""},{"$f":"IF(A119=\"\",\"\",VLOOKUP(A119,'Dat-Bl'!$J$127:$N$246,5))","v":""}]
[null,{"$f":"IF(A120=\"\",\"\",VLOOKUP(A120,'Dat-Bl'!$J$127:$N$246,2))","v":""},{"$f":"IF(A120=\"\",\"\",VLOOKUP(A120,'Dat-Bl'!$J$127:$N$246,3))","v":""},{"$f":"IF(A120=\"\",\"\",VLOOKUP(A120,'Dat-Bl'!$J$127:$N$246,5))","v":""}]
[null,{"$f":"IF(A121=\"\",\"\",VLOOKUP(A121,'Dat-Bl'!$J$127:$N$246,2))","v":""},{"$f":"IF(A121=\"\",\"\",VLOOKUP(A121,'Dat-Bl'!$J$127:$N$246,3))","v":""},{"$f":"IF(A121=\"\",\"\",VLOOKUP(A121,'Dat-Bl'!$J$127:$N$246,5))","v":""}]
[null,{"$f":"IF(A122=\"\",\"\",VLOOKUP(A122,'Dat-Bl'!$J$127:$N$246,2))","v":""},{"$f":"IF(A122=\"\",\"\",VLOOKUP(A122,'Dat-Bl'!$J$127:$N$246,3))","v":""},{"$f":"IF(A122=\"\",\"\",VLOOKUP(A122,'Dat-Bl'!$J$127:$N$246,5))","v":""}]
[null,{"$f":"IF(A123=\"\",\"\",VLOOKUP(A123,'Dat-Bl'!$J$127:$N$246,2))","v":""},{"$f":"IF(A123=\"\",\"\",VLOOKUP(A123,'Dat-Bl'!$J$127:$N$246,3))","v":""},{"$f":"IF(A123=\"\",\"\",VLOOKUP(A123,'Dat-Bl'!$J$127:$N$246,5))","v":""}]
[null,{"$f":"IF(A124=\"\",\"\",VLOOKUP(A124,'Dat-Bl'!$J$127:$N$246,2))","v":""},{"$f":"IF(A124=\"\",\"\",VLOOKUP(A124,'Dat-Bl'!$J$127:$N$246,3))","v":""},{"$f":"IF(A124=\"\",\"\",VLOOKUP(A124,'Dat-Bl'!$J$127:$N$246,5))","v":""}]
[null,{"$f":"IF(A125=\"\",\"\",VLOOKUP(A125,'Dat-Bl'!$J$127:$N$246,2))","v":""},{"$f":"IF(A125=\"\",\"\",VLOOKUP(A125,'Dat-Bl'!$J$127:$N$246,3))","v":""},{"$f":"IF(A125=\"\",\"\",VLOOKUP(A125,'Dat-Bl'!$J$127:$N$246,5))","v":""}]
[null,{"$f":"IF(A126=\"\",\"\",VLOOKUP(A126,'Dat-Bl'!$J$127:$N$246,2))","v":""},{"$f":"IF(A126=\"\",\"\",VLOOKUP(A126,'Dat-Bl'!$J$127:$N$246,3))","v":""},{"$f":"IF(A126=\"\",\"\",VLOOKUP(A126,'Dat-Bl'!$J$127:$N$246,5))","v":""}]
[null,{"$f":"IF(A127=\"\",\"\",VLOOKUP(A127,'Dat-Bl'!$J$127:$N$246,2))","v":""},{"$f":"IF(A127=\"\",\"\",VLOOKUP(A127,'Dat-Bl'!$J$127:$N$246,3))","v":""},{"$f":"IF(A127=\"\",\"\",VLOOKUP(A127,'Dat-Bl'!$J$127:$N$246,5))","v":""}]
[null,{"$f":"IF(A128=\"\",\"\",VLOOKUP(A128,'Dat-Bl'!$J$127:$N$246,2))","v":""},{"$f":"IF(A128=\"\",\"\",VLOOKUP(A128,'Dat-Bl'!$J$127:$N$246,3))","v":""},{"$f":"IF(A128=\"\",\"\",VLOOKUP(A128,'Dat-Bl'!$J$127:$N$246,5))","v":""}]
[null,{"$f":"IF(A129=\"\",\"\",VLOOKUP(A129,'Dat-Bl'!$J$127:$N$246,2))","v":""},{"$f":"IF(A129=\"\",\"\",VLOOKUP(A129,'Dat-Bl'!$J$127:$N$246,3))","v":""},{"$f":"IF(A129=\"\",\"\",VLOOKUP(A129,'Dat-Bl'!$J$127:$N$246,5))","v":""}]
[null,{"$f":"IF(A130=\"\",\"\",VLOOKUP(A130,'Dat-Bl'!$J$127:$N$246,2))","v":""},{"$f":"IF(A130=\"\",\"\",VLOOKUP(A130,'Dat-Bl'!$J$127:$N$246,3))","v":""},{"$f":"IF(A130=\"\",\"\",VLOOKUP(A130,'Dat-Bl'!$J$127:$N$246,5))","v":""}]
[null,{"$f":"IF(A131=\"\",\"\",VLOOKUP(A131,'Dat-Bl'!$J$127:$N$246,2))","v":""},{"$f":"IF(A131=\"\",\"\",VLOOKUP(A131,'Dat-Bl'!$J$127:$N$246,3))","v":""},{"$f":"IF(A131=\"\",\"\",VLOOKUP(A131,'Dat-Bl'!$J$127:$N$246,5))","v":""}]

{"sheet":"P-Staffel","index":10,"n_rows":143,"n_cols":4,"rows_kept":143,"cut":false,"hidden":false,"merged":[]}
[null,"Lauf ","Weiblich_D,C / Regel","5x80m"]
[]
["K-ziff","Bahn","Schule","Zeit"]
[1,1,{"$f":"IF(A4=\"\",\"\",VLOOKUP(A4,'Dat-Bl'!$B$4:$F$123,5))","v":"BG St.Martin"}]
[7,2,{"$f":"IF(A5=\"\",\"\",VLOOKUP(A5,'Dat-Bl'!$B$4:$F$123,5))","v":"Borg Wolfsberg"}]
[13,3,{"$f":"IF(A6=\"\",\"\",VLOOKUP(A6,'Dat-Bl'!$B$4:$F$123,5))","v":"BRG Spittal"}]
[19,4,{"$f":"IF(A7=\"\",\"\",VLOOKUP(A7,'Dat-Bl'!$B$4:$F$123,5))","v":"BZ Bad Eisenkappel"}]
[25,5,{"$f":"IF(A8=\"\",\"\",VLOOKUP(A8,'Dat-Bl'!$B$4:$F$123,5))","v":"Ingeborg Bachmann Gymnasium"}]
[31,6,{"$f":"IF(A9=\"\",\"\",VLOOKUP(A9,'Dat-Bl'!$B$4:$F$123,5))","v":"Musik NMS Hermagor"}]
[null,7,{"$f":"IF(A10=\"\",\"\",VLOOKUP(A10,'Dat-Bl'!$B$4:$F$123,5))","v":""}]
[null,8,{"$f":"IF(A11=\"\",\"\",VLOOKUP(A11,'Dat-Bl'!$B$4:$F$123,5))","v":""}]
[]
[null,"Lauf ",{"$f":"C1","v":"Weiblich_D,C / Regel"},"5x80m"]
[]
["K-ziff","Bahn","Schule","Zeit"]
[37,1,{"$f":"IF(A16=\"\",\"\",VLOOKUP(A16,'Dat-Bl'!$B$4:$F$123,5))","v":"NMS Friesach"}]
[43,2,{"$f":"IF(A17=\"\",\"\",VLOOKUP(A17,'Dat-Bl'!$B$4:$F$123,5))","v":"NMS Gegendtal"}]
[49,3,{"$f":"IF(A18=\"\",\"\",VLOOKUP(A18,'Dat-Bl'!$B$4:$F$123,5))","v":"NMS Landskron"}]
[55,4,{"$f":"IF(A19=\"\",\"\",VLOOKUP(A19,'Dat-Bl'!$B$4:$F$123,5))","v":"NMS Viktring"}]
[61,5,{"$f":"IF(A20=\"\",\"\",VLOOKUP(A20,'Dat-Bl'!$B$4:$F$123,5))","v":"RNMS Feldkirchen"}]
[null,6,{"$f":"IF(A21=\"\",\"\",VLOOKUP(A21,'Dat-Bl'!$B$4:$F$123,5))","v":""}]
[null,7,{"$f":"IF(A22=\"\",\"\",VLOOKUP(A22,'Dat-Bl'!$B$4:$F$123,5))","v":""}]
[null,8,{"$f":"IF(A23=\"\",\"\",VLOOKUP(A23,'Dat-Bl'!$B$4:$F$123,5))","v":""}]
[]
[null,"Lauf ",{"$f":"C1","v":"Weiblich_D,C / Regel"},"5x80m"]
[]
["K-ziff","Bahn","Schule","Zeit"]
[null,1,{"$f":"IF(A28=\"\",\"\",VLOOKUP(A28,'Dat-Bl'!$B$4:$F$123,5))","v":""}]
[null,2,{"$f":"IF(A29=\"\",\"\",VLOOKUP(A29,'Dat-Bl'!$B$4:$F$123,5))","v":""}]
[null,3,{"$f":"IF(A30=\"\",\"\",VLOOKUP(A30,'Dat-Bl'!$B$4:$F$123,5))","v":""}]
[null,4,{"$f":"IF(A31=\"\",\"\",VLOOKUP(A31,'Dat-Bl'!$B$4:$F$123,5))","v":""}]
[null,5,{"$f":"IF(A32=\"\",\"\",VLOOKUP(A32,'Dat-Bl'!$B$4:$F$123,5))","v":""}]
[null,6,{"$f":"IF(A33=\"\",\"\",VLOOKUP(A33,'Dat-Bl'!$B$4:$F$123,5))","v":""}]
[null,7,{"$f":"IF(A34=\"\",\"\",VLOOKUP(A34,'Dat-Bl'!$B$4:$F$123,5))","v":""}]
[null,8,{"$f":"IF(A35=\"\",\"\",VLOOKUP(A35,'Dat-Bl'!$B$4:$F$123,5))","v":""}]
[]
[null,"Lauf ","Weiblich_D,C / Sport","5x80m"]
[]
["K-ziff","Bahn","Schule","Zeit"]
[null,1,{"$f":"IF(A40=\"\",\"\",VLOOKUP(A40,'Dat-Bl'!$B$127:$F$246,5))","v":""}]
[null,2,{"$f":"IF(A41=\"\",\"\",VLOOKUP(A41,'Dat-Bl'!$B$127:$F$246,5))","v":""}]
[null,3,{"$f":"IF(A42=\"\",\"\",VLOOKUP(A42,'Dat-Bl'!$B$127:$F$246,5))","v":""}]
[null,4,{"$f":"IF(A43=\"\",\"\",VLOOKUP(A43,'Dat-Bl'!$B$127:$F$246,5))","v":""}]
[null,5,{"$f":"IF(A44=\"\",\"\",VLOOKUP(A44,'Dat-Bl'!$B$127:$F$246,5))","v":""}]
[null,6,{"$f":"IF(A45=\"\",\"\",VLOOKUP(A45,'Dat-Bl'!$B$127:$F$246,5))","v":""}]
[null,7,{"$f":"IF(A46=\"\",\"\",VLOOKUP(A46,'Dat-Bl'!$B$127:$F$246,5))","v":""}]
[null,8,{"$f":"IF(A47=\"\",\"\",VLOOKUP(A47,'Dat-Bl'!$B$127:$F$246,5))","v":""}]
[]
[null,"Lauf ",{"$f":"C37","v":"Weiblich_D,C / Sport"},"5x80m"]
[]
["K-ziff","Bahn","Schule","Zeit"]
[null,1,{"$f":"IF(A52=\"\",\"\",VLOOKUP(A52,'Dat-Bl'!$B$127:$F$246,5))","v":""}]
[null,2,{"$f":"IF(A53=\"\",\"\",VLOOKUP(A53,'Dat-Bl'!$B$127:$F$246,5))","v":""}]
[null,3,{"$f":"IF(A54=\"\",\"\",VLOOKUP(A54,'Dat-Bl'!$B$127:$F$246,5))","v":""}]
[null,4,{"$f":"IF(A55=\"\",\"\",VLOOKUP(A55,'Dat-Bl'!$B$127:$F$246,5))","v":""}]
[null,5,{"$f":"IF(A56=\"\",\"\",VLOOKUP(A56,'Dat-Bl'!$B$127:$F$246,5))","v":""}]
[null,6,{"$f":"IF(A57=\"\",\"\",VLOOKUP(A57,'Dat-Bl'!$B$127:$F$246,5))","v":""}]
[null,7,{"$f":"IF(A58=\"\",\"\",VLOOKUP(A58,'Dat-Bl'!$B$127:$F$246,5))","v":""}]
[null,8,{"$f":"IF(A59=\"\",\"\",VLOOKUP(A59,'Dat-Bl'!$B$127:$F$246,5))","v":""}]
[]
[null,"Lauf ",{"$f":"C37","v":"Weiblich_D,C / Sport"},"5x80m"]
[]
["K-ziff","Bahn","Schule","Zeit"]
[null,1,{"$f":"IF(A64=\"\",\"\",VLOOKUP(A64,'Dat-Bl'!$B$127:$F$246,5))","v":""}]
[null,2,{"$f":"IF(A65=\"\",\"\",VLOOKUP(A65,'Dat-Bl'!$B$127:$F$246,5))","v":""}]
[null,3,{"$f":"IF(A66=\"\",\"\",VLOOKUP(A66,'Dat-Bl'!$B$127:$F$246,5))","v":""}]
[null,4,{"$f":"IF(A67=\"\",\"\",VLOOKUP(A67,'Dat-Bl'!$B$127:$F$246,5))","v":""}]
[null,5,{"$f":"IF(A68=\"\",\"\",VLOOKUP(A68,'Dat-Bl'!$B$127:$F$246,5))","v":""}]
[null,6,{"$f":"IF(A69=\"\",\"\",VLOOKUP(A69,'Dat-Bl'!$B$127:$F$246,5))","v":""}]
[null,7,{"$f":"IF(A70=\"\",\"\",VLOOKUP(A70,'Dat-Bl'!$B$127:$F$246,5))","v":""}]
[null,8,{"$f":"IF(A71=\"\",\"\",VLOOKUP(A71,'Dat-Bl'!$B$127:$F$246,5))","v":""}]
[]
[null,"Lauf ","Männlich_D,C / Regel","5x80m"]
[]
["K-ziff","Bahn","Schule","Zeit"]
[null,1,{"$f":"IF(A76=\"\",\"\",VLOOKUP(A76,'Dat-Bl'!$J$4:$N$123,5))","v":""}]
[null,2,{"$f":"IF(A77=\"\",\"\",VLOOKUP(A77,'Dat-Bl'!$J$4:$N$123,5))","v":""}]
[null,3,{"$f":"IF(A78=\"\",\"\",VLOOKUP(A78,'Dat-Bl'!$J$4:$N$123,5))","v":""}]
[null,4,{"$f":"IF(A79=\"\",\"\",VLOOKUP(A79,'Dat-Bl'!$J$4:$N$123,5))","v":""}]
[null,5,{"$f":"IF(A80=\"\",\"\",VLOOKUP(A80,'Dat-Bl'!$J$4:$N$123,5))","v":""}]
[null,6,{"$f":"IF(A81=\"\",\"\",VLOOKUP(A81,'Dat-Bl'!$J$4:$N$123,5))","v":""}]
[null,7,{"$f":"IF(A82=\"\",\"\",VLOOKUP(A82,'Dat-Bl'!$J$4:$N$123,5))","v":""}]
[null,8,{"$f":"IF(A83=\"\",\"\",VLOOKUP(A83,'Dat-Bl'!$J$4:$N$123,5))","v":""}]
[]
[null,"Lauf ",{"$f":"C73","v":"Männlich_D,C / Regel"},"5x80m"]
[]
["K-ziff","Bahn","Schule","Zeit"]
[null,1,{"$f":"IF(A88=\"\",\"\",VLOOKUP(A88,'Dat-Bl'!$J$4:$N$123,5))","v":""}]
[null,2,{"$f":"IF(A89=\"\",\"\",VLOOKUP(A89,'Dat-Bl'!$J$4:$N$123,5))","v":""}]
[null,3,{"$f":"IF(A90=\"\",\"\",VLOOKUP(A90,'Dat-Bl'!$J$4:$N$123,5))","v":""}]
[null,4,{"$f":"IF(A91=\"\",\"\",VLOOKUP(A91,'Dat-Bl'!$J$4:$N$123,5))","v":""}]
[null,5,{"$f":"IF(A92=\"\",\"\",VLOOKUP(A92,'Dat-Bl'!$J$4:$N$123,5))","v":""}]
[null,6,{"$f":"IF(A93=\"\",\"\",VLOOKUP(A93,'Dat-Bl'!$J$4:$N$123,5))","v":""}]
[null,7,{"$f":"IF(A94=\"\",\"\",VLOOKUP(A94,'Dat-Bl'!$J$4:$N$123,5))","v":""}]
[null,8,{"$f":"IF(A95=\"\",\"\",VLOOKUP(A95,'Dat-Bl'!$J$4:$N$123,5))","v":""}]
[]
[null,"Lauf ",{"$f":"C73","v":"Männlich_D,C / Regel"},"5x80m"]
[]
["K-ziff","Bahn","Schule","Zeit"]
[null,1,{"$f":"IF(A100=\"\",\"\",VLOOKUP(A100,'Dat-Bl'!$J$4:$N$123,5))","v":""}]
[null,2,{"$f":"IF(A101=\"\",\"\",VLOOKUP(A101,'Dat-Bl'!$J$4:$N$123,5))","v":""}]
[null,3,{"$f":"IF(A102=\"\",\"\",VLOOKUP(A102,'Dat-Bl'!$J$4:$N$123,5))","v":""}]
[null,4,{"$f":"IF(A103=\"\",\"\",VLOOKUP(A103,'Dat-Bl'!$J$4:$N$123,5))","v":""}]
[null,5,{"$f":"IF(A104=\"\",\"\",VLOOKUP(A104,'Dat-Bl'!$J$4:$N$123,5))","v":""}]
[null,6,{"$f":"IF(A105=\"\",\"\",VLOOKUP(A105,'Dat-Bl'!$J$4:$N$123,5))","v":""}]
[null,7,{"$f":"IF(A106=\"\",\"\",VLOOKUP(A106,'Dat-Bl'!$J$4:$N$123,5))","v":""}]
[null,8,{"$f":"IF(A107=\"\",\"\",VLOOKUP(A107,'Dat-Bl'!$J$4:$N$123,5))","v":""}]
[]
[null,"Lauf ","Männlich_D,C / Sport","5x80m"]
[]
["K-ziff","Bahn","Schule","Zeit"]
[null,1,{"$f":"IF(A112=\"\",\"\",VLOOKUP(A112,'Dat-Bl'!$J$127:$N$246,5))","v":""}]
[null,2,{"$f":"IF(A113=\"\",\"\",VLOOKUP(A113,'Dat-Bl'!$J$127:$N$246,5))","v":""}]
[null,3,{"$f":"IF(A114=\"\",\"\",VLOOKUP(A114,'Dat-Bl'!$J$127:$N$246,5))","v":""}]
[null,4,{"$f":"IF(A115=\"\",\"\",VLOOKUP(A115,'Dat-Bl'!$J$127:$N$246,5))","v":""}]
[null,5,{"$f":"IF(A116=\"\",\"\",VLOOKUP(A116,'Dat-Bl'!$J$127:$N$246,5))","v":""}]
[null,6,{"$f":"IF(A117=\"\",\"\",VLOOKUP(A117,'Dat-Bl'!$J$127:$N$246,5))","v":""}]
[null,7,{"$f":"IF(A118=\"\",\"\",VLOOKUP(A118,'Dat-Bl'!$J$127:$N$246,5))","v":""}]
[null,8,{"$f":"IF(A119=\"\",\"\",VLOOKUP(A119,'Dat-Bl'!$J$127:$N$246,5))","v":""}]
[]
[null,"Lauf ",{"$f":"C109","v":"Männlich_D,C / Sport"},"5x80m"]
[]
["K-ziff","Bahn","Schule","Zeit"]
[null,1,{"$f":"IF(A124=\"\",\"\",VLOOKUP(A124,'Dat-Bl'!$J$127:$N$246,5))","v":""}]
[null,2,{"$f":"IF(A125=\"\",\"\",VLOOKUP(A125,'Dat-Bl'!$J$127:$N$246,5))","v":""}]
[null,3,{"$f":"IF(A126=\"\",\"\",VLOOKUP(A126,'Dat-Bl'!$J$127:$N$246,5))","v":""}]
[null,4,{"$f":"IF(A127=\"\",\"\",VLOOKUP(A127,'Dat-Bl'!$J$127:$N$246,5))","v":""}]
[null,5,{"$f":"IF(A128=\"\",\"\",VLOOKUP(A128,'Dat-Bl'!$J$127:$N$246,5))","v":""}]
[null,6,{"$f":"IF(A129=\"\",\"\",VLOOKUP(A129,'Dat-Bl'!$J$127:$N$246,5))","v":""}]
[null,7,{"$f":"IF(A130=\"\",\"\",VLOOKUP(A130,'Dat-Bl'!$J$127:$N$246,5))","v":""}]
[null,8,{"$f":"IF(A131=\"\",\"\",VLOOKUP(A131,'Dat-Bl'!$J$127:$N$246,5))","v":""}]
[]
[null,"Lauf ",{"$f":"C109","v":"Männlich_D,C / Sport"},"5x80m"]
[]
["K-ziff","Bahn","Schule","Zeit"]
[null,1,{"$f":"IF(A136=\"\",\"\",VLOOKUP(A136,'Dat-Bl'!$J$127:$N$246,5))","v":""}]
[null,2,{"$f":"IF(A137=\"\",\"\",VLOOKUP(A137,'Dat-Bl'!$J$127:$N$246,5))","v":""}]
[null,3,{"$f":"IF(A138=\"\",\"\",VLOOKUP(A138,'Dat-Bl'!$J$127:$N$246,5))","v":""}]
[null,4,{"$f":"IF(A139=\"\",\"\",VLOOKUP(A139,'Dat-Bl'!$J$127:$N$246,5))","v":""}]
[null,5,{"$f":"IF(A140=\"\",\"\",VLOOKUP(A140,'Dat-Bl'!$J$127:$N$246,5))","v":""}]
[null,6,{"$f":"IF(A141=\"\",\"\",VLOOKUP(A141,'Dat-Bl'!$J$127:$N$246,5))","v":""}]
[null,7,{"$f":"IF(A142=\"\",\"\",VLOOKUP(A142,'Dat-Bl'!$J$127:$N$246,5))","v":""}]
[null,8,{"$f":"IF(A143=\"\",\"\",VLOOKUP(A143,'Dat-Bl'!$J$127:$N$246,5))","v":""}]

{"sheet":"P_Schulen_w","index":11,"n_rows":599,"n_cols":9,"rows_kept":599,"cut":false,"hidden":false,"merged":[[594,0,596,0],[594,1,596,1],[594,2,596,2],[594,3,596,3],[594,5,594,7],[598,4,598,7],[588,0,590,0],[588,1,590,1],[588,2,590,2],[588,3,590,3],[588,5,588,7],[591,0,593,0],[591,1,593,1],[591,2,593,2],[591,3,593,3],[591,5,591,7],[582,0,584,0],[582,1,584,1],[582,2,584,2],[582,3,584,3],[582,5,582,7],[585,0,587,0],[585,1,587,1],[585,2,587,2],[585,3,587,3],[585,5,585,7],[577,5,577,7],[577,8,578,8],[579,0,581,0],[579,1,581,1],[579,2,581,2],[579,3,581,3],[579,5,579,7],[570,1,570,7],[572,2,572,3],[572,5,572,7],[574,5,574,6],[575,4,576,4],[576,0,576,1],[564,0,566,0],[564,1,566,1],[564,2,566,2],[564,3,566,3],[564,5,564,7],[568,4,568,7],[558,0,560,0],[558,1,560,1],[558,2,560,2],[558,3,560,3],[558,5,558,7],[561,0,563,0],[561,1,563,1],[561,2,563,2],[561,3,563,3],[561,5,561,7],[552,0,554,0],[552,1,554,1],[552,2,554,2],[552,3,554,3],[552,5,552,7],[555,0,557,0],[555,1,557,1],[555,2,557,2],[555,3,557,3],[555,5,555,7],[547,5,547,7],[547,8,548,8],[549,0,551,0],[549,1,551,1],[549,2,551,2],[549,3,551,3],[549,5,549,7],[540,1,540,7],[542,2,542,3],[542,5,542,7],[544,5,544,6],[545,4,546,4],[546,0,546,1],[534,0,536,0],[534,1,536,1],[534,2,536,2],[534,3,536,3],[534,5,534,7],[538,4,538,7],[528,0,530,0],[528,1,530,1],[528,2,530,2],[528,3,530,3],[528,5,528,7],[531,0,533,0],[531,1,533,1],[531,2,533,2],[531,3,533,3],[531,5,531,7],[522,0,524,0],[522,1,524,1],[522,2,524,2],[522,3,524,3],[522,5,522,7],[525,0,527,0],[525,1,527,1],[525,2,527,2],[525,3,527,3],[525,5,525,7],[517,5,517,7],[517,8,518,8],[519,0,521,0],[519,1,521,1],[519,2,521,2],[519,3,521,3],[519,5,519,7],[510,1,510,7],[512,2,512,3],[512,5,512,7],[514,5,514,6],[515,4,516,4],[516,0,516,1],[504,0,506,0],[504,1,506,1],[504,2,506,2],[504,3,506,3],[504,5,504,7],[508,4,508,7],[498,0,500,0],[498,1,500,1],[498,2,500,2],[498,3,500,3],[498,5,498,7],[501,0,503,0],[501,1,503,1],[501,2,503,2],[501,3,503,3],[501,5,501,7],[492,0,494,0],[492,1,494,1],[492,2,494,2],[492,3,494,3],[492,5,492,7],[495,0,497,0],[495,1,497,1],[495,2,497,2],[495,3,497,3],[495,5,495,7],[487,5,487,7],[487,8,488,8],[489,0,491,0],[489,1,491,1],[489,2,491,2],[489,3,491,3],[489,5,489,7],[480,1,480,7],[482,2,482,3],[482,5,482,7],[484,5,484,6],[485,4,486,4],[486,0,486,1],[474,0,476,0],[474,1,476,1],[474,2,476,2],[474,3,476,3],[474,5,474,7],[478,4,478,7],[468,0,470,0],[468,1,470,1],[468,2,470,2],[468,3,470,3],[468,5,468,7],[471,0,473,0],[471,1,473,1],[471,2,473,2],[471,3,473,3],[471,5,471,7],[462,0,464,0],[462,1,464,1],[462,2,464,2],[462,3,464,3],[462,5,462,7],[465,0,467,0],[465,1,467,1],[465,2,467,2],[465,3,467,3],[465,5,465,7],[457,5,457,7],[457,8,458,8],[459,0,461,0],[459,1,461,1],[459,2,461,2],[459,3,461,3],[459,5,459,7],[450,1,450,7],[452,2,452,3],[452,5,452,7],[454,5,454,6],[455,4,456,4],[456,0,456,1],[444,0,446,0],[444,1,446,1],[444,2,446,2],[444,3,446,3],[444,5,444,7],[448,4,448,7],[438,0,440,0],[438,1,440,1],[438,2,440,2],[438,3,440,3],[438,5,438,7],[441,0,443,0],[441,1,443,1],[441,2,443,2],[441,3,443,3],[441,5,441,7],[432,0,434,0],[432,1,434,1],[432,2,434,2],[432,3,434,3],[432,5,432,7],[435,0,437,0],[435,1,437,1],[435,2,437,2],[435,3,437,3],[435,5,435,7],[427,5,427,7],[427,8,428,8],[429,0,431,0],[429,1,431,1],[429,2,431,2],[429,3,431,3],[429,5,429,7],[420,1,420,7],[422,2,422,3],[422,5,422,7],[424,5,424,6],[425,4,426,4],[426,0,426,1],[414,0,416,0],[414,1,416,1],[414,2,416,2],[414,3,416,3],[414,5,414,7],[418,4,418,7],[408,0,410,0],[408,1,410,1],[408,2,410,2],[408,3,410,3],[408,5,408,7],[411,0,413,0],[411,1,413,1],[411,2,413,2],[411,3,413,3],[411,5,411,7],[402,0,404,0],[402,1,404,1],[402,2,404,2],[402,3,404,3],[402,5,402,7],[405,0,407,0],[405,1,407,1],[405,2,407,2],[405,3,407,3],[405,5,405,7],[397,5,397,7],[397,8,398,8],[399,0,401,0],[399,1,401,1],[399,2,401,2],[399,3,401,3],[399,5,399,7],[390,1,390,7],[392,2,392,3],[392,5,392,7],[394,5,394,6],[395,4,396,4],[396,0,396,1],[384,0,386,0],[384,1,386,1],[384,2,386,2],[384,3,386,3],[384,5,384,7],[388,4,388,7],[378,0,380,0],[378,1,380,1],[378,2,380,2],[378,3,380,3],[378,5,378,7],[381,0,383,0],[381,1,383,1],[381,2,383,2],[381,3,383,3],[381,5,381,7],[372,0,374,0],[372,1,374,1],[372,2,374,2],[372,3,374,3],[372,5,372,7],[375,0,377,0],[375,1,377,1],[375,2,377,2],[375,3,377,3],[375,5,375,7],[367,5,367,7],[367,8,368,8],[369,0,371,0],[369,1,371,1],[369,2,371,2],[369,3,371,3],[369,5,369,7],[360,1,360,7],[362,2,362,3],[362,5,362,7],[364,5,364,6],[365,4,366,4],[366,0,366,1],[354,0,356,0],[354,1,356,1],[354,2,356,2],[354,3,356,3],[354,5,354,7],[358,4,358,7],[348,0,350,0],[348,1,350,1],[348,2,350,2],[348,3,350,3],[348,5,348,7],[351,0,353,0],[351,1,353,1],[351,2,353,2],[351,3,353,3],[351,5,351,7],[342,0,344,0],[342,1,344,1],[342,2,344,2],[342,3,344,3],[342,5,342,7],[345,0,347,0],[345,1,347,1],[345,2,347,2],[345,3,347,3],[345,5,345,7],[337,5,337,7],[337,8,338,8],[339,0,341,0],[339,1,341,1],[339,2,341,2],[339,3,341,3],[339,5,339,7],[330,1,330,7],[332,2,332,3],[332,5,332,7],[334,5,334,6],[335,4,336,4],[336,0,336,1],[324,0,326,0],[324,1,326,1],[324,2,326,2],[324,3,326,3],[324,5,324,7],[328,4,328,7],[318,0,320,0],[318,1,320,1],[318,2,320,2],[318,3,320,3],[318,5,318,7],[321,0,323,0],[321,1,323,1],[321,2,323,2],[321,3,323,3],[321,5,321,7],[312,0,314,0],[312,1,314,1],[312,2,314,2],[312,3,314,3],[312,5,312,7],[315,0,317,0],[315,1,317,1],[315,2,317,2],[315,3,317,3],[315,5,315,7],[307,5,307,7],[307,8,308,8],[309,0,311,0],[309,1,311,1],[309,2,311,2],[309,3,311,3],[309,5,309,7],[300,1,300,7],[302,2,302,3],[302,5,302,7],[304,5,304,6],[305,4,306,4],[306,0,306,1],[294,0,296,0],[294,1,296,1],[294,2,296,2],[294,3,296,3],[294,5,294,7],[298,4,298,7],[288,0,290,0],[288,1,290,1],[288,2,290,2],[288,3,290,3],[288,5,288,7],[291,0,293,0],[291,1,293,1],[291,2,293,2],[291,3,293,3],[291,5,291,7],[282,0,284,0],[282,1,284,1],[282,2,284,2],[282,3,284,3],[282,5,282,7],[285,0,287,0],[285,1,287,1],[285,2,287,2],[285,3,287,3],[285,5,285,7],[277,5,277,7],[277,8,278,8],[279,0,281,0],[279,1,281,1],[279,2,281,2],[279,3,281,3],[279,5,279,7],[270,1,270,7],[272,2,272,3],[272,5,272,7],[274,5,274,6],[275,4,276,4],[276,0,276,1],[264,0,266,0],[264,1,266,1],[264,2,266,2],[264,3,266,3],[264,5,264,7],[268,4,268,7],[258,0,260,0],[258,1,260,1],[258,2,260,2],[258,3,260,3],[258,5,258,7],[261,0,263,0],[261,1,263,1],[261,2,263,2],[261,3,263,3],[261,5,261,7],[252,0,254,0],[252,1,254,1],[252,2,254,2],[252,3,254,3],[252,5,252,7],[255,0,257,0],[255,1,257,1],[255,2,257,2],[255,3,257,3],[255,5,255,7],[247,5,247,7],[247,8,248,8],[249,0,251,0],[249,1,251,1],[249,2,251,2],[249,3,251,3],[249,5,249,7],[240,1,240,7],[242,2,242,3],[242,5,242,7],[244,5,244,6],[245,4,246,4],[246,0,246,1],[234,0,236,0],[234,1,236,1],[234,2,236,2],[234,3,236,3],[234,5,234,7],[238,4,238,7],[228,0,230,0],[228,1,230,1],[228,2,230,2],[228,3,230,3],[228,5,228,7],[231,0,233,0],[231,1,233,1],[231,2,233,2],[231,3,233,3],[231,5,231,7],[222,0,224,0],[222,1,224,1],[222,2,224,2],[222,3,224,3],[222,5,222,7],[225,0,227,0],[225,1,227,1],[225,2,227,2],[225,3,227,3],[225,5,225,7],[217,5,217,7],[217,8,218,8],[219,0,221,0],[219,1,221,1],[219,2,221,2],[219,3,221,3],[219,5,219,7],[210,1,210,7],[212,2,212,3],[212,5,212,7],[214,5,214,6],[215,4,216,4],[216,0,216,1],[204,0,206,0],[204,1,206,1],[204,2,206,2],[204,3,206,3],[204,5,204,7],[208,4,208,7],[198,0,200,0],[198,1,200,1],[198,2,200,2],[198,3,200,3],[198,5,198,7],[201,0,203,0],[201,1,203,1],[201,2,203,2],[201,3,203,3],[201,5,201,7],[192,0,194,0],[192,1,194,1],[192,2,194,2],[192,3,194,3],[192,5,192,7],[195,0,197,0],[195,1,197,1],[195,2,197,2],[195,3,197,3],[195,5,195,7],[187,5,187,7],[187,8,188,8],[189,0,191,0],[189,1,191,1],[189,2,191,2],[189,3,191,3],[189,5,189,7],[180,1,180,7],[182,2,182,3],[182,5,182,7],[184,5,184,6],[185,4,186,4],[186,0,186,1],[174,0,176,0],[174,1,176,1],[174,2,176,2],[174,3,176,3],[174,5,174,7],[178,4,178,7],[168,0,170,0],[168,1,170,1],[168,2,170,2],[168,3,170,3],[168,5,168,7],[171,0,173,0],[171,1,173,1],[171,2,173,2],[171,3,173,3],[171,5,171,7],[162,0,164,0],[162,1,164,1],[162,2,164,2],[162,3,164,3],[162,5,162,7],[165,0,167,0],[165,1,167,1],[165,2,167,2],[165,3,167,3],[165,5,165,7],[157,5,157,7],[157,8,158,8],[159,0,161,0],[159,1,161,1],[159,2,161,2],[159,3,161,3],[159,5,159,7],[150,1,150,7],[152,2,152,3],[152,5,152,7],[154,5,154,6],[155,4,156,4],[156,0,156,1],[144,0,146,0],[144,1,146,1],[144,2,146,2],[144,3,146,3],[144,5,144,7],[148,4,148,7],[138,0,140,0],[138,1,140,1],[138,2,140,2],[138,3,140,3],[138,5,138,7],[141,0,143,0],[141,1,143,1],[141,2,143,2],[141,3,143,3],[141,5,141,7],[132,0,134,0],[132,1,134,1],[132,2,134,2],[132,3,134,3],[132,5,132,7],[135,0,137,0],[135,1,137,1],[135,2,137,2],[135,3,137,3],[135,5,135,7],[127,5,127,7],[127,8,128,8],[129,0,131,0],[129,1,131,1],[129,2,131,2],[129,3,131,3],[129,5,129,7],[120,1,120,7],[122,2,122,3],[122,5,122,7],[124,5,124,6],[125,4,126,4],[126,0,126,1],[114,0,116,0],[114,1,116,1],[114,2,116,2],[114,3,116,3],[114,5,114,7],[118,4,118,7],[108,0,110,0],[108,1,110,1],[108,2,110,2],[108,3,110,3],[108,5,108,7],[111,0,113,0],[111,1,113,1],[111,2,113,2],[111,3,113,3],[111,5,111,7],[102,0,104,0],[102,1,104,1],[102,2,104,2],[102,3,104,3],[102,5,102,7],[105,0,107,0],[105,1,107,1],[105,2,107,2],[105,3,107,3],[105,5,105,7],[97,5,97,7],[97,8,98,8],[99,0,101,0],[99,1,101,1],[99,2,101,2],[99,3,101,3],[99,5,99,7],[90,1,90,7],[92,2,92,3],[92,5,92,7],[94,5,94,6],[95,4,96,4],[96,0,96,1],[84,0,86,0],[84,1,86,1],[84,2,86,2],[84,3,86,3],[84,5,84,7],[88,4,88,7],[78,0,80,0],[78,1,80,1],[78,2,80,2],[78,3,80,3],[78,5,78,7],[81,0,83,0],[81,1,83,1],[81,2,83,2],[81,3,83,3],[81,5,81,7],[72,0,74,0],[72,1,74,1],[72,2,74,2],[72,3,74,3],[72,5,72,7],[75,0,77,0],[75,1,77,1],[75,2,77,2],[75,3,77,3],[75,5,75,7],[67,5,67,7],[67,8,68,8],[69,0,71,0],[69,1,71,1],[69,2,71,2],[69,3,71,3],[69,5,69,7],[60,1,60,7],[62,2,62,3],[62,5,62,7],[64,5,64,6],[65,4,66,4],[66,0,66,1],[54,0,56,0],[54,1,56,1],[54,2,56,2],[54,3,56,3],[54,5,54,7],[58,4,58,7],[48,0,50,0],[48,1,50,1],[48,2,50,2],[48,3,50,3],[48,5,48,7],[51,0,53,0],[51,1,53,1],[51,2,53,2],[51,3,53,3],[51,5,51,7],[42,0,44,0],[42,1,44,1],[42,2,44,2],[42,3,44,3],[42,5,42,7],[45,0,47,0],[45,1,47,1],[45,2,47,2],[45,3,47,3],[45,5,45,7],[37,5,37,7],[37,8,38,8],[39,0,41,0],[39,1,41,1],[39,2,41,2],[39,3,41,3],[39,5,39,7],[30,1,30,7],[32,2,32,3],[32,5,32,7],[34,5,34,6],[35,4,36,4],[36,0,36,1],[24,0,26,0],[24,1,26,1],[24,2,26,2],[24,3,26,3],[24,5,24,7],[28,4,28,7],[18,0,20,0],[18,1,20,1],[18,2,20,2],[18,3,20,3],[18,5,18,7],[21,0,23,0],[21,1,23,1],[21,2,23,2],[21,3,23,3],[21,5,21,7],[12,0,14,0],[12,1,14,1],[12,2,14,2],[12,3,14,3],[12,5,12,7],[15,0,17,0],[15,1,17,1],[15,2,17,2],[15,3,17,3],[15,5,15,7],[7,5,7,7],[7,8,8,8],[9,0,11,0],[9,1,11,1],[9,2,11,2],[9,3,11,3],[9,5,9,7],[0,1,0,7],[2,2,2,3],[2,5,2,7],[4,5,4,6],[5,4,6,4],[6,0,6,1]]}
[null,"Leichtathletik Mannschaftsdreikampf der Schulen"]
[]
[null,null,"Landesmeisterschaft",null,2016,"Villach"]
[]
[null,null,"Auswahl Geschlecht:","weiblich_R",null,"Mannschaft:",null,1]
[null,null,null,null,"C"]
["Schule:",null,{"$f":"IF($D$5=\"\",\"\",IF($D$5=\"weiblich_R\",VLOOKUP((($H5-1)*6+1),'Dat-Bl'!$B$4:$F$123,5),VLOOKUP((($H5-1)*6+1),'Dat-Bl'!$B$127:$F$246,5)))","v":"BG St.Martin"}]
[null,null,null,null,null,"Versuch",null,null,"gewertete\n Leistung\n"]
[null,"Start Nr.","Name","Geb. Jahr","Bewerb","1.","2.","3."]
[1,{"$f":"IF($D$5=\"\",\"\",IF($D$5=\"weiblich_R\",VLOOKUP((($H5-1)*6+1),'Dat-Bl'!$B$4:$D$123,2),VLOOKUP((($H5-1)*6+1),'Dat-Bl'!$B$127:$D$246,2)))","v":0},{"$f":"IF($D$5=\"\",\"\",IF($D$5=\"weiblich_R\",VLOOKUP((($H5-1)*6+1),'Dat-Bl'!$B$4:$D$123,3),VLOOKUP((($H5-1)*6+1),'Dat-Bl'!$B$127:$D$246,3)))","v":"Wallner Paulina"},{"$f":"IF($D$5=\"\",\"\",IF($D$5=\"weiblich_R\",VLOOKUP((($H5-1)*6+1),'Dat-Bl'!$B$4:$E$123,4),VLOOKUP((($H5-1)*6+1),'Dat-Bl'!$B$127:$E$246,4)))","v":"00:00:00"},"Sprint"]
[null,null,null,null,"Sprung"]
[null,null,null,null,"Wurf"]
[2,{"$f":"IF($D$5=\"\",\"\",IF($D$5=\"weiblich_R\",VLOOKUP((($H5-1)*6+2),'Dat-Bl'!$B$4:$D$123,2),VLOOKUP((($H5-1)*6+2),'Dat-Bl'!$B$127:$D$246,2)))","v":0},{"$f":"IF($D$5=\"\",\"\",IF($D$5=\"weiblich_R\",VLOOKUP((($H5-1)*6+2),'Dat-Bl'!$B$4:$D$123,3),VLOOKUP((($H5-1)*6+2),'Dat-Bl'!$B$127:$D$246,3)))","v":"Feichter Nelly"},{"$f":"IF($D$5=\"\",\"\",IF($D$5=\"weiblich_R\",VLOOKUP((($H5-1)*6+2),'Dat-Bl'!$B$4:$E$123,4),VLOOKUP((($H5-1)*6+2),'Dat-Bl'!$B$127:$E$246,4)))","v":"00:00:00"},"Sprint"]
[null,null,null,null,"Sprung"]
[null,null,null,null,"Wurf"]
[3,{"$f":"IF($D$5=\"\",\"\",IF($D$5=\"weiblich_R\",VLOOKUP((($H5-1)*6+3),'Dat-Bl'!$B$4:$D$123,2),VLOOKUP((($H5-1)*6+3),'Dat-Bl'!$B$127:$D$246,2)))","v":0},{"$f":"IF($D$5=\"\",\"\",IF($D$5=\"weiblich_R\",VLOOKUP((($H5-1)*6+3),'Dat-Bl'!$B$4:$D$123,3),VLOOKUP((($H5-1)*6+3),'Dat-Bl'!$B$127:$D$246,3)))","v":"Heincz Gerit"},{"$f":"IF($D$5=\"\",\"\",IF($D$5=\"weiblich_R\",VLOOKUP((($H5-1)*6+3),'Dat-Bl'!$B$4:$E$123,4),VLOOKUP((($H5-1)*6+3),'Dat-Bl'!$B$127:$E$246,4)))","v":"00:00:00"},"Sprint"]
[null,null,null,null,"Sprung"]
[null,null,null,null,"Wurf"]
[4,{"$f":"IF($D$5=\"\",\"\",IF($D$5=\"weiblich_R\",VLOOKUP((($H5-1)*6+4),'Dat-Bl'!$B$4:$D$123,2),VLOOKUP((($H5-1)*6+4),'Dat-Bl'!$B$127:$D$246,2)))","v":0},{"$f":"IF($D$5=\"\",\"\",IF($D$5=\"weiblich_R\",VLOOKUP((($H5-1)*6+4),'Dat-Bl'!$B$4:$D$123,3),VLOOKUP((($H5-1)*6+4),'Dat-Bl'!$B$127:$D$246,3)))","v":"Enzi Sarah"},{"$f":"IF($D$5=\"\",\"\",IF($D$5=\"weiblich_R\",VLOOKUP((($H5-1)*6+4),'Dat-Bl'!$B$4:$E$123,4),VLOOKUP((($H5-1)*6+4),'Dat-Bl'!$B$127:$E$246,4)))","v":"00:00:00"},"Sprint"]
[null,null,null,null,"Sprung"]
[null,null,null,null,"Wurf"]
[5,{"$f":"IF($D$5=\"\",\"\",IF($D$5=\"weiblich_R\",VLOOKUP((($H5-1)*6+5),'Dat-Bl'!$B$4:$D$123,2),VLOOKUP((($H5-1)*6+5),'Dat-Bl'!$B$127:$D$246,2)))","v":0},{"$f":"IF($D$5=\"\",\"\",IF($D$5=\"weiblich_R\",VLOOKUP((($H5-1)*6+5),'Dat-Bl'!$B$4:$D$123,3),VLOOKUP((($H5-1)*6+5),'Dat-Bl'!$B$127:$D$246,3)))","v":"Koch Anna"},{"$f":"IF($D$5=\"\",\"\",IF($D$5=\"weiblich_R\",VLOOKUP((($H5-1)*6+5),'Dat-Bl'!$B$4:$E$123,4),VLOOKUP((($H5-1)*6+5),'Dat-Bl'!$B$127:$E$246,4)))","v":"00:00:00"},"Sprint"]
[null,null,null,null,"Sprung"]
[null,null,null,null,"Wurf"]
[6,{"$f":"IF($D$5=\"\",\"\",IF($D$5=\"weiblich_R\",VLOOKUP((($H5-1)*6+6),'Dat-Bl'!$B$4:$D$123,2),VLOOKUP((($H5-1)*6+6),'Dat-Bl'!$B$127:$D$246,2)))","v":0},{"$f":"IF($D$5=\"\",\"\",IF($D$5=\"weiblich_R\",VLOOKUP((($H5-1)*6+6),'Dat-Bl'!$B$4:$D$123,3),VLOOKUP((($H5-1)*6+6),'Dat-Bl'!$B$127:$D$246,3)))","v":"Fugger Sophie"},{"$f":"IF($D$5=\"\",\"\",IF($D$5=\"weiblich_R\",VLOOKUP((($H5-1)*6+6),'Dat-Bl'!$B$4:$E$123,4),VLOOKUP((($H5-1)*6+6),'Dat-Bl'!$B$127:$E$246,4)))","v":"00:00:00"},"Sprint"]
[null,null,null,null,"Sprung"]
[null,null,null,null,"Wurf"]
[]
[null,null,null,null,"Staffelwertung (5 X 80m)"]
[]
[null,"Leichtathletik Mannschaftsdreikampf der Schulen"]
[]
[null,null,{"$f":"$C$3","v":"Landesmeisterschaft"},null,{"$f":"$E$3","v":2016},{"$f":"$F$3","v":"Villach"}]
[]
[null,null,"Auswahl Geschlecht:",{"$f":"$D$5","v":"weiblich_R"},null,"Mannschaft:",null,2]
[null,null,null,null,{"$f":"$E$6","v":"C"}]
["Schule:",null,{"$f":"IF($D$5=\"\",\"\",IF($D$5=\"weiblich_R\",VLOOKUP((($H35-1)*6+1),'Dat-Bl'!$B$4:$F$123,5),VLOOKUP((($H35-1)*6+1),'Dat-Bl'!$B$127:$F$246,5)))","v":"Borg Wolfsberg"}]
[null,null,null,null,null,"Versuch",null,null,"gewertete\n Leistung\n"]
[null,"Start Nr.","Name","Geb. Jahr","Bewerb","1.","2.","3."]
[1,{"$f":"IF($D$5=\"\",\"\",IF($D$5=\"weiblich_R\",VLOOKUP((($H35-1)*6+1),'Dat-Bl'!$B$4:$D$123,2),VLOOKUP((($H35-1)*6+1),'Dat-Bl'!$B$127:$D$246,2)))","v":0},{"$f":"IF($D$5=\"\",\"\",IF($D$5=\"weiblich_R\",VLOOKUP((($H35-1)*6+1),'Dat-Bl'!$B$4:$D$123,3),VLOOKUP((($H35-1)*6+1),'Dat-Bl'!$B$127:$D$246,3)))","v":"Maier Celina"},{"$f":"IF($D$5=\"\",\"\",IF($D$5=\"weiblich_R\",VLOOKUP((($H35-1)*6+1),'Dat-Bl'!$B$4:$E$123,4),VLOOKUP((($H35-1)*6+1),'Dat-Bl'!$B$127:$E$246,4)))","v":"00:00:00"},"Sprint"]
[null,null,null,null,"Sprung"]
[null,null,null,null,"Wurf"]
[2,{"$f":"IF($D$5=\"\",\"\",IF($D$5=\"weiblich_R\",VLOOKUP((($H35-1)*6+2),'Dat-Bl'!$B$4:$D$123,2),VLOOKUP((($H35-1)*6+2),'Dat-Bl'!$B$127:$D$246,2)))","v":0},{"$f":"IF($D$5=\"\",\"\",IF($D$5=\"weiblich_R\",VLOOKUP((($H35-1)*6+2),'Dat-Bl'!$B$4:$D$123,3),VLOOKUP((($H35-1)*6+2),'Dat-Bl'!$B$127:$D$246,3)))","v":"Maier Magdalena"},{"$f":"IF($D$5=\"\",\"\",IF($D$5=\"weiblich_R\",VLOOKUP((($H35-1)*6+2),'Dat-Bl'!$B$4:$E$123,4),VLOOKUP((($H35-1)*6+2),'Dat-Bl'!$B$127:$E$246,4)))","v":"00:00:00"},"Sprint"]
[null,null,null,null,"Sprung"]
[null,null,null,null,"Wurf"]
[3,{"$f":"IF($D$5=\"\",\"\",IF($D$5=\"weiblich_R\",VLOOKUP((($H35-1)*6+3),'Dat-Bl'!$B$4:$D$123,2),VLOOKUP((($H35-1)*6+3),'Dat-Bl'!$B$127:$D$246,2)))","v":0},{"$f":"IF($D$5=\"\",\"\",IF($D$5=\"weiblich_R\",VLOOKUP((($H35-1)*6+3),'Dat-Bl'!$B$4:$D$123,3),VLOOKUP((($H35-1)*6+3),'Dat-Bl'!$B$127:$D$246,3)))","v":"Frauwallner Hanna"},{"$f":"IF($D$5=\"\",\"\",IF($D$5=\"weiblich_R\",VLOOKUP((($H35-1)*6+3),'Dat-Bl'!$B$4:$E$123,4),VLOOKUP((($H35-1)*6+3),'Dat-Bl'!$B$127:$E$246,4)))","v":"00:00:00"},"Sprint"]
[null,null,null,null,"Sprung"]
[null,null,null,null,"Wurf"]
[4,{"$f":"IF($D$5=\"\",\"\",IF($D$5=\"weiblich_R\",VLOOKUP((($H35-1)*6+4),'Dat-Bl'!$B$4:$D$123,2),VLOOKUP((($H35-1)*6+4),'Dat-Bl'!$B$127:$D$246,2)))","v":0},{"$f":"IF($D$5=\"\",\"\",IF($D$5=\"weiblich_R\",VLOOKUP((($H35-1)*6+4),'Dat-Bl'!$B$4:$D$123,3),VLOOKUP((($H35-1)*6+4),'Dat-Bl'!$B$127:$D$246,3)))","v":"Spendl Jennifer"},{"$f":"IF($D$5=\"\",\"\",IF($D$5=\"weiblich_R\",VLOOKUP((($H35-1)*6+4),'Dat-Bl'!$B$4:$E$123,4),VLOOKUP((($H35-1)*6+4),'Dat-Bl'!$B$127:$E$246,4)))","v":"00:00:00"},"Sprint"]
[null,null,null,null,"Sprung"]
[null,null,null,null,"Wurf"]
[5,{"$f":"IF($D$5=\"\",\"\",IF($D$5=\"weiblich_R\",VLOOKUP((($H35-1)*6+5),'Dat-Bl'!$B$4:$D$123,2),VLOOKUP((($H35-1)*6+5),'Dat-Bl'!$B$127:$D$246,2)))","v":0},{"$f":"IF($D$5=\"\",\"\",IF($D$5=\"weiblich_R\",VLOOKUP((($H35-1)*6+5),'Dat-Bl'!$B$4:$D$123,3),VLOOKUP((($H35-1)*6+5),'Dat-Bl'!$B$127:$D$246,3)))","v":"Pum Julia"},{"$f":"IF($D$5=\"\",\"\",IF($D$5=\"weiblich_R\",VLOOKUP((($H35-1)*6+5),'Dat-Bl'!$B$4:$E$123,4),VLOOKUP((($H35-1)*6+5),'Dat-Bl'!$B$127:$E$246,4)))","v":"00:00:00"},"Sprint"]
[null,null,null,null,"Sprung"]
[null,null,null,null,"Wurf"]
[6,{"$f":"IF($D$5=\"\",\"\",IF($D$5=\"weiblich_R\",VLOOKUP((($H35-1)*6+6),'Dat-Bl'!$B$4:$D$123,2),VLOOKUP((($H35-1)*6+6),'Dat-Bl'!$B$127:$D$246,2)))","v":0},{"$f":"IF($D$5=\"\",\"\",IF($D$5=\"weiblich_R\",VLOOKUP((($H35-1)*6+6),'Dat-Bl'!$B$4:$D$123,3),VLOOKUP((($H35-1)*6+6),'Dat-Bl'!$B$127:$D$246,3)))","v":"Riegler Vanessa"},{"$f":"IF($D$5=\"\",\"\",IF($D$5=\"weiblich_R\",VLOOKUP((($H35-1)*6+6),'Dat-Bl'!$B$4:$E$123,4),VLOOKUP((($H35-1)*6+6),'Dat-Bl'!$B$127:$E$246,4)))","v":"00:00:00"},"Sprint"]
[null,null,null,null,"Sprung"]
[null,null,null,null,"Wurf"]
[]
[null,null,null,null,"Staffelwertung (5 X 80m)"]
[]
[null,"Leichtathletik Mannschaftsdreikampf der Schulen"]
[]
[null,null,{"$f":"$C$3","v":"Landesmeisterschaft"},null,{"$f":"$E$3","v":2016},{"$f":"$F$3","v":"Villach"}]
[]
[null,null,"Auswahl Geschlecht:",{"$f":"$D$5","v":"weiblich_R"},null,"Mannschaft:",null,3]
[null,null,null,null,{"$f":"$E$6","v":"C"}]
["Schule:",null,{"$f":"IF($D$5=\"\",\"\",IF($D$5=\"weiblich_R\",VLOOKUP((($H65-1)*6+1),'Dat-Bl'!$B$4:$F$123,5),VLOOKUP((($H65-1)*6+1),'Dat-Bl'!$B$127:$F$246,5)))","v":"BRG Spittal"}]
[null,null,null,null,null,"Versuch",null,null,"gewertete\n Leistung\n"]
[null,"Start Nr.","Name","Geb. Jahr","Bewerb","1.","2.","3."]
[1,{"$f":"IF($D$5=\"\",\"\",IF($D$5=\"weiblich_R\",VLOOKUP((($H65-1)*6+1),'Dat-Bl'!$B$4:$D$123,2),VLOOKUP((($H65-1)*6+1),'Dat-Bl'!$B$127:$D$246,2)))","v":0},{"$f":"IF($D$5=\"\",\"\",IF($D$5=\"weiblich_R\",VLOOKUP((($H65-1)*6+1),'Dat-Bl'!$B$4:$D$123,3),VLOOKUP((($H65-1)*6+1),'Dat-Bl'!$B$127:$D$246,3)))","v":"Hartlieb Michelle"},{"$f":"IF($D$5=\"\",\"\",IF($D$5=\"weiblich_R\",VLOOKUP((($H65-1)*6+1),'Dat-Bl'!$B$4:$E$123,4),VLOOKUP((($H65-1)*6+1),'Dat-Bl'!$B$127:$E$246,4)))","v":"00:00:00"},"Sprint"]
[null,null,null,null,"Sprung"]
[null,null,null,null,"Wurf"]
[2,{"$f":"IF($D$5=\"\",\"\",IF($D$5=\"weiblich_R\",VLOOKUP((($H65-1)*6+2),'Dat-Bl'!$B$4:$D$123,2),VLOOKUP((($H65-1)*6+2),'Dat-Bl'!$B$127:$D$246,2)))","v":0},{"$f":"IF($D$5=\"\",\"\",IF($D$5=\"weiblich_R\",VLOOKUP((($H65-1)*6+2),'Dat-Bl'!$B$4:$D$123,3),VLOOKUP((($H65-1)*6+2),'Dat-Bl'!$B$127:$D$246,3)))","v":"Reiter Anna-Lena"},{"$f":"IF($D$5=\"\",\"\",IF($D$5=\"weiblich_R\",VLOOKUP((($H65-1)*6+2),'Dat-Bl'!$B$4:$E$123,4),VLOOKUP((($H65-1)*6+2),'Dat-Bl'!$B$127:$E$246,4)))","v":"00:00:00"},"Sprint"]
[null,null,null,null,"Sprung"]
[null,null,null,null,"Wurf"]
[3,{"$f":"IF($D$5=\"\",\"\",IF($D$5=\"weiblich_R\",VLOOKUP((($H65-1)*6+3),'Dat-Bl'!$B$4:$D$123,2),VLOOKUP((($H65-1)*6+3),'Dat-Bl'!$B$127:$D$246,2)))","v":0},{"$f":"IF($D$5=\"\",\"\",IF($D$5=\"weiblich_R\",VLOOKUP((($H65-1)*6+3),'Dat-Bl'!$B$4:$D$123,3),VLOOKUP((($H65-1)*6+3),'Dat-Bl'!$B$127:$D$246,3)))","v":"Krammer Kristin"},{"$f":"IF($D$5=\"\",\"\",IF($D$5=\"weiblich_R\",VLOOKUP((($H65-1)*6+3),'Dat-Bl'!$B$4:$E$123,4),VLOOKUP((($H65-1)*6+3),'Dat-Bl'!$B$127:$E$246,4)))","v":"00:00:00"},"Sprint"]
[null,null,null,null,"Sprung"]
[null,null,null,null,"Wurf"]
[4,{"$f":"IF($D$5=\"\",\"\",IF($D$5=\"weiblich_R\",VLOOKUP((($H65-1)*6+4),'Dat-Bl'!$B$4:$D$123,2),VLOOKUP((($H65-1)*6+4),'Dat-Bl'!$B$127:$D$246,2)))","v":0},{"$f":"IF($D$5=\"\",\"\",IF($D$5=\"weiblich_R\",VLOOKUP((($H65-1)*6+4),'Dat-Bl'!$B$4:$D$123,3),VLOOKUP((($H65-1)*6+4),'Dat-Bl'!$B$127:$D$246,3)))","v":"Kowatsch Anna"},{"$f":"IF($D$5=\"\",\"\",IF($D$5=\"weiblich_R\",VLOOKUP((($H65-1)*6+4),'Dat-Bl'!$B$4:$E$123,4),VLOOKUP((($H65-1)*6+4),'Dat-Bl'!$B$127:$E$246,4)))","v":"00:00:00"},"Sprint"]
[null,null,null,null,"Sprung"]
[null,null,null,null,"Wurf"]
[5,{"$f":"IF($D$5=\"\",\"\",IF($D$5=\"weiblich_R\",VLOOKUP((($H65-1)*6+5),'Dat-Bl'!$B$4:$D$123,2),VLOOKUP((($H65-1)*6+5),'Dat-Bl'!$B$127:$D$246,2)))","v":0},{"$f":"IF($D$5=\"\",\"\",IF($D$5=\"weiblich_R\",VLOOKUP((($H65-1)*6+5),'Dat-Bl'!$B$4:$D$123,3),VLOOKUP((($H65-1)*6+5),'Dat-Bl'!$B$127:$D$246,3)))","v":"Possegger Christina"},{"$f":"IF($D$5=\"\",\"\",IF($D$5=\"weiblich_R\",VLOOKUP((($H65-1)*6+5),'Dat-Bl'!$B$4:$E$123,4),VLOOKUP((($H65-1)*6+5),'Dat-Bl'!$B$127:$E$246,4)))","v":"00:00:00"},"Sprint"]
[null,null,null,null,"Sprung"]
[null,null,null,null,"Wurf"]
[6,{"$f":"IF($D$5=\"\",\"\",IF($D$5=\"weiblich_R\",VLOOKUP((($H65-1)*6+6),'Dat-Bl'!$B$4:$D$123,2),VLOOKUP((($H65-1)*6+6),'Dat-Bl'!$B$127:$D$246,2)))","v":0},{"$f":"IF($D$5=\"\",\"\",IF($D$5=\"weiblich_R\",VLOOKUP((($H65-1)*6+6),'Dat-Bl'!$B$4:$D$123,3),VLOOKUP((($H65-1)*6+6),'Dat-Bl'!$B$127:$D$246,3)))","v":"Thaler Laurentine"},{"$f":"IF($D$5=\"\",\"\",IF($D$5=\"weiblich_R\",VLOOKUP((($H65-1)*6+6),'Dat-Bl'!$B$4:$E$123,4),VLOOKUP((($H65-1)*6+6),'Dat-Bl'!$B$127:$E$246,4)))","v":"00:00:00"},"Sprint"]
[null,null,null,null,"Sprung"]
[null,null,null,null,"Wurf"]
[]
[null,null,null,null,"Staffelwertung (5 X 80m)"]
[]
[null,"Leichtathletik Mannschaftsdreikampf der Schulen"]
[]
[null,null,{"$f":"$C$3","v":"Landesmeisterschaft"},null,{"$f":"$E$3","v":2016},{"$f":"$F$3","v":"Villach"}]
[]
[null,null,"Auswahl Geschlecht:",{"$f":"$D$5","v":"weiblich_R"},null,"Mannschaft:",null,4]
[null,null,null,null,{"$f":"$E$6","v":"C"}]
["Schule:",null,{"$f":"IF($D$5=\"\",\"\",IF($D$5=\"weiblich_R\",VLOOKUP((($H95-1)*6+1),'Dat-Bl'!$B$4:$F$123,5),VLOOKUP((($H95-1)*6+1),'Dat-Bl'!$B$127:$F$246,5)))","v":"BZ Bad Eisenkappel"}]
[null,null,null,null,null,"Versuch",null,null,"gewertete\n Leistung\n"]
[null,"Start Nr.","Name","Geb. Jahr","Bewerb","1.","2.","3."]
[1,{"$f":"IF($D$5=\"\",\"\",IF($D$5=\"weiblich_R\",VLOOKUP((($H95-1)*6+1),'Dat-Bl'!$B$4:$D$123,2),VLOOKUP((($H95-1)*6+1),'Dat-Bl'!$B$127:$D$246,2)))","v":0},{"$f":"IF($D$5=\"\",\"\",IF($D$5=\"weiblich_R\",VLOOKUP((($H95-1)*6+1),'Dat-Bl'!$B$4:$D$123,3),VLOOKUP((($H95-1)*6+1),'Dat-Bl'!$B$127:$D$246,3)))","v":"Kampusch Michelle"},{"$f":"IF($D$5=\"\",\"\",IF($D$5=\"weiblich_R\",VLOOKUP((($H95-1)*6+1),'Dat-Bl'!$B$4:$E$123,4),VLOOKUP((($H95-1)*6+1),'Dat-Bl'!$B$127:$E$246,4)))","v":"00:00:00"},"Sprint"]
[null,null,null,null,"Sprung"]
[null,null,null,null,"Wurf"]
[2,{"$f":"IF($D$5=\"\",\"\",IF($D$5=\"weiblich_R\",VLOOKUP((($H95-1)*6+2),'Dat-Bl'!$B$4:$D$123,2),VLOOKUP((($H95-1)*6+2),'Dat-Bl'!$B$127:$D$246,2)))","v":0},{"$f":"IF($D$5=\"\",\"\",IF($D$5=\"weiblich_R\",VLOOKUP((($H95-1)*6+2),'Dat-Bl'!$B$4:$D$123,3),VLOOKUP((($H95-1)*6+2),'Dat-Bl'!$B$127:$D$246,3)))","v":"Kaschnig Lea"},{"$f":"IF($D$5=\"\",\"\",IF($D$5=\"weiblich_R\",VLOOKUP((($H95-1)*6+2),'Dat-Bl'!$B$4:$E$123,4),VLOOKUP((($H95-1)*6+2),'Dat-Bl'!$B$127:$E$246,4)))","v":"00:00:00"},"Sprint"]
[null,null,null,null,"Sprung"]
[null,null,null,null,"Wurf"]
[3,{"$f":"IF($D$5=\"\",\"\",IF($D$5=\"weiblich_R\",VLOOKUP((($H95-1)*6+3),'Dat-Bl'!$B$4:$D$123,2),VLOOKUP((($H95-1)*6+3),'Dat-Bl'!$B$127:$D$246,2)))","v":0},{"$f":"IF($D$5=\"\",\"\",IF($D$5=\"weiblich_R\",VLOOKUP((($H95-1)*6+3),'Dat-Bl'!$B$4:$D$123,3),VLOOKUP((($H95-1)*6+3),'Dat-Bl'!$B$127:$D$246,3)))","v":"Ebner Anna-Lena"},{"$f":"IF($D$5=\"\",\"\",IF($D$5=\"weiblich_R\",VLOOKUP((($H95-1)*6+3),'Dat-Bl'!$B$4:$E$123,4),VLOOKUP((($H95-1)*6+3),'Dat-Bl'!$B$127:$E$246,4)))","v":"00:00:00"},"Sprint"]
[null,null,null,null,"Sprung"]
[null,null,null,null,"Wurf"]
[4,{"$f":"IF($D$5=\"\",\"\",IF($D$5=\"weiblich_R\",VLOOKUP((($H95-1)*6+4),'Dat-Bl'!$B$4:$D$123,2),VLOOKUP((($H95-1)*6+4),'Dat-Bl'!$B$127:$D$246,2)))","v":0},{"$f":"IF($D$5=\"\",\"\",IF($D$5=\"weiblich_R\",VLOOKUP((($H95-1)*6+4),'Dat-Bl'!$B$4:$D$123,3),VLOOKUP((($H95-1)*6+4),'Dat-Bl'!$B$127:$D$246,3)))","v":"Millicevvic Renate"},{"$f":"IF($D$5=\"\",\"\",IF($D$5=\"weiblich_R\",VLOOKUP((($H95-1)*6+4),'Dat-Bl'!$B$4:$E$123,4),VLOOKUP((($H95-1)*6+4),'Dat-Bl'!$B$127:$E$246,4)))","v":"00:00:00"},"Sprint"]
[null,null,null,null,"Sprung"]
[null,null,null,null,"Wurf"]
[5,{"$f":"IF($D$5=\"\",\"\",IF($D$5=\"weiblich_R\",VLOOKUP((($H95-1)*6+5),'Dat-Bl'!$B$4:$D$123,2),VLOOKUP((($H95-1)*6+5),'Dat-Bl'!$B$127:$D$246,2)))","v":0},{"$f":"IF($D$5=\"\",\"\",IF($D$5=\"weiblich_R\",VLOOKUP((($H95-1)*6+5),'Dat-Bl'!$B$4:$D$123,3),VLOOKUP((($H95-1)*6+5),'Dat-Bl'!$B$127:$D$246,3)))","v":"Pudgar Domenika"},{"$f":"IF($D$5=\"\",\"\",IF($D$5=\"weiblich_R\",VLOOKUP((($H95-1)*6+5),'Dat-Bl'!$B$4:$E$123,4),VLOOKUP((($H95-1)*6+5),'Dat-Bl'!$B$127:$E$246,4)))","v":"00:00:00"},"Sprint"]
[null,null,null,null,"Sprung"]
[null,null,null,null,"Wurf"]
[6,{"$f":"IF($D$5=\"\",\"\",IF($D$5=\"weiblich_R\",VLOOKUP((($H95-1)*6+6),'Dat-Bl'!$B$4:$D$123,2),VLOOKUP((($H95-1)*6+6),'Dat-Bl'!$B$127:$D$246,2)))","v":0},{"$f":"IF($D$5=\"\",\"\",IF($D$5=\"weiblich_R\",VLOOKUP((($H95-1)*6+6),'Dat-Bl'!$B$4:$D$123,3),VLOOKUP((($H95-1)*6+6),'Dat-Bl'!$B$127:$D$246,3)))","v":0},{"$f":"IF($D$5=\"\",\"\",IF($D$5=\"weiblich_R\",VLOOKUP((($H95-1)*6+6),'Dat-Bl'!$B$4:$E$123,4),VLOOKUP((($H95-1)*6+6),'Dat-Bl'!$B$127:$E$246,4)))","v":"00:00:00"},"Sprint"]
[null,null,null,null,"Sprung"]
[null,null,null,null,"Wurf"]
[]
[null,null,null,null,"Staffelwertung (5 X 80m)"]
[]
[null,"Leichtathletik Mannschaftsdreikampf der Schulen"]
[]
[null,null,{"$f":"$C$3","v":"Landesmeisterschaft"},null,{"$f":"$E$3","v":2016},{"$f":"$F$3","v":"Villach"}]
[]
[null,null,"Auswahl Geschlecht:",{"$f":"$D$5","v":"weiblich_R"},null,"Mannschaft:",null,5]
[null,null,null,null,{"$f":"$E$6","v":"C"}]
["Schule:",null,{"$f":"IF($D$5=\"\",\"\",IF($D$5=\"weiblich_R\",VLOOKUP((($H125-1)*6+1),'Dat-Bl'!$B$4:$F$123,5),VLOOKUP((($H125-1)*6+1),'Dat-Bl'!$B$127:$F$246,5)))","v":"Ingeborg Bachmann Gymnasium"}]
[null,null,null,null,null,"Versuch",null,null,"gewertete\n Leistung\n"]
[null,"Start Nr.","Name","Geb. Jahr","Bewerb","1.","2.","3."]
[1,{"$f":"IF($D$5=\"\",\"\",IF($D$5=\"weiblich_R\",VLOOKUP((($H125-1)*6+1),'Dat-Bl'!$B$4:$D$123,2),VLOOKUP((($H125-1)*6+1),'Dat-Bl'!$B$127:$D$246,2)))","v":0},{"$f":"IF($D$5=\"\",\"\",IF($D$5=\"weiblich_R\",VLOOKUP((($H125-1)*6+1),'Dat-Bl'!$B$4:$D$123,3),VLOOKUP((($H125-1)*6+1),'Dat-Bl'!$B$127:$D$246,3)))","v":"Donner Rosa"},{"$f":"IF($D$5=\"\",\"\",IF($D$5=\"weiblich_R\",VLOOKUP((($H125-1)*6+1),'Dat-Bl'!$B$4:$E$123,4),VLOOKUP((($H125-1)*6+1),'Dat-Bl'!$B$127:$E$246,4)))","v":"00:00:00"},"Sprint"]
[null,null,null,null,"Sprung"]
[null,null,null,null,"Wurf"]
[2,{"$f":"IF($D$5=\"\",\"\",IF($D$5=\"weiblich_R\",VLOOKUP((($H125-1)*6+2),'Dat-Bl'!$B$4:$D$123,2),VLOOKUP((($H125-1)*6+2),'Dat-Bl'!$B$127:$D$246,2)))","v":0},{"$f":"IF($D$5=\"\",\"\",IF($D$5=\"weiblich_R\",VLOOKUP((($H125-1)*6+2),'Dat-Bl'!$B$4:$D$123,3),VLOOKUP((($H125-1)*6+2),'Dat-Bl'!$B$127:$D$246,3)))","v":"Lippitsch Amelie"},{"$f":"IF($D$5=\"\",\"\",IF($D$5=\"weiblich_R\",VLOOKUP((($H125-1)*6+2),'Dat-Bl'!$B$4:$E$123,4),VLOOKUP((($H125-1)*6+2),'Dat-Bl'!$B$127:$E$246,4)))","v":"00:00:00"},"Sprint"]
[null,null,null,null,"Sprung"]
[null,null,null,null,"Wurf"]
[3,{"$f":"IF($D$5=\"\",\"\",IF($D$5=\"weiblich_R\",VLOOKUP((($H125-1)*6+3),'Dat-Bl'!$B$4:$D$123,2),VLOOKUP((($H125-1)*6+3),'Dat-Bl'!$B$127:$D$246,2)))","v":0},{"$f":"IF($D$5=\"\",\"\",IF($D$5=\"weiblich_R\",VLOOKUP((($H125-1)*6+3),'Dat-Bl'!$B$4:$D$123,3),VLOOKUP((($H125-1)*6+3),'Dat-Bl'!$B$127:$D$246,3)))","v":"Doboczky Sophie"},{"$f":"IF($D$5=\"\",\"\",IF($D$5=\"weiblich_R\",VLOOKUP((($H125-1)*6+3),'Dat-Bl'!$B$4:$E$123,4),VLOOKUP((($H125-1)*6+3),'Dat-Bl'!$B$127:$E$246,4)))","v":"00:00:00"},"Sprint"]
[null,null,null,null,"Sprung"]
[null,null,null,null,"Wurf"]
[4,{"$f":"IF($D$5=\"\",\"\",IF($D$5=\"weiblich_R\",VLOOKUP((($H125-1)*6+4),'Dat-Bl'!$B$4:$D$123,2),VLOOKUP((($H125-1)*6+4),'Dat-Bl'!$B$127:$D$246,2)))","v":0},{"$f":"IF($D$5=\"\",\"\",IF($D$5=\"weiblich_R\",VLOOKUP((($H125-1)*6+4),'Dat-Bl'!$B$4:$D$123,3),VLOOKUP((($H125-1)*6+4),'Dat-Bl'!$B$127:$D$246,3)))","v":"Schmaranz Sophie"},{"$f":"IF($D$5=\"\",\"\",IF($D$5=\"weiblich_R\",VLOOKUP((($H125-1)*6+4),'Dat-Bl'!$B$4:$E$123,4),VLOOKUP((($H125-1)*6+4),'Dat-Bl'!$B$127:$E$246,4)))","v":"00:00:00"},"Sprint"]
[null,null,null,null,"Sprung"]
[null,null,null,null,"Wurf"]
[5,{"$f":"IF($D$5=\"\",\"\",IF($D$5=\"weiblich_R\",VLOOKUP((($H125-1)*6+5),'Dat-Bl'!$B$4:$D$123,2),VLOOKUP((($H125-1)*6+5),'Dat-Bl'!$B$127:$D$246,2)))","v":0},{"$f":"IF($D$5=\"\",\"\",IF($D$5=\"weiblich_R\",VLOOKUP((($H125-1)*6+5),'Dat-Bl'!$B$4:$D$123,3),VLOOKUP((($H125-1)*6+5),'Dat-Bl'!$B$127:$D$246,3)))","v":"Zenkl Hannah"},{"$f":"IF($D$5=\"\",\"\",IF($D$5=\"weiblich_R\",VLOOKUP((($H125-1)*6+5),'Dat-Bl'!$B$4:$E$123,4),VLOOKUP((($H125-1)*6+5),'Dat-Bl'!$B$127:$E$246,4)))","v":"00:00:00"},"Sprint"]
[null,null,null,null,"Sprung"]
[null,null,null,null,"Wurf"]
[6,{"$f":"IF($D$5=\"\",\"\",IF($D$5=\"weiblich_R\",VLOOKUP((($H125-1)*6+6),'Dat-Bl'!$B$4:$D$123,2),VLOOKUP((($H125-1)*6+6),'Dat-Bl'!$B$127:$D$246,2)))","v":0},{"$f":"IF($D$5=\"\",\"\",IF($D$5=\"weiblich_R\",VLOOKUP((($H125-1)*6+6),'Dat-Bl'!$B$4:$D$123,3),VLOOKUP((($H125-1)*6+6),'Dat-Bl'!$B$127:$D$246,3)))","v":"Laßnig Katharina"},{"$f":"IF($D$5=\"\",\"\",IF($D$5=\"weiblich_R\",VLOOKUP((($H125-1)*6+6),'Dat-Bl'!$B$4:$E$123,4),VLOOKUP((($H125-1)*6+6),'Dat-Bl'!$B$127:$E$246,4)))","v":"00:00:00"},"Sprint"]
[null,null,null,null,"Sprung"]
[null,null,null,null,"Wurf"]
[]
[null,null,null,null,"Staffelwertung (5 X 80m)"]
[]
[null,"Leichtathletik Mannschaftsdreikampf der Schulen"]
[]
[null,null,{"$f":"$C$3","v":"Landesmeisterschaft"},null,{"$f":"$E$3","v":2016},{"$f":"$F$3","v":"Villach"}]
[]
[null,null,"Auswahl Geschlecht:",{"$f":"$D$5","v":"weiblich_R"},null,"Mannschaft:",null,6]
[null,null,null,null,{"$f":"$E$6","v":"C"}]
["Schule:",null,{"$f":"IF($D$5=\"\",\"\",IF($D$5=\"weiblich_R\",VLOOKUP((($H155-1)*6+1),'Dat-Bl'!$B$4:$F$123,5),VLOOKUP((($H155-1)*6+1),'Dat-Bl'!$B$127:$F$246,5)))","v":"Musik NMS Hermagor"}]
[null,null,null,null,null,"Versuch",null,null,"gewertete\n Leistung\n"]
[null,"Start Nr.","Name","Geb. Jahr","Bewerb","1.","2.","3."]
[1,{"$f":"IF($D$5=\"\",\"\",IF($D$5=\"weiblich_R\",VLOOKUP((($H155-1)*6+1),'Dat-Bl'!$B$4:$D$123,2),VLOOKUP((($H155-1)*6+1),'Dat-Bl'!$B$127:$D$246,2)))","v":0},{"$f":"IF($D$5=\"\",\"\",IF($D$5=\"weiblich_R\",VLOOKUP((($H155-1)*6+1),'Dat-Bl'!$B$4:$D$123,3),VLOOKUP((($H155-1)*6+1),'Dat-Bl'!$B$127:$D$246,3)))","v":"Fercher Annabell"},{"$f":"IF($D$5=\"\",\"\",IF($D$5=\"weiblich_R\",VLOOKUP((($H155-1)*6+1),'Dat-Bl'!$B$4:$E$123,4),VLOOKUP((($H155-1)*6+1),'Dat-Bl'!$B$127:$E$246,4)))","v":"00:00:00"},"Sprint"]
[null,null,null,null,"Sprung"]
[null,null,null,null,"Wurf"]
[2,{"$f":"IF($D$5=\"\",\"\",IF($D$5=\"weiblich_R\",VLOOKUP((($H155-1)*6+2),'Dat-Bl'!$B$4:$D$123,2),VLOOKUP((($H155-1)*6+2),'Dat-Bl'!$B$127:$D$246,2)))","v":0},{"$f":"IF($D$5=\"\",\"\",IF($D$5=\"weiblich_R\",VLOOKUP((($H155-1)*6+2),'Dat-Bl'!$B$4:$D$123,3),VLOOKUP((($H155-1)*6+2),'Dat-Bl'!$B$127:$D$246,3)))","v":"Ebenwaldner Carina"},{"$f":"IF($D$5=\"\",\"\",IF($D$5=\"weiblich_R\",VLOOKUP((($H155-1)*6+2),'Dat-Bl'!$B$4:$E$123,4),VLOOKUP((($H155-1)*6+2),'Dat-Bl'!$B$127:$E$246,4)))","v":"00:00:00"},"Sprint"]
[null,null,null,null,"Sprung"]
[null,null,null,null,"Wurf"]
[3,{"$f":"IF($D$5=\"\",\"\",IF($D$5=\"weiblich_R\",VLOOKUP((($H155-1)*6+3),'Dat-Bl'!$B$4:$D$123,2),VLOOKUP((($H155-1)*6+3),'Dat-Bl'!$B$127:$D$246,2)))","v":0},{"$f":"IF($D$5=\"\",\"\",IF($D$5=\"weiblich_R\",VLOOKUP((($H155-1)*6+3),'Dat-Bl'!$B$4:$D$123,3),VLOOKUP((($H155-1)*6+3),'Dat-Bl'!$B$127:$D$246,3)))","v":"Wernitznig Nina"},{"$f":"IF($D$5=\"\",\"\",IF($D$5=\"weiblich_R\",VLOOKUP((($H155-1)*6+3),'Dat-Bl'!$B$4:$E$123,4),VLOOKUP((($H155-1)*6+3),'Dat-Bl'!$B$127:$E$246,4)))","v":"00:00:00"},"Sprint"]
[null,null,null,null,"Sprung"]
[null,null,null,null,"Wurf"]
[4,{"$f":"IF($D$5=\"\",\"\",IF($D$5=\"weiblich_R\",VLOOKUP((($H155-1)*6+4),'Dat-Bl'!$B$4:$D$123,2),VLOOKUP((($H155-1)*6+4),'Dat-Bl'!$B$127:$D$246,2)))","v":0},{"$f":"IF($D$5=\"\",\"\",IF($D$5=\"weiblich_R\",VLOOKUP((($H155-1)*6+4),'Dat-Bl'!$B$4:$D$123,3),VLOOKUP((($H155-1)*6+4),'Dat-Bl'!$B$127:$D$246,3)))","v":"Pettauer Sara"},{"$f":"IF($D$5=\"\",\"\",IF($D$5=\"weiblich_R\",VLOOKUP((($H155-1)*6+4),'Dat-Bl'!$B$4:$E$123,4),VLOOKUP((($H155-1)*6+4),'Dat-Bl'!$B$127:$E$246,4)))","v":"00:00:00"},"Sprint"]
[null,null,null,null,"Sprung"]
[null,null,null,null,"Wurf"]
[5,{"$f":"IF($D$5=\"\",\"\",IF($D$5=\"weiblich_R\",VLOOKUP((($H155-1)*6+5),'Dat-Bl'!$B$4:$D$123,2),VLOOKUP((($H155-1)*6+5),'Dat-Bl'!$B$127:$D$246,2)))","v":0},{"$f":"IF($D$5=\"\",\"\",IF($D$5=\"weiblich_R\",VLOOKUP((($H155-1)*6+5),'Dat-Bl'!$B$4:$D$123,3),VLOOKUP((($H155-1)*6+5),'Dat-Bl'!$B$127:$D$246,3)))","v":"Matthei Laura"},{"$f":"IF($D$5=\"\",\"\",IF($D$5=\"weiblich_R\",VLOOKUP((($H155-1)*6+5),'Dat-Bl'!$B$4:$E$123,4),VLOOKUP((($H155-1)*6+5),'Dat-Bl'!$B$127:$E$246,4)))","v":"00:00:00"},"Sprint"]
[null,null,null,null,"Sprung"]
[null,null,null,null,"Wurf"]
[6,{"$f":"IF($D$5=\"\",\"\",IF($D$5=\"weiblich_R\",VLOOKUP((($H155-1)*6+6),'Dat-Bl'!$B$4:$D$123,2),VLOOKUP((($H155-1)*6+6),'Dat-Bl'!$B$127:$D$246,2)))","v":0},{"$f":"IF($D$5=\"\",\"\",IF($D$5=\"weiblich_R\",VLOOKUP((($H155-1)*6+6),'Dat-Bl'!$B$4:$D$123,3),VLOOKUP((($H155-1)*6+6),'Dat-Bl'!$B$127:$D$246,3)))","v":"Seebacher Mathilda"},{"$f":"IF($D$5=\"\",\"\",IF($D$5=\"weiblich_R\",VLOOKUP((($H155-1)*6+6),'Dat-Bl'!$B$4:$E$123,4),VLOOKUP((($H155-1)*6+6),'Dat-Bl'!$B$127:$E$246,4)))","v":"00:00:00"},"Sprint"]
[null,null,null,null,"Sprung"]
[null,null,null,null,"Wurf"]
[]
[null,null,null,null,"Staffelwertung (5 X 80m)"]
[]
[null,"Leichtathletik Mannschaftsdreikampf der Schulen"]
[]
[null,null,{"$f":"$C$3","v":"Landesmeisterschaft"},null,{"$f":"$E$3","v":2016},{"$f":"$F$3","v":"Villach"}]
[]
[null,null,"Auswahl Geschlecht:",{"$f":"$D$5","v":"weiblich_R"},null,"Mannschaft:",null,7]
[null,null,null,null,{"$f":"$E$6","v":"C"}]
["Schule:",null,{"$f":"IF($D$5=\"\",\"\",IF($D$5=\"weiblich_R\",VLOOKUP((($H185-1)*6+1),'Dat-Bl'!$B$4:$F$123,5),VLOOKUP((($H185-1)*6+1),'Dat-Bl'!$B$127:$F$246,5)))","v":"NMS Friesach"}]
[null,null,null,null,null,"Versuch",null,null,"gewertete\n Leistung\n"]
[null,"Start Nr.","Name","Geb. Jahr","Bewerb","1.","2.","3."]
[1,{"$f":"IF($D$5=\"\",\"\",IF($D$5=\"weiblich_R\",VLOOKUP((($H185-1)*6+1),'Dat-Bl'!$B$4:$D$123,2),VLOOKUP((($H185-1)*6+1),'Dat-Bl'!$B$127:$D$246,2)))","v":0},{"$f":"IF($D$5=\"\",\"\",IF($D$5=\"weiblich_R\",VLOOKUP((($H185-1)*6+1),'Dat-Bl'!$B$4:$D$123,3),VLOOKUP((($H185-1)*6+1),'Dat-Bl'!$B$127:$D$246,3)))","v":"Pörtschacher Vanessa"},{"$f":"IF($D$5=\"\",\"\",IF($D$5=\"weiblich_R\",VLOOKUP((($H185-1)*6+1),'Dat-Bl'!$B$4:$E$123,4),VLOOKUP((($H185-1)*6+1),'Dat-Bl'!$B$127:$E$246,4)))","v":"00:00:00"},"Sprint"]
[null,null,null,null,"Sprung"]
[null,null,null,null,"Wurf"]
[2,{"$f":"IF($D$5=\"\",\"\",IF($D$5=\"weiblich_R\",VLOOKUP((($H185-1)*6+2),'Dat-Bl'!$B$4:$D$123,2),VLOOKUP((($H185-1)*6+2),'Dat-Bl'!$B$127:$D$246,2)))","v":0},{"$f":"IF($D$5=\"\",\"\",IF($D$5=\"weiblich_R\",VLOOKUP((($H185-1)*6+2),'Dat-Bl'!$B$4:$D$123,3),VLOOKUP((($H185-1)*6+2),'Dat-Bl'!$B$127:$D$246,3)))","v":"Kronlechner Bettina"},{"$f":"IF($D$5=\"\",\"\",IF($D$5=\"weiblich_R\",VLOOKUP((($H185-1)*6+2),'Dat-Bl'!$B$4:$E$123,4),VLOOKUP((($H185-1)*6+2),'Dat-Bl'!$B$127:$E$246,4)))","v":"00:00:00"},"Sprint"]
[null,null,null,null,"Sprung"]
[null,null,null,null,"Wurf"]
[3,{"$f":"IF($D$5=\"\",\"\",IF($D$5=\"weiblich_R\",VLOOKUP((($H185-1)*6+3),'Dat-Bl'!$B$4:$D$123,2),VLOOKUP((($H185-1)*6+3),'Dat-Bl'!$B$127:$D$246,2)))","v":0},{"$f":"IF($D$5=\"\",\"\",IF($D$5=\"weiblich_R\",VLOOKUP((($H185-1)*6+3),'Dat-Bl'!$B$4:$D$123,3),VLOOKUP((($H185-1)*6+3),'Dat-Bl'!$B$127:$D$246,3)))","v":"Delfser Anna-Magdalena"},{"$f":"IF($D$5=\"\",\"\",IF($D$5=\"weiblich_R\",VLOOKUP((($H185-1)*6+3),'Dat-Bl'!$B$4:$E$123,4),VLOOKUP((($H185-1)*6+3),'Dat-Bl'!$B$127:$E$246,4)))","v":"00:00:00"},"Sprint"]
[null,null,null,null,"Sprung"]
[null,null,null,null,"Wurf"]
[4,{"$f":"IF($D$5=\"\",\"\",IF($D$5=\"weiblich_R\",VLOOKUP((($H185-1)*6+4),'Dat-Bl'!$B$4:$D$123,2),VLOOKUP((($H185-1)*6+4),'Dat-Bl'!$B$127:$D$246,2)))","v":0},{"$f":"IF($D$5=\"\",\"\",IF($D$5=\"weiblich_R\",VLOOKUP((($H185-1)*6+4),'Dat-Bl'!$B$4:$D$123,3),VLOOKUP((($H185-1)*6+4),'Dat-Bl'!$B$127:$D$246,3)))","v":"Schaller Victoria"},{"$f":"IF($D$5=\"\",\"\",IF($D$5=\"weiblich_R\",VLOOKUP((($H185-1)*6+4),'Dat-Bl'!$B$4:$E$123,4),VLOOKUP((($H185-1)*6+4),'Dat-Bl'!$B$127:$E$246,4)))","v":"00:00:00"},"Sprint"]
[null,null,null,null,"Sprung"]
[null,null,null,null,"Wurf"]
[5,{"$f":"IF($D$5=\"\",\"\",IF($D$5=\"weiblich_R\",VLOOKUP((($H185-1)*6+5),'Dat-Bl'!$B$4:$D$123,2),VLOOKUP((($H185-1)*6+5),'Dat-Bl'!$B$127:$D$246,2)))","v":0},{"$f":"IF($D$5=\"\",\"\",IF($D$5=\"weiblich_R\",VLOOKUP((($H185-1)*6+5),'Dat-Bl'!$B$4:$D$123,3),VLOOKUP((($H185-1)*6+5),'Dat-Bl'!$B$127:$D$246,3)))","v":"Hölbling Laura"},{"$f":"IF($D$5=\"\",\"\",IF($D$5=\"weiblich_R\",VLOOKUP((($H185-1)*6+5),'Dat-Bl'!$B$4:$E$123,4),VLOOKUP((($H185-1)*6+5),'Dat-Bl'!$B$127:$E$246,4)))","v":"00:00:00"},"Sprint"]
[null,null,null,null,"Sprung"]
[null,null,null,null,"Wurf"]
[6,{"$f":"IF($D$5=\"\",\"\",IF($D$5=\"weiblich_R\",VLOOKUP((($H185-1)*6+6),'Dat-Bl'!$B$4:$D$123,2),VLOOKUP((($H185-1)*6+6),'Dat-Bl'!$B$127:$D$246,2)))","v":0},{"$f":"IF($D$5=\"\",\"\",IF($D$5=\"weiblich_R\",VLOOKUP((($H185-1)*6+6),'Dat-Bl'!$B$4:$D$123,3),VLOOKUP((($H185-1)*6+6),'Dat-Bl'!$B$127:$D$246,3)))","v":"Pacher Selina"},{"$f":"IF($D$5=\"\",\"\",IF($D$5=\"weiblich_R\",VLOOKUP((($H185-1)*6+6),'Dat-Bl'!$B$4:$E$123,4),VLOOKUP((($H185-1)*6+6),'Dat-Bl'!$B$127:$E$246,4)))","v":"00:00:00"},"Sprint"]
[null,null,null,null,"Sprung"]
[null,null,null,null,"Wurf"]
[]
[null,null,null,null,"Staffelwertung (5 X 80m)"]
[]
[null,"Leichtathletik Mannschaftsdreikampf der Schulen"]
[]
[null,null,{"$f":"$C$3","v":"Landesmeisterschaft"},null,{"$f":"$E$3","v":2016},{"$f":"$F$3","v":"Villach"}]
[]
[null,null,"Auswahl Geschlecht:",{"$f":"$D$5","v":"weiblich_R"},null,"Mannschaft:",null,8]
[null,null,null,null,{"$f":"$E$6","v":"C"}]
["Schule:",null,{"$f":"IF($D$5=\"\",\"\",IF($D$5=\"weiblich_R\",VLOOKUP((($H215-1)*6+1),'Dat-Bl'!$B$4:$F$123,5),VLOOKUP((($H215-1)*6+1),'Dat-Bl'!$B$127:$F$246,5)))","v":"NMS Gegendtal"}]
[null,null,null,null,null,"Versuch",null,null,"gewertete\n Leistung\n"]
[null,"Start Nr.","Name","Geb. Jahr","Bewerb","1.","2.","3."]
[1,{"$f":"IF($D$5=\"\",\"\",IF($D$5=\"weiblich_R\",VLOOKUP((($H215-1)*6+1),'Dat-Bl'!$B$4:$D$123,2),VLOOKUP((($H215-1)*6+1),'Dat-Bl'!$B$127:$D$246,2)))","v":0},{"$f":"IF($D$5=\"\",\"\",IF($D$5=\"weiblich_R\",VLOOKUP((($H215-1)*6+1),'Dat-Bl'!$B$4:$D$123,3),VLOOKUP((($H215-1)*6+1),'Dat-Bl'!$B$127:$D$246,3)))","v":"Mayer Elena"},{"$f":"IF($D$5=\"\",\"\",IF($D$5=\"weiblich_R\",VLOOKUP((($H215-1)*6+1),'Dat-Bl'!$B$4:$E$123,4),VLOOKUP((($H215-1)*6+1),'Dat-Bl'!$B$127:$E$246,4)))","v":"00:00:00"},"Sprint"]
[null,null,null,null,"Sprung"]
[null,null,null,null,"Wurf"]
[2,{"$f":"IF($D$5=\"\",\"\",IF($D$5=\"weiblich_R\",VLOOKUP((($H215-1)*6+2),'Dat-Bl'!$B$4:$D$123,2),VLOOKUP((($H215-1)*6+2),'Dat-Bl'!$B$127:$D$246,2)))","v":0},{"$f":"IF($D$5=\"\",\"\",IF($D$5=\"weiblich_R\",VLOOKUP((($H215-1)*6+2),'Dat-Bl'!$B$4:$D$123,3),VLOOKUP((($H215-1)*6+2),'Dat-Bl'!$B$127:$D$246,3)))","v":"Steiner Patricia"},{"$f":"IF($D$5=\"\",\"\",IF($D$5=\"weiblich_R\",VLOOKUP((($H215-1)*6+2),'Dat-Bl'!$B$4:$E$123,4),VLOOKUP((($H215-1)*6+2),'Dat-Bl'!$B$127:$E$246,4)))","v":"00:00:00"},"Sprint"]
[null,null,null,null,"Sprung"]
[null,null,null,null,"Wurf"]
[3,{"$f":"IF($D$5=\"\",\"\",IF($D$5=\"weiblich_R\",VLOOKUP((($H215-1)*6+3),'Dat-Bl'!$B$4:$D$123,2),VLOOKUP((($H215-1)*6+3),'Dat-Bl'!$B$127:$D$246,2)))","v":0},{"$f":"IF($D$5=\"\",\"\",IF($D$5=\"weiblich_R\",VLOOKUP((($H215-1)*6+3),'Dat-Bl'!$B$4:$D$123,3),VLOOKUP((($H215-1)*6+3),'Dat-Bl'!$B$127:$D$246,3)))","v":"Maier Jasmin"},{"$f":"IF($D$5=\"\",\"\",IF($D$5=\"weiblich_R\",VLOOKUP((($H215-1)*6+3),'Dat-Bl'!$B$4:$E$123,4),VLOOKUP((($H215-1)*6+3),'Dat-Bl'!$B$127:$E$246,4)))","v":"00:00:00"},"Sprint"]
[null,null,null,null,"Sprung"]
[null,null,null,null,"Wurf"]
[4,{"$f":"IF($D$5=\"\",\"\",IF($D$5=\"weiblich_R\",VLOOKUP((($H215-1)*6+4),'Dat-Bl'!$B$4:$D$123,2),VLOOKUP((($H215-1)*6+4),'Dat-Bl'!$B$127:$D$246,2)))","v":0},{"$f":"IF($D$5=\"\",\"\",IF($D$5=\"weiblich_R\",VLOOKUP((($H215-1)*6+4),'Dat-Bl'!$B$4:$D$123,3),VLOOKUP((($H215-1)*6+4),'Dat-Bl'!$B$127:$D$246,3)))","v":"Schweiger Nadja"},{"$f":"IF($D$5=\"\",\"\",IF($D$5=\"weiblich_R\",VLOOKUP((($H215-1)*6+4),'Dat-Bl'!$B$4:$E$123,4),VLOOKUP((($H215-1)*6+4),'Dat-Bl'!$B$127:$E$246,4)))","v":"00:00:00"},"Sprint"]
[null,null,null,null,"Sprung"]
[null,null,null,null,"Wurf"]
[5,{"$f":"IF($D$5=\"\",\"\",IF($D$5=\"weiblich_R\",VLOOKUP((($H215-1)*6+5),'Dat-Bl'!$B$4:$D$123,2),VLOOKUP((($H215-1)*6+5),'Dat-Bl'!$B$127:$D$246,2)))","v":0},{"$f":"IF($D$5=\"\",\"\",IF($D$5=\"weiblich_R\",VLOOKUP((($H215-1)*6+5),'Dat-Bl'!$B$4:$D$123,3),VLOOKUP((($H215-1)*6+5),'Dat-Bl'!$B$127:$D$246,3)))","v":"Gasser Valentina"},{"$f":"IF($D$5=\"\",\"\",IF($D$5=\"weiblich_R\",VLOOKUP((($H215-1)*6+5),'Dat-Bl'!$B$4:$E$123,4),VLOOKUP((($H215-1)*6+5),'Dat-Bl'!$B$127:$E$246,4)))","v":"00:00:00"},"Sprint"]
[null,null,null,null,"Sprung"]
[null,null,null,null,"Wurf"]
[6,{"$f":"IF($D$5=\"\",\"\",IF($D$5=\"weiblich_R\",VLOOKUP((($H215-1)*6+6),'Dat-Bl'!$B$4:$D$123,2),VLOOKUP((($H215-1)*6+6),'Dat-Bl'!$B$127:$D$246,2)))","v":0},{"$f":"IF($D$5=\"\",\"\",IF($D$5=\"weiblich_R\",VLOOKUP((($H215-1)*6+6),'Dat-Bl'!$B$4:$D$123,3),VLOOKUP((($H215-1)*6+6),'Dat-Bl'!$B$127:$D$246,3)))","v":"Ostertschnig Lisa"},{"$f":"IF($D$5=\"\",\"\",IF($D$5=\"weiblich_R\",VLOOKUP((($H215-1)*6+6),'Dat-Bl'!$B$4:$E$123,4),VLOOKUP((($H215-1)*6+6),'Dat-Bl'!$B$127:$E$246,4)))","v":"00:00:00"},"Sprint"]
[null,null,null,null,"Sprung"]
[null,null,null,null,"Wurf"]
[]
[null,null,null,null,"Staffelwertung (5 X 80m)"]
[]
[null,"Leichtathletik Mannschaftsdreikampf der Schulen"]
[]
[null,null,{"$f":"$C$3","v":"Landesmeisterschaft"},null,{"$f":"$E$3","v":2016},{"$f":"$F$3","v":"Villach"}]
[]
[null,null,"Auswahl Geschlecht:",{"$f":"$D$5","v":"weiblich_R"},null,"Mannschaft:",null,9]
[null,null,null,null,{"$f":"$E$6","v":"C"}]
["Schule:",null,{"$f":"IF($D$5=\"\",\"\",IF($D$5=\"weiblich_R\",VLOOKUP((($H245-1)*6+1),'Dat-Bl'!$B$4:$F$123,5),VLOOKUP((($H245-1)*6+1),'Dat-Bl'!$B$127:$F$246,5)))","v":"NMS Landskron"}]
[null,null,null,null,null,"Versuch",null,null,"gewertete\n Leistung\n"]
[null,"Start Nr.","Name","Geb. Jahr","Bewerb","1.","2.","3."]
[1,{"$f":"IF($D$5=\"\",\"\",IF($D$5=\"weiblich_R\",VLOOKUP((($H245-1)*6+1),'Dat-Bl'!$B$4:$D$123,2),VLOOKUP((($H245-1)*6+1),'Dat-Bl'!$B$127:$D$246,2)))","v":0},{"$f":"IF($D$5=\"\",\"\",IF($D$5=\"weiblich_R\",VLOOKUP((($H245-1)*6+1),'Dat-Bl'!$B$4:$D$123,3),VLOOKUP((($H245-1)*6+1),'Dat-Bl'!$B$127:$D$246,3)))","v":"Kassin Larissa"},{"$f":"IF($D$5=\"\",\"\",IF($D$5=\"weiblich_R\",VLOOKUP((($H245-1)*6+1),'Dat-Bl'!$B$4:$E$123,4),VLOOKUP((($H245-1)*6+1),'Dat-Bl'!$B$127:$E$246,4)))","v":"00:00:00"},"Sprint"]
[null,null,null,null,"Sprung"]
[null,null,null,null,"Wurf"]
[2,{"$f":"IF($D$5=\"\",\"\",IF($D$5=\"weiblich_R\",VLOOKUP((($H245-1)*6+2),'Dat-Bl'!$B$4:$D$123,2),VLOOKUP((($H245-1)*6+2),'Dat-Bl'!$B$127:$D$246,2)))","v":0},{"$f":"IF($D$5=\"\",\"\",IF($D$5=\"weiblich_R\",VLOOKUP((($H245-1)*6+2),'Dat-Bl'!$B$4:$D$123,3),VLOOKUP((($H245-1)*6+2),'Dat-Bl'!$B$127:$D$246,3)))","v":"Wiener Sophie"},{"$f":"IF($D$5=\"\",\"\",IF($D$5=\"weiblich_R\",VLOOKUP((($H245-1)*6+2),'Dat-Bl'!$B$4:$E$123,4),VLOOKUP((($H245-1)*6+2),'Dat-Bl'!$B$127:$E$246,4)))","v":"00:00:00"},"Sprint"]
[null,null,null,null,"Sprung"]
[null,null,null,null,"Wurf"]
[3,{"$f":"IF($D$5=\"\",\"\",IF($D$5=\"weiblich_R\",VLOOKUP((($H245-1)*6+3),'Dat-Bl'!$B$4:$D$123,2),VLOOKUP((($H245-1)*6+3),'Dat-Bl'!$B$127:$D$246,2)))","v":0},{"$f":"IF($D$5=\"\",\"\",IF($D$5=\"weiblich_R\",VLOOKUP((($H245-1)*6+3),'Dat-Bl'!$B$4:$D$123,3),VLOOKUP((($H245-1)*6+3),'Dat-Bl'!$B$127:$D$246,3)))","v":"Neumann Lisa"},{"$f":"IF($D$5=\"\",\"\",IF($D$5=\"weiblich_R\",VLOOKUP((($H245-1)*6+3),'Dat-Bl'!$B$4:$E$123,4),VLOOKUP((($H245-1)*6+3),'Dat-Bl'!$B$127:$E$246,4)))","v":"00:00:00"},"Sprint"]
[null,null,null,null,"Sprung"]
[null,null,null,null,"Wurf"]
[4,{"$f":"IF($D$5=\"\",\"\",IF($D$5=\"weiblich_R\",VLOOKUP((($H245-1)*6+4),'Dat-Bl'!$B$4:$D$123,2),VLOOKUP((($H245-1)*6+4),'Dat-Bl'!$B$127:$D$246,2)))","v":0},{"$f":"IF($D$5=\"\",\"\",IF($D$5=\"weiblich_R\",VLOOKUP((($H245-1)*6+4),'Dat-Bl'!$B$4:$D$123,3),VLOOKUP((($H245-1)*6+4),'Dat-Bl'!$B$127:$D$246,3)))","v":"Pinzer Alina"},{"$f":"IF($D$5=\"\",\"\",IF($D$5=\"weiblich_R\",VLOOKUP((($H245-1)*6+4),'Dat-Bl'!$B$4:$E$123,4),VLOOKUP((($H245-1)*6+4),'Dat-Bl'!$B$127:$E$246,4)))","v":"00:00:00"},"Sprint"]
[null,null,null,null,"Sprung"]
[null,null,null,null,"Wurf"]
[5,{"$f":"IF($D$5=\"\",\"\",IF($D$5=\"weiblich_R\",VLOOKUP((($H245-1)*6+5),'Dat-Bl'!$B$4:$D$123,2),VLOOKUP((($H245-1)*6+5),'Dat-Bl'!$B$127:$D$246,2)))","v":0},{"$f":"IF($D$5=\"\",\"\",IF($D$5=\"weiblich_R\",VLOOKUP((($H245-1)*6+5),'Dat-Bl'!$B$4:$D$123,3),VLOOKUP((($H245-1)*6+5),'Dat-Bl'!$B$127:$D$246,3)))","v":"Santner Fabienne"},{"$f":"IF($D$5=\"\",\"\",IF($D$5=\"weiblich_R\",VLOOKUP((($H245-1)*6+5),'Dat-Bl'!$B$4:$E$123,4),VLOOKUP((($H245-1)*6+5),'Dat-Bl'!$B$127:$E$246,4)))","v":"00:00:00"},"Sprint"]
[null,null,null,null,"Sprung"]
[null,null,null,null,"Wurf"]
[6,{"$f":"IF($D$5=\"\",\"\",IF($D$5=\"weiblich_R\",VLOOKUP((($H245-1)*6+6),'Dat-Bl'!$B$4:$D$123,2),VLOOKUP((($H245-1)*6+6),'Dat-Bl'!$B$127:$D$246,2)))","v":0},{"$f":"IF($D$5=\"\",\"\",IF($D$5=\"weiblich_R\",VLOOKUP((($H245-1)*6+6),'Dat-Bl'!$B$4:$D$123,3),VLOOKUP((($H245-1)*6+6),'Dat-Bl'!$B$127:$D$246,3)))","v":"Petscher Maria"},{"$f":"IF($D$5=\"\",\"\",IF($D$5=\"weiblich_R\",VLOOKUP((($H245-1)*6+6),'Dat-Bl'!$B$4:$E$123,4),VLOOKUP((($H245-1)*6+6),'Dat-Bl'!$B$127:$E$246,4)))","v":"00:00:00"},"Sprint"]
[null,null,null,null,"Sprung"]
[null,null,null,null,"Wurf"]
[]
[null,null,null,null,"Staffelwertung (5 X 80m)"]
[]
[null,"Leichtathletik Mannschaftsdreikampf der Schulen"]
[]
[null,null,{"$f":"$C$3","v":"Landesmeisterschaft"},null,{"$f":"$E$3","v":2016},{"$f":"$F$3","v":"Villach"}]
[]
[null,null,"Auswahl Geschlecht:",{"$f":"$D$5","v":"weiblich_R"},null,"Mannschaft:",null,10]
[null,null,null,null,{"$f":"$E$6","v":"C"}]
["Schule:",null,{"$f":"IF($D$5=\"\",\"\",IF($D$5=\"weiblich_R\",VLOOKUP((($H275-1)*6+1),'Dat-Bl'!$B$4:$F$123,5),VLOOKUP((($H275-1)*6+1),'Dat-Bl'!$B$127:$F$246,5)))","v":"NMS Viktring"}]
[null,null,null,null,null,"Versuch",null,null,"gewertete\n Leistung\n"]
[null,"Start Nr.","Name","Geb. Jahr","Bewerb","1.","2.","3."]
[1,{"$f":"IF($D$5=\"\",\"\",IF($D$5=\"weiblich_R\",VLOOKUP((($H275-1)*6+1),'Dat-Bl'!$B$4:$D$123,2),VLOOKUP((($H275-1)*6+1),'Dat-Bl'!$B$127:$D$246,2)))","v":0},{"$f":"IF($D$5=\"\",\"\",IF($D$5=\"weiblich_R\",VLOOKUP((($H275-1)*6+1),'Dat-Bl'!$B$4:$D$123,3),VLOOKUP((($H275-1)*6+1),'Dat-Bl'!$B$127:$D$246,3)))","v":"Edlmann Chiara"},{"$f":"IF($D$5=\"\",\"\",IF($D$5=\"weiblich_R\",VLOOKUP((($H275-1)*6+1),'Dat-Bl'!$B$4:$E$123,4),VLOOKUP((($H275-1)*6+1),'Dat-Bl'!$B$127:$E$246,4)))","v":"00:00:00"},"Sprint"]
[null,null,null,null,"Sprung"]
[null,null,null,null,"Wurf"]
[2,{"$f":"IF($D$5=\"\",\"\",IF($D$5=\"weiblich_R\",VLOOKUP((($H275-1)*6+2),'Dat-Bl'!$B$4:$D$123,2),VLOOKUP((($H275-1)*6+2),'Dat-Bl'!$B$127:$D$246,2)))","v":0},{"$f":"IF($D$5=\"\",\"\",IF($D$5=\"weiblich_R\",VLOOKUP((($H275-1)*6+2),'Dat-Bl'!$B$4:$D$123,3),VLOOKUP((($H275-1)*6+2),'Dat-Bl'!$B$127:$D$246,3)))","v":"Toth Lili"},{"$f":"IF($D$5=\"\",\"\",IF($D$5=\"weiblich_R\",VLOOKUP((($H275-1)*6+2),'Dat-Bl'!$B$4:$E$123,4),VLOOKUP((($H275-1)*6+2),'Dat-Bl'!$B$127:$E$246,4)))","v":"00:00:00"},"Sprint"]
[null,null,null,null,"Sprung"]
[null,null,null,null,"Wurf"]
[3,{"$f":"IF($D$5=\"\",\"\",IF($D$5=\"weiblich_R\",VLOOKUP((($H275-1)*6+3),'Dat-Bl'!$B$4:$D$123,2),VLOOKUP((($H275-1)*6+3),'Dat-Bl'!$B$127:$D$246,2)))","v":0},{"$f":"IF($D$5=\"\",\"\",IF($D$5=\"weiblich_R\",VLOOKUP((($H275-1)*6+3),'Dat-Bl'!$B$4:$D$123,3),VLOOKUP((($H275-1)*6+3),'Dat-Bl'!$B$127:$D$246,3)))","v":"Krnjic Sonja"},{"$f":"IF($D$5=\"\",\"\",IF($D$5=\"weiblich_R\",VLOOKUP((($H275-1)*6+3),'Dat-Bl'!$B$4:$E$123,4),VLOOKUP((($H275-1)*6+3),'Dat-Bl'!$B$127:$E$246,4)))","v":"00:00:00"},"Sprint"]
[null,null,null,null,"Sprung"]
[null,null,null,null,"Wurf"]
[4,{"$f":"IF($D$5=\"\",\"\",IF($D$5=\"weiblich_R\",VLOOKUP((($H275-1)*6+4),'Dat-Bl'!$B$4:$D$123,2),VLOOKUP((($H275-1)*6+4),'Dat-Bl'!$B$127:$D$246,2)))","v":0},{"$f":"IF($D$5=\"\",\"\",IF($D$5=\"weiblich_R\",VLOOKUP((($H275-1)*6+4),'Dat-Bl'!$B$4:$D$123,3),VLOOKUP((($H275-1)*6+4),'Dat-Bl'!$B$127:$D$246,3)))","v":"Esel Michelle"},{"$f":"IF($D$5=\"\",\"\",IF($D$5=\"weiblich_R\",VLOOKUP((($H275-1)*6+4),'Dat-Bl'!$B$4:$E$123,4),VLOOKUP((($H275-1)*6+4),'Dat-Bl'!$B$127:$E$246,4)))","v":"00:00:00"},"Sprint"]
[null,null,null,null,"Sprung"]
[null,null,null,null,"Wurf"]
[5,{"$f":"IF($D$5=\"\",\"\",IF($D$5=\"weiblich_R\",VLOOKUP((($H275-1)*6+5),'Dat-Bl'!$B$4:$D$123,2),VLOOKUP((($H275-1)*6+5),'Dat-Bl'!$B$127:$D$246,2)))","v":0},{"$f":"IF($D$5=\"\",\"\",IF($D$5=\"weiblich_R\",VLOOKUP((($H275-1)*6+5),'Dat-Bl'!$B$4:$D$123,3),VLOOKUP((($H275-1)*6+5),'Dat-Bl'!$B$127:$D$246,3)))","v":"Bierbaumer Selina"},{"$f":"IF($D$5=\"\",\"\",IF($D$5=\"weiblich_R\",VLOOKUP((($H275-1)*6+5),'Dat-Bl'!$B$4:$E$123,4),VLOOKUP((($H275-1)*6+5),'Dat-Bl'!$B$127:$E$246,4)))","v":"00:00:00"},"Sprint"]
[null,null,null,null,"Sprung"]
[null,null,null,null,"Wurf"]
[6,{"$f":"IF($D$5=\"\",\"\",IF($D$5=\"weiblich_R\",VLOOKUP((($H275-1)*6+6),'Dat-Bl'!$B$4:$D$123,2),VLOOKUP((($H275-1)*6+6),'Dat-Bl'!$B$127:$D$246,2)))","v":0},{"$f":"IF($D$5=\"\",\"\",IF($D$5=\"weiblich_R\",VLOOKUP((($H275-1)*6+6),'Dat-Bl'!$B$4:$D$123,3),VLOOKUP((($H275-1)*6+6),'Dat-Bl'!$B$127:$D$246,3)))","v":"Herkner Anna"},{"$f":"IF($D$5=\"\",\"\",IF($D$5=\"weiblich_R\",VLOOKUP((($H275-1)*6+6),'Dat-Bl'!$B$4:$E$123,4),VLOOKUP((($H275-1)*6+6),'Dat-Bl'!$B$127:$E$246,4)))","v":"00:00:00"},"Sprint"]
[null,null,null,null,"Sprung"]
[null,null,null,null,"Wurf"]
[]
[null,null,null,null,"Staffelwertung (5 X 80m)"]
[]
[null,"Leichtathletik Mannschaftsdreikampf der Schulen"]
[]
[null,null,{"$f":"$C$3","v":"Landesmeisterschaft"},null,{"$f":"$E$3","v":2016},{"$f":"$F$3","v":"Villach"}]
[]
[null,null,"Auswahl Geschlecht:",{"$f":"$D$5","v":"weiblich_R"},null,"Mannschaft:",null,11]
[null,null,null,null,{"$f":"$E$6","v":"C"}]
["Schule:",null,{"$f":"IF($D$5=\"\",\"\",IF($D$5=\"weiblich_R\",VLOOKUP((($H305-1)*6+1),'Dat-Bl'!$B$4:$F$123,5),VLOOKUP((($H305-1)*6+1),'Dat-Bl'!$B$127:$F$246,5)))","v":"RNMS Feldkirchen"}]
[null,null,null,null,null,"Versuch",null,null,"gewertete\n Leistung\n"]
[null,"Start Nr.","Name","Geb. Jahr","Bewerb","1.","2.","3."]
[1,{"$f":"IF($D$5=\"\",\"\",IF($D$5=\"weiblich_R\",VLOOKUP((($H305-1)*6+1),'Dat-Bl'!$B$4:$D$123,2),VLOOKUP((($H305-1)*6+1),'Dat-Bl'!$B$127:$D$246,2)))","v":0},{"$f":"IF($D$5=\"\",\"\",IF($D$5=\"weiblich_R\",VLOOKUP((($H305-1)*6+1),'Dat-Bl'!$B$4:$D$123,3),VLOOKUP((($H305-1)*6+1),'Dat-Bl'!$B$127:$D$246,3)))","v":"Ebner Elena"},{"$f":"IF($D$5=\"\",\"\",IF($D$5=\"weiblich_R\",VLOOKUP((($H305-1)*6+1),'Dat-Bl'!$B$4:$E$123,4),VLOOKUP((($H305-1)*6+1),'Dat-Bl'!$B$127:$E$246,4)))","v":"00:00:00"},"Sprint"]
[null,null,null,null,"Sprung"]
[null,null,null,null,"Wurf"]
[2,{"$f":"IF($D$5=\"\",\"\",IF($D$5=\"weiblich_R\",VLOOKUP((($H305-1)*6+2),'Dat-Bl'!$B$4:$D$123,2),VLOOKUP((($H305-1)*6+2),'Dat-Bl'!$B$127:$D$246,2)))","v":0},{"$f":"IF($D$5=\"\",\"\",IF($D$5=\"weiblich_R\",VLOOKUP((($H305-1)*6+2),'Dat-Bl'!$B$4:$D$123,3),VLOOKUP((($H305-1)*6+2),'Dat-Bl'!$B$127:$D$246,3)))","v":"Reiter Katharina"},{"$f":"IF($D$5=\"\",\"\",IF($D$5=\"weiblich_R\",VLOOKUP((($H305-1)*6+2),'Dat-Bl'!$B$4:$E$123,4),VLOOKUP((($H305-1)*6+2),'Dat-Bl'!$B$127:$E$246,4)))","v":"00:00:00"},"Sprint"]
[null,null,null,null,"Sprung"]
[null,null,null,null,"Wurf"]
[3,{"$f":"IF($D$5=\"\",\"\",IF($D$5=\"weiblich_R\",VLOOKUP((($H305-1)*6+3),'Dat-Bl'!$B$4:$D$123,2),VLOOKUP((($H305-1)*6+3),'Dat-Bl'!$B$127:$D$246,2)))","v":0},{"$f":"IF($D$5=\"\",\"\",IF($D$5=\"weiblich_R\",VLOOKUP((($H305-1)*6+3),'Dat-Bl'!$B$4:$D$123,3),VLOOKUP((($H305-1)*6+3),'Dat-Bl'!$B$127:$D$246,3)))","v":"Hinteregger Katrin"},{"$f":"IF($D$5=\"\",\"\",IF($D$5=\"weiblich_R\",VLOOKUP((($H305-1)*6+3),'Dat-Bl'!$B$4:$E$123,4),VLOOKUP((($H305-1)*6+3),'Dat-Bl'!$B$127:$E$246,4)))","v":"00:00:00"},"Sprint"]
[null,null,null,null,"Sprung"]
[null,null,null,null,"Wurf"]
[4,{"$f":"IF($D$5=\"\",\"\",IF($D$5=\"weiblich_R\",VLOOKUP((($H305-1)*6+4),'Dat-Bl'!$B$4:$D$123,2),VLOOKUP((($H305-1)*6+4),'Dat-Bl'!$B$127:$D$246,2)))","v":0},{"$f":"IF($D$5=\"\",\"\",IF($D$5=\"weiblich_R\",VLOOKUP((($H305-1)*6+4),'Dat-Bl'!$B$4:$D$123,3),VLOOKUP((($H305-1)*6+4),'Dat-Bl'!$B$127:$D$246,3)))","v":"Kircher Florentina"},{"$f":"IF($D$5=\"\",\"\",IF($D$5=\"weiblich_R\",VLOOKUP((($H305-1)*6+4),'Dat-Bl'!$B$4:$E$123,4),VLOOKUP((($H305-1)*6+4),'Dat-Bl'!$B$127:$E$246,4)))","v":"00:00:00"},"Sprint"]
[null,null,null,null,"Sprung"]
[null,null,null,null,"Wurf"]
[5,{"$f":"IF($D$5=\"\",\"\",IF($D$5=\"weiblich_R\",VLOOKUP((($H305-1)*6+5),'Dat-Bl'!$B$4:$D$123,2),VLOOKUP((($H305-1)*6+5),'Dat-Bl'!$B$127:$D$246,2)))","v":0},{"$f":"IF($D$5=\"\",\"\",IF($D$5=\"weiblich_R\",VLOOKUP((($H305-1)*6+5),'Dat-Bl'!$B$4:$D$123,3),VLOOKUP((($H305-1)*6+5),'Dat-Bl'!$B$127:$D$246,3)))","v":"Mühlbacher Nina"},{"$f":"IF($D$5=\"\",\"\",IF($D$5=\"weiblich_R\",VLOOKUP((($H305-1)*6+5),'Dat-Bl'!$B$4:$E$123,4),VLOOKUP((($H305-1)*6+5),'Dat-Bl'!$B$127:$E$246,4)))","v":"00:00:00"},"Sprint"]
[null,null,null,null,"Sprung"]
[null,null,null,null,"Wurf"]
[6,{"$f":"IF($D$5=\"\",\"\",IF($D$5=\"weiblich_R\",VLOOKUP((($H305-1)*6+6),'Dat-Bl'!$B$4:$D$123,2),VLOOKUP((($H305-1)*6+6),'Dat-Bl'!$B$127:$D$246,2)))","v":0},{"$f":"IF($D$5=\"\",\"\",IF($D$5=\"weiblich_R\",VLOOKUP((($H305-1)*6+6),'Dat-Bl'!$B$4:$D$123,3),VLOOKUP((($H305-1)*6+6),'Dat-Bl'!$B$127:$D$246,3)))","v":"Petrascu Elisabeth"},{"$f":"IF($D$5=\"\",\"\",IF($D$5=\"weiblich_R\",VLOOKUP((($H305-1)*6+6),'Dat-Bl'!$B$4:$E$123,4),VLOOKUP((($H305-1)*6+6),'Dat-Bl'!$B$127:$E$246,4)))","v":"00:00:00"},"Sprint"]
[null,null,null,null,"Sprung"]
[null,null,null,null,"Wurf"]
[]
[null,null,null,null,"Staffelwertung (5 X 80m)"]
[]
[null,"Leichtathletik Mannschaftsdreikampf der Schulen"]
[]
[null,null,{"$f":"$C$3","v":"Landesmeisterschaft"},null,{"$f":"$E$3","v":2016},{"$f":"$F$3","v":"Villach"}]
[]
[null,null,"Auswahl Geschlecht:",{"$f":"$D$5","v":"weiblich_R"},null,"Mannschaft:",null,12]
[null,null,null,null,{"$f":"$E$6","v":"C"}]
["Schule:",null,{"$f":"IF($D$5=\"\",\"\",IF($D$5=\"weiblich_R\",VLOOKUP((($H335-1)*6+1),'Dat-Bl'!$B$4:$F$123,5),VLOOKUP((($H335-1)*6+1),'Dat-Bl'!$B$127:$F$246,5)))","v":0}]
[null,null,null,null,null,"Versuch",null,null,"gewertete\n Leistung\n"]
[null,"Start Nr.","Name","Geb. Jahr","Bewerb","1.","2.","3."]
[1,{"$f":"IF($D$5=\"\",\"\",IF($D$5=\"weiblich_R\",VLOOKUP((($H335-1)*6+1),'Dat-Bl'!$B$4:$D$123,2),VLOOKUP((($H335-1)*6+1),'Dat-Bl'!$B$127:$D$246,2)))","v":0},{"$f":"IF($D$5=\"\",\"\",IF($D$5=\"weiblich_R\",VLOOKUP((($H335-1)*6+1),'Dat-Bl'!$B$4:$D$123,3),VLOOKUP((($H335-1)*6+1),'Dat-Bl'!$B$127:$D$246,3)))","v":"W12/01-Regel"},{"$f":"IF($D$5=\"\",\"\",IF($D$5=\"weiblich_R\",VLOOKUP((($H335-1)*6+1),'Dat-Bl'!$B$4:$E$123,4),VLOOKUP((($H335-1)*6+1),'Dat-Bl'!$B$127:$E$246,4)))","v":"00:00:00"},"Sprint"]
[null,null,null,null,"Sprung"]
[null,null,null,null,"Wurf"]
[2,{"$f":"IF($D$5=\"\",\"\",IF($D$5=\"weiblich_R\",VLOOKUP((($H335-1)*6+2),'Dat-Bl'!$B$4:$D$123,2),VLOOKUP((($H335-1)*6+2),'Dat-Bl'!$B$127:$D$246,2)))","v":0},{"$f":"IF($D$5=\"\",\"\",IF($D$5=\"weiblich_R\",VLOOKUP((($H335-1)*6+2),'Dat-Bl'!$B$4:$D$123,3),VLOOKUP((($H335-1)*6+2),'Dat-Bl'!$B$127:$D$246,3)))","v":"W12/02-Regel"},{"$f":"IF($D$5=\"\",\"\",IF($D$5=\"weiblich_R\",VLOOKUP((($H335-1)*6+2),'Dat-Bl'!$B$4:$E$123,4),VLOOKUP((($H335-1)*6+2),'Dat-Bl'!$B$127:$E$246,4)))","v":"00:00:00"},"Sprint"]
[null,null,null,null,"Sprung"]
[null,null,null,null,"Wurf"]
[3,{"$f":"IF($D$5=\"\",\"\",IF($D$5=\"weiblich_R\",VLOOKUP((($H335-1)*6+3),'Dat-Bl'!$B$4:$D$123,2),VLOOKUP((($H335-1)*6+3),'Dat-Bl'!$B$127:$D$246,2)))","v":0},{"$f":"IF($D$5=\"\",\"\",IF($D$5=\"weiblich_R\",VLOOKUP((($H335-1)*6+3),'Dat-Bl'!$B$4:$D$123,3),VLOOKUP((($H335-1)*6+3),'Dat-Bl'!$B$127:$D$246,3)))","v":"W12/03-Regel"},{"$f":"IF($D$5=\"\",\"\",IF($D$5=\"weiblich_R\",VLOOKUP((($H335-1)*6+3),'Dat-Bl'!$B$4:$E$123,4),VLOOKUP((($H335-1)*6+3),'Dat-Bl'!$B$127:$E$246,4)))","v":"00:00:00"},"Sprint"]
[null,null,null,null,"Sprung"]
[null,null,null,null,"Wurf"]
[4,{"$f":"IF($D$5=\"\",\"\",IF($D$5=\"weiblich_R\",VLOOKUP((($H335-1)*6+4),'Dat-Bl'!$B$4:$D$123,2),VLOOKUP((($H335-1)*6+4),'Dat-Bl'!$B$127:$D$246,2)))","v":0},{"$f":"IF($D$5=\"\",\"\",IF($D$5=\"weiblich_R\",VLOOKUP((($H335-1)*6+4),'Dat-Bl'!$B$4:$D$123,3),VLOOKUP((($H335-1)*6+4),'Dat-Bl'!$B$127:$D$246,3)))","v":"W12/04-Regel"},{"$f":"IF($D$5=\"\",\"\",IF($D$5=\"weiblich_R\",VLOOKUP((($H335-1)*6+4),'Dat-Bl'!$B$4:$E$123,4),VLOOKUP((($H335-1)*6+4),'Dat-Bl'!$B$127:$E$246,4)))","v":"00:00:00"},"Sprint"]
[null,null,null,null,"Sprung"]
[null,null,null,null,"Wurf"]
[5,{"$f":"IF($D$5=\"\",\"\",IF($D$5=\"weiblich_R\",VLOOKUP((($H335-1)*6+5),'Dat-Bl'!$B$4:$D$123,2),VLOOKUP((($H335-1)*6+5),'Dat-Bl'!$B$127:$D$246,2)))","v":0},{"$f":"IF($D$5=\"\",\"\",IF($D$5=\"weiblich_R\",VLOOKUP((($H335-1)*6+5),'Dat-Bl'!$B$4:$D$123,3),VLOOKUP((($H335-1)*6+5),'Dat-Bl'!$B$127:$D$246,3)))","v":"W12/05-Regel"},{"$f":"IF($D$5=\"\",\"\",IF($D$5=\"weiblich_R\",VLOOKUP((($H335-1)*6+5),'Dat-Bl'!$B$4:$E$123,4),VLOOKUP((($H335-1)*6+5),'Dat-Bl'!$B$127:$E$246,4)))","v":"00:00:00"},"Sprint"]
[null,null,null,null,"Sprung"]
[null,null,null,null,"Wurf"]
[6,{"$f":"IF($D$5=\"\",\"\",IF($D$5=\"weiblich_R\",VLOOKUP((($H335-1)*6+6),'Dat-Bl'!$B$4:$D$123,2),VLOOKUP((($H335-1)*6+6),'Dat-Bl'!$B$127:$D$246,2)))","v":0},{"$f":"IF($D$5=\"\",\"\",IF($D$5=\"weiblich_R\",VLOOKUP((($H335-1)*6+6),'Dat-Bl'!$B$4:$D$123,3),VLOOKUP((($H335-1)*6+6),'Dat-Bl'!$B$127:$D$246,3)))","v":"W12/06-Regel"},{"$f":"IF($D$5=\"\",\"\",IF($D$5=\"weiblich_R\",VLOOKUP((($H335-1)*6+6),'Dat-Bl'!$B$4:$E$123,4),VLOOKUP((($H335-1)*6+6),'Dat-Bl'!$B$127:$E$246,4)))","v":"00:00:00"},"Sprint"]
[null,null,null,null,"Sprung"]
[null,null,null,null,"Wurf"]
[]
[null,null,null,null,"Staffelwertung (5 X 80m)"]
[]
[null,"Leichtathletik Mannschaftsdreikampf der Schulen"]
[]
[null,null,{"$f":"$C$3","v":"Landesmeisterschaft"},null,{"$f":"$E$3","v":2016},{"$f":"$F$3","v":"Villach"}]
[]
[null,null,"Auswahl Geschlecht:",{"$f":"$D$5","v":"weiblich_R"},null,"Mannschaft:",null,13]
[null,null,null,null,{"$f":"$E$6","v":"C"}]
["Schule:",null,{"$f":"IF($D$5=\"\",\"\",IF($D$5=\"weiblich_R\",VLOOKUP((($H365-1)*6+1),'Dat-Bl'!$B$4:$F$123,5),VLOOKUP((($H365-1)*6+1),'Dat-Bl'!$B$127:$F$246,5)))","v":0}]
[null,null,null,null,null,"Versuch",null,null,"gewertete\n Leistung\n"]
[null,"Start Nr.","Name","Geb. Jahr","Bewerb","1.","2.","3."]
[1,{"$f":"IF($D$5=\"\",\"\",IF($D$5=\"weiblich_R\",VLOOKUP((($H365-1)*6+1),'Dat-Bl'!$B$4:$D$123,2),VLOOKUP((($H365-1)*6+1),'Dat-Bl'!$B$127:$D$246,2)))","v":0},{"$f":"IF($D$5=\"\",\"\",IF($D$5=\"weiblich_R\",VLOOKUP((($H365-1)*6+1),'Dat-Bl'!$B$4:$D$123,3),VLOOKUP((($H365-1)*6+1),'Dat-Bl'!$B$127:$D$246,3)))","v":"W13/01-Regel"},{"$f":"IF($D$5=\"\",\"\",IF($D$5=\"weiblich_R\",VLOOKUP((($H365-1)*6+1),'Dat-Bl'!$B$4:$E$123,4),VLOOKUP((($H365-1)*6+1),'Dat-Bl'!$B$127:$E$246,4)))","v":"00:00:00"},"Sprint"]
[null,null,null,null,"Sprung"]
[null,null,null,null,"Wurf"]
[2,{"$f":"IF($D$5=\"\",\"\",IF($D$5=\"weiblich_R\",VLOOKUP((($H365-1)*6+2),'Dat-Bl'!$B$4:$D$123,2),VLOOKUP((($H365-1)*6+2),'Dat-Bl'!$B$127:$D$246,2)))","v":0},{"$f":"IF($D$5=\"\",\"\",IF($D$5=\"weiblich_R\",VLOOKUP((($H365-1)*6+2),'Dat-Bl'!$B$4:$D$123,3),VLOOKUP((($H365-1)*6+2),'Dat-Bl'!$B$127:$D$246,3)))","v":"W13/02-Regel"},{"$f":"IF($D$5=\"\",\"\",IF($D$5=\"weiblich_R\",VLOOKUP((($H365-1)*6+2),'Dat-Bl'!$B$4:$E$123,4),VLOOKUP((($H365-1)*6+2),'Dat-Bl'!$B$127:$E$246,4)))","v":"00:00:00"},"Sprint"]
[null,null,null,null,"Sprung"]
[null,null,null,null,"Wurf"]
[3,{"$f":"IF($D$5=\"\",\"\",IF($D$5=\"weiblich_R\",VLOOKUP((($H365-1)*6+3),'Dat-Bl'!$B$4:$D$123,2),VLOOKUP((($H365-1)*6+3),'Dat-Bl'!$B$127:$D$246,2)))","v":0},{"$f":"IF($D$5=\"\",\"\",IF($D$5=\"weiblich_R\",VLOOKUP((($H365-1)*6+3),'Dat-Bl'!$B$4:$D$123,3),VLOOKUP((($H365-1)*6+3),'Dat-Bl'!$B$127:$D$246,3)))","v":"W13/03-Regel"},{"$f":"IF($D$5=\"\",\"\",IF($D$5=\"weiblich_R\",VLOOKUP((($H365-1)*6+3),'Dat-Bl'!$B$4:$E$123,4),VLOOKUP((($H365-1)*6+3),'Dat-Bl'!$B$127:$E$246,4)))","v":"00:00:00"},"Sprint"]
[null,null,null,null,"Sprung"]
[null,null,null,null,"Wurf"]
[4,{"$f":"IF($D$5=\"\",\"\",IF($D$5=\"weiblich_R\",VLOOKUP((($H365-1)*6+4),'Dat-Bl'!$B$4:$D$123,2),VLOOKUP((($H365-1)*6+4),'Dat-Bl'!$B$127:$D$246,2)))","v":0},{"$f":"IF($D$5=\"\",\"\",IF($D$5=\"weiblich_R\",VLOOKUP((($H365-1)*6+4),'Dat-Bl'!$B$4:$D$123,3),VLOOKUP((($H365-1)*6+4),'Dat-Bl'!$B$127:$D$246,3)))","v":"W13/04-Regel"},{"$f":"IF($D$5=\"\",\"\",IF($D$5=\"weiblich_R\",VLOOKUP((($H365-1)*6+4),'Dat-Bl'!$B$4:$E$123,4),VLOOKUP((($H365-1)*6+4),'Dat-Bl'!$B$127:$E$246,4)))","v":"00:00:00"},"Sprint"]
[null,null,null,null,"Sprung"]
[null,null,null,null,"Wurf"]
[5,{"$f":"IF($D$5=\"\",\"\",IF($D$5=\"weiblich_R\",VLOOKUP((($H365-1)*6+5),'Dat-Bl'!$B$4:$D$123,2),VLOOKUP((($H365-1)*6+5),'Dat-Bl'!$B$127:$D$246,2)))","v":0},{"$f":"IF($D$5=\"\",\"\",IF($D$5=\"weiblich_R\",VLOOKUP((($H365-1)*6+5),'Dat-Bl'!$B$4:$D$123,3),VLOOKUP((($H365-1)*6+5),'Dat-Bl'!$B$127:$D$246,3)))","v":"W13/05-Regel"},{"$f":"IF($D$5=\"\",\"\",IF($D$5=\"weiblich_R\",VLOOKUP((($H365-1)*6+5),'Dat-Bl'!$B$4:$E$123,4),VLOOKUP((($H365-1)*6+5),'Dat-Bl'!$B$127:$E$246,4)))","v":"00:00:00"},"Sprint"]
[null,null,null,null,"Sprung"]
[null,null,null,null,"Wurf"]
[6,{"$f":"IF($D$5=\"\",\"\",IF($D$5=\"weiblich_R\",VLOOKUP((($H365-1)*6+6),'Dat-Bl'!$B$4:$D$123,2),VLOOKUP((($H365-1)*6+6),'Dat-Bl'!$B$127:$D$246,2)))","v":0},{"$f":"IF($D$5=\"\",\"\",IF($D$5=\"weiblich_R\",VLOOKUP((($H365-1)*6+6),'Dat-Bl'!$B$4:$D$123,3),VLOOKUP((($H365-1)*6+6),'Dat-Bl'!$B$127:$D$246,3)))","v":"W13/06-Regel"},{"$f":"IF($D$5=\"\",\"\",IF($D$5=\"weiblich_R\",VLOOKUP((($H365-1)*6+6),'Dat-Bl'!$B$4:$E$123,4),VLOOKUP((($H365-1)*6+6),'Dat-Bl'!$B$127:$E$246,4)))","v":"00:00:00"},"Sprint"]
[null,null,null,null,"Sprung"]
[null,null,null,null,"Wurf"]
[]
[null,null,null,null,"Staffelwertung (5 X 80m)"]
[]
[null,"Leichtathletik Mannschaftsdreikampf der Schulen"]
[]
[null,null,{"$f":"$C$3","v":"Landesmeisterschaft"},null,{"$f":"$E$3","v":2016},{"$f":"$F$3","v":"Villach"}]
[]
[null,null,"Auswahl Geschlecht:",{"$f":"$D$5","v":"weiblich_R"},null,"Mannschaft:",null,14]
[null,null,null,null,{"$f":"$E$6","v":"C"}]
["Schule:",null,{"$f":"IF($D$5=\"\",\"\",IF($D$5=\"weiblich_R\",VLOOKUP((($H395-1)*6+1),'Dat-Bl'!$B$4:$F$123,5),VLOOKUP((($H395-1)*6+1),'Dat-Bl'!$B$127:$F$246,5)))","v":0}]
[null,null,null,null,null,"Versuch",null,null,"gewertete\n Leistung\n"]
[null,"Start Nr.","Name","Geb. Jahr","Bewerb","1.","2.","3."]
[1,{"$f":"IF($D$5=\"\",\"\",IF($D$5=\"weiblich_R\",VLOOKUP((($H395-1)*6+1),'Dat-Bl'!$B$4:$D$123,2),VLOOKUP((($H395-1)*6+1),'Dat-Bl'!$B$127:$D$246,2)))","v":0},{"$f":"IF($D$5=\"\",\"\",IF($D$5=\"weiblich_R\",VLOOKUP((($H395-1)*6+1),'Dat-Bl'!$B$4:$D$123,3),VLOOKUP((($H395-1)*6+1),'Dat-Bl'!$B$127:$D$246,3)))","v":"W14/01-Regel"},{"$f":"IF($D$5=\"\",\"\",IF($D$5=\"weiblich_R\",VLOOKUP((($H395-1)*6+1),'Dat-Bl'!$B$4:$E$123,4),VLOOKUP((($H395-1)*6+1),'Dat-Bl'!$B$127:$E$246,4)))","v":"00:00:00"},"Sprint"]
[null,null,null,null,"Sprung"]
[null,null,null,null,"Wurf"]
[2,{"$f":"IF($D$5=\"\",\"\",IF($D$5=\"weiblich_R\",VLOOKUP((($H395-1)*6+2),'Dat-Bl'!$B$4:$D$123,2),VLOOKUP((($H395-1)*6+2),'Dat-Bl'!$B$127:$D$246,2)))","v":0},{"$f":"IF($D$5=\"\",\"\",IF($D$5=\"weiblich_R\",VLOOKUP((($H395-1)*6+2),'Dat-Bl'!$B$4:$D$123,3),VLOOKUP((($H395-1)*6+2),'Dat-Bl'!$B$127:$D$246,3)))","v":"W14/02-Regel"},{"$f":"IF($D$5=\"\",\"\",IF($D$5=\"weiblich_R\",VLOOKUP((($H395-1)*6+2),'Dat-Bl'!$B$4:$E$123,4),VLOOKUP((($H395-1)*6+2),'Dat-Bl'!$B$127:$E$246,4)))","v":"00:00:00"},"Sprint"]
[null,null,null,null,"Sprung"]
[null,null,null,null,"Wurf"]
[3,{"$f":"IF($D$5=\"\",\"\",IF($D$5=\"weiblich_R\",VLOOKUP((($H395-1)*6+3),'Dat-Bl'!$B$4:$D$123,2),VLOOKUP((($H395-1)*6+3),'Dat-Bl'!$B$127:$D$246,2)))","v":0},{"$f":"IF($D$5=\"\",\"\",IF($D$5=\"weiblich_R\",VLOOKUP((($H395-1)*6+3),'Dat-Bl'!$B$4:$D$123,3),VLOOKUP((($H395-1)*6+3),'Dat-Bl'!$B$127:$D$246,3)))","v":"W14/03-Regel"},{"$f":"IF($D$5=\"\",\"\",IF($D$5=\"weiblich_R\",VLOOKUP((($H395-1)*6+3),'Dat-Bl'!$B$4:$E$123,4),VLOOKUP((($H395-1)*6+3),'Dat-Bl'!$B$127:$E$246,4)))","v":"00:00:00"},"Sprint"]
[null,null,null,null,"Sprung"]
[null,null,null,null,"Wurf"]
[4,{"$f":"IF($D$5=\"\",\"\",IF($D$5=\"weiblich_R\",VLOOKUP((($H395-1)*6+4),'Dat-Bl'!$B$4:$D$123,2),VLOOKUP((($H395-1)*6+4),'Dat-Bl'!$B$127:$D$246,2)))","v":0},{"$f":"IF($D$5=\"\",\"\",IF($D$5=\"weiblich_R\",VLOOKUP((($H395-1)*6+4),'Dat-Bl'!$B$4:$D$123,3),VLOOKUP((($H395-1)*6+4),'Dat-Bl'!$B$127:$D$246,3)))","v":"W14/04-Regel"},{"$f":"IF($D$5=\"\",\"\",IF($D$5=\"weiblich_R\",VLOOKUP((($H395-1)*6+4),'Dat-Bl'!$B$4:$E$123,4),VLOOKUP((($H395-1)*6+4),'Dat-Bl'!$B$127:$E$246,4)))","v":"00:00:00"},"Sprint"]
[null,null,null,null,"Sprung"]
[null,null,null,null,"Wurf"]
[5,{"$f":"IF($D$5=\"\",\"\",IF($D$5=\"weiblich_R\",VLOOKUP((($H395-1)*6+5),'Dat-Bl'!$B$4:$D$123,2),VLOOKUP((($H395-1)*6+5),'Dat-Bl'!$B$127:$D$246,2)))","v":0},{"$f":"IF($D$5=\"\",\"\",IF($D$5=\"weiblich_R\",VLOOKUP((($H395-1)*6+5),'Dat-Bl'!$B$4:$D$123,3),VLOOKUP((($H395-1)*6+5),'Dat-Bl'!$B$127:$D$246,3)))","v":"W14/05-Regel"},{"$f":"IF($D$5=\"\",\"\",IF($D$5=\"weiblich_R\",VLOOKUP((($H395-1)*6+5),'Dat-Bl'!$B$4:$E$123,4),VLOOKUP((($H395-1)*6+5),'Dat-Bl'!$B$127:$E$246,4)))","v":"00:00:00"},"Sprint"]
[null,null,null,null,"Sprung"]
[null,null,null,null,"Wurf"]
[6,{"$f":"IF($D$5=\"\",\"\",IF($D$5=\"weiblich_R\",VLOOKUP((($H395-1)*6+6),'Dat-Bl'!$B$4:$D$123,2),VLOOKUP((($H395-1)*6+6),'Dat-Bl'!$B$127:$D$246,2)))","v":0},{"$f":"IF($D$5=\"\",\"\",IF($D$5=\"weiblich_R\",VLOOKUP((($H395-1)*6+6),'Dat-Bl'!$B$4:$D$123,3),VLOOKUP((($H395-1)*6+6),'Dat-Bl'!$B$127:$D$246,3)))","v":"W14/06-Regel"},{"$f":"IF($D$5=\"\",\"\",IF($D$5=\"weiblich_R\",VLOOKUP((($H395-1)*6+6),'Dat-Bl'!$B$4:$E$123,4),VLOOKUP((($H395-1)*6+6),'Dat-Bl'!$B$127:$E$246,4)))","v":"00:00:00"},"Sprint"]
[null,null,null,null,"Sprung"]
[null,null,null,null,"Wurf"]
[]
[null,null,null,null,"Staffelwertung (5 X 80m)"]
[]
[null,"Leichtathletik Mannschaftsdreikampf der Schulen"]
[]
[null,null,{"$f":"$C$3","v":"Landesmeisterschaft"},null,{"$f":"$E$3","v":2016},{"$f":"$F$3","v":"Villach"}]
[]
[null,null,"Auswahl Geschlecht:",{"$f":"$D$5","v":"weiblich_R"},null,"Mannschaft:",null,15]
[null,null,null,null,{"$f":"$E$6","v":"C"}]
["Schule:",null,{"$f":"IF($D$5=\"\",\"\",IF($D$5=\"weiblich_R\",VLOOKUP((($H425-1)*6+1),'Dat-Bl'!$B$4:$F$123,5),VLOOKUP((($H425-1)*6+1),'Dat-Bl'!$B$127:$F$246,5)))","v":0}]
[null,null,null,null,null,"Versuch",null,null,"gewertete\n Leistung\n"]
[null,"Start Nr.","Name","Geb. Jahr","Bewerb","1.","2.","3."]
[1,{"$f":"IF($D$5=\"\",\"\",IF($D$5=\"weiblich_R\",VLOOKUP((($H425-1)*6+1),'Dat-Bl'!$B$4:$D$123,2),VLOOKUP((($H425-1)*6+1),'Dat-Bl'!$B$127:$D$246,2)))","v":0},{"$f":"IF($D$5=\"\",\"\",IF($D$5=\"weiblich_R\",VLOOKUP((($H425-1)*6+1),'Dat-Bl'!$B$4:$D$123,3),VLOOKUP((($H425-1)*6+1),'Dat-Bl'!$B$127:$D$246,3)))","v":"W15/01-Regel"},{"$f":"IF($D$5=\"\",\"\",IF($D$5=\"weiblich_R\",VLOOKUP((($H425-1)*6+1),'Dat-Bl'!$B$4:$E$123,4),VLOOKUP((($H425-1)*6+1),'Dat-Bl'!$B$127:$E$246,4)))","v":"00:00:00"},"Sprint"]
[null,null,null,null,"Sprung"]
[null,null,null,null,"Wurf"]
[2,{"$f":"IF($D$5=\"\",\"\",IF($D$5=\"weiblich_R\",VLOOKUP((($H425-1)*6+2),'Dat-Bl'!$B$4:$D$123,2),VLOOKUP((($H425-1)*6+2),'Dat-Bl'!$B$127:$D$246,2)))","v":0},{"$f":"IF($D$5=\"\",\"\",IF($D$5=\"weiblich_R\",VLOOKUP((($H425-1)*6+2),'Dat-Bl'!$B$4:$D$123,3),VLOOKUP((($H425-1)*6+2),'Dat-Bl'!$B$127:$D$246,3)))","v":"W15/02-Regel"},{"$f":"IF($D$5=\"\",\"\",IF($D$5=\"weiblich_R\",VLOOKUP((($H425-1)*6+2),'Dat-Bl'!$B$4:$E$123,4),VLOOKUP((($H425-1)*6+2),'Dat-Bl'!$B$127:$E$246,4)))","v":"00:00:00"},"Sprint"]
[null,null,null,null,"Sprung"]
[null,null,null,null,"Wurf"]
[3,{"$f":"IF($D$5=\"\",\"\",IF($D$5=\"weiblich_R\",VLOOKUP((($H425-1)*6+3),'Dat-Bl'!$B$4:$D$123,2),VLOOKUP((($H425-1)*6+3),'Dat-Bl'!$B$127:$D$246,2)))","v":0},{"$f":"IF($D$5=\"\",\"\",IF($D$5=\"weiblich_R\",VLOOKUP((($H425-1)*6+3),'Dat-Bl'!$B$4:$D$123,3),VLOOKUP((($H425-1)*6+3),'Dat-Bl'!$B$127:$D$246,3)))","v":"W15/03-Regel"},{"$f":"IF($D$5=\"\",\"\",IF($D$5=\"weiblich_R\",VLOOKUP((($H425-1)*6+3),'Dat-Bl'!$B$4:$E$123,4),VLOOKUP((($H425-1)*6+3),'Dat-Bl'!$B$127:$E$246,4)))","v":"00:00:00"},"Sprint"]
[null,null,null,null,"Sprung"]
[null,null,null,null,"Wurf"]
[4,{"$f":"IF($D$5=\"\",\"\",IF($D$5=\"weiblich_R\",VLOOKUP((($H425-1)*6+4),'Dat-Bl'!$B$4:$D$123,2),VLOOKUP((($H425-1)*6+4),'Dat-Bl'!$B$127:$D$246,2)))","v":0},{"$f":"IF($D$5=\"\",\"\",IF($D$5=\"weiblich_R\",VLOOKUP((($H425-1)*6+4),'Dat-Bl'!$B$4:$D$123,3),VLOOKUP((($H425-1)*6+4),'Dat-Bl'!$B$127:$D$246,3)))","v":"W15/04-Regel"},{"$f":"IF($D$5=\"\",\"\",IF($D$5=\"weiblich_R\",VLOOKUP((($H425-1)*6+4),'Dat-Bl'!$B$4:$E$123,4),VLOOKUP((($H425-1)*6+4),'Dat-Bl'!$B$127:$E$246,4)))","v":"00:00:00"},"Sprint"]
[null,null,null,null,"Sprung"]
[null,null,null,null,"Wurf"]
[5,{"$f":"IF($D$5=\"\",\"\",IF($D$5=\"weiblich_R\",VLOOKUP((($H425-1)*6+5),'Dat-Bl'!$B$4:$D$123,2),VLOOKUP((($H425-1)*6+5),'Dat-Bl'!$B$127:$D$246,2)))","v":0},{"$f":"IF($D$5=\"\",\"\",IF($D$5=\"weiblich_R\",VLOOKUP((($H425-1)*6+5),'Dat-Bl'!$B$4:$D$123,3),VLOOKUP((($H425-1)*6+5),'Dat-Bl'!$B$127:$D$246,3)))","v":"W15/05-Regel"},{"$f":"IF($D$5=\"\",\"\",IF($D$5=\"weiblich_R\",VLOOKUP((($H425-1)*6+5),'Dat-Bl'!$B$4:$E$123,4),VLOOKUP((($H425-1)*6+5),'Dat-Bl'!$B$127:$E$246,4)))","v":"00:00:00"},"Sprint"]
[null,null,null,null,"Sprung"]
[null,null,null,null,"Wurf"]
[6,{"$f":"IF($D$5=\"\",\"\",IF($D$5=\"weiblich_R\",VLOOKUP((($H425-1)*6+6),'Dat-Bl'!$B$4:$D$123,2),VLOOKUP((($H425-1)*6+6),'Dat-Bl'!$B$127:$D$246,2)))","v":0},{"$f":"IF($D$5=\"\",\"\",IF($D$5=\"weiblich_R\",VLOOKUP((($H425-1)*6+6),'Dat-Bl'!$B$4:$D$123,3),VLOOKUP((($H425-1)*6+6),'Dat-Bl'!$B$127:$D$246,3)))","v":"W15/06-Regel"},{"$f":"IF($D$5=\"\",\"\",IF($D$5=\"weiblich_R\",VLOOKUP((($H425-1)*6+6),'Dat-Bl'!$B$4:$E$123,4),VLOOKUP((($H425-1)*6+6),'Dat-Bl'!$B$127:$E$246,4)))","v":"00:00:00"},"Sprint"]
[null,null,null,null,"Sprung"]
[null,null,null,null,"Wurf"]
[]
[null,null,null,null,"Staffelwertung (5 X 80m)"]
[]
[null,"Leichtathletik Mannschaftsdreikampf der Schulen"]
[]
[null,null,{"$f":"$C$3","v":"Landesmeisterschaft"},null,{"$f":"$E$3","v":2016},{"$f":"$F$3","v":"Villach"}]
[]
[null,null,"Auswahl Geschlecht:",{"$f":"$D$5","v":"weiblich_R"},null,"Mannschaft:",null,16]
[null,null,null,null,{"$f":"$E$6","v":"C"}]
["Schule:",null,{"$f":"IF($D$5=\"\",\"\",IF($D$5=\"weiblich_R\",VLOOKUP((($H455-1)*6+1),'Dat-Bl'!$B$4:$F$123,5),VLOOKUP((($H455-1)*6+1),'Dat-Bl'!$B$127:$F$246,5)))","v":0}]
[null,null,null,null,null,"Versuch",null,null,"gewertete\n Leistung\n"]
[null,"Start Nr.","Name","Geb. Jahr","Bewerb","1.","2.","3."]
[1,{"$f":"IF($D$5=\"\",\"\",IF($D$5=\"weiblich_R\",VLOOKUP((($H455-1)*6+1),'Dat-Bl'!$B$4:$D$123,2),VLOOKUP((($H455-1)*6+1),'Dat-Bl'!$B$127:$D$246,2)))","v":0},{"$f":"IF($D$5=\"\",\"\",IF($D$5=\"weiblich_R\",VLOOKUP((($H455-1)*6+1),'Dat-Bl'!$B$4:$D$123,3),VLOOKUP((($H455-1)*6+1),'Dat-Bl'!$B$127:$D$246,3)))","v":"W16/01-Regel"},{"$f":"IF($D$5=\"\",\"\",IF($D$5=\"weiblich_R\",VLOOKUP((($H455-1)*6+1),'Dat-Bl'!$B$4:$E$123,4),VLOOKUP((($H455-1)*6+1),'Dat-Bl'!$B$127:$E$246,4)))","v":"00:00:00"},"Sprint"]
[null,null,null,null,"Sprung"]
[null,null,null,null,"Wurf"]
[2,{"$f":"IF($D$5=\"\",\"\",IF($D$5=\"weiblich_R\",VLOOKUP((($H455-1)*6+2),'Dat-Bl'!$B$4:$D$123,2),VLOOKUP((($H455-1)*6+2),'Dat-Bl'!$B$127:$D$246,2)))","v":0},{"$f":"IF($D$5=\"\",\"\",IF($D$5=\"weiblich_R\",VLOOKUP((($H455-1)*6+2),'Dat-Bl'!$B$4:$D$123,3),VLOOKUP((($H455-1)*6+2),'Dat-Bl'!$B$127:$D$246,3)))","v":"W16/02-Regel"},{"$f":"IF($D$5=\"\",\"\",IF($D$5=\"weiblich_R\",VLOOKUP((($H455-1)*6+2),'Dat-Bl'!$B$4:$E$123,4),VLOOKUP((($H455-1)*6+2),'Dat-Bl'!$B$127:$E$246,4)))","v":"00:00:00"},"Sprint"]
[null,null,null,null,"Sprung"]
[null,null,null,null,"Wurf"]
[3,{"$f":"IF($D$5=\"\",\"\",IF($D$5=\"weiblich_R\",VLOOKUP((($H455-1)*6+3),'Dat-Bl'!$B$4:$D$123,2),VLOOKUP((($H455-1)*6+3),'Dat-Bl'!$B$127:$D$246,2)))","v":0},{"$f":"IF($D$5=\"\",\"\",IF($D$5=\"weiblich_R\",VLOOKUP((($H455-1)*6+3),'Dat-Bl'!$B$4:$D$123,3),VLOOKUP((($H455-1)*6+3),'Dat-Bl'!$B$127:$D$246,3)))","v":"W16/03-Regel"},{"$f":"IF($D$5=\"\",\"\",IF($D$5=\"weiblich_R\",VLOOKUP((($H455-1)*6+3),'Dat-Bl'!$B$4:$E$123,4),VLOOKUP((($H455-1)*6+3),'Dat-Bl'!$B$127:$E$246,4)))","v":"00:00:00"},"Sprint"]
[null,null,null,null,"Sprung"]
[null,null,null,null,"Wurf"]
[4,{"$f":"IF($D$5=\"\",\"\",IF($D$5=\"weiblich_R\",VLOOKUP((($H455-1)*6+4),'Dat-Bl'!$B$4:$D$123,2),VLOOKUP((($H455-1)*6+4),'Dat-Bl'!$B$127:$D$246,2)))","v":0},{"$f":"IF($D$5=\"\",\"\",IF($D$5=\"weiblich_R\",VLOOKUP((($H455-1)*6+4),'Dat-Bl'!$B$4:$D$123,3),VLOOKUP((($H455-1)*6+4),'Dat-Bl'!$B$127:$D$246,3)))","v":"W16/04-Regel"},{"$f":"IF($D$5=\"\",\"\",IF($D$5=\"weiblich_R\",VLOOKUP((($H455-1)*6+4),'Dat-Bl'!$B$4:$E$123,4),VLOOKUP((($H455-1)*6+4),'Dat-Bl'!$B$127:$E$246,4)))","v":"00:00:00"},"Sprint"]
[null,null,null,null,"Sprung"]
[null,null,null,null,"Wurf"]
[5,{"$f":"IF($D$5=\"\",\"\",IF($D$5=\"weiblich_R\",VLOOKUP((($H455-1)*6+5),'Dat-Bl'!$B$4:$D$123,2),VLOOKUP((($H455-1)*6+5),'Dat-Bl'!$B$127:$D$246,2)))","v":0},{"$f":"IF($D$5=\"\",\"\",IF($D$5=\"weiblich_R\",VLOOKUP((($H455-1)*6+5),'Dat-Bl'!$B$4:$D$123,3),VLOOKUP((($H455-1)*6+5),'Dat-Bl'!$B$127:$D$246,3)))","v":"W16/05-Regel"},{"$f":"IF($D$5=\"\",\"\",IF($D$5=\"weiblich_R\",VLOOKUP((($H455-1)*6+5),'Dat-Bl'!$B$4:$E$123,4),VLOOKUP((($H455-1)*6+5),'Dat-Bl'!$B$127:$E$246,4)))","v":"00:00:00"},"Sprint"]
[null,null,null,null,"Sprung"]
[null,null,null,null,"Wurf"]
[6,{"$f":"IF($D$5=\"\",\"\",IF($D$5=\"weiblich_R\",VLOOKUP((($H455-1)*6+6),'Dat-Bl'!$B$4:$D$123,2),VLOOKUP((($H455-1)*6+6),'Dat-Bl'!$B$127:$D$246,2)))","v":0},{"$f":"IF($D$5=\"\",\"\",IF($D$5=\"weiblich_R\",VLOOKUP((($H455-1)*6+6),'Dat-Bl'!$B$4:$D$123,3),VLOOKUP((($H455-1)*6+6),'Dat-Bl'!$B$127:$D$246,3)))","v":"W16/06-Regel"},{"$f":"IF($D$5=\"\",\"\",IF($D$5=\"weiblich_R\",VLOOKUP((($H455-1)*6+6),'Dat-Bl'!$B$4:$E$123,4),VLOOKUP((($H455-1)*6+6),'Dat-Bl'!$B$127:$E$246,4)))","v":"00:00:00"},"Sprint"]
[null,null,null,null,"Sprung"]
[null,null,null,null,"Wurf"]
[]
[null,null,null,null,"Staffelwertung (5 X 80m)"]
[]
[null,"Leichtathletik Mannschaftsdreikampf der Schulen"]
[]
[null,null,{"$f":"$C$3","v":"Landesmeisterschaft"},null,{"$f":"$E$3","v":2016},{"$f":"$F$3","v":"Villach"}]
[]
[null,null,"Auswahl Geschlecht:",{"$f":"$D$5","v":"weiblich_R"},null,"Mannschaft:",null,17]
[null,null,null,null,{"$f":"$E$6","v":"C"}]
["Schule:",null,{"$f":"IF($D$5=\"\",\"\",IF($D$5=\"weiblich_R\",VLOOKUP((($H485-1)*6+1),'Dat-Bl'!$B$4:$F$123,5),VLOOKUP((($H485-1)*6+1),'Dat-Bl'!$B$127:$F$246,5)))","v":0}]
[null,null,null,null,null,"Versuch",null,null,"gewertete\n Leistung\n"]
[null,"Start Nr.","Name","Geb. Jahr","Bewerb","1.","2.","3."]
[1,{"$f":"IF($D$5=\"\",\"\",IF($D$5=\"weiblich_R\",VLOOKUP((($H485-1)*6+1),'Dat-Bl'!$B$4:$D$123,2),VLOOKUP((($H485-1)*6+1),'Dat-Bl'!$B$127:$D$246,2)))","v":0},{"$f":"IF($D$5=\"\",\"\",IF($D$5=\"weiblich_R\",VLOOKUP((($H485-1)*6+1),'Dat-Bl'!$B$4:$D$123,3),VLOOKUP((($H485-1)*6+1),'Dat-Bl'!$B$127:$D$246,3)))","v":"W17/01-Regel"},{"$f":"IF($D$5=\"\",\"\",IF($D$5=\"weiblich_R\",VLOOKUP((($H485-1)*6+1),'Dat-Bl'!$B$4:$E$123,4),VLOOKUP((($H485-1)*6+1),'Dat-Bl'!$B$127:$E$246,4)))","v":"00:00:00"},"Sprint"]
[null,null,null,null,"Sprung"]
[null,null,null,null,"Wurf"]
[2,{"$f":"IF($D$5=\"\",\"\",IF($D$5=\"weiblich_R\",VLOOKUP((($H485-1)*6+2),'Dat-Bl'!$B$4:$D$123,2),VLOOKUP((($H485-1)*6+2),'Dat-Bl'!$B$127:$D$246,2)))","v":0},{"$f":"IF($D$5=\"\",\"\",IF($D$5=\"weiblich_R\",VLOOKUP((($H485-1)*6+2),'Dat-Bl'!$B$4:$D$123,3),VLOOKUP((($H485-1)*6+2),'Dat-Bl'!$B$127:$D$246,3)))","v":"W17/02-Regel"},{"$f":"IF($D$5=\"\",\"\",IF($D$5=\"weiblich_R\",VLOOKUP((($H485-1)*6+2),'Dat-Bl'!$B$4:$E$123,4),VLOOKUP((($H485-1)*6+2),'Dat-Bl'!$B$127:$E$246,4)))","v":"00:00:00"},"Sprint"]
[null,null,null,null,"Sprung"]
[null,null,null,null,"Wurf"]
[3,{"$f":"IF($D$5=\"\",\"\",IF($D$5=\"weiblich_R\",VLOOKUP((($H485-1)*6+3),'Dat-Bl'!$B$4:$D$123,2),VLOOKUP((($H485-1)*6+3),'Dat-Bl'!$B$127:$D$246,2)))","v":0},{"$f":"IF($D$5=\"\",\"\",IF($D$5=\"weiblich_R\",VLOOKUP((($H485-1)*6+3),'Dat-Bl'!$B$4:$D$123,3),VLOOKUP((($H485-1)*6+3),'Dat-Bl'!$B$127:$D$246,3)))","v":"W17/03-Regel"},{"$f":"IF($D$5=\"\",\"\",IF($D$5=\"weiblich_R\",VLOOKUP((($H485-1)*6+3),'Dat-Bl'!$B$4:$E$123,4),VLOOKUP((($H485-1)*6+3),'Dat-Bl'!$B$127:$E$246,4)))","v":"00:00:00"},"Sprint"]
[null,null,null,null,"Sprung"]
[null,null,null,null,"Wurf"]
[4,{"$f":"IF($D$5=\"\",\"\",IF($D$5=\"weiblich_R\",VLOOKUP((($H485-1)*6+4),'Dat-Bl'!$B$4:$D$123,2),VLOOKUP((($H485-1)*6+4),'Dat-Bl'!$B$127:$D$246,2)))","v":0},{"$f":"IF($D$5=\"\",\"\",IF($D$5=\"weiblich_R\",VLOOKUP((($H485-1)*6+4),'Dat-Bl'!$B$4:$D$123,3),VLOOKUP((($H485-1)*6+4),'Dat-Bl'!$B$127:$D$246,3)))","v":"W17/04-Regel"},{"$f":"IF($D$5=\"\",\"\",IF($D$5=\"weiblich_R\",VLOOKUP((($H485-1)*6+4),'Dat-Bl'!$B$4:$E$123,4),VLOOKUP((($H485-1)*6+4),'Dat-Bl'!$B$127:$E$246,4)))","v":"00:00:00"},"Sprint"]
[null,null,null,null,"Sprung"]
[null,null,null,null,"Wurf"]
[5,{"$f":"IF($D$5=\"\",\"\",IF($D$5=\"weiblich_R\",VLOOKUP((($H485-1)*6+5),'Dat-Bl'!$B$4:$D$123,2),VLOOKUP((($H485-1)*6+5),'Dat-Bl'!$B$127:$D$246,2)))","v":0},{"$f":"IF($D$5=\"\",\"\",IF($D$5=\"weiblich_R\",VLOOKUP((($H485-1)*6+5),'Dat-Bl'!$B$4:$D$123,3),VLOOKUP((($H485-1)*6+5),'Dat-Bl'!$B$127:$D$246,3)))","v":"W17/05-Regel"},{"$f":"IF($D$5=\"\",\"\",IF($D$5=\"weiblich_R\",VLOOKUP((($H485-1)*6+5),'Dat-Bl'!$B$4:$E$123,4),VLOOKUP((($H485-1)*6+5),'Dat-Bl'!$B$127:$E$246,4)))","v":"00:00:00"},"Sprint"]
[null,null,null,null,"Sprung"]
[null,null,null,null,"Wurf"]
[6,{"$f":"IF($D$5=\"\",\"\",IF($D$5=\"weiblich_R\",VLOOKUP((($H485-1)*6+6),'Dat-Bl'!$B$4:$D$123,2),VLOOKUP((($H485-1)*6+6),'Dat-Bl'!$B$127:$D$246,2)))","v":0},{"$f":"IF($D$5=\"\",\"\",IF($D$5=\"weiblich_R\",VLOOKUP((($H485-1)*6+6),'Dat-Bl'!$B$4:$D$123,3),VLOOKUP((($H485-1)*6+6),'Dat-Bl'!$B$127:$D$246,3)))","v":"W17/06-Regel"},{"$f":"IF($D$5=\"\",\"\",IF($D$5=\"weiblich_R\",VLOOKUP((($H485-1)*6+6),'Dat-Bl'!$B$4:$E$123,4),VLOOKUP((($H485-1)*6+6),'Dat-Bl'!$B$127:$E$246,4)))","v":"00:00:00"},"Sprint"]
[null,null,null,null,"Sprung"]
[null,null,null,null,"Wurf"]
[]
[null,null,null,null,"Staffelwertung (5 X 80m)"]
[]
[null,"Leichtathletik Mannschaftsdreikampf der Schulen"]
[]
[null,null,{"$f":"$C$3","v":"Landesmeisterschaft"},null,{"$f":"$E$3","v":2016},{"$f":"$F$3","v":"Villach"}]
[]
[null,null,"Auswahl Geschlecht:",{"$f":"$D$5","v":"weiblich_R"},null,"Mannschaft:",null,18]
[null,null,null,null,{"$f":"$E$6","v":"C"}]
["Schule:",null,{"$f":"IF($D$5=\"\",\"\",IF($D$5=\"weiblich_R\",VLOOKUP((($H515-1)*6+1),'Dat-Bl'!$B$4:$F$123,5),VLOOKUP((($H515-1)*6+1),'Dat-Bl'!$B$127:$F$246,5)))","v":0}]
[null,null,null,null,null,"Versuch",null,null,"gewertete\n Leistung\n"]
[null,"Start Nr.","Name","Geb. Jahr","Bewerb","1.","2.","3."]
[1,{"$f":"IF($D$5=\"\",\"\",IF($D$5=\"weiblich_R\",VLOOKUP((($H515-1)*6+1),'Dat-Bl'!$B$4:$D$123,2),VLOOKUP((($H515-1)*6+1),'Dat-Bl'!$B$127:$D$246,2)))","v":0},{"$f":"IF($D$5=\"\",\"\",IF($D$5=\"weiblich_R\",VLOOKUP((($H515-1)*6+1),'Dat-Bl'!$B$4:$D$123,3),VLOOKUP((($H515-1)*6+1),'Dat-Bl'!$B$127:$D$246,3)))","v":"W18/01-Regel"},{"$f":"IF($D$5=\"\",\"\",IF($D$5=\"weiblich_R\",VLOOKUP((($H515-1)*6+1),'Dat-Bl'!$B$4:$E$123,4),VLOOKUP((($H515-1)*6+1),'Dat-Bl'!$B$127:$E$246,4)))","v":"00:00:00"},"Sprint"]
[null,null,null,null,"Sprung"]
[null,null,null,null,"Wurf"]
[2,{"$f":"IF($D$5=\"\",\"\",IF($D$5=\"weiblich_R\",VLOOKUP((($H515-1)*6+2),'Dat-Bl'!$B$4:$D$123,2),VLOOKUP((($H515-1)*6+2),'Dat-Bl'!$B$127:$D$246,2)))","v":0},{"$f":"IF($D$5=\"\",\"\",IF($D$5=\"weiblich_R\",VLOOKUP((($H515-1)*6+2),'Dat-Bl'!$B$4:$D$123,3),VLOOKUP((($H515-1)*6+2),'Dat-Bl'!$B$127:$D$246,3)))","v":"W18/02-Regel"},{"$f":"IF($D$5=\"\",\"\",IF($D$5=\"weiblich_R\",VLOOKUP((($H515-1)*6+2),'Dat-Bl'!$B$4:$E$123,4),VLOOKUP((($H515-1)*6+2),'Dat-Bl'!$B$127:$E$246,4)))","v":"00:00:00"},"Sprint"]
[null,null,null,null,"Sprung"]
[null,null,null,null,"Wurf"]
[3,{"$f":"IF($D$5=\"\",\"\",IF($D$5=\"weiblich_R\",VLOOKUP((($H515-1)*6+3),'Dat-Bl'!$B$4:$D$123,2),VLOOKUP((($H515-1)*6+3),'Dat-Bl'!$B$127:$D$246,2)))","v":0},{"$f":"IF($D$5=\"\",\"\",IF($D$5=\"weiblich_R\",VLOOKUP((($H515-1)*6+3),'Dat-Bl'!$B$4:$D$123,3),VLOOKUP((($H515-1)*6+3),'Dat-Bl'!$B$127:$D$246,3)))","v":"W18/03-Regel"},{"$f":"IF($D$5=\"\",\"\",IF($D$5=\"weiblich_R\",VLOOKUP((($H515-1)*6+3),'Dat-Bl'!$B$4:$E$123,4),VLOOKUP((($H515-1)*6+3),'Dat-Bl'!$B$127:$E$246,4)))","v":"00:00:00"},"Sprint"]
[null,null,null,null,"Sprung"]
[null,null,null,null,"Wurf"]
[4,{"$f":"IF($D$5=\"\",\"\",IF($D$5=\"weiblich_R\",VLOOKUP((($H515-1)*6+4),'Dat-Bl'!$B$4:$D$123,2),VLOOKUP((($H515-1)*6+4),'Dat-Bl'!$B$127:$D$246,2)))","v":0},{"$f":"IF($D$5=\"\",\"\",IF($D$5=\"weiblich_R\",VLOOKUP((($H515-1)*6+4),'Dat-Bl'!$B$4:$D$123,3),VLOOKUP((($H515-1)*6+4),'Dat-Bl'!$B$127:$D$246,3)))","v":"W18/04-Regel"},{"$f":"IF($D$5=\"\",\"\",IF($D$5=\"weiblich_R\",VLOOKUP((($H515-1)*6+4),'Dat-Bl'!$B$4:$E$123,4),VLOOKUP((($H515-1)*6+4),'Dat-Bl'!$B$127:$E$246,4)))","v":"00:00:00"},"Sprint"]
[null,null,null,null,"Sprung"]
[null,null,null,null,"Wurf"]
[5,{"$f":"IF($D$5=\"\",\"\",IF($D$5=\"weiblich_R\",VLOOKUP((($H515-1)*6+5),'Dat-Bl'!$B$4:$D$123,2),VLOOKUP((($H515-1)*6+5),'Dat-Bl'!$B$127:$D$246,2)))","v":0},{"$f":"IF($D$5=\"\",\"\",IF($D$5=\"weiblich_R\",VLOOKUP((($H515-1)*6+5),'Dat-Bl'!$B$4:$D$123,3),VLOOKUP((($H515-1)*6+5),'Dat-Bl'!$B$127:$D$246,3)))","v":"W18/05-Regel"},{"$f":"IF($D$5=\"\",\"\",IF($D$5=\"weiblich_R\",VLOOKUP((($H515-1)*6+5),'Dat-Bl'!$B$4:$E$123,4),VLOOKUP((($H515-1)*6+5),'Dat-Bl'!$B$127:$E$246,4)))","v":"00:00:00"},"Sprint"]
[null,null,null,null,"Sprung"]
[null,null,null,null,"Wurf"]
[6,{"$f":"IF($D$5=\"\",\"\",IF($D$5=\"weiblich_R\",VLOOKUP((($H515-1)*6+6),'Dat-Bl'!$B$4:$D$123,2),VLOOKUP((($H515-1)*6+6),'Dat-Bl'!$B$127:$D$246,2)))","v":0},{"$f":"IF($D$5=\"\",\"\",IF($D$5=\"weiblich_R\",VLOOKUP((($H515-1)*6+6),'Dat-Bl'!$B$4:$D$123,3),VLOOKUP((($H515-1)*6+6),'Dat-Bl'!$B$127:$D$246,3)))","v":"W18/06-Regel"},{"$f":"IF($D$5=\"\",\"\",IF($D$5=\"weiblich_R\",VLOOKUP((($H515-1)*6+6),'Dat-Bl'!$B$4:$E$123,4),VLOOKUP((($H515-1)*6+6),'Dat-Bl'!$B$127:$E$246,4)))","v":"00:00:00"},"Sprint"]
[null,null,null,null,"Sprung"]
[null,null,null,null,"Wurf"]
[]
[null,null,null,null,"Staffelwertung (5 X 80m)"]
[]
[null,"Leichtathletik Mannschaftsdreikampf der Schulen"]
[]
[null,null,{"$f":"$C$3","v":"Landesmeisterschaft"},null,{"$f":"$E$3","v":2016},{"$f":"$F$3","v":"Villach"}]
[]
[null,null,"Auswahl Geschlecht:",{"$f":"$D$5","v":"weiblich_R"},null,"Mannschaft:",null,19]
[null,null,null,null,{"$f":"$E$6","v":"C"}]
["Schule:",null,{"$f":"IF($D$5=\"\",\"\",IF($D$5=\"weiblich_R\",VLOOKUP((($H545-1)*6+1),'Dat-Bl'!$B$4:$F$123,5),VLOOKUP((($H545-1)*6+1),'Dat-Bl'!$B$127:$F$246,5)))","v":0}]
[null,null,null,null,null,"Versuch",null,null,"gewertete\n Leistung\n"]
[null,"Start Nr.","Name","Geb. Jahr","Bewerb","1.","2.","3."]
[1,{"$f":"IF($D$5=\"\",\"\",IF($D$5=\"weiblich_R\",VLOOKUP((($H545-1)*6+1),'Dat-Bl'!$B$4:$D$123,2),VLOOKUP((($H545-1)*6+1),'Dat-Bl'!$B$127:$D$246,2)))","v":0},{"$f":"IF($D$5=\"\",\"\",IF($D$5=\"weiblich_R\",VLOOKUP((($H545-1)*6+1),'Dat-Bl'!$B$4:$D$123,3),VLOOKUP((($H545-1)*6+1),'Dat-Bl'!$B$127:$D$246,3)))","v":"W19/01-Regel"},{"$f":"IF($D$5=\"\",\"\",IF($D$5=\"weiblich_R\",VLOOKUP((($H545-1)*6+1),'Dat-Bl'!$B$4:$E$123,4),VLOOKUP((($H545-1)*6+1),'Dat-Bl'!$B$127:$E$246,4)))","v":"00:00:00"},"Sprint"]
[null,null,null,null,"Sprung"]
[null,null,null,null,"Wurf"]
[2,{"$f":"IF($D$5=\"\",\"\",IF($D$5=\"weiblich_R\",VLOOKUP((($H545-1)*6+2),'Dat-Bl'!$B$4:$D$123,2),VLOOKUP((($H545-1)*6+2),'Dat-Bl'!$B$127:$D$246,2)))","v":0},{"$f":"IF($D$5=\"\",\"\",IF($D$5=\"weiblich_R\",VLOOKUP((($H545-1)*6+2),'Dat-Bl'!$B$4:$D$123,3),VLOOKUP((($H545-1)*6+2),'Dat-Bl'!$B$127:$D$246,3)))","v":"W19/02-Regel"},{"$f":"IF($D$5=\"\",\"\",IF($D$5=\"weiblich_R\",VLOOKUP((($H545-1)*6+2),'Dat-Bl'!$B$4:$E$123,4),VLOOKUP((($H545-1)*6+2),'Dat-Bl'!$B$127:$E$246,4)))","v":"00:00:00"},"Sprint"]
[null,null,null,null,"Sprung"]
[null,null,null,null,"Wurf"]
[3,{"$f":"IF($D$5=\"\",\"\",IF($D$5=\"weiblich_R\",VLOOKUP((($H545-1)*6+3),'Dat-Bl'!$B$4:$D$123,2),VLOOKUP((($H545-1)*6+3),'Dat-Bl'!$B$127:$D$246,2)))","v":0},{"$f":"IF($D$5=\"\",\"\",IF($D$5=\"weiblich_R\",VLOOKUP((($H545-1)*6+3),'Dat-Bl'!$B$4:$D$123,3),VLOOKUP((($H545-1)*6+3),'Dat-Bl'!$B$127:$D$246,3)))","v":"W19/03-Regel"},{"$f":"IF($D$5=\"\",\"\",IF($D$5=\"weiblich_R\",VLOOKUP((($H545-1)*6+3),'Dat-Bl'!$B$4:$E$123,4),VLOOKUP((($H545-1)*6+3),'Dat-Bl'!$B$127:$E$246,4)))","v":"00:00:00"},"Sprint"]
[null,null,null,null,"Sprung"]
[null,null,null,null,"Wurf"]
[4,{"$f":"IF($D$5=\"\",\"\",IF($D$5=\"weiblich_R\",VLOOKUP((($H545-1)*6+4),'Dat-Bl'!$B$4:$D$123,2),VLOOKUP((($H545-1)*6+4),'Dat-Bl'!$B$127:$D$246,2)))","v":0},{"$f":"IF($D$5=\"\",\"\",IF($D$5=\"weiblich_R\",VLOOKUP((($H545-1)*6+4),'Dat-Bl'!$B$4:$D$123,3),VLOOKUP((($H545-1)*6+4),'Dat-Bl'!$B$127:$D$246,3)))","v":"W19/04-Regel"},{"$f":"IF($D$5=\"\",\"\",IF($D$5=\"weiblich_R\",VLOOKUP((($H545-1)*6+4),'Dat-Bl'!$B$4:$E$123,4),VLOOKUP((($H545-1)*6+4),'Dat-Bl'!$B$127:$E$246,4)))","v":"00:00:00"},"Sprint"]
[null,null,null,null,"Sprung"]
[null,null,null,null,"Wurf"]
[5,{"$f":"IF($D$5=\"\",\"\",IF($D$5=\"weiblich_R\",VLOOKUP((($H545-1)*6+5),'Dat-Bl'!$B$4:$D$123,2),VLOOKUP((($H545-1)*6+5),'Dat-Bl'!$B$127:$D$246,2)))","v":0},{"$f":"IF($D$5=\"\",\"\",IF($D$5=\"weiblich_R\",VLOOKUP((($H545-1)*6+5),'Dat-Bl'!$B$4:$D$123,3),VLOOKUP((($H545-1)*6+5),'Dat-Bl'!$B$127:$D$246,3)))","v":"W19/05-Regel"},{"$f":"IF($D$5=\"\",\"\",IF($D$5=\"weiblich_R\",VLOOKUP((($H545-1)*6+5),'Dat-Bl'!$B$4:$E$123,4),VLOOKUP((($H545-1)*6+5),'Dat-Bl'!$B$127:$E$246,4)))","v":"00:00:00"},"Sprint"]
[null,null,null,null,"Sprung"]
[null,null,null,null,"Wurf"]
[6,{"$f":"IF($D$5=\"\",\"\",IF($D$5=\"weiblich_R\",VLOOKUP((($H545-1)*6+6),'Dat-Bl'!$B$4:$D$123,2),VLOOKUP((($H545-1)*6+6),'Dat-Bl'!$B$127:$D$246,2)))","v":0},{"$f":"IF($D$5=\"\",\"\",IF($D$5=\"weiblich_R\",VLOOKUP((($H545-1)*6+6),'Dat-Bl'!$B$4:$D$123,3),VLOOKUP((($H545-1)*6+6),'Dat-Bl'!$B$127:$D$246,3)))","v":"W19/06-Regel"},{"$f":"IF($D$5=\"\",\"\",IF($D$5=\"weiblich_R\",VLOOKUP((($H545-1)*6+6),'Dat-Bl'!$B$4:$E$123,4),VLOOKUP((($H545-1)*6+6),'Dat-Bl'!$B$127:$E$246,4)))","v":"00:00:00"},"Sprint"]
[null,null,null,null,"Sprung"]
[null,null,null,null,"Wurf"]
[]
[null,null,null,null,"Staffelwertung (5 X 80m)"]
[]
[null,"Leichtathletik Mannschaftsdreikampf der Schulen"]
[]
[null,null,{"$f":"$C$3","v":"Landesmeisterschaft"},null,{"$f":"$E$3","v":2016},{"$f":"$F$3","v":"Villach"}]
[]
[null,null,"Auswahl Geschlecht:",{"$f":"$D$5","v":"weiblich_R"},null,"Mannschaft:",null,20]
[null,null,null,null,{"$f":"$E$6","v":"C"}]
["Schule:",null,{"$f":"IF($D$5=\"\",\"\",IF($D$5=\"weiblich_R\",VLOOKUP((($H575-1)*6+1),'Dat-Bl'!$B$4:$F$123,5),VLOOKUP((($H575-1)*6+1),'Dat-Bl'!$B$127:$F$246,5)))","v":0}]
[null,null,null,null,null,"Versuch",null,null,"gewertete\n Leistung\n"]
[null,"Start Nr.","Name","Geb. Jahr","Bewerb","1.","2.","3."]
[1,{"$f":"IF($D$5=\"\",\"\",IF($D$5=\"weiblich_R\",VLOOKUP((($H575-1)*6+1),'Dat-Bl'!$B$4:$D$123,2),VLOOKUP((($H575-1)*6+1),'Dat-Bl'!$B$127:$D$246,2)))","v":0},{"$f":"IF($D$5=\"\",\"\",IF($D$5=\"weiblich_R\",VLOOKUP((($H575-1)*6+1),'Dat-Bl'!$B$4:$D$123,3),VLOOKUP((($H575-1)*6+1),'Dat-Bl'!$B$127:$D$246,3)))","v":"W20/01-Regel"},{"$f":"IF($D$5=\"\",\"\",IF($D$5=\"weiblich_R\",VLOOKUP((($H575-1)*6+1),'Dat-Bl'!$B$4:$E$123,4),VLOOKUP((($H575-1)*6+1),'Dat-Bl'!$B$127:$E$246,4)))","v":"00:00:00"},"Sprint"]
[null,null,null,null,"Sprung"]
[null,null,null,null,"Wurf"]
[2,{"$f":"IF($D$5=\"\",\"\",IF($D$5=\"weiblich_R\",VLOOKUP((($H575-1)*6+2),'Dat-Bl'!$B$4:$D$123,2),VLOOKUP((($H575-1)*6+2),'Dat-Bl'!$B$127:$D$246,2)))","v":0},{"$f":"IF($D$5=\"\",\"\",IF($D$5=\"weiblich_R\",VLOOKUP((($H575-1)*6+2),'Dat-Bl'!$B$4:$D$123,3),VLOOKUP((($H575-1)*6+2),'Dat-Bl'!$B$127:$D$246,3)))","v":"W20/02-Regel"},{"$f":"IF($D$5=\"\",\"\",IF($D$5=\"weiblich_R\",VLOOKUP((($H575-1)*6+2),'Dat-Bl'!$B$4:$E$123,4),VLOOKUP((($H575-1)*6+2),'Dat-Bl'!$B$127:$E$246,4)))","v":"00:00:00"},"Sprint"]
[null,null,null,null,"Sprung"]
[null,null,null,null,"Wurf"]
[3,{"$f":"IF($D$5=\"\",\"\",IF($D$5=\"weiblich_R\",VLOOKUP((($H575-1)*6+3),'Dat-Bl'!$B$4:$D$123,2),VLOOKUP((($H575-1)*6+3),'Dat-Bl'!$B$127:$D$246,2)))","v":0},{"$f":"IF($D$5=\"\",\"\",IF($D$5=\"weiblich_R\",VLOOKUP((($H575-1)*6+3),'Dat-Bl'!$B$4:$D$123,3),VLOOKUP((($H575-1)*6+3),'Dat-Bl'!$B$127:$D$246,3)))","v":"W20/03-Regel"},{"$f":"IF($D$5=\"\",\"\",IF($D$5=\"weiblich_R\",VLOOKUP((($H575-1)*6+3),'Dat-Bl'!$B$4:$E$123,4),VLOOKUP((($H575-1)*6+3),'Dat-Bl'!$B$127:$E$246,4)))","v":"00:00:00"},"Sprint"]
[null,null,null,null,"Sprung"]
[null,null,null,null,"Wurf"]
[4,{"$f":"IF($D$5=\"\",\"\",IF($D$5=\"weiblich_R\",VLOOKUP((($H575-1)*6+4),'Dat-Bl'!$B$4:$D$123,2),VLOOKUP((($H575-1)*6+4),'Dat-Bl'!$B$127:$D$246,2)))","v":0},{"$f":"IF($D$5=\"\",\"\",IF($D$5=\"weiblich_R\",VLOOKUP((($H575-1)*6+4),'Dat-Bl'!$B$4:$D$123,3),VLOOKUP((($H575-1)*6+4),'Dat-Bl'!$B$127:$D$246,3)))","v":"W20/04-Regel"},{"$f":"IF($D$5=\"\",\"\",IF($D$5=\"weiblich_R\",VLOOKUP((($H575-1)*6+4),'Dat-Bl'!$B$4:$E$123,4),VLOOKUP((($H575-1)*6+4),'Dat-Bl'!$B$127:$E$246,4)))","v":"00:00:00"},"Sprint"]
[null,null,null,null,"Sprung"]
[null,null,null,null,"Wurf"]
[5,{"$f":"IF($D$5=\"\",\"\",IF($D$5=\"weiblich_R\",VLOOKUP((($H575-1)*6+5),'Dat-Bl'!$B$4:$D$123,2),VLOOKUP((($H575-1)*6+5),'Dat-Bl'!$B$127:$D$246,2)))","v":0},{"$f":"IF($D$5=\"\",\"\",IF($D$5=\"weiblich_R\",VLOOKUP((($H575-1)*6+5),'Dat-Bl'!$B$4:$D$123,3),VLOOKUP((($H575-1)*6+5),'Dat-Bl'!$B$127:$D$246,3)))","v":"W20/05-Regel"},{"$f":"IF($D$5=\"\",\"\",IF($D$5=\"weiblich_R\",VLOOKUP((($H575-1)*6+5),'Dat-Bl'!$B$4:$E$123,4),VLOOKUP((($H575-1)*6+5),'Dat-Bl'!$B$127:$E$246,4)))","v":"00:00:00"},"Sprint"]
[null,null,null,null,"Sprung"]
[null,null,null,null,"Wurf"]
[6,{"$f":"IF($D$5=\"\",\"\",IF($D$5=\"weiblich_R\",VLOOKUP((($H575-1)*6+6),'Dat-Bl'!$B$4:$D$123,2),VLOOKUP((($H575-1)*6+6),'Dat-Bl'!$B$127:$D$246,2)))","v":0},{"$f":"IF($D$5=\"\",\"\",IF($D$5=\"weiblich_R\",VLOOKUP((($H575-1)*6+6),'Dat-Bl'!$B$4:$D$123,3),VLOOKUP((($H575-1)*6+6),'Dat-Bl'!$B$127:$D$246,3)))","v":"W20/06-Regel"},{"$f":"IF($D$5=\"\",\"\",IF($D$5=\"weiblich_R\",VLOOKUP((($H575-1)*6+6),'Dat-Bl'!$B$4:$E$123,4),VLOOKUP((($H575-1)*6+6),'Dat-Bl'!$B$127:$E$246,4)))","v":"00:00:00"},"Sprint"]
[null,null,null,null,"Sprung"]
[null,null,null,null,"Wurf"]
[]
[null,null,null,null,"Staffelwertung (5 X 80m)"]

{"sheet":"Ez-60m","index":12,"n_rows":246,"n_cols":11,"rows_kept":246,"cut":false,"hidden":false,"merged":[[245,0,245,1],[245,6,245,7],[0,9,0,10],[123,6,123,7],[0,0,0,1],[0,3,0,4],[123,0,123,1],[123,3,123,4],[0,6,0,7],[122,0,122,1],[122,6,122,7],[122,3,122,4],[245,3,245,4],[123,9,123,10],[245,9,245,10],[122,9,122,10]]}
["Einzelwertung 60 m",null,{"$f":"'w-E_R'!C1","v":"D-C/Regel-Schulen"},{"$f":"'w-E_R'!E1","v":"Ortsangabe,Datum"},null,null,"Einzelwertung 60 m",null,{"$f":"#REF!","v":{"$error":"#REF!"}},{"$f":"#REF!","v":{"$error":"#REF!"}}]
["Rang","WEIBLICH","Schule:","Leistung","Punkte",null,"Rang","MÄNNLICH","Schule:","Leistung","Punkte"]
[{"$f":"RANK(E3,$E$3:$E$122,0)","v":1},{"$f":"'w-E_R'!B22","v":"Thaler Laurentine"},{"$f":"'w-E_R'!D22","v":"BRG Spittal"},{"$f":"'w-E_R'!F22","v":8.34},{"$f":"'w-E_R'!G22","v":800},null,{"$f":"RANK(K3,$K$3:$K$122,0)","v":{"$error":"#REF!"}},{"$f":"#REF!","v":{"$error":"#REF!"}},{"$f":"#REF!","v":{"$error":"#REF!"}},{"$f":"#REF!","v":{"$error":"#REF!"}},{"$f":"#REF!","v":{"$error":"#REF!"}}]
[2,{"$f":"'w-E_R'!B15","v":"Riegler Vanessa"},{"$f":"'w-E_R'!D15","v":"Borg Wolfsberg"},{"$f":"'w-E_R'!F15","v":8.36},{"$f":"'w-E_R'!G15","v":794},null,{"$error":"#REF!"},{"$f":"#REF!","v":{"$error":"#REF!"}},{"$f":"#REF!","v":{"$error":"#REF!"}},{"$f":"#REF!","v":{"$error":"#REF!"}},{"$f":"#REF!","v":{"$error":"#REF!"}}]
[3,{"$f":"'w-E_R'!B34","v":"Schmaranz Sophie"},{"$f":"'w-E_R'!D34","v":"Ingeborg Bachmann Gymnasium"},{"$f":"'w-E_R'!F34","v":8.51},{"$f":"'w-E_R'!G34","v":752},null,{"$error":"#REF!"},{"$f":"#REF!","v":{"$error":"#REF!"}},{"$f":"#REF!","v":{"$error":"#REF!"}},{"$f":"#REF!","v":{"$error":"#REF!"}},{"$f":"#REF!","v":{"$error":"#REF!"}}]
[4,{"$f":"'w-E_R'!B26","v":"Ebner Anna-Lena"},{"$f":"'w-E_R'!D26","v":"BZ Bad Eisenkappel"},{"$f":"'w-E_R'!F26","v":8.5500000000000007},{"$f":"'w-E_R'!G26","v":741},null,{"$error":"#REF!"},{"$f":"#REF!","v":{"$error":"#REF!"}},{"$f":"#REF!","v":{"$error":"#REF!"}},{"$f":"#REF!","v":{"$error":"#REF!"}},{"$f":"#REF!","v":{"$error":"#REF!"}}]
[4,{"$f":"'w-E_R'!B38","v":"Fercher Annabell"},{"$f":"'w-E_R'!D38","v":"Musik NMS Hermagor"},{"$f":"'w-E_R'!F38","v":8.5500000000000007},{"$f":"'w-E_R'!G38","v":741},null,{"$error":"#REF!"},{"$f":"#REF!","v":{"$error":"#REF!"}},{"$f":"#REF!","v":{"$error":"#REF!"}},{"$f":"#REF!","v":{"$error":"#REF!"}},{"$f":"#REF!","v":{"$error":"#REF!"}}]
[6,{"$f":"'w-E_R'!B7","v":"Koch Anna"},{"$f":"'w-E_R'!D7","v":"BG St.Martin"},{"$f":"'w-E_R'!F7","v":8.57},{"$f":"'w-E_R'!G7","v":735},null,{"$error":"#REF!"},{"$f":"#REF!","v":{"$error":"#REF!"}},{"$f":"#REF!","v":{"$error":"#REF!"}},{"$f":"#REF!","v":{"$error":"#REF!"}},{"$f":"#REF!","v":{"$error":"#REF!"}}]
[7,{"$f":"'w-E_R'!B14","v":"Pum Julia"},{"$f":"'w-E_R'!D14","v":"Borg Wolfsberg"},{"$f":"'w-E_R'!F14","v":8.6},{"$f":"'w-E_R'!G14","v":727},null,{"$error":"#REF!"},{"$f":"#REF!","v":{"$error":"#REF!"}},{"$f":"#REF!","v":{"$error":"#REF!"}},{"$f":"#REF!","v":{"$error":"#REF!"}},{"$f":"#REF!","v":{"$error":"#REF!"}}]
[8,{"$f":"'w-E_R'!B3","v":"Wallner Paulina"},{"$f":"'w-E_R'!D3","v":"BG St.Martin"},{"$f":"'w-E_R'!F3","v":8.64},{"$f":"'w-E_R'!G3","v":716},null,{"$error":"#REF!"},{"$f":"#REF!","v":{"$error":"#REF!"}},{"$f":"#REF!","v":{"$error":"#REF!"}},{"$f":"#REF!","v":{"$error":"#REF!"}},{"$f":"#REF!","v":{"$error":"#REF!"}}]
[9,{"$f":"'w-E_R'!B59","v":"Kassin Larissa"},{"$f":"'w-E_R'!D59","v":"NMS Landskron"},{"$f":"'w-E_R'!F59","v":8.73},{"$f":"'w-E_R'!G59","v":692},null,{"$error":"#REF!"},{"$f":"#REF!","v":{"$error":"#REF!"}},{"$f":"#REF!","v":{"$error":"#REF!"}},{"$f":"#REF!","v":{"$error":"#REF!"}},{"$f":"#REF!","v":{"$error":"#REF!"}}]
[10,{"$f":"'w-E_R'!B8","v":"Fugger Sophie"},{"$f":"'w-E_R'!D8","v":"BG St.Martin"},{"$f":"'w-E_R'!F8","v":8.7799999999999994},{"$f":"'w-E_R'!G8","v":678},null,{"$error":"#REF!"},{"$f":"#REF!","v":{"$error":"#REF!"}},{"$f":"#REF!","v":{"$error":"#REF!"}},{"$f":"#REF!","v":{"$error":"#REF!"}},{"$f":"#REF!","v":{"$error":"#REF!"}}]
[11,{"$f":"'w-E_R'!B25","v":"Kaschnig Lea"},{"$f":"'w-E_R'!D25","v":"BZ Bad Eisenkappel"},{"$f":"'w-E_R'!F25","v":8.86},{"$f":"'w-E_R'!G25","v":657},null,{"$error":"#REF!"},{"$f":"#REF!","v":{"$error":"#REF!"}},{"$f":"#REF!","v":{"$error":"#REF!"}},{"$f":"#REF!","v":{"$error":"#REF!"}},{"$f":"#REF!","v":{"$error":"#REF!"}}]
[12,{"$f":"'w-E_R'!B6","v":"Enzi Sarah"},{"$f":"'w-E_R'!D6","v":"BG St.Martin"},{"$f":"'w-E_R'!F6","v":8.9},{"$f":"'w-E_R'!G6","v":647},null,{"$error":"#REF!"},{"$f":"#REF!","v":{"$error":"#REF!"}},{"$f":"#REF!","v":{"$error":"#REF!"}},{"$f":"#REF!","v":{"$error":"#REF!"}},{"$f":"#REF!","v":{"$error":"#REF!"}}]
[12,{"$f":"'w-E_R'!B75","v":"Hinteregger Katrin"},{"$f":"'w-E_R'!D75","v":"RNMS Feldkirchen"},{"$f":"'w-E_R'!F75","v":8.9},{"$f":"'w-E_R'!G75","v":647},null,{"$error":"#REF!"},{"$f":"#REF!","v":{"$error":"#REF!"}},{"$f":"#REF!","v":{"$error":"#REF!"}},{"$f":"#REF!","v":{"$error":"#REF!"}},{"$f":"#REF!","v":{"$error":"#REF!"}}]
[14,{"$f":"'w-E_R'!B73","v":"Ebner Elena"},{"$f":"'w-E_R'!D73","v":"RNMS Feldkirchen"},{"$f":"'w-E_R'!F73","v":8.92},{"$f":"'w-E_R'!G73","v":642},null,{"$error":"#REF!"},{"$f":"#REF!","v":{"$error":"#REF!"}},{"$f":"#REF!","v":{"$error":"#REF!"}},{"$f":"#REF!","v":{"$error":"#REF!"}},{"$f":"#REF!","v":{"$error":"#REF!"}}]
[15,{"$f":"'w-E_R'!B41","v":"Pettauer Sara"},{"$f":"'w-E_R'!D41","v":"Musik NMS Hermagor"},{"$f":"'w-E_R'!F41","v":8.93},{"$f":"'w-E_R'!G41","v":639},null,{"$error":"#REF!"},{"$f":"#REF!","v":{"$error":"#REF!"}},{"$f":"#REF!","v":{"$error":"#REF!"}},{"$f":"#REF!","v":{"$error":"#REF!"}},{"$f":"#REF!","v":{"$error":"#REF!"}}]
[16,{"$f":"'w-E_R'!B21","v":"Possegger Christina"},{"$f":"'w-E_R'!D21","v":"BRG Spittal"},{"$f":"'w-E_R'!F21","v":8.98},{"$f":"'w-E_R'!G21","v":626},null,{"$error":"#REF!"},{"$f":"#REF!","v":{"$error":"#REF!"}},{"$f":"#REF!","v":{"$error":"#REF!"}},{"$f":"#REF!","v":{"$error":"#REF!"}},{"$f":"#REF!","v":{"$error":"#REF!"}}]
[17,{"$f":"'w-E_R'!B39","v":"Ebenwaldner Carina"},{"$f":"'w-E_R'!D39","v":"Musik NMS Hermagor"},{"$f":"'w-E_R'!F39","v":9.01},{"$f":"'w-E_R'!G39","v":619},null,{"$error":"#REF!"},{"$f":"#REF!","v":{"$error":"#REF!"}},{"$f":"#REF!","v":{"$error":"#REF!"}},{"$f":"#REF!","v":{"$error":"#REF!"}},{"$f":"#REF!","v":{"$error":"#REF!"}}]
[18,{"$f":"'w-E_R'!B33","v":"Doboczky Sophie"},{"$f":"'w-E_R'!D33","v":"Ingeborg Bachmann Gymnasium"},{"$f":"'w-E_R'!F33","v":9.02},{"$f":"'w-E_R'!G33","v":616},null,{"$error":"#REF!"},{"$f":"#REF!","v":{"$error":"#REF!"}},{"$f":"#REF!","v":{"$error":"#REF!"}},{"$f":"#REF!","v":{"$error":"#REF!"}},{"$f":"#REF!","v":{"$error":"#REF!"}}]
[19,{"$f":"'w-E_R'!B66","v":"Edlmann Chiara"},{"$f":"'w-E_R'!D66","v":"NMS Viktring"},{"$f":"'w-E_R'!F66","v":9.0399999999999991},{"$f":"'w-E_R'!G66","v":611},null,{"$error":"#REF!"},{"$f":"#REF!","v":{"$error":"#REF!"}},{"$f":"#REF!","v":{"$error":"#REF!"}},{"$f":"#REF!","v":{"$error":"#REF!"}},{"$f":"#REF!","v":{"$error":"#REF!"}}]
[20,{"$f":"'w-E_R'!B17","v":"Hartlieb Michelle"},{"$f":"'w-E_R'!D17","v":"BRG Spittal"},{"$f":"'w-E_R'!F17","v":9.09},{"$f":"'w-E_R'!G17","v":599},null,{"$error":"#REF!"},{"$f":"#REF!","v":{"$error":"#REF!"}},{"$f":"#REF!","v":{"$error":"#REF!"}},{"$f":"#REF!","v":{"$error":"#REF!"}},{"$f":"#REF!","v":{"$error":"#REF!"}}]
[21,{"$f":"'w-E_R'!B61","v":"Neumann Lisa"},{"$f":"'w-E_R'!D61","v":"NMS Landskron"},{"$f":"'w-E_R'!F61","v":9.1},{"$f":"'w-E_R'!G61","v":596},null,{"$error":"#REF!"},{"$f":"#REF!","v":{"$error":"#REF!"}},{"$f":"#REF!","v":{"$error":"#REF!"}},{"$f":"#REF!","v":{"$error":"#REF!"}},{"$f":"#REF!","v":{"$error":"#REF!"}}]
[22,{"$f":"'w-E_R'!B18","v":"Reiter Anna-Lena"},{"$f":"'w-E_R'!D18","v":"BRG Spittal"},{"$f":"'w-E_R'!F18","v":9.11},{"$f":"'w-E_R'!G18","v":594},null,{"$error":"#REF!"},{"$f":"#REF!","v":{"$error":"#REF!"}},{"$f":"#REF!","v":{"$error":"#REF!"}},{"$f":"#REF!","v":{"$error":"#REF!"}},{"$f":"#REF!","v":{"$error":"#REF!"}}]
[23,{"$f":"'w-E_R'!B40","v":"Wernitznig Nina"},{"$f":"'w-E_R'!D40","v":"Musik NMS Hermagor"},{"$f":"'w-E_R'!F40","v":9.2200000000000006},{"$f":"'w-E_R'!G40","v":567},null,{"$error":"#REF!"},{"$f":"#REF!","v":{"$error":"#REF!"}},{"$f":"#REF!","v":{"$error":"#REF!"}},{"$f":"#REF!","v":{"$error":"#REF!"}},{"$f":"#REF!","v":{"$error":"#REF!"}}]
[23,{"$f":"'w-E_R'!B68","v":"Krnjic Sonja"},{"$f":"'w-E_R'!D68","v":"NMS Viktring"},{"$f":"'w-E_R'!F68","v":9.2200000000000006},{"$f":"'w-E_R'!G68","v":567},null,{"$error":"#REF!"},{"$f":"#REF!","v":{"$error":"#REF!"}},{"$f":"#REF!","v":{"$error":"#REF!"}},{"$f":"#REF!","v":{"$error":"#REF!"}},{"$f":"#REF!","v":{"$error":"#REF!"}}]
[25,{"$f":"'w-E_R'!B64","v":"Petscher Maria"},{"$f":"'w-E_R'!D64","v":"NMS Landskron"},{"$f":"'w-E_R'!F64","v":9.23},{"$f":"'w-E_R'!G64","v":565},null,{"$error":"#REF!"},{"$f":"#REF!","v":{"$error":"#REF!"}},{"$f":"#REF!","v":{"$error":"#REF!"}},{"$f":"#REF!","v":{"$error":"#REF!"}},{"$f":"#REF!","v":{"$error":"#REF!"}}]
[26,{"$f":"'w-E_R'!B19","v":"Krammer Kristin"},{"$f":"'w-E_R'!D19","v":"BRG Spittal"},{"$f":"'w-E_R'!F19","v":9.24},{"$f":"'w-E_R'!G19","v":562},null,{"$error":"#REF!"},{"$f":"#REF!","v":{"$error":"#REF!"}},{"$f":"#REF!","v":{"$error":"#REF!"}},{"$f":"#REF!","v":{"$error":"#REF!"}},{"$f":"#REF!","v":{"$error":"#REF!"}}]
[27,{"$f":"'w-E_R'!B4","v":"Feichter Nelly"},{"$f":"'w-E_R'!D4","v":"BG St.Martin"},{"$f":"'w-E_R'!F4","v":9.25},{"$f":"'w-E_R'!G4","v":560},null,{"$error":"#REF!"},{"$f":"#REF!","v":{"$error":"#REF!"}},{"$f":"#REF!","v":{"$error":"#REF!"}},{"$f":"#REF!","v":{"$error":"#REF!"}},{"$f":"#REF!","v":{"$error":"#REF!"}}]
[27,{"$f":"'w-E_R'!B78","v":"Petrascu Elisabeth"},{"$f":"'w-E_R'!D78","v":"RNMS Feldkirchen"},{"$f":"'w-E_R'!F78","v":9.25},{"$f":"'w-E_R'!G78","v":560},null,{"$error":"#REF!"},{"$f":"#REF!","v":{"$error":"#REF!"}},{"$f":"#REF!","v":{"$error":"#REF!"}},{"$f":"#REF!","v":{"$error":"#REF!"}},{"$f":"#REF!","v":{"$error":"#REF!"}}]
[29,{"$f":"'w-E_R'!B47","v":"Delfser Anna-Magdalena"},{"$f":"'w-E_R'!D47","v":"NMS Friesach"},{"$f":"'w-E_R'!F47","v":9.26},{"$f":"'w-E_R'!G47","v":558},null,{"$error":"#REF!"},{"$f":"#REF!","v":{"$error":"#REF!"}},{"$f":"#REF!","v":{"$error":"#REF!"}},{"$f":"#REF!","v":{"$error":"#REF!"}},{"$f":"#REF!","v":{"$error":"#REF!"}}]
[30,{"$f":"'w-E_R'!B74","v":"Reiter Katharina"},{"$f":"'w-E_R'!D74","v":"RNMS Feldkirchen"},{"$f":"'w-E_R'!F74","v":9.2899999999999991},{"$f":"'w-E_R'!G74","v":550},null,{"$error":"#REF!"},{"$f":"#REF!","v":{"$error":"#REF!"}},{"$f":"#REF!","v":{"$error":"#REF!"}},{"$f":"#REF!","v":{"$error":"#REF!"}},{"$f":"#REF!","v":{"$error":"#REF!"}}]
[31,{"$f":"'w-E_R'!B42","v":"Matthei Laura"},{"$f":"'w-E_R'!D42","v":"Musik NMS Hermagor"},{"$f":"'w-E_R'!F42","v":9.3000000000000007},{"$f":"'w-E_R'!G42","v":548},null,{"$error":"#REF!"},{"$f":"#REF!","v":{"$error":"#REF!"}},{"$f":"#REF!","v":{"$error":"#REF!"}},{"$f":"#REF!","v":{"$error":"#REF!"}},{"$f":"#REF!","v":{"$error":"#REF!"}}]
[32,{"$f":"'w-E_R'!B35","v":"Zenkl Hannah"},{"$f":"'w-E_R'!D35","v":"Ingeborg Bachmann Gymnasium"},{"$f":"'w-E_R'!F35","v":9.31},{"$f":"'w-E_R'!G35","v":546},null,{"$error":"#REF!"},{"$f":"#REF!","v":{"$error":"#REF!"}},{"$f":"#REF!","v":{"$error":"#REF!"}},{"$f":"#REF!","v":{"$error":"#REF!"}},{"$f":"#REF!","v":{"$error":"#REF!"}}]
[{"$f":"RANK(E35,$E$3:$E$122,0)","v":33},{"$f":"'w-E_R'!B48","v":"Schaller Victoria"},{"$f":"'w-E_R'!D48","v":"NMS Friesach"},{"$f":"'w-E_R'!F48","v":9.32},{"$f":"'w-E_R'!G48","v":543},null,{"$f":"RANK(K35,$K$3:$K$122,0)","v":{"$error":"#REF!"}},{"$f":"#REF!","v":{"$error":"#REF!"}},{"$f":"#REF!","v":{"$error":"#REF!"}},{"$f":"#REF!","v":{"$error":"#REF!"}},{"$f":"#REF!","v":{"$error":"#REF!"}}]
[34,{"$f":"'w-E_R'!B46","v":"Kronlechner Bettina"},{"$f":"'w-E_R'!D46","v":"NMS Friesach"},{"$f":"'w-E_R'!F46","v":9.35},{"$f":"'w-E_R'!G46","v":536},null,{"$error":"#REF!"},{"$f":"#REF!","v":{"$error":"#REF!"}},{"$f":"#REF!","v":{"$error":"#REF!"}},{"$f":"#REF!","v":{"$error":"#REF!"}},{"$f":"#REF!","v":{"$error":"#REF!"}}]
[35,{"$f":"'w-E_R'!B43","v":"Seebacher Mathilda"},{"$f":"'w-E_R'!D43","v":"Musik NMS Hermagor"},{"$f":"'w-E_R'!F43","v":9.3699999999999992},{"$f":"'w-E_R'!G43","v":532},null,{"$error":"#REF!"},{"$f":"#REF!","v":{"$error":"#REF!"}},{"$f":"#REF!","v":{"$error":"#REF!"}},{"$f":"#REF!","v":{"$error":"#REF!"}},{"$f":"#REF!","v":{"$error":"#REF!"}}]
[36,{"$f":"'w-E_R'!B11","v":"Maier Magdalena"},{"$f":"'w-E_R'!D11","v":"Borg Wolfsberg"},{"$f":"'w-E_R'!F11","v":9.3800000000000008},{"$f":"'w-E_R'!G11","v":529},null,{"$error":"#REF!"},{"$f":"#REF!","v":{"$error":"#REF!"}},{"$f":"#REF!","v":{"$error":"#REF!"}},{"$f":"#REF!","v":{"$error":"#REF!"}},{"$f":"#REF!","v":{"$error":"#REF!"}}]
[37,{"$f":"'w-E_R'!B45","v":"Pörtschacher Vanessa"},{"$f":"'w-E_R'!D45","v":"NMS Friesach"},{"$f":"'w-E_R'!F45","v":9.39},{"$f":"'w-E_R'!G45","v":527},null,{"$error":"#REF!"},{"$f":"#REF!","v":{"$error":"#REF!"}},{"$f":"#REF!","v":{"$error":"#REF!"}},{"$f":"#REF!","v":{"$error":"#REF!"}},{"$f":"#REF!","v":{"$error":"#REF!"}}]
[38,{"$f":"'w-E_R'!B20","v":"Kowatsch Anna"},{"$f":"'w-E_R'!D20","v":"BRG Spittal"},{"$f":"'w-E_R'!F20","v":9.43},{"$f":"'w-E_R'!G20","v":518},null,{"$error":"#REF!"},{"$f":"#REF!","v":{"$error":"#REF!"}},{"$f":"#REF!","v":{"$error":"#REF!"}},{"$f":"#REF!","v":{"$error":"#REF!"}},{"$f":"#REF!","v":{"$error":"#REF!"}}]
[38,{"$f":"'w-E_R'!B49","v":"Hölbling Laura"},{"$f":"'w-E_R'!D49","v":"NMS Friesach"},{"$f":"'w-E_R'!F49","v":9.43},{"$f":"'w-E_R'!G49","v":518},null,{"$error":"#REF!"},{"$f":"#REF!","v":{"$error":"#REF!"}},{"$f":"#REF!","v":{"$error":"#REF!"}},{"$f":"#REF!","v":{"$error":"#REF!"}},{"$f":"#REF!","v":{"$error":"#REF!"}}]
[40,{"$f":"'w-E_R'!B50","v":"Pacher Selina"},{"$f":"'w-E_R'!D50","v":"NMS Friesach"},{"$f":"'w-E_R'!F50","v":9.4499999999999993},{"$f":"'w-E_R'!G50","v":513},null,{"$error":"#REF!"},{"$f":"#REF!","v":{"$error":"#REF!"}},{"$f":"#REF!","v":{"$error":"#REF!"}},{"$f":"#REF!","v":{"$error":"#REF!"}},{"$f":"#REF!","v":{"$error":"#REF!"}}]
[40,{"$f":"'w-E_R'!B60","v":"Wiener Sophie"},{"$f":"'w-E_R'!D60","v":"NMS Landskron"},{"$f":"'w-E_R'!F60","v":9.4499999999999993},{"$f":"'w-E_R'!G60","v":513},null,{"$error":"#REF!"},{"$f":"#REF!","v":{"$error":"#REF!"}},{"$f":"#REF!","v":{"$error":"#REF!"}},{"$f":"#REF!","v":{"$error":"#REF!"}},{"$f":"#REF!","v":{"$error":"#REF!"}}]
[42,{"$f":"'w-E_R'!B63","v":"Santner Fabienne"},{"$f":"'w-E_R'!D63","v":"NMS Landskron"},{"$f":"'w-E_R'!F63","v":9.48},{"$f":"'w-E_R'!G63","v":506},null,{"$error":"#REF!"},{"$f":"#REF!","v":{"$error":"#REF!"}},{"$f":"#REF!","v":{"$error":"#REF!"}},{"$f":"#REF!","v":{"$error":"#REF!"}},{"$f":"#REF!","v":{"$error":"#REF!"}}]
[43,{"$f":"'w-E_R'!B36","v":"Laßnig Katharina"},{"$f":"'w-E_R'!D36","v":"Ingeborg Bachmann Gymnasium"},{"$f":"'w-E_R'!F36","v":9.5299999999999994},{"$f":"'w-E_R'!G36","v":495},null,{"$error":"#REF!"},{"$f":"#REF!","v":{"$error":"#REF!"}},{"$f":"#REF!","v":{"$error":"#REF!"}},{"$f":"#REF!","v":{"$error":"#REF!"}},{"$f":"#REF!","v":{"$error":"#REF!"}}]
[43,{"$f":"'w-E_R'!B52","v":"Mayer Elena"},{"$f":"'w-E_R'!D52","v":"NMS Gegendtal"},{"$f":"'w-E_R'!F52","v":9.5299999999999994},{"$f":"'w-E_R'!G52","v":495},null,{"$error":"#REF!"},{"$f":"#REF!","v":{"$error":"#REF!"}},{"$f":"#REF!","v":{"$error":"#REF!"}},{"$f":"#REF!","v":{"$error":"#REF!"}},{"$f":"#REF!","v":{"$error":"#REF!"}}]
[43,{"$f":"'w-E_R'!B53","v":"Steiner Patricia"},{"$f":"'w-E_R'!D53","v":"NMS Gegendtal"},{"$f":"'w-E_R'!F53","v":9.5299999999999994},{"$f":"'w-E_R'!G53","v":495},null,{"$error":"#REF!"},{"$f":"#REF!","v":{"$error":"#REF!"}},{"$f":"#REF!","v":{"$error":"#REF!"}},{"$f":"#REF!","v":{"$error":"#REF!"}},{"$f":"#REF!","v":{"$error":"#REF!"}}]
[46,{"$f":"'w-E_R'!B13","v":"Spendl Jennifer"},{"$f":"'w-E_R'!D13","v":"Borg Wolfsberg"},{"$f":"'w-E_R'!F13","v":9.5399999999999991},{"$f":"'w-E_R'!G13","v":493},null,{"$error":"#REF!"},{"$f":"#REF!","v":{"$error":"#REF!"}},{"$f":"#REF!","v":{"$error":"#REF!"}},{"$f":"#REF!","v":{"$error":"#REF!"}},{"$f":"#REF!","v":{"$error":"#REF!"}}]
[46,{"$f":"'w-E_R'!B76","v":"Kircher Florentina"},{"$f":"'w-E_R'!D76","v":"RNMS Feldkirchen"},{"$f":"'w-E_R'!F76","v":9.5399999999999991},{"$f":"'w-E_R'!G76","v":493},null,{"$error":"#REF!"},{"$f":"#REF!","v":{"$error":"#REF!"}},{"$f":"#REF!","v":{"$error":"#REF!"}},{"$f":"#REF!","v":{"$error":"#REF!"}},{"$f":"#REF!","v":{"$error":"#REF!"}}]
[48,{"$f":"'w-E_R'!B24","v":"Kampusch Michelle"},{"$f":"'w-E_R'!D24","v":"BZ Bad Eisenkappel"},{"$f":"'w-E_R'!F24","v":9.5500000000000007},{"$f":"'w-E_R'!G24","v":491},null,{"$error":"#REF!"},{"$f":"#REF!","v":{"$error":"#REF!"}},{"$f":"#REF!","v":{"$error":"#REF!"}},{"$f":"#REF!","v":{"$error":"#REF!"}},{"$f":"#REF!","v":{"$error":"#REF!"}}]
[48,{"$f":"'w-E_R'!B71","v":"Herkner Anna"},{"$f":"'w-E_R'!D71","v":"NMS Viktring"},{"$f":"'w-E_R'!F71","v":9.5500000000000007},{"$f":"'w-E_R'!G71","v":491},null,{"$error":"#REF!"},{"$f":"#REF!","v":{"$error":"#REF!"}},{"$f":"#REF!","v":{"$error":"#REF!"}},{"$f":"#REF!","v":{"$error":"#REF!"}},{"$f":"#REF!","v":{"$error":"#REF!"}}]
[50,{"$f":"'w-E_R'!B31","v":"Donner Rosa"},{"$f":"'w-E_R'!D31","v":"Ingeborg Bachmann Gymnasium"},{"$f":"'w-E_R'!F31","v":9.57},{"$f":"'w-E_R'!G31","v":486},null,{"$error":"#REF!"},{"$f":"#REF!","v":{"$error":"#REF!"}},{"$f":"#REF!","v":{"$error":"#REF!"}},{"$f":"#REF!","v":{"$error":"#REF!"}},{"$f":"#REF!","v":{"$error":"#REF!"}}]
[51,{"$f":"'w-E_R'!B5","v":"Heincz Gerit"},{"$f":"'w-E_R'!D5","v":"BG St.Martin"},{"$f":"'w-E_R'!F5","v":9.59},{"$f":"'w-E_R'!G5","v":482},null,{"$error":"#REF!"},{"$f":"#REF!","v":{"$error":"#REF!"}},{"$f":"#REF!","v":{"$error":"#REF!"}},{"$f":"#REF!","v":{"$error":"#REF!"}},{"$f":"#REF!","v":{"$error":"#REF!"}}]
[52,{"$f":"'w-E_R'!B62","v":"Pinzer Alina"},{"$f":"'w-E_R'!D62","v":"NMS Landskron"},{"$f":"'w-E_R'!F62","v":9.65},{"$f":"'w-E_R'!G62","v":469},null,{"$error":"#REF!"},{"$f":"#REF!","v":{"$error":"#REF!"}},{"$f":"#REF!","v":{"$error":"#REF!"}},{"$f":"#REF!","v":{"$error":"#REF!"}},{"$f":"#REF!","v":{"$error":"#REF!"}}]
[53,{"$f":"'w-E_R'!B32","v":"Lippitsch Amelie"},{"$f":"'w-E_R'!D32","v":"Ingeborg Bachmann Gymnasium"},{"$f":"'w-E_R'!F32","v":9.66},{"$f":"'w-E_R'!G32","v":466},null,{"$error":"#REF!"},{"$f":"#REF!","v":{"$error":"#REF!"}},{"$f":"#REF!","v":{"$error":"#REF!"}},{"$f":"#REF!","v":{"$error":"#REF!"}},{"$f":"#REF!","v":{"$error":"#REF!"}}]
[54,{"$f":"'w-E_R'!B55","v":"Schweiger Nadja"},{"$f":"'w-E_R'!D55","v":"NMS Gegendtal"},{"$f":"'w-E_R'!F55","v":9.7100000000000009},{"$f":"'w-E_R'!G55","v":456},null,{"$error":"#REF!"},{"$f":"#REF!","v":{"$error":"#REF!"}},{"$f":"#REF!","v":{"$error":"#REF!"}},{"$f":"#REF!","v":{"$error":"#REF!"}},{"$f":"#REF!","v":{"$error":"#REF!"}}]
[55,{"$f":"'w-E_R'!B57","v":"Ostertschnig Lisa"},{"$f":"'w-E_R'!D57","v":"NMS Gegendtal"},{"$f":"'w-E_R'!F57","v":9.74},{"$f":"'w-E_R'!G57","v":449},null,{"$error":"#REF!"},{"$f":"#REF!","v":{"$error":"#REF!"}},{"$f":"#REF!","v":{"$error":"#REF!"}},{"$f":"#REF!","v":{"$error":"#REF!"}},{"$f":"#REF!","v":{"$error":"#REF!"}}]
[56,{"$f":"'w-E_R'!B27","v":"Millicevvic Renate"},{"$f":"'w-E_R'!D27","v":"BZ Bad Eisenkappel"},{"$f":"'w-E_R'!F27","v":9.76},{"$f":"'w-E_R'!G27","v":445},null,{"$error":"#REF!"},{"$f":"#REF!","v":{"$error":"#REF!"}},{"$f":"#REF!","v":{"$error":"#REF!"}},{"$f":"#REF!","v":{"$error":"#REF!"}},{"$f":"#REF!","v":{"$error":"#REF!"}}]
[57,{"$f":"'w-E_R'!B28","v":"Pudgar Domenika"},{"$f":"'w-E_R'!D28","v":"BZ Bad Eisenkappel"},{"$f":"'w-E_R'!F28","v":9.7799999999999994},{"$f":"'w-E_R'!G28","v":441},null,{"$error":"#REF!"},{"$f":"#REF!","v":{"$error":"#REF!"}},{"$f":"#REF!","v":{"$error":"#REF!"}},{"$f":"#REF!","v":{"$error":"#REF!"}},{"$f":"#REF!","v":{"$error":"#REF!"}}]
[58,{"$f":"'w-E_R'!B56","v":"Gasser Valentina"},{"$f":"'w-E_R'!D56","v":"NMS Gegendtal"},{"$f":"'w-E_R'!F56","v":9.7899999999999991},{"$f":"'w-E_R'!G56","v":439},null,{"$error":"#REF!"},{"$f":"#REF!","v":{"$error":"#REF!"}},{"$f":"#REF!","v":{"$error":"#REF!"}},{"$f":"#REF!","v":{"$error":"#REF!"}},{"$f":"#REF!","v":{"$error":"#REF!"}}]
[59,{"$f":"'w-E_R'!B77","v":"Mühlbacher Nina"},{"$f":"'w-E_R'!D77","v":"RNMS Feldkirchen"},{"$f":"'w-E_R'!F77","v":9.86},{"$f":"'w-E_R'!G77","v":424},null,{"$error":"#REF!"},{"$f":"#REF!","v":{"$error":"#REF!"}},{"$f":"#REF!","v":{"$error":"#REF!"}},{"$f":"#REF!","v":{"$error":"#REF!"}},{"$f":"#REF!","v":{"$error":"#REF!"}}]
[60,{"$f":"'w-E_R'!B69","v":"Esel Michelle"},{"$f":"'w-E_R'!D69","v":"NMS Viktring"},{"$f":"'w-E_R'!F69","v":9.94},{"$f":"'w-E_R'!G69","v":408},null,{"$error":"#REF!"},{"$f":"#REF!","v":{"$error":"#REF!"}},{"$f":"#REF!","v":{"$error":"#REF!"}},{"$f":"#REF!","v":{"$error":"#REF!"}},{"$f":"#REF!","v":{"$error":"#REF!"}}]
[61,{"$f":"'w-E_R'!B67","v":"Toth Lili"},{"$f":"'w-E_R'!D67","v":"NMS Viktring"},{"$f":"'w-E_R'!F67","v":10},{"$f":"'w-E_R'!G67","v":395},null,{"$error":"#REF!"},{"$f":"#REF!","v":{"$error":"#REF!"}},{"$f":"#REF!","v":{"$error":"#REF!"}},{"$f":"#REF!","v":{"$error":"#REF!"}},{"$f":"#REF!","v":{"$error":"#REF!"}}]
[62,{"$f":"'w-E_R'!B54","v":"Maier Jasmin"},{"$f":"'w-E_R'!D54","v":"NMS Gegendtal"},{"$f":"'w-E_R'!F54","v":10.02},{"$f":"'w-E_R'!G54","v":392},null,{"$error":"#REF!"},{"$f":"#REF!","v":{"$error":"#REF!"}},{"$f":"#REF!","v":{"$error":"#REF!"}},{"$f":"#REF!","v":{"$error":"#REF!"}},{"$f":"#REF!","v":{"$error":"#REF!"}}]
[63,{"$f":"'w-E_R'!B12","v":"Frauwallner Hanna"},{"$f":"'w-E_R'!D12","v":"Borg Wolfsberg"},{"$f":"'w-E_R'!F12","v":10.15},{"$f":"'w-E_R'!G12","v":366},null,{"$error":"#REF!"},{"$f":"#REF!","v":{"$error":"#REF!"}},{"$f":"#REF!","v":{"$error":"#REF!"}},{"$f":"#REF!","v":{"$error":"#REF!"}},{"$f":"#REF!","v":{"$error":"#REF!"}}]
[64,{"$f":"'w-E_R'!B70","v":"Bierbaumer Selina"},{"$f":"'w-E_R'!D70","v":"NMS Viktring"},{"$f":"'w-E_R'!F70","v":10.59},{"$f":"'w-E_R'!G70","v":287},null,{"$error":"#REF!"},{"$f":"#REF!","v":{"$error":"#REF!"}},{"$f":"#REF!","v":{"$error":"#REF!"}},{"$f":"#REF!","v":{"$error":"#REF!"}},{"$f":"#REF!","v":{"$error":"#REF!"}}]
[{"$f":"RANK(E67,$E$3:$E$122,0)","v":65},{"$f":"'w-E_R'!B10","v":"Maier Celina"},{"$f":"'w-E_R'!D10","v":"Borg Wolfsberg"},{"$f":"'w-E_R'!F10","v":11.48},{"$f":"'w-E_R'!G10","v":157},null,{"$f":"RANK(K67,$K$3:$K$122,0)","v":{"$error":"#REF!"}},{"$f":"#REF!","v":{"$error":"#REF!"}},{"$f":"#REF!","v":{"$error":"#REF!"}},{"$f":"#REF!","v":{"$error":"#REF!"}},{"$f":"#REF!","v":{"$error":"#REF!"}}]
[66,{"$f":"'w-E_R'!B29","v":0},{"$f":"'w-E_R'!D29","v":"BZ Bad Eisenkappel"},{"$f":"'w-E_R'!F29","v":0},{"$f":"'w-E_R'!G29","v":0},null,{"$error":"#REF!"},{"$f":"#REF!","v":{"$error":"#REF!"}},{"$f":"#REF!","v":{"$error":"#REF!"}},{"$f":"#REF!","v":{"$error":"#REF!"}},{"$f":"#REF!","v":{"$error":"#REF!"}}]
[66,{"$f":"'w-E_R'!B80","v":"W12/01-Regel"},{"$f":"'w-E_R'!D80","v":0},{"$f":"'w-E_R'!F80","v":0},{"$f":"'w-E_R'!G80","v":0},null,{"$error":"#REF!"},{"$f":"#REF!","v":{"$error":"#REF!"}},{"$f":"#REF!","v":{"$error":"#REF!"}},{"$f":"#REF!","v":{"$error":"#REF!"}},{"$f":"#REF!","v":{"$error":"#REF!"}}]
[66,{"$f":"'w-E_R'!B81","v":"W12/02-Regel"},{"$f":"'w-E_R'!D81","v":0},{"$f":"'w-E_R'!F81","v":0},{"$f":"'w-E_R'!G81","v":0},null,{"$error":"#REF!"},{"$f":"#REF!","v":{"$error":"#REF!"}},{"$f":"#REF!","v":{"$error":"#REF!"}},{"$f":"#REF!","v":{"$error":"#REF!"}},{"$f":"#REF!","v":{"$error":"#REF!"}}]
[66,{"$f":"'w-E_R'!B82","v":"W12/03-Regel"},{"$f":"'w-E_R'!D82","v":0},{"$f":"'w-E_R'!F82","v":0},{"$f":"'w-E_R'!G82","v":0},null,{"$error":"#REF!"},{"$f":"#REF!","v":{"$error":"#REF!"}},{"$f":"#REF!","v":{"$error":"#REF!"}},{"$f":"#REF!","v":{"$error":"#REF!"}},{"$f":"#REF!","v":{"$error":"#REF!"}}]
[66,{"$f":"'w-E_R'!B83","v":"W12/04-Regel"},{"$f":"'w-E_R'!D83","v":0},{"$f":"'w-E_R'!F83","v":0},{"$f":"'w-E_R'!G83","v":0},null,{"$error":"#REF!"},{"$f":"#REF!","v":{"$error":"#REF!"}},{"$f":"#REF!","v":{"$error":"#REF!"}},{"$f":"#REF!","v":{"$error":"#REF!"}},{"$f":"#REF!","v":{"$error":"#REF!"}}]
[66,{"$f":"'w-E_R'!B84","v":"W12/05-Regel"},{"$f":"'w-E_R'!D84","v":0},{"$f":"'w-E_R'!F84","v":0},{"$f":"'w-E_R'!G84","v":0},null,{"$error":"#REF!"},{"$f":"#REF!","v":{"$error":"#REF!"}},{"$f":"#REF!","v":{"$error":"#REF!"}},{"$f":"#REF!","v":{"$error":"#REF!"}},{"$f":"#REF!","v":{"$error":"#REF!"}}]
[66,{"$f":"'w-E_R'!B85","v":"W12/06-Regel"},{"$f":"'w-E_R'!D85","v":0},{"$f":"'w-E_R'!F85","v":0},{"$f":"'w-E_R'!G85","v":0},null,{"$error":"#REF!"},{"$f":"#REF!","v":{"$error":"#REF!"}},{"$f":"#REF!","v":{"$error":"#REF!"}},{"$f":"#REF!","v":{"$error":"#REF!"}},{"$f":"#REF!","v":{"$error":"#REF!"}}]
[66,{"$f":"'w-E_R'!B87","v":"W13/01-Regel"},{"$f":"'w-E_R'!D87","v":0},{"$f":"'w-E_R'!F87","v":0},{"$f":"'w-E_R'!G87","v":0},null,{"$error":"#REF!"},{"$f":"#REF!","v":{"$error":"#REF!"}},{"$f":"#REF!","v":{"$error":"#REF!"}},{"$f":"#REF!","v":{"$error":"#REF!"}},{"$f":"#REF!","v":{"$error":"#REF!"}}]
[66,{"$f":"'w-E_R'!B88","v":"W13/02-Regel"},{"$f":"'w-E_R'!D88","v":0},{"$f":"'w-E_R'!F88","v":0},{"$f":"'w-E_R'!G88","v":0},null,{"$error":"#REF!"},{"$f":"#REF!","v":{"$error":"#REF!"}},{"$f":"#REF!","v":{"$error":"#REF!"}},{"$f":"#REF!","v":{"$error":"#REF!"}},{"$f":"#REF!","v":{"$error":"#REF!"}}]
[66,{"$f":"'w-E_R'!B89","v":"W13/03-Regel"},{"$f":"'w-E_R'!D89","v":0},{"$f":"'w-E_R'!F89","v":0},{"$f":"'w-E_R'!G89","v":0},null,{"$error":"#REF!"},{"$f":"#REF!","v":{"$error":"#REF!"}},{"$f":"#REF!","v":{"$error":"#REF!"}},{"$f":"#REF!","v":{"$error":"#REF!"}},{"$f":"#REF!","v":{"$error":"#REF!"}}]
[66,{"$f":"'w-E_R'!B90","v":"W13/04-Regel"},{"$f":"'w-E_R'!D90","v":0},{"$f":"'w-E_R'!F90","v":0},{"$f":"'w-E_R'!G90","v":0},null,{"$error":"#REF!"},{"$f":"#REF!","v":{"$error":"#REF!"}},{"$f":"#REF!","v":{"$error":"#REF!"}},{"$f":"#REF!","v":{"$error":"#REF!"}},{"$f":"#REF!","v":{"$error":"#REF!"}}]
[66,{"$f":"'w-E_R'!B91","v":"W13/05-Regel"},{"$f":"'w-E_R'!D91","v":0},{"$f":"'w-E_R'!F91","v":0},{"$f":"'w-E_R'!G91","v":0},null,{"$error":"#REF!"},{"$f":"#REF!","v":{"$error":"#REF!"}},{"$f":"#REF!","v":{"$error":"#REF!"}},{"$f":"#REF!","v":{"$error":"#REF!"}},{"$f":"#REF!","v":{"$error":"#REF!"}}]
[66,{"$f":"'w-E_R'!B92","v":"W13/06-Regel"},{"$f":"'w-E_R'!D92","v":0},{"$f":"'w-E_R'!F92","v":0},{"$f":"'w-E_R'!G92","v":0},null,{"$error":"#REF!"},{"$f":"#REF!","v":{"$error":"#REF!"}},{"$f":"#REF!","v":{"$error":"#REF!"}},{"$f":"#REF!","v":{"$error":"#REF!"}},{"$f":"#REF!","v":{"$error":"#REF!"}}]
[66,{"$f":"'w-E_R'!B94","v":"W14/01-Regel"},{"$f":"'w-E_R'!D94","v":0},{"$f":"'w-E_R'!F94","v":0},{"$f":"'w-E_R'!G94","v":0},null,{"$error":"#REF!"},{"$f":"#REF!","v":{"$error":"#REF!"}},{"$f":"#REF!","v":{"$error":"#REF!"}},{"$f":"#REF!","v":{"$error":"#REF!"}},{"$f":"#REF!","v":{"$error":"#REF!"}}]
[66,{"$f":"'w-E_R'!B95","v":"W14/02-Regel"},{"$f":"'w-E_R'!D95","v":0},{"$f":"'w-E_R'!F95","v":0},{"$f":"'w-E_R'!G95","v":0},null,{"$error":"#REF!"},{"$f":"#REF!","v":{"$error":"#REF!"}},{"$f":"#REF!","v":{"$error":"#REF!"}},{"$f":"#REF!","v":{"$error":"#REF!"}},{"$f":"#REF!","v":{"$error":"#REF!"}}]
[66,{"$f":"'w-E_R'!B96","v":"W14/03-Regel"},{"$f":"'w-E_R'!D96","v":0},{"$f":"'w-E_R'!F96","v":0},{"$f":"'w-E_R'!G96","v":0},null,{"$error":"#REF!"},{"$f":"#REF!","v":{"$error":"#REF!"}},{"$f":"#REF!","v":{"$error":"#REF!"}},{"$f":"#REF!","v":{"$error":"#REF!"}},{"$f":"#REF!","v":{"$error":"#REF!"}}]
[66,{"$f":"'w-E_R'!B97","v":"W14/04-Regel"},{"$f":"'w-E_R'!D97","v":0},{"$f":"'w-E_R'!F97","v":0},{"$f":"'w-E_R'!G97","v":0},null,{"$error":"#REF!"},{"$f":"#REF!","v":{"$error":"#REF!"}},{"$f":"#REF!","v":{"$error":"#REF!"}},{"$f":"#REF!","v":{"$error":"#REF!"}},{"$f":"#REF!","v":{"$error":"#REF!"}}]
[66,{"$f":"'w-E_R'!B98","v":"W14/05-Regel"},{"$f":"'w-E_R'!D98","v":0},{"$f":"'w-E_R'!F98","v":0},{"$f":"'w-E_R'!G98","v":0},null,{"$error":"#REF!"},{"$f":"#REF!","v":{"$error":"#REF!"}},{"$f":"#REF!","v":{"$error":"#REF!"}},{"$f":"#REF!","v":{"$error":"#REF!"}},{"$f":"#REF!","v":{"$error":"#REF!"}}]
[66,{"$f":"'w-E_R'!B99","v":"W14/06-Regel"},{"$f":"'w-E_R'!D99","v":0},{"$f":"'w-E_R'!F99","v":0},{"$f":"'w-E_R'!G99","v":0},null,{"$error":"#REF!"},{"$f":"#REF!","v":{"$error":"#REF!"}},{"$f":"#REF!","v":{"$error":"#REF!"}},{"$f":"#REF!","v":{"$error":"#REF!"}},{"$f":"#REF!","v":{"$error":"#REF!"}}]
[66,{"$f":"'w-E_R'!B101","v":"W15/01-Regel"},{"$f":"'w-E_R'!D101","v":0},{"$f":"'w-E_R'!F101","v":0},{"$f":"'w-E_R'!G101","v":0},null,{"$error":"#REF!"},{"$f":"#REF!","v":{"$error":"#REF!"}},{"$f":"#REF!","v":{"$error":"#REF!"}},{"$f":"#REF!","v":{"$error":"#REF!"}},{"$f":"#REF!","v":{"$error":"#REF!"}}]
[66,{"$f":"'w-E_R'!B102","v":"W15/02-Regel"},{"$f":"'w-E_R'!D102","v":0},{"$f":"'w-E_R'!F102","v":0},{"$f":"'w-E_R'!G102","v":0},null,{"$error":"#REF!"},{"$f":"#REF!","v":{"$error":"#REF!"}},{"$f":"#REF!","v":{"$error":"#REF!"}},{"$f":"#REF!","v":{"$error":"#REF!"}},{"$f":"#REF!","v":{"$error":"#REF!"}}]
[66,{"$f":"'w-E_R'!B103","v":"W15/03-Regel"},{"$f":"'w-E_R'!D103","v":0},{"$f":"'w-E_R'!F103","v":0},{"$f":"'w-E_R'!G103","v":0},null,{"$error":"#REF!"},{"$f":"#REF!","v":{"$error":"#REF!"}},{"$f":"#REF!","v":{"$error":"#REF!"}},{"$f":"#REF!","v":{"$error":"#REF!"}},{"$f":"#REF!","v":{"$error":"#REF!"}}]
[66,{"$f":"'w-E_R'!B104","v":"W15/04-Regel"},{"$f":"'w-E_R'!D104","v":0},{"$f":"'w-E_R'!F104","v":0},{"$f":"'w-E_R'!G104","v":0},null,{"$error":"#REF!"},{"$f":"#REF!","v":{"$error":"#REF!"}},{"$f":"#REF!","v":{"$error":"#REF!"}},{"$f":"#REF!","v":{"$error":"#REF!"}},{"$f":"#REF!","v":{"$error":"#REF!"}}]
[66,{"$f":"'w-E_R'!B105","v":"W15/05-Regel"},{"$f":"'w-E_R'!D105","v":0},{"$f":"'w-E_R'!F105","v":0},{"$f":"'w-E_R'!G105","v":0},null,{"$error":"#REF!"},{"$f":"#REF!","v":{"$error":"#REF!"}},{"$f":"#REF!","v":{"$error":"#REF!"}},{"$f":"#REF!","v":{"$error":"#REF!"}},{"$f":"#REF!","v":{"$error":"#REF!"}}]
[66,{"$f":"'w-E_R'!B106","v":"W15/06-Regel"},{"$f":"'w-E_R'!D106","v":0},{"$f":"'w-E_R'!F106","v":0},{"$f":"'w-E_R'!G106","v":0},null,{"$error":"#REF!"},{"$f":"#REF!","v":{"$error":"#REF!"}},{"$f":"#REF!","v":{"$error":"#REF!"}},{"$f":"#REF!","v":{"$error":"#REF!"}},{"$f":"#REF!","v":{"$error":"#REF!"}}]
[66,{"$f":"'w-E_R'!B108","v":"W16/01-Regel"},{"$f":"'w-E_R'!D108","v":0},{"$f":"'w-E_R'!F108","v":0},{"$f":"'w-E_R'!G108","v":0},null,{"$error":"#REF!"},{"$f":"#REF!","v":{"$error":"#REF!"}},{"$f":"#REF!","v":{"$error":"#REF!"}},{"$f":"#REF!","v":{"$error":"#REF!"}},{"$f":"#REF!","v":{"$error":"#REF!"}}]
[66,{"$f":"'w-E_R'!B109","v":"W16/02-Regel"},{"$f":"'w-E_R'!D109","v":0},{"$f":"'w-E_R'!F109","v":0},{"$f":"'w-E_R'!G109","v":0},null,{"$error":"#REF!"},{"$f":"#REF!","v":{"$error":"#REF!"}},{"$f":"#REF!","v":{"$error":"#REF!"}},{"$f":"#REF!","v":{"$error":"#REF!"}},{"$f":"#REF!","v":{"$error":"#REF!"}}]
[66,{"$f":"'w-E_R'!B110","v":"W16/03-Regel"},{"$f":"'w-E_R'!D110","v":0},{"$f":"'w-E_R'!F110","v":0},{"$f":"'w-E_R'!G110","v":0},null,{"$error":"#REF!"},{"$f":"#REF!","v":{"$error":"#REF!"}},{"$f":"#REF!","v":{"$error":"#REF!"}},{"$f":"#REF!","v":{"$error":"#REF!"}},{"$f":"#REF!","v":{"$error":"#REF!"}}]
[66,{"$f":"'w-E_R'!B111","v":"W16/04-Regel"},{"$f":"'w-E_R'!D111","v":0},{"$f":"'w-E_R'!F111","v":0},{"$f":"'w-E_R'!G111","v":0},null,{"$error":"#REF!"},{"$f":"#REF!","v":{"$error":"#REF!"}},{"$f":"#REF!","v":{"$error":"#REF!"}},{"$f":"#REF!","v":{"$error":"#REF!"}},{"$f":"#REF!","v":{"$error":"#REF!"}}]
[66,{"$f":"'w-E_R'!B112","v":"W16/05-Regel"},{"$f":"'w-E_R'!D112","v":0},{"$f":"'w-E_R'!F112","v":0},{"$f":"'w-E_R'!G112","v":0},null,{"$error":"#REF!"},{"$f":"#REF!","v":{"$error":"#REF!"}},{"$f":"#REF!","v":{"$error":"#REF!"}},{"$f":"#REF!","v":{"$error":"#REF!"}},{"$f":"#REF!","v":{"$error":"#REF!"}}]
[66,{"$f":"'w-E_R'!B113","v":"W16/06-Regel"},{"$f":"'w-E_R'!D113","v":0},{"$f":"'w-E_R'!F113","v":0},{"$f":"'w-E_R'!G113","v":0},null,{"$error":"#REF!"},{"$f":"#REF!","v":{"$error":"#REF!"}},{"$f":"#REF!","v":{"$error":"#REF!"}},{"$f":"#REF!","v":{"$error":"#REF!"}},{"$f":"#REF!","v":{"$error":"#REF!"}}]
[{"$f":"RANK(E99,$E$3:$E$122,0)","v":66},{"$f":"'w-E_R'!B115","v":"W17/01-Regel"},{"$f":"'w-E_R'!D115","v":0},{"$f":"'w-E_R'!F115","v":0},{"$f":"'w-E_R'!G115","v":0},null,{"$f":"RANK(K99,$K$3:$K$122,0)","v":{"$error":"#REF!"}},{"$f":"#REF!","v":{"$error":"#REF!"}},{"$f":"#REF!","v":{"$error":"#REF!"}},{"$f":"#REF!","v":{"$error":"#REF!"}},{"$f":"#REF!","v":{"$error":"#REF!"}}]
[66,{"$f":"'w-E_R'!B116","v":"W17/02-Regel"},{"$f":"'w-E_R'!D116","v":0},{"$f":"'w-E_R'!F116","v":0},{"$f":"'w-E_R'!G116","v":0},null,{"$error":"#REF!"},{"$f":"#REF!","v":{"$error":"#REF!"}},{"$f":"#REF!","v":{"$error":"#REF!"}},{"$f":"#REF!","v":{"$error":"#REF!"}},{"$f":"#REF!","v":{"$error":"#REF!"}}]
[66,{"$f":"'w-E_R'!B117","v":"W17/03-Regel"},{"$f":"'w-E_R'!D117","v":0},{"$f":"'w-E_R'!F117","v":0},{"$f":"'w-E_R'!G117","v":0},null,{"$error":"#REF!"},{"$f":"#REF!","v":{"$error":"#REF!"}},{"$f":"#REF!","v":{"$error":"#REF!"}},{"$f":"#REF!","v":{"$error":"#REF!"}},{"$f":"#REF!","v":{"$error":"#REF!"}}]
[66,{"$f":"'w-E_R'!B118","v":"W17/04-Regel"},{"$f":"'w-E_R'!D118","v":0},{"$f":"'w-E_R'!F118","v":0},{"$f":"'w-E_R'!G118","v":0},null,{"$error":"#REF!"},{"$f":"#REF!","v":{"$error":"#REF!"}},{"$f":"#REF!","v":{"$error":"#REF!"}},{"$f":"#REF!","v":{"$error":"#REF!"}},{"$f":"#REF!","v":{"$error":"#REF!"}}]
[66,{"$f":"'w-E_R'!B119","v":"W17/05-Regel"},{"$f":"'w-E_R'!D119","v":0},{"$f":"'w-E_R'!F119","v":0},{"$f":"'w-E_R'!G119","v":0},null,{"$error":"#REF!"},{"$f":"#REF!","v":{"$error":"#REF!"}},{"$f":"#REF!","v":{"$error":"#REF!"}},{"$f":"#REF!","v":{"$error":"#REF!"}},{"$f":"#REF!","v":{"$error":"#REF!"}}]
[66,{"$f":"'w-E_R'!B120","v":"W17/06-Regel"},{"$f":"'w-E_R'!D120","v":0},{"$f":"'w-E_R'!F120","v":0},{"$f":"'w-E_R'!G120","v":0},null,{"$error":"#REF!"},{"$f":"#REF!","v":{"$error":"#REF!"}},{"$f":"#REF!","v":{"$error":"#REF!"}},{"$f":"#REF!","v":{"$error":"#REF!"}},{"$f":"#REF!","v":{"$error":"#REF!"}}]
[66,{"$f":"'w-E_R'!B122","v":"W18/01-Regel"},{"$f":"'w-E_R'!D122","v":0},{"$f":"'w-E_R'!F122","v":0},{"$f":"'w-E_R'!G122","v":0},null,{"$error":"#REF!"},{"$f":"#REF!","v":{"$error":"#REF!"}},{"$f":"#REF!","v":{"$error":"#REF!"}},{"$f":"#REF!","v":{"$error":"#REF!"}},{"$f":"#REF!","v":{"$error":"#REF!"}}]
[66,{"$f":"'w-E_R'!B123","v":"W18/02-Regel"},{"$f":"'w-E_R'!D123","v":0},{"$f":"'w-E_R'!F123","v":0},{"$f":"'w-E_R'!G123","v":0},null,{"$error":"#REF!"},{"$f":"#REF!","v":{"$error":"#REF!"}},{"$f":"#REF!","v":{"$error":"#REF!"}},{"$f":"#REF!","v":{"$error":"#REF!"}},{"$f":"#REF!","v":{"$error":"#REF!"}}]
[66,{"$f":"'w-E_R'!B124","v":"W18/03-Regel"},{"$f":"'w-E_R'!D124","v":0},{"$f":"'w-E_R'!F124","v":0},{"$f":"'w-E_R'!G124","v":0},null,{"$error":"#REF!"},{"$f":"#REF!","v":{"$error":"#REF!"}},{"$f":"#REF!","v":{"$error":"#REF!"}},{"$f":"#REF!","v":{"$error":"#REF!"}},{"$f":"#REF!","v":{"$error":"#REF!"}}]
[66,{"$f":"'w-E_R'!B125","v":"W18/04-Regel"},{"$f":"'w-E_R'!D125","v":0},{"$f":"'w-E_R'!F125","v":0},{"$f":"'w-E_R'!G125","v":0},null,{"$error":"#REF!"},{"$f":"#REF!","v":{"$error":"#REF!"}},{"$f":"#REF!","v":{"$error":"#REF!"}},{"$f":"#REF!","v":{"$error":"#REF!"}},{"$f":"#REF!","v":{"$error":"#REF!"}}]
[66,{"$f":"'w-E_R'!B126","v":"W18/05-Regel"},{"$f":"'w-E_R'!D126","v":0},{"$f":"'w-E_R'!F126","v":0},{"$f":"'w-E_R'!G126","v":0},null,{"$error":"#REF!"},{"$f":"#REF!","v":{"$error":"#REF!"}},{"$f":"#REF!","v":{"$error":"#REF!"}},{"$f":"#REF!","v":{"$error":"#REF!"}},{"$f":"#REF!","v":{"$error":"#REF!"}}]
[66,{"$f":"'w-E_R'!B127","v":"W18/06-Regel"},{"$f":"'w-E_R'!D127","v":0},{"$f":"'w-E_R'!F127","v":0},{"$f":"'w-E_R'!G127","v":0},null,{"$error":"#REF!"},{"$f":"#REF!","v":{"$error":"#REF!"}},{"$f":"#REF!","v":{"$error":"#REF!"}},{"$f":"#REF!","v":{"$error":"#REF!"}},{"$f":"#REF!","v":{"$error":"#REF!"}}]
[66,{"$f":"'w-E_R'!B129","v":"W19/01-Regel"},{"$f":"'w-E_R'!D129","v":0},{"$f":"'w-E_R'!F129","v":0},{"$f":"'w-E_R'!G129","v":0},null,{"$error":"#REF!"},{"$f":"#REF!","v":{"$error":"#REF!"}},{"$f":"#REF!","v":{"$error":"#REF!"}},{"$f":"#REF!","v":{"$error":"#REF!"}},{"$f":"#REF!","v":{"$error":"#REF!"}}]
[66,{"$f":"'w-E_R'!B130","v":"W19/02-Regel"},{"$f":"'w-E_R'!D130","v":0},{"$f":"'w-E_R'!F130","v":0},{"$f":"'w-E_R'!G130","v":0},null,{"$error":"#REF!"},{"$f":"#REF!","v":{"$error":"#REF!"}},{"$f":"#REF!","v":{"$error":"#REF!"}},{"$f":"#REF!","v":{"$error":"#REF!"}},{"$f":"#REF!","v":{"$error":"#REF!"}}]
[66,{"$f":"'w-E_R'!B131","v":"W19/03-Regel"},{"$f":"'w-E_R'!D131","v":0},{"$f":"'w-E_R'!F131","v":0},{"$f":"'w-E_R'!G131","v":0},null,{"$error":"#REF!"},{"$f":"#REF!","v":{"$error":"#REF!"}},{"$f":"#REF!","v":{"$error":"#REF!"}},{"$f":"#REF!","v":{"$error":"#REF!"}},{"$f":"#REF!","v":{"$error":"#REF!"}}]
[66,{"$f":"'w-E_R'!B132","v":"W19/04-Regel"},{"$f":"'w-E_R'!D132","v":0},{"$f":"'w-E_R'!F132","v":0},{"$f":"'w-E_R'!G132","v":0},null,{"$error":"#REF!"},{"$f":"#REF!","v":{"$error":"#REF!"}},{"$f":"#REF!","v":{"$error":"#REF!"}},{"$f":"#REF!","v":{"$error":"#REF!"}},{"$f":"#REF!","v":{"$error":"#REF!"}}]
[66,{"$f":"'w-E_R'!B133","v":"W19/05-Regel"},{"$f":"'w-E_R'!D133","v":0},{"$f":"'w-E_R'!F133","v":0},{"$f":"'w-E_R'!G133","v":0},null,{"$error":"#REF!"},{"$f":"#REF!","v":{"$error":"#REF!"}},{"$f":"#REF!","v":{"$error":"#REF!"}},{"$f":"#REF!","v":{"$error":"#REF!"}},{"$f":"#REF!","v":{"$error":"#REF!"}}]
[66,{"$f":"'w-E_R'!B134","v":"W19/06-Regel"},{"$f":"'w-E_R'!D134","v":0},{"$f":"'w-E_R'!F134","v":0},{"$f":"'w-E_R'!G134","v":0},null,{"$error":"#REF!"},{"$f":"#REF!","v":{"$error":"#REF!"}},{"$f":"#REF!","v":{"$error":"#REF!"}},{"$f":"#REF!","v":{"$error":"#REF!"}},{"$f":"#REF!","v":{"$error":"#REF!"}}]
[66,{"$f":"'w-E_R'!B136","v":"W20/01-Regel"},{"$f":"'w-E_R'!D136","v":0},{"$f":"'w-E_R'!F136","v":0},{"$f":"'w-E_R'!G136","v":0},null,{"$error":"#REF!"},{"$f":"#REF!","v":{"$error":"#REF!"}},{"$f":"#REF!","v":{"$error":"#REF!"}},{"$f":"#REF!","v":{"$error":"#REF!"}},{"$f":"#REF!","v":{"$error":"#REF!"}}]
[66,{"$f":"'w-E_R'!B137","v":"W20/02-Regel"},{"$f":"'w-E_R'!D137","v":0},{"$f":"'w-E_R'!F137","v":0},{"$f":"'w-E_R'!G137","v":0},null,{"$error":"#REF!"},{"$f":"#REF!","v":{"$error":"#REF!"}},{"$f":"#REF!","v":{"$error":"#REF!"}},{"$f":"#REF!","v":{"$error":"#REF!"}},{"$f":"#REF!","v":{"$error":"#REF!"}}]
[66,{"$f":"'w-E_R'!B138","v":"W20/03-Regel"},{"$f":"'w-E_R'!D138","v":0},{"$f":"'w-E_R'!F138","v":0},{"$f":"'w-E_R'!G138","v":0},null,{"$error":"#REF!"},{"$f":"#REF!","v":{"$error":"#REF!"}},{"$f":"#REF!","v":{"$error":"#REF!"}},{"$f":"#REF!","v":{"$error":"#REF!"}},{"$f":"#REF!","v":{"$error":"#REF!"}}]
[66,{"$f":"'w-E_R'!B139","v":"W20/04-Regel"},{"$f":"'w-E_R'!D139","v":0},{"$f":"'w-E_R'!F139","v":0},{"$f":"'w-E_R'!G139","v":0},null,{"$error":"#REF!"},{"$f":"#REF!","v":{"$error":"#REF!"}},{"$f":"#REF!","v":{"$error":"#REF!"}},{"$f":"#REF!","v":{"$error":"#REF!"}},{"$f":"#REF!","v":{"$error":"#REF!"}}]
[66,{"$f":"'w-E_R'!B140","v":"W20/05-Regel"},{"$f":"'w-E_R'!D140","v":0},{"$f":"'w-E_R'!F140","v":0},{"$f":"'w-E_R'!G140","v":0},null,{"$error":"#REF!"},{"$f":"#REF!","v":{"$error":"#REF!"}},{"$f":"#REF!","v":{"$error":"#REF!"}},{"$f":"#REF!","v":{"$error":"#REF!"}},{"$f":"#REF!","v":{"$error":"#REF!"}}]
[66,{"$f":"'w-E_R'!B141","v":"W20/06-Regel"},{"$f":"'w-E_R'!D141","v":0},{"$f":"'w-E_R'!F141","v":0},{"$f":"'w-E_R'!G141","v":0},null,{"$error":"#REF!"},{"$f":"#REF!","v":{"$error":"#REF!"}},{"$f":"#REF!","v":{"$error":"#REF!"}},{"$f":"#REF!","v":{"$error":"#REF!"}},{"$f":"#REF!","v":{"$error":"#REF!"}}]
["Einzelwertung 60 m Weiblich",null,{"$f":"'w-E_R'!C1","v":"D-C/Regel-Schulen"},{"$f":"'w-E_R'!E1","v":"Ortsangabe,Datum"},null,null,"Einzelwertung 60 m Männlich",null,{"$f":"#REF!","v":{"$error":"#REF!"}},{"$f":"#REF!","v":{"$error":"#REF!"}}]
["Einzelwertung 60 m",null,{"$f":"#REF!","v":{"$error":"#REF!"}},{"$f":"#REF!","v":{"$error":"#REF!"}},null,null,"Einzelwertung 60 m",null,{"$f":"#REF!","v":{"$error":"#REF!"}},{"$f":"#REF!","v":{"$error":"#REF!"}}]
["Rang","WEIBLICH","Schule:","Leistung","Punkte",null,"Rang","MÄNNLICH","Schule:","Leistung","Punkte"]
[{"$f":"RANK(E126,$E$126:$E245,0)","v":{"$error":"#REF!"}},{"$f":"#REF!","v":{"$error":"#REF!"}},{"$f":"#REF!","v":{"$error":"#REF!"}},{"$f":"#REF!","v":{"$error":"#REF!"}},{"$f":"#REF!","v":{"$error":"#REF!"}},null,{"$f":"RANK(K126,$K$126:$K245,0)","v":{"$error":"#REF!"}},{"$f":"#REF!","v":{"$error":"#REF!"}},{"$f":"#REF!","v":{"$error":"#REF!"}},{"$f":"#REF!","v":{"$error":"#REF!"}},{"$f":"#REF!","v":{"$error":"#REF!"}}]
[{"$f":"RANK(E127,$E$126:$E245,0)","v":{"$error":"#REF!"}},{"$f":"#REF!","v":{"$error":"#REF!"}},{"$f":"#REF!","v":{"$error":"#REF!"}},{"$f":"#REF!","v":{"$error":"#REF!"}},{"$f":"#REF!","v":{"$error":"#REF!"}},null,{"$f":"RANK(K127,$K$126:$K245,0)","v":{"$error":"#REF!"}},{"$f":"#REF!","v":{"$error":"#REF!"}},{"$f":"#REF!","v":{"$error":"#REF!"}},{"$f":"#REF!","v":{"$error":"#REF!"}},{"$f":"#REF!","v":{"$error":"#REF!"}}]
[{"$f":"RANK(E128,$E$126:$E245,0)","v":{"$error":"#REF!"}},{"$f":"#REF!","v":{"$error":"#REF!"}},{"$f":"#REF!","v":{"$error":"#REF!"}},{"$f":"#REF!","v":{"$error":"#REF!"}},{"$f":"#REF!","v":{"$error":"#REF!"}},null,{"$f":"RANK(K128,$K$126:$K245,0)","v":{"$error":"#REF!"}},{"$f":"#REF!","v":{"$error":"#REF!"}},{"$f":"#REF!","v":{"$error":"#REF!"}},{"$f":"#REF!","v":{"$error":"#REF!"}},{"$f":"#REF!","v":{"$error":"#REF!"}}]
[{"$f":"RANK(E129,$E$126:$E245,0)","v":{"$error":"#REF!"}},{"$f":"#REF!","v":{"$error":"#REF!"}},{"$f":"#REF!","v":{"$error":"#REF!"}},{"$f":"#REF!","v":{"$error":"#REF!"}},{"$f":"#REF!","v":{"$error":"#REF!"}},null,{"$f":"RANK(K129,$K$126:$K245,0)","v":{"$error":"#REF!"}},{"$f":"#REF!","v":{"$error":"#REF!"}},{"$f":"#REF!","v":{"$error":"#REF!"}},{"$f":"#REF!","v":{"$error":"#REF!"}},{"$f":"#REF!","v":{"$error":"#REF!"}}]
[{"$f":"RANK(E130,$E$126:$E245,0)","v":{"$error":"#REF!"}},{"$f":"#REF!","v":{"$error":"#REF!"}},{"$f":"#REF!","v":{"$error":"#REF!"}},{"$f":"#REF!","v":{"$error":"#REF!"}},{"$f":"#REF!","v":{"$error":"#REF!"}},null,{"$f":"RANK(K130,$K$126:$K245,0)","v":{"$error":"#REF!"}},{"$f":"#REF!","v":{"$error":"#REF!"}},{"$f":"#REF!","v":{"$error":"#REF!"}},{"$f":"#REF!","v":{"$error":"#REF!"}},{"$f":"#REF!","v":{"$error":"#REF!"}}]
[{"$f":"RANK(E131,$E$126:$E245,0)","v":{"$error":"#REF!"}},{"$f":"#REF!","v":{"$error":"#REF!"}},{"$f":"#REF!","v":{"$error":"#REF!"}},{"$f":"#REF!","v":{"$error":"#REF!"}},{"$f":"#REF!","v":{"$error":"#REF!"}},null,{"$f":"RANK(K131,$K$126:$K245,0)","v":{"$error":"#REF!"}},{"$f":"#REF!","v":{"$error":"#REF!"}},{"$f":"#REF!","v":{"$error":"#REF!"}},{"$f":"#REF!","v":{"$error":"#REF!"}},{"$f":"#REF!","v":{"$error":"#REF!"}}]
[{"$f":"RANK(E132,$E$126:$E245,0)","v":{"$error":"#REF!"}},{"$f":"#REF!","v":{"$error":"#REF!"}},{"$f":"#REF!","v":{"$error":"#REF!"}},{"$f":"#REF!","v":{"$error":"#REF!"}},{"$f":"#REF!","v":{"$error":"#REF!"}},null,{"$f":"RANK(K132,$K$126:$K245,0)","v":{"$error":"#REF!"}},{"$f":"#REF!","v":{"$error":"#REF!"}},{"$f":"#REF!","v":{"$error":"#REF!"}},{"$f":"#REF!","v":{"$error":"#REF!"}},{"$f":"#REF!","v":{"$error":"#REF!"}}]
[{"$f":"RANK(E133,$E$126:$E245,0)","v":{"$error":"#REF!"}},{"$f":"#REF!","v":{"$error":"#REF!"}},{"$f":"#REF!","v":{"$error":"#REF!"}},{"$f":"#REF!","v":{"$error":"#REF!"}},{"$f":"#REF!","v":{"$error":"#REF!"}},null,{"$f":"RANK(K133,$K$126:$K245,0)","v":{"$error":"#REF!"}},{"$f":"#REF!","v":{"$error":"#REF!"}},{"$f":"#REF!","v":{"$error":"#REF!"}},{"$f":"#REF!","v":{"$error":"#REF!"}},{"$f":"#REF!","v":{"$error":"#REF!"}}]
[{"$f":"RANK(E134,$E$126:$E245,0)","v":{"$error":"#REF!"}},{"$f":"#REF!","v":{"$error":"#REF!"}},{"$f":"#REF!","v":{"$error":"#REF!"}},{"$f":"#REF!","v":{"$error":"#REF!"}},{"$f":"#REF!","v":{"$error":"#REF!"}},null,{"$f":"RANK(K134,$K$126:$K245,0)","v":{"$error":"#REF!"}},{"$f":"#REF!","v":{"$error":"#REF!"}},{"$f":"#REF!","v":{"$error":"#REF!"}},{"$f":"#REF!","v":{"$error":"#REF!"}},{"$f":"#REF!","v":{"$error":"#REF!"}}]
[{"$f":"RANK(E135,$E$126:$E245,0)","v":{"$error":"#REF!"}},{"$f":"#REF!","v":{"$error":"#REF!"}},{"$f":"#REF!","v":{"$error":"#REF!"}},{"$f":"#REF!","v":{"$error":"#REF!"}},{"$f":"#REF!","v":{"$error":"#REF!"}},null,{"$f":"RANK(K135,$K$126:$K245,0)","v":{"$error":"#REF!"}},{"$f":"#REF!","v":{"$error":"#REF!"}},{"$f":"#REF!","v":{"$error":"#REF!"}},{"$f":"#REF!","v":{"$error":"#REF!"}},{"$f":"#REF!","v":{"$error":"#REF!"}}]
[{"$f":"RANK(E136,$E$126:$E245,0)","v":{"$error":"#REF!"}},{"$f":"#REF!","v":{"$error":"#REF!"}},{"$f":"#REF!","v":{"$error":"#REF!"}},{"$f":"#REF!","v":{"$error":"#REF!"}},{"$f":"#REF!","v":{"$error":"#REF!"}},null,{"$f":"RANK(K136,$K$126:$K245,0)","v":{"$error":"#REF!"}},{"$f":"#REF!","v":{"$error":"#REF!"}},{"$f":"#REF!","v":{"$error":"#REF!"}},{"$f":"#REF!","v":{"$error":"#REF!"}},{"$f":"#REF!","v":{"$error":"#REF!"}}]
[{"$f":"RANK(E137,$E$126:$E245,0)","v":{"$error":"#REF!"}},{"$f":"#REF!","v":{"$error":"#REF!"}},{"$f":"#REF!","v":{"$error":"#REF!"}},{"$f":"#REF!","v":{"$error":"#REF!"}},{"$f":"#REF!","v":{"$error":"#REF!"}},null,{"$f":"RANK(K137,$K$126:$K245,0)","v":{"$error":"#REF!"}},{"$f":"#REF!","v":{"$error":"#REF!"}},{"$f":"#REF!","v":{"$error":"#REF!"}},{"$f":"#REF!","v":{"$error":"#REF!"}},{"$f":"#REF!","v":{"$error":"#REF!"}}]
[{"$f":"RANK(E138,$E$126:$E245,0)","v":{"$error":"#REF!"}},{"$f":"#REF!","v":{"$error":"#REF!"}},{"$f":"#REF!","v":{"$error":"#REF!"}},{"$f":"#REF!","v":{"$error":"#REF!"}},{"$f":"#REF!","v":{"$error":"#REF!"}},null,{"$f":"RANK(K138,$K$126:$K245,0)","v":{"$error":"#REF!"}},{"$f":"#REF!","v":{"$error":"#REF!"}},{"$f":"#REF!","v":{"$error":"#REF!"}},{"$f":"#REF!","v":{"$error":"#REF!"}},{"$f":"#REF!","v":{"$error":"#REF!"}}]
[{"$f":"RANK(E139,$E$126:$E245,0)","v":{"$error":"#REF!"}},{"$f":"#REF!","v":{"$error":"#REF!"}},{"$f":"#REF!","v":{"$error":"#REF!"}},{"$f":"#REF!","v":{"$error":"#REF!"}},{"$f":"#REF!","v":{"$error":"#REF!"}},null,{"$f":"RANK(K139,$K$126:$K245,0)","v":{"$error":"#REF!"}},{"$f":"#REF!","v":{"$error":"#REF!"}},{"$f":"#REF!","v":{"$error":"#REF!"}},{"$f":"#REF!","v":{"$error":"#REF!"}},{"$f":"#REF!","v":{"$error":"#REF!"}}]
[{"$f":"RANK(E140,$E$126:$E245,0)","v":{"$error":"#REF!"}},{"$f":"#REF!","v":{"$error":"#REF!"}},{"$f":"#REF!","v":{"$error":"#REF!"}},{"$f":"#REF!","v":{"$error":"#REF!"}},{"$f":"#REF!","v":{"$error":"#REF!"}},null,{"$f":"RANK(K140,$K$126:$K245,0)","v":{"$error":"#REF!"}},{"$f":"#REF!","v":{"$error":"#REF!"}},{"$f":"#REF!","v":{"$error":"#REF!"}},{"$f":"#REF!","v":{"$error":"#REF!"}},{"$f":"#REF!","v":{"$error":"#REF!"}}]
[{"$f":"RANK(E141,$E$126:$E245,0)","v":{"$error":"#REF!"}},{"$f":"#REF!","v":{"$error":"#REF!"}},{"$f":"#REF!","v":{"$error":"#REF!"}},{"$f":"#REF!","v":{"$error":"#REF!"}},{"$f":"#REF!","v":{"$error":"#REF!"}},null,{"$f":"RANK(K141,$K$126:$K245,0)","v":{"$error":"#REF!"}},{"$f":"#REF!","v":{"$error":"#REF!"}},{"$f":"#REF!","v":{"$error":"#REF!"}},{"$f":"#REF!","v":{"$error":"#REF!"}},{"$f":"#REF!","v":{"$error":"#REF!"}}]
[{"$f":"RANK(E142,$E$126:$E245,0)","v":{"$error":"#REF!"}},{"$f":"#REF!","v":{"$error":"#REF!"}},{"$f":"#REF!","v":{"$error":"#REF!"}},{"$f":"#REF!","v":{"$error":"#REF!"}},{"$f":"#REF!","v":{"$error":"#REF!"}},null,{"$f":"RANK(K142,$K$126:$K245,0)","v":{"$error":"#REF!"}},{"$f":"#REF!","v":{"$error":"#REF!"}},{"$f":"#REF!","v":{"$error":"#REF!"}},{"$f":"#REF!","v":{"$error":"#REF!"}},{"$f":"#REF!","v":{"$error":"#REF!"}}]
[{"$f":"RANK(E143,$E$126:$E245,0)","v":{"$error":"#REF!"}},{"$f":"#REF!","v":{"$error":"#REF!"}},{"$f":"#REF!","v":{"$error":"#REF!"}},{"$f":"#REF!","v":{"$error":"#REF!"}},{"$f":"#REF!","v":{"$error":"#REF!"}},null,{"$f":"RANK(K143,$K$126:$K245,0)","v":{"$error":"#REF!"}},{"$f":"#REF!","v":{"$error":"#REF!"}},{"$f":"#REF!","v":{"$error":"#REF!"}},{"$f":"#REF!","v":{"$error":"#REF!"}},{"$f":"#REF!","v":{"$error":"#REF!"}}]
[{"$f":"RANK(E144,$E$126:$E245,0)","v":{"$error":"#REF!"}},{"$f":"#REF!","v":{"$error":"#REF!"}},{"$f":"#REF!","v":{"$error":"#REF!"}},{"$f":"#REF!","v":{"$error":"#REF!"}},{"$f":"#REF!","v":{"$error":"#REF!"}},null,{"$f":"RANK(K144,$K$126:$K245,0)","v":{"$error":"#REF!"}},{"$f":"#REF!","v":{"$error":"#REF!"}},{"$f":"#REF!","v":{"$error":"#REF!"}},{"$f":"#REF!","v":{"$error":"#REF!"}},{"$f":"#REF!","v":{"$error":"#REF!"}}]
[{"$f":"RANK(E145,$E$126:$E245,0)","v":{"$error":"#REF!"}},{"$f":"#REF!","v":{"$error":"#REF!"}},{"$f":"#REF!","v":{"$error":"#REF!"}},{"$f":"#REF!","v":{"$error":"#REF!"}},{"$f":"#REF!","v":{"$error":"#REF!"}},null,{"$f":"RANK(K145,$K$126:$K245,0)","v":{"$error":"#REF!"}},{"$f":"#REF!","v":{"$error":"#REF!"}},{"$f":"#REF!","v":{"$error":"#REF!"}},{"$f":"#REF!","v":{"$error":"#REF!"}},{"$f":"#REF!","v":{"$error":"#REF!"}}]
[{"$f":"RANK(E146,$E$126:$E245,0)","v":{"$error":"#REF!"}},{"$f":"#REF!","v":{"$error":"#REF!"}},{"$f":"#REF!","v":{"$error":"#REF!"}},{"$f":"#REF!","v":{"$error":"#REF!"}},{"$f":"#REF!","v":{"$error":"#REF!"}},null,{"$f":"RANK(K146,$K$126:$K245,0)","v":{"$error":"#REF!"}},{"$f":"#REF!","v":{"$error":"#REF!"}},{"$f":"#REF!","v":{"$error":"#REF!"}},{"$f":"#REF!","v":{"$error":"#REF!"}},{"$f":"#REF!","v":{"$error":"#REF!"}}]
[{"$f":"RANK(E147,$E$126:$E245,0)","v":{"$error":"#REF!"}},{"$f":"#REF!","v":{"$error":"#REF!"}},{"$f":"#REF!","v":{"$error":"#REF!"}},{"$f":"#REF!","v":{"$error":"#REF!"}},{"$f":"#REF!","v":{"$error":"#REF!"}},null,{"$f":"RANK(K147,$K$126:$K245,0)","v":{"$error":"#REF!"}},{"$f":"#REF!","v":{"$error":"#REF!"}},{"$f":"#REF!","v":{"$error":"#REF!"}},{"$f":"#REF!","v":{"$error":"#REF!"}},{"$f":"#REF!","v":{"$error":"#REF!"}}]
[{"$f":"RANK(E148,$E$126:$E245,0)","v":{"$error":"#REF!"}},{"$f":"#REF!","v":{"$error":"#REF!"}},{"$f":"#REF!","v":{"$error":"#REF!"}},{"$f":"#REF!","v":{"$error":"#REF!"}},{"$f":"#REF!","v":{"$error":"#REF!"}},null,{"$f":"RANK(K148,$K$126:$K245,0)","v":{"$error":"#REF!"}},{"$f":"#REF!","v":{"$error":"#REF!"}},{"$f":"#REF!","v":{"$error":"#REF!"}},{"$f":"#REF!","v":{"$error":"#REF!"}},{"$f":"#REF!","v":{"$error":"#REF!"}}]
[{"$f":"RANK(E149,$E$126:$E245,0)","v":{"$error":"#REF!"}},{"$f":"#REF!","v":{"$error":"#REF!"}},{"$f":"#REF!","v":{"$error":"#REF!"}},{"$f":"#REF!","v":{"$error":"#REF!"}},{"$f":"#REF!","v":{"$error":"#REF!"}},null,{"$f":"RANK(K149,$K$126:$K245,0)","v":{"$error":"#REF!"}},{"$f":"#REF!","v":{"$error":"#REF!"}},{"$f":"#REF!","v":{"$error":"#REF!"}},{"$f":"#REF!","v":{"$error":"#REF!"}},{"$f":"#REF!","v":{"$error":"#REF!"}}]
[{"$f":"RANK(E150,$E$126:$E245,0)","v":{"$error":"#REF!"}},{"$f":"#REF!","v":{"$error":"#REF!"}},{"$f":"#REF!","v":{"$error":"#REF!"}},{"$f":"#REF!","v":{"$error":"#REF!"}},{"$f":"#REF!","v":{"$error":"#REF!"}},null,{"$f":"RANK(K150,$K$126:$K245,0)","v":{"$error":"#REF!"}},{"$f":"#REF!","v":{"$error":"#REF!"}},{"$f":"#REF!","v":{"$error":"#REF!"}},{"$f":"#REF!","v":{"$error":"#REF!"}},{"$f":"#REF!","v":{"$error":"#REF!"}}]
[{"$f":"RANK(E151,$E$126:$E245,0)","v":{"$error":"#REF!"}},{"$f":"#REF!","v":{"$error":"#REF!"}},{"$f":"#REF!","v":{"$error":"#REF!"}},{"$f":"#REF!","v":{"$error":"#REF!"}},{"$f":"#REF!","v":{"$error":"#REF!"}},null,{"$f":"RANK(K151,$K$126:$K245,0)","v":{"$error":"#REF!"}},{"$f":"#REF!","v":{"$error":"#REF!"}},{"$f":"#REF!","v":{"$error":"#REF!"}},{"$f":"#REF!","v":{"$error":"#REF!"}},{"$f":"#REF!","v":{"$error":"#REF!"}}]
[{"$f":"RANK(E152,$E$126:$E245,0)","v":{"$error":"#REF!"}},{"$f":"#REF!","v":{"$error":"#REF!"}},{"$f":"#REF!","v":{"$error":"#REF!"}},{"$f":"#REF!","v":{"$error":"#REF!"}},{"$f":"#REF!","v":{"$error":"#REF!"}},null,{"$f":"RANK(K152,$K$126:$K245,0)","v":{"$error":"#REF!"}},{"$f":"#REF!","v":{"$error":"#REF!"}},{"$f":"#REF!","v":{"$error":"#REF!"}},{"$f":"#REF!","v":{"$error":"#REF!"}},{"$f":"#REF!","v":{"$error":"#REF!"}}]
[{"$f":"RANK(E153,$E$126:$E245,0)","v":{"$error":"#REF!"}},{"$f":"#REF!","v":{"$error":"#REF!"}},{"$f":"#REF!","v":{"$error":"#REF!"}},{"$f":"#REF!","v":{"$error":"#REF!"}},{"$f":"#REF!","v":{"$error":"#REF!"}},null,{"$f":"RANK(K153,$K$126:$K245,0)","v":{"$error":"#REF!"}},{"$f":"#REF!","v":{"$error":"#REF!"}},{"$f":"#REF!","v":{"$error":"#REF!"}},{"$f":"#REF!","v":{"$error":"#REF!"}},{"$f":"#REF!","v":{"$error":"#REF!"}}]
[{"$f":"RANK(E154,$E$126:$E245,0)","v":{"$error":"#REF!"}},{"$f":"#REF!","v":{"$error":"#REF!"}},{"$f":"#REF!","v":{"$error":"#REF!"}},{"$f":"#REF!","v":{"$error":"#REF!"}},{"$f":"#REF!","v":{"$error":"#REF!"}},null,{"$f":"RANK(K154,$K$126:$K245,0)","v":{"$error":"#REF!"}},{"$f":"#REF!","v":{"$error":"#REF!"}},{"$f":"#REF!","v":{"$error":"#REF!"}},{"$f":"#REF!","v":{"$error":"#REF!"}},{"$f":"#REF!","v":{"$error":"#REF!"}}]
[{"$f":"RANK(E155,$E$126:$E245,0)","v":{"$error":"#REF!"}},{"$f":"#REF!","v":{"$error":"#REF!"}},{"$f":"#REF!","v":{"$error":"#REF!"}},{"$f":"#REF!","v":{"$error":"#REF!"}},{"$f":"#REF!","v":{"$error":"#REF!"}},null,{"$f":"RANK(K155,$K$126:$K245,0)","v":{"$error":"#REF!"}},{"$f":"#REF!","v":{"$error":"#REF!"}},{"$f":"#REF!","v":{"$error":"#REF!"}},{"$f":"#REF!","v":{"$error":"#REF!"}},{"$f":"#REF!","v":{"$error":"#REF!"}}]
[{"$f":"RANK(E156,$E$126:$E245,0)","v":{"$error":"#REF!"}},{"$f":"#REF!","v":{"$error":"#REF!"}},{"$f":"#REF!","v":{"$error":"#REF!"}},{"$f":"#REF!","v":{"$error":"#REF!"}},{"$f":"#REF!","v":{"$error":"#REF!"}},null,{"$f":"RANK(K156,$K$126:$K245,0)","v":{"$error":"#REF!"}},{"$f":"#REF!","v":{"$error":"#REF!"}},{"$f":"#REF!","v":{"$error":"#REF!"}},{"$f":"#REF!","v":{"$error":"#REF!"}},{"$f":"#REF!","v":{"$error":"#REF!"}}]
[{"$f":"RANK(E157,$E$126:$E245,0)","v":{"$error":"#REF!"}},{"$f":"#REF!","v":{"$error":"#REF!"}},{"$f":"#REF!","v":{"$error":"#REF!"}},{"$f":"#REF!","v":{"$error":"#REF!"}},{"$f":"#REF!","v":{"$error":"#REF!"}},null,{"$f":"RANK(K157,$K$126:$K245,0)","v":{"$error":"#REF!"}},{"$f":"#REF!","v":{"$error":"#REF!"}},{"$f":"#REF!","v":{"$error":"#REF!"}},{"$f":"#REF!","v":{"$error":"#REF!"}},{"$f":"#REF!","v":{"$error":"#REF!"}}]
[{"$f":"RANK(E158,$E$126:$E245,0)","v":{"$error":"#REF!"}},{"$f":"#REF!","v":{"$error":"#REF!"}},{"$f":"#REF!","v":{"$error":"#REF!"}},{"$f":"#REF!","v":{"$error":"#REF!"}},{"$f":"#REF!","v":{"$error":"#REF!"}},null,{"$f":"RANK(K158,$K$126:$K245,0)","v":{"$error":"#REF!"}},{"$f":"#REF!","v":{"$error":"#REF!"}},{"$f":"#REF!","v":{"$error":"#REF!"}},{"$f":"#REF!","v":{"$error":"#REF!"}},{"$f":"#REF!","v":{"$error":"#REF!"}}]
[{"$f":"RANK(E159,$E$126:$E245,0)","v":{"$error":"#REF!"}},{"$f":"#REF!","v":{"$error":"#REF!"}},{"$f":"#REF!","v":{"$error":"#REF!"}},{"$f":"#REF!","v":{"$error":"#REF!"}},{"$f":"#REF!","v":{"$error":"#REF!"}},null,{"$f":"RANK(K159,$K$126:$K245,0)","v":{"$error":"#REF!"}},{"$f":"#REF!","v":{"$error":"#REF!"}},{"$f":"#REF!","v":{"$error":"#REF!"}},{"$f":"#REF!","v":{"$error":"#REF!"}},{"$f":"#REF!","v":{"$error":"#REF!"}}]
[{"$f":"RANK(E160,$E$126:$E245,0)","v":{"$error":"#REF!"}},{"$f":"#REF!","v":{"$error":"#REF!"}},{"$f":"#REF!","v":{"$error":"#REF!"}},{"$f":"#REF!","v":{"$error":"#REF!"}},{"$f":"#REF!","v":{"$error":"#REF!"}},null,{"$f":"RANK(K160,$K$126:$K245,0)","v":{"$error":"#REF!"}},{"$f":"#REF!","v":{"$error":"#REF!"}},{"$f":"#REF!","v":{"$error":"#REF!"}},{"$f":"#REF!","v":{"$error":"#REF!"}},{"$f":"#REF!","v":{"$error":"#REF!"}}]
[{"$f":"RANK(E161,$E$126:$E245,0)","v":{"$error":"#REF!"}},{"$f":"#REF!","v":{"$error":"#REF!"}},{"$f":"#REF!","v":{"$error":"#REF!"}},{"$f":"#REF!","v":{"$error":"#REF!"}},{"$f":"#REF!","v":{"$error":"#REF!"}},null,{"$f":"RANK(K161,$K$126:$K245,0)","v":{"$error":"#REF!"}},{"$f":"#REF!","v":{"$error":"#REF!"}},{"$f":"#REF!","v":{"$error":"#REF!"}},{"$f":"#REF!","v":{"$error":"#REF!"}},{"$f":"#REF!","v":{"$error":"#REF!"}}]
[{"$f":"RANK(E162,$E$126:$E245,0)","v":{"$error":"#REF!"}},{"$f":"#REF!","v":{"$error":"#REF!"}},{"$f":"#REF!","v":{"$error":"#REF!"}},{"$f":"#REF!","v":{"$error":"#REF!"}},{"$f":"#REF!","v":{"$error":"#REF!"}},null,{"$f":"RANK(K162,$K$126:$K245,0)","v":{"$error":"#REF!"}},{"$f":"#REF!","v":{"$error":"#REF!"}},{"$f":"#REF!","v":{"$error":"#REF!"}},{"$f":"#REF!","v":{"$error":"#REF!"}},{"$f":"#REF!","v":{"$error":"#REF!"}}]
[{"$f":"RANK(E163,$E$126:$E245,0)","v":{"$error":"#REF!"}},{"$f":"#REF!","v":{"$error":"#REF!"}},{"$f":"#REF!","v":{"$error":"#REF!"}},{"$f":"#REF!","v":{"$error":"#REF!"}},{"$f":"#REF!","v":{"$error":"#REF!"}},null,{"$f":"RANK(K163,$K$126:$K245,0)","v":{"$error":"#REF!"}},{"$f":"#REF!","v":{"$error":"#REF!"}},{"$f":"#REF!","v":{"$error":"#REF!"}},{"$f":"#REF!","v":{"$error":"#REF!"}},{"$f":"#REF!","v":{"$error":"#REF!"}}]
[{"$f":"RANK(E164,$E$126:$E245,0)","v":{"$error":"#REF!"}},{"$f":"#REF!","v":{"$error":"#REF!"}},{"$f":"#REF!","v":{"$error":"#REF!"}},{"$f":"#REF!","v":{"$error":"#REF!"}},{"$f":"#REF!","v":{"$error":"#REF!"}},null,{"$f":"RANK(K164,$K$126:$K245,0)","v":{"$error":"#REF!"}},{"$f":"#REF!","v":{"$error":"#REF!"}},{"$f":"#REF!","v":{"$error":"#REF!"}},{"$f":"#REF!","v":{"$error":"#REF!"}},{"$f":"#REF!","v":{"$error":"#REF!"}}]
[{"$f":"RANK(E165,$E$126:$E245,0)","v":{"$error":"#REF!"}},{"$f":"#REF!","v":{"$error":"#REF!"}},{"$f":"#REF!","v":{"$error":"#REF!"}},{"$f":"#REF!","v":{"$error":"#REF!"}},{"$f":"#REF!","v":{"$error":"#REF!"}},null,{"$f":"RANK(K165,$K$126:$K245,0)","v":{"$error":"#REF!"}},{"$f":"#REF!","v":{"$error":"#REF!"}},{"$f":"#REF!","v":{"$error":"#REF!"}},{"$f":"#REF!","v":{"$error":"#REF!"}},{"$f":"#REF!","v":{"$error":"#REF!"}}]
[{"$f":"RANK(E166,$E$126:$E245,0)","v":{"$error":"#REF!"}},{"$f":"#REF!","v":{"$error":"#REF!"}},{"$f":"#REF!","v":{"$error":"#REF!"}},{"$f":"#REF!","v":{"$error":"#REF!"}},{"$f":"#REF!","v":{"$error":"#REF!"}},null,{"$f":"RANK(K166,$K$126:$K245,0)","v":{"$error":"#REF!"}},{"$f":"#REF!","v":{"$error":"#REF!"}},{"$f":"#REF!","v":{"$error":"#REF!"}},{"$f":"#REF!","v":{"$error":"#REF!"}},{"$f":"#REF!","v":{"$error":"#REF!"}}]
[{"$f":"RANK(E167,$E$126:$E245,0)","v":{"$error":"#REF!"}},{"$f":"#REF!","v":{"$error":"#REF!"}},{"$f":"#REF!","v":{"$error":"#REF!"}},{"$f":"#REF!","v":{"$error":"#REF!"}},{"$f":"#REF!","v":{"$error":"#REF!"}},null,{"$f":"RANK(K167,$K$126:$K245,0)","v":{"$error":"#REF!"}},{"$f":"#REF!","v":{"$error":"#REF!"}},{"$f":"#REF!","v":{"$error":"#REF!"}},{"$f":"#REF!","v":{"$error":"#REF!"}},{"$f":"#REF!","v":{"$error":"#REF!"}}]
[{"$f":"RANK(E168,$E$126:$E245,0)","v":{"$error":"#REF!"}},{"$f":"#REF!","v":{"$error":"#REF!"}},{"$f":"#REF!","v":{"$error":"#REF!"}},{"$f":"#REF!","v":{"$error":"#REF!"}},{"$f":"#REF!","v":{"$error":"#REF!"}},null,{"$f":"RANK(K168,$K$126:$K245,0)","v":{"$error":"#REF!"}},{"$f":"#REF!","v":{"$error":"#REF!"}},{"$f":"#REF!","v":{"$error":"#REF!"}},{"$f":"#REF!","v":{"$error":"#REF!"}},{"$f":"#REF!","v":{"$error":"#REF!"}}]
[{"$f":"RANK(E169,$E$126:$E245,0)","v":{"$error":"#REF!"}},{"$f":"#REF!","v":{"$error":"#REF!"}},{"$f":"#REF!","v":{"$error":"#REF!"}},{"$f":"#REF!","v":{"$error":"#REF!"}},{"$f":"#REF!","v":{"$error":"#REF!"}},null,{"$f":"RANK(K169,$K$126:$K245,0)","v":{"$error":"#REF!"}},{"$f":"#REF!","v":{"$error":"#REF!"}},{"$f":"#REF!","v":{"$error":"#REF!"}},{"$f":"#REF!","v":{"$error":"#REF!"}},{"$f":"#REF!","v":{"$error":"#REF!"}}]
[{"$f":"RANK(E170,$E$126:$E245,0)","v":{"$error":"#REF!"}},{"$f":"#REF!","v":{"$error":"#REF!"}},{"$f":"#REF!","v":{"$error":"#REF!"}},{"$f":"#REF!","v":{"$error":"#REF!"}},{"$f":"#REF!","v":{"$error":"#REF!"}},null,{"$f":"RANK(K170,$K$126:$K245,0)","v":{"$error":"#REF!"}},{"$f":"#REF!","v":{"$error":"#REF!"}},{"$f":"#REF!","v":{"$error":"#REF!"}},{"$f":"#REF!","v":{"$error":"#REF!"}},{"$f":"#REF!","v":{"$error":"#REF!"}}]
[{"$f":"RANK(E171,$E$126:$E245,0)","v":{"$error":"#REF!"}},{"$f":"#REF!","v":{"$error":"#REF!"}},{"$f":"#REF!","v":{"$error":"#REF!"}},{"$f":"#REF!","v":{"$error":"#REF!"}},{"$f":"#REF!","v":{"$error":"#REF!"}},null,{"$f":"RANK(K171,$K$126:$K245,0)","v":{"$error":"#REF!"}},{"$f":"#REF!","v":{"$error":"#REF!"}},{"$f":"#REF!","v":{"$error":"#REF!"}},{"$f":"#REF!","v":{"$error":"#REF!"}},{"$f":"#REF!","v":{"$error":"#REF!"}}]
[{"$f":"RANK(E172,$E$126:$E245,0)","v":{"$error":"#REF!"}},{"$f":"#REF!","v":{"$error":"#REF!"}},{"$f":"#REF!","v":{"$error":"#REF!"}},{"$f":"#REF!","v":{"$error":"#REF!"}},{"$f":"#REF!","v":{"$error":"#REF!"}},null,{"$f":"RANK(K172,$K$126:$K245,0)","v":{"$error":"#REF!"}},{"$f":"#REF!","v":{"$error":"#REF!"}},{"$f":"#REF!","v":{"$error":"#REF!"}},{"$f":"#REF!","v":{"$error":"#REF!"}},{"$f":"#REF!","v":{"$error":"#REF!"}}]
[{"$f":"RANK(E173,$E$126:$E245,0)","v":{"$error":"#REF!"}},{"$f":"#REF!","v":{"$error":"#REF!"}},{"$f":"#REF!","v":{"$error":"#REF!"}},{"$f":"#REF!","v":{"$error":"#REF!"}},{"$f":"#REF!","v":{"$error":"#REF!"}},null,{"$f":"RANK(K173,$K$126:$K245,0)","v":{"$error":"#REF!"}},{"$f":"#REF!","v":{"$error":"#REF!"}},{"$f":"#REF!","v":{"$error":"#REF!"}},{"$f":"#REF!","v":{"$error":"#REF!"}},{"$f":"#REF!","v":{"$error":"#REF!"}}]
[{"$f":"RANK(E174,$E$126:$E245,0)","v":{"$error":"#REF!"}},{"$f":"#REF!","v":{"$error":"#REF!"}},{"$f":"#REF!","v":{"$error":"#REF!"}},{"$f":"#REF!","v":{"$error":"#REF!"}},{"$f":"#REF!","v":{"$error":"#REF!"}},null,{"$f":"RANK(K174,$K$126:$K245,0)","v":{"$error":"#REF!"}},{"$f":"#REF!","v":{"$error":"#REF!"}},{"$f":"#REF!","v":{"$error":"#REF!"}},{"$f":"#REF!","v":{"$error":"#REF!"}},{"$f":"#REF!","v":{"$error":"#REF!"}}]
[{"$f":"RANK(E175,$E$126:$E245,0)","v":{"$error":"#REF!"}},{"$f":"#REF!","v":{"$error":"#REF!"}},{"$f":"#REF!","v":{"$error":"#REF!"}},{"$f":"#REF!","v":{"$error":"#REF!"}},{"$f":"#REF!","v":{"$error":"#REF!"}},null,{"$f":"RANK(K175,$K$126:$K245,0)","v":{"$error":"#REF!"}},{"$f":"#REF!","v":{"$error":"#REF!"}},{"$f":"#REF!","v":{"$error":"#REF!"}},{"$f":"#REF!","v":{"$error":"#REF!"}},{"$f":"#REF!","v":{"$error":"#REF!"}}]
[{"$f":"RANK(E176,$E$126:$E245,0)","v":{"$error":"#REF!"}},{"$f":"#REF!","v":{"$error":"#REF!"}},{"$f":"#REF!","v":{"$error":"#REF!"}},{"$f":"#REF!","v":{"$error":"#REF!"}},{"$f":"#REF!","v":{"$error":"#REF!"}},null,{"$f":"RANK(K176,$K$126:$K245,0)","v":{"$error":"#REF!"}},{"$f":"#REF!","v":{"$error":"#REF!"}},{"$f":"#REF!","v":{"$error":"#REF!"}},{"$f":"#REF!","v":{"$error":"#REF!"}},{"$f":"#REF!","v":{"$error":"#REF!"}}]
[{"$f":"RANK(E177,$E$126:$E245,0)","v":{"$error":"#REF!"}},{"$f":"#REF!","v":{"$error":"#REF!"}},{"$f":"#REF!","v":{"$error":"#REF!"}},{"$f":"#REF!","v":{"$error":"#REF!"}},{"$f":"#REF!","v":{"$error":"#REF!"}},null,{"$f":"RANK(K177,$K$126:$K245,0)","v":{"$error":"#REF!"}},{"$f":"#REF!","v":{"$error":"#REF!"}},{"$f":"#REF!","v":{"$error":"#REF!"}},{"$f":"#REF!","v":{"$error":"#REF!"}},{"$f":"#REF!","v":{"$error":"#REF!"}}]
[{"$f":"RANK(E178,$E$126:$E245,0)","v":{"$error":"#REF!"}},{"$f":"#REF!","v":{"$error":"#REF!"}},{"$f":"#REF!","v":{"$error":"#REF!"}},{"$f":"#REF!","v":{"$error":"#REF!"}},{"$f":"#REF!","v":{"$error":"#REF!"}},null,{"$f":"RANK(K178,$K$126:$K245,0)","v":{"$error":"#REF!"}},{"$f":"#REF!","v":{"$error":"#REF!"}},{"$f":"#REF!","v":{"$error":"#REF!"}},{"$f":"#REF!","v":{"$error":"#REF!"}},{"$f":"#REF!","v":{"$error":"#REF!"}}]
[{"$f":"RANK(E179,$E$126:$E245,0)","v":{"$error":"#REF!"}},{"$f":"#REF!","v":{"$error":"#REF!"}},{"$f":"#REF!","v":{"$error":"#REF!"}},{"$f":"#REF!","v":{"$error":"#REF!"}},{"$f":"#REF!","v":{"$error":"#REF!"}},null,{"$f":"RANK(K179,$K$126:$K245,0)","v":{"$error":"#REF!"}},{"$f":"#REF!","v":{"$error":"#REF!"}},{"$f":"#REF!","v":{"$error":"#REF!"}},{"$f":"#REF!","v":{"$error":"#REF!"}},{"$f":"#REF!","v":{"$error":"#REF!"}}]
[{"$f":"RANK(E180,$E$126:$E245,0)","v":{"$error":"#REF!"}},{"$f":"#REF!","v":{"$error":"#REF!"}},{"$f":"#REF!","v":{"$error":"#REF!"}},{"$f":"#REF!","v":{"$error":"#REF!"}},{"$f":"#REF!","v":{"$error":"#REF!"}},null,{"$f":"RANK(K180,$K$126:$K245,0)","v":{"$error":"#REF!"}},{"$f":"#REF!","v":{"$error":"#REF!"}},{"$f":"#REF!","v":{"$error":"#REF!"}},{"$f":"#REF!","v":{"$error":"#REF!"}},{"$f":"#REF!","v":{"$error":"#REF!"}}]
[{"$f":"RANK(E181,$E$126:$E245,0)","v":{"$error":"#REF!"}},{"$f":"#REF!","v":{"$error":"#REF!"}},{"$f":"#REF!","v":{"$error":"#REF!"}},{"$f":"#REF!","v":{"$error":"#REF!"}},{"$f":"#REF!","v":{"$error":"#REF!"}},null,{"$f":"RANK(K181,$K$126:$K245,0)","v":{"$error":"#REF!"}},{"$f":"#REF!","v":{"$error":"#REF!"}},{"$f":"#REF!","v":{"$error":"#REF!"}},{"$f":"#REF!","v":{"$error":"#REF!"}},{"$f":"#REF!","v":{"$error":"#REF!"}}]
[{"$f":"RANK(E182,$E$126:$E245,0)","v":{"$error":"#REF!"}},{"$f":"#REF!","v":{"$error":"#REF!"}},{"$f":"#REF!","v":{"$error":"#REF!"}},{"$f":"#REF!","v":{"$error":"#REF!"}},{"$f":"#REF!","v":{"$error":"#REF!"}},null,{"$f":"RANK(K182,$K$126:$K245,0)","v":{"$error":"#REF!"}},{"$f":"#REF!","v":{"$error":"#REF!"}},{"$f":"#REF!","v":{"$error":"#REF!"}},{"$f":"#REF!","v":{"$error":"#REF!"}},{"$f":"#REF!","v":{"$error":"#REF!"}}]
[{"$f":"RANK(E183,$E$126:$E245,0)","v":{"$error":"#REF!"}},{"$f":"#REF!","v":{"$error":"#REF!"}},{"$f":"#REF!","v":{"$error":"#REF!"}},{"$f":"#REF!","v":{"$error":"#REF!"}},{"$f":"#REF!","v":{"$error":"#REF!"}},null,{"$f":"RANK(K183,$K$126:$K245,0)","v":{"$error":"#REF!"}},{"$f":"#REF!","v":{"$error":"#REF!"}},{"$f":"#REF!","v":{"$error":"#REF!"}},{"$f":"#REF!","v":{"$error":"#REF!"}},{"$f":"#REF!","v":{"$error":"#REF!"}}]
[{"$f":"RANK(E184,$E$126:$E245,0)","v":{"$error":"#REF!"}},{"$f":"#REF!","v":{"$error":"#REF!"}},{"$f":"#REF!","v":{"$error":"#REF!"}},{"$f":"#REF!","v":{"$error":"#REF!"}},{"$f":"#REF!","v":{"$error":"#REF!"}},null,{"$f":"RANK(K184,$K$126:$K245,0)","v":{"$error":"#REF!"}},{"$f":"#REF!","v":{"$error":"#REF!"}},{"$f":"#REF!","v":{"$error":"#REF!"}},{"$f":"#REF!","v":{"$error":"#REF!"}},{"$f":"#REF!","v":{"$error":"#REF!"}}]
[{"$f":"RANK(E185,$E$126:$E245,0)","v":{"$error":"#REF!"}},{"$f":"#REF!","v":{"$error":"#REF!"}},{"$f":"#REF!","v":{"$error":"#REF!"}},{"$f":"#REF!","v":{"$error":"#REF!"}},{"$f":"#REF!","v":{"$error":"#REF!"}},null,{"$f":"RANK(K185,$K$126:$K245,0)","v":{"$error":"#REF!"}},{"$f":"#REF!","v":{"$error":"#REF!"}},{"$f":"#REF!","v":{"$error":"#REF!"}},{"$f":"#REF!","v":{"$error":"#REF!"}},{"$f":"#REF!","v":{"$error":"#REF!"}}]
[{"$f":"RANK(E186,$E$126:$E245,0)","v":{"$error":"#REF!"}},{"$f":"#REF!","v":{"$error":"#REF!"}},{"$f":"#REF!","v":{"$error":"#REF!"}},{"$f":"#REF!","v":{"$error":"#REF!"}},{"$f":"#REF!","v":{"$error":"#REF!"}},null,{"$f":"RANK(K186,$K$126:$K245,0)","v":{"$error":"#REF!"}},{"$f":"#REF!","v":{"$error":"#REF!"}},{"$f":"#REF!","v":{"$error":"#REF!"}},{"$f":"#REF!","v":{"$error":"#REF!"}},{"$f":"#REF!","v":{"$error":"#REF!"}}]
[{"$f":"RANK(E187,$E$126:$E245,0)","v":{"$error":"#REF!"}},{"$f":"#REF!","v":{"$error":"#REF!"}},{"$f":"#REF!","v":{"$error":"#REF!"}},{"$f":"#REF!","v":{"$error":"#REF!"}},{"$f":"#REF!","v":{"$error":"#REF!"}},null,{"$f":"RANK(K187,$K$126:$K245,0)","v":{"$error":"#REF!"}},{"$f":"#REF!","v":{"$error":"#REF!"}},{"$f":"#REF!","v":{"$error":"#REF!"}},{"$f":"#REF!","v":{"$error":"#REF!"}},{"$f":"#REF!","v":{"$error":"#REF!"}}]
[{"$f":"RANK(E188,$E$126:$E245,0)","v":{"$error":"#REF!"}},{"$f":"#REF!","v":{"$error":"#REF!"}},{"$f":"#REF!","v":{"$error":"#REF!"}},{"$f":"#REF!","v":{"$error":"#REF!"}},{"$f":"#REF!","v":{"$error":"#REF!"}},null,{"$f":"RANK(K188,$K$126:$K245,0)","v":{"$error":"#REF!"}},{"$f":"#REF!","v":{"$error":"#REF!"}},{"$f":"#REF!","v":{"$error":"#REF!"}},{"$f":"#REF!","v":{"$error":"#REF!"}},{"$f":"#REF!","v":{"$error":"#REF!"}}]
[{"$f":"RANK(E189,$E$126:$E245,0)","v":{"$error":"#REF!"}},{"$f":"#REF!","v":{"$error":"#REF!"}},{"$f":"#REF!","v":{"$error":"#REF!"}},{"$f":"#REF!","v":{"$error":"#REF!"}},{"$f":"#REF!","v":{"$error":"#REF!"}},null,{"$f":"RANK(K189,$K$126:$K245,0)","v":{"$error":"#REF!"}},{"$f":"#REF!","v":{"$error":"#REF!"}},{"$f":"#REF!","v":{"$error":"#REF!"}},{"$f":"#REF!","v":{"$error":"#REF!"}},{"$f":"#REF!","v":{"$error":"#REF!"}}]
[{"$f":"RANK(E190,$E$126:$E245,0)","v":{"$error":"#REF!"}},{"$f":"#REF!","v":{"$error":"#REF!"}},{"$f":"#REF!","v":{"$error":"#REF!"}},{"$f":"#REF!","v":{"$error":"#REF!"}},{"$f":"#REF!","v":{"$error":"#REF!"}},null,{"$f":"RANK(K190,$K$126:$K245,0)","v":{"$error":"#REF!"}},{"$f":"#REF!","v":{"$error":"#REF!"}},{"$f":"#REF!","v":{"$error":"#REF!"}},{"$f":"#REF!","v":{"$error":"#REF!"}},{"$f":"#REF!","v":{"$error":"#REF!"}}]
[{"$f":"RANK(E191,$E$126:$E245,0)","v":{"$error":"#REF!"}},{"$f":"#REF!","v":{"$error":"#REF!"}},{"$f":"#REF!","v":{"$error":"#REF!"}},{"$f":"#REF!","v":{"$error":"#REF!"}},{"$f":"#REF!","v":{"$error":"#REF!"}},null,{"$f":"RANK(K191,$K$126:$K245,0)","v":{"$error":"#REF!"}},{"$f":"#REF!","v":{"$error":"#REF!"}},{"$f":"#REF!","v":{"$error":"#REF!"}},{"$f":"#REF!","v":{"$error":"#REF!"}},{"$f":"#REF!","v":{"$error":"#REF!"}}]
[{"$f":"RANK(E192,$E$126:$E245,0)","v":{"$error":"#REF!"}},{"$f":"#REF!","v":{"$error":"#REF!"}},{"$f":"#REF!","v":{"$error":"#REF!"}},{"$f":"#REF!","v":{"$error":"#REF!"}},{"$f":"#REF!","v":{"$error":"#REF!"}},null,{"$f":"RANK(K192,$K$126:$K245,0)","v":{"$error":"#REF!"}},{"$f":"#REF!","v":{"$error":"#REF!"}},{"$f":"#REF!","v":{"$error":"#REF!"}},{"$f":"#REF!","v":{"$error":"#REF!"}},{"$f":"#REF!","v":{"$error":"#REF!"}}]
[{"$f":"RANK(E193,$E$126:$E245,0)","v":{"$error":"#REF!"}},{"$f":"#REF!","v":{"$error":"#REF!"}},{"$f":"#REF!","v":{"$error":"#REF!"}},{"$f":"#REF!","v":{"$error":"#REF!"}},{"$f":"#REF!","v":{"$error":"#REF!"}},null,{"$f":"RANK(K193,$K$126:$K245,0)","v":{"$error":"#REF!"}},{"$f":"#REF!","v":{"$error":"#REF!"}},{"$f":"#REF!","v":{"$error":"#REF!"}},{"$f":"#REF!","v":{"$error":"#REF!"}},{"$f":"#REF!","v":{"$error":"#REF!"}}]
[{"$f":"RANK(E194,$E$126:$E245,0)","v":{"$error":"#REF!"}},{"$f":"#REF!","v":{"$error":"#REF!"}},{"$f":"#REF!","v":{"$error":"#REF!"}},{"$f":"#REF!","v":{"$error":"#REF!"}},{"$f":"#REF!","v":{"$error":"#REF!"}},null,{"$f":"RANK(K194,$K$126:$K245,0)","v":{"$error":"#REF!"}},{"$f":"#REF!","v":{"$error":"#REF!"}},{"$f":"#REF!","v":{"$error":"#REF!"}},{"$f":"#REF!","v":{"$error":"#REF!"}},{"$f":"#REF!","v":{"$error":"#REF!"}}]
[{"$f":"RANK(E195,$E$126:$E245,0)","v":{"$error":"#REF!"}},{"$f":"#REF!","v":{"$error":"#REF!"}},{"$f":"#REF!","v":{"$error":"#REF!"}},{"$f":"#REF!","v":{"$error":"#REF!"}},{"$f":"#REF!","v":{"$error":"#REF!"}},null,{"$f":"RANK(K195,$K$126:$K245,0)","v":{"$error":"#REF!"}},{"$f":"#REF!","v":{"$error":"#REF!"}},{"$f":"#REF!","v":{"$error":"#REF!"}},{"$f":"#REF!","v":{"$error":"#REF!"}},{"$f":"#REF!","v":{"$error":"#REF!"}}]
[{"$f":"RANK(E196,$E$126:$E245,0)","v":{"$error":"#REF!"}},{"$f":"#REF!","v":{"$error":"#REF!"}},{"$f":"#REF!","v":{"$error":"#REF!"}},{"$f":"#REF!","v":{"$error":"#REF!"}},{"$f":"#REF!","v":{"$error":"#REF!"}},null,{"$f":"RANK(K196,$K$126:$K245,0)","v":{"$error":"#REF!"}},{"$f":"#REF!","v":{"$error":"#REF!"}},{"$f":"#REF!","v":{"$error":"#REF!"}},{"$f":"#REF!","v":{"$error":"#REF!"}},{"$f":"#REF!","v":{"$error":"#REF!"}}]
[{"$f":"RANK(E197,$E$126:$E245,0)","v":{"$error":"#REF!"}},{"$f":"#REF!","v":{"$error":"#REF!"}},{"$f":"#REF!","v":{"$error":"#REF!"}},{"$f":"#REF!","v":{"$error":"#REF!"}},{"$f":"#REF!","v":{"$error":"#REF!"}},null,{"$f":"RANK(K197,$K$126:$K245,0)","v":{"$error":"#REF!"}},{"$f":"#REF!","v":{"$error":"#REF!"}},{"$f":"#REF!","v":{"$error":"#REF!"}},{"$f":"#REF!","v":{"$error":"#REF!"}},{"$f":"#REF!","v":{"$error":"#REF!"}}]
[{"$f":"RANK(E198,$E$126:$E245,0)","v":{"$error":"#REF!"}},{"$f":"#REF!","v":{"$error":"#REF!"}},{"$f":"#REF!","v":{"$error":"#REF!"}},{"$f":"#REF!","v":{"$error":"#REF!"}},{"$f":"#REF!","v":{"$error":"#REF!"}},null,{"$f":"RANK(K198,$K$126:$K245,0)","v":{"$error":"#REF!"}},{"$f":"#REF!","v":{"$error":"#REF!"}},{"$f":"#REF!","v":{"$error":"#REF!"}},{"$f":"#REF!","v":{"$error":"#REF!"}},{"$f":"#REF!","v":{"$error":"#REF!"}}]
[{"$f":"RANK(E199,$E$126:$E245,0)","v":{"$error":"#REF!"}},{"$f":"#REF!","v":{"$error":"#REF!"}},{"$f":"#REF!","v":{"$error":"#REF!"}},{"$f":"#REF!","v":{"$error":"#REF!"}},{"$f":"#REF!","v":{"$error":"#REF!"}},null,{"$f":"RANK(K199,$K$126:$K245,0)","v":{"$error":"#REF!"}},{"$f":"#REF!","v":{"$error":"#REF!"}},{"$f":"#REF!","v":{"$error":"#REF!"}},{"$f":"#REF!","v":{"$error":"#REF!"}},{"$f":"#REF!","v":{"$error":"#REF!"}}]
[{"$f":"RANK(E200,$E$126:$E245,0)","v":{"$error":"#REF!"}},{"$f":"#REF!","v":{"$error":"#REF!"}},{"$f":"#REF!","v":{"$error":"#REF!"}},{"$f":"#REF!","v":{"$error":"#REF!"}},{"$f":"#REF!","v":{"$error":"#REF!"}},null,{"$f":"RANK(K200,$K$126:$K245,0)","v":{"$error":"#REF!"}},{"$f":"#REF!","v":{"$error":"#REF!"}},{"$f":"#REF!","v":{"$error":"#REF!"}},{"$f":"#REF!","v":{"$error":"#REF!"}},{"$f":"#REF!","v":{"$error":"#REF!"}}]
[{"$f":"RANK(E201,$E$126:$E245,0)","v":{"$error":"#REF!"}},{"$f":"#REF!","v":{"$error":"#REF!"}},{"$f":"#REF!","v":{"$error":"#REF!"}},{"$f":"#REF!","v":{"$error":"#REF!"}},{"$f":"#REF!","v":{"$error":"#REF!"}},null,{"$f":"RANK(K201,$K$126:$K245,0)","v":{"$error":"#REF!"}},{"$f":"#REF!","v":{"$error":"#REF!"}},{"$f":"#REF!","v":{"$error":"#REF!"}},{"$f":"#REF!","v":{"$error":"#REF!"}},{"$f":"#REF!","v":{"$error":"#REF!"}}]
[{"$f":"RANK(E202,$E$126:$E245,0)","v":{"$error":"#REF!"}},{"$f":"#REF!","v":{"$error":"#REF!"}},{"$f":"#REF!","v":{"$error":"#REF!"}},{"$f":"#REF!","v":{"$error":"#REF!"}},{"$f":"#REF!","v":{"$error":"#REF!"}},null,{"$f":"RANK(K202,$K$126:$K245,0)","v":{"$error":"#REF!"}},{"$f":"#REF!","v":{"$error":"#REF!"}},{"$f":"#REF!","v":{"$error":"#REF!"}},{"$f":"#REF!","v":{"$error":"#REF!"}},{"$f":"#REF!","v":{"$error":"#REF!"}}]
[{"$f":"RANK(E203,$E$126:$E245,0)","v":{"$error":"#REF!"}},{"$f":"#REF!","v":{"$error":"#REF!"}},{"$f":"#REF!","v":{"$error":"#REF!"}},{"$f":"#REF!","v":{"$error":"#REF!"}},{"$f":"#REF!","v":{"$error":"#REF!"}},null,{"$f":"RANK(K203,$K$126:$K245,0)","v":{"$error":"#REF!"}},{"$f":"#REF!","v":{"$error":"#REF!"}},{"$f":"#REF!","v":{"$error":"#REF!"}},{"$f":"#REF!","v":{"$error":"#REF!"}},{"$f":"#REF!","v":{"$error":"#REF!"}}]
[{"$f":"RANK(E204,$E$126:$E245,0)","v":{"$error":"#REF!"}},{"$f":"#REF!","v":{"$error":"#REF!"}},{"$f":"#REF!","v":{"$error":"#REF!"}},{"$f":"#REF!","v":{"$error":"#REF!"}},{"$f":"#REF!","v":{"$error":"#REF!"}},null,{"$f":"RANK(K204,$K$126:$K245,0)","v":{"$error":"#REF!"}},{"$f":"#REF!","v":{"$error":"#REF!"}},{"$f":"#REF!","v":{"$error":"#REF!"}},{"$f":"#REF!","v":{"$error":"#REF!"}},{"$f":"#REF!","v":{"$error":"#REF!"}}]
[{"$f":"RANK(E205,$E$126:$E245,0)","v":{"$error":"#REF!"}},{"$f":"#REF!","v":{"$error":"#REF!"}},{"$f":"#REF!","v":{"$error":"#REF!"}},{"$f":"#REF!","v":{"$error":"#REF!"}},{"$f":"#REF!","v":{"$error":"#REF!"}},null,{"$f":"RANK(K205,$K$126:$K245,0)","v":{"$error":"#REF!"}},{"$f":"#REF!","v":{"$error":"#REF!"}},{"$f":"#REF!","v":{"$error":"#REF!"}},{"$f":"#REF!","v":{"$error":"#REF!"}},{"$f":"#REF!","v":{"$error":"#REF!"}}]
[{"$f":"RANK(E206,$E$126:$E245,0)","v":{"$error":"#REF!"}},{"$f":"#REF!","v":{"$error":"#REF!"}},{"$f":"#REF!","v":{"$error":"#REF!"}},{"$f":"#REF!","v":{"$error":"#REF!"}},{"$f":"#REF!","v":{"$error":"#REF!"}},null,{"$f":"RANK(K206,$K$126:$K245,0)","v":{"$error":"#REF!"}},{"$f":"#REF!","v":{"$error":"#REF!"}},{"$f":"#REF!","v":{"$error":"#REF!"}},{"$f":"#REF!","v":{"$error":"#REF!"}},{"$f":"#REF!","v":{"$error":"#REF!"}}]
[{"$f":"RANK(E207,$E$126:$E245,0)","v":{"$error":"#REF!"}},{"$f":"#REF!","v":{"$error":"#REF!"}},{"$f":"#REF!","v":{"$error":"#REF!"}},{"$f":"#REF!","v":{"$error":"#REF!"}},{"$f":"#REF!","v":{"$error":"#REF!"}},null,{"$f":"RANK(K207,$K$126:$K245,0)","v":{"$error":"#REF!"}},{"$f":"#REF!","v":{"$error":"#REF!"}},{"$f":"#REF!","v":{"$error":"#REF!"}},{"$f":"#REF!","v":{"$error":"#REF!"}},{"$f":"#REF!","v":{"$error":"#REF!"}}]
[{"$f":"RANK(E208,$E$126:$E245,0)","v":{"$error":"#REF!"}},{"$f":"#REF!","v":{"$error":"#REF!"}},{"$f":"#REF!","v":{"$error":"#REF!"}},{"$f":"#REF!","v":{"$error":"#REF!"}},{"$f":"#REF!","v":{"$error":"#REF!"}},null,{"$f":"RANK(K208,$K$126:$K245,0)","v":{"$error":"#REF!"}},{"$f":"#REF!","v":{"$error":"#REF!"}},{"$f":"#REF!","v":{"$error":"#REF!"}},{"$f":"#REF!","v":{"$error":"#REF!"}},{"$f":"#REF!","v":{"$error":"#REF!"}}]
[{"$f":"RANK(E209,$E$126:$E245,0)","v":{"$error":"#REF!"}},{"$f":"#REF!","v":{"$error":"#REF!"}},{"$f":"#REF!","v":{"$error":"#REF!"}},{"$f":"#REF!","v":{"$error":"#REF!"}},{"$f":"#REF!","v":{"$error":"#REF!"}},null,{"$f":"RANK(K209,$K$126:$K245,0)","v":{"$error":"#REF!"}},{"$f":"#REF!","v":{"$error":"#REF!"}},{"$f":"#REF!","v":{"$error":"#REF!"}},{"$f":"#REF!","v":{"$error":"#REF!"}},{"$f":"#REF!","v":{"$error":"#REF!"}}]
[{"$f":"RANK(E210,$E$126:$E245,0)","v":{"$error":"#REF!"}},{"$f":"#REF!","v":{"$error":"#REF!"}},{"$f":"#REF!","v":{"$error":"#REF!"}},{"$f":"#REF!","v":{"$error":"#REF!"}},{"$f":"#REF!","v":{"$error":"#REF!"}},null,{"$f":"RANK(K210,$K$126:$K245,0)","v":{"$error":"#REF!"}},{"$f":"#REF!","v":{"$error":"#REF!"}},{"$f":"#REF!","v":{"$error":"#REF!"}},{"$f":"#REF!","v":{"$error":"#REF!"}},{"$f":"#REF!","v":{"$error":"#REF!"}}]
[{"$f":"RANK(E211,$E$126:$E245,0)","v":{"$error":"#REF!"}},{"$f":"#REF!","v":{"$error":"#REF!"}},{"$f":"#REF!","v":{"$error":"#REF!"}},{"$f":"#REF!","v":{"$error":"#REF!"}},{"$f":"#REF!","v":{"$error":"#REF!"}},null,{"$f":"RANK(K211,$K$126:$K245,0)","v":{"$error":"#REF!"}},{"$f":"#REF!","v":{"$error":"#REF!"}},{"$f":"#REF!","v":{"$error":"#REF!"}},{"$f":"#REF!","v":{"$error":"#REF!"}},{"$f":"#REF!","v":{"$error":"#REF!"}}]
[{"$f":"RANK(E212,$E$126:$E245,0)","v":{"$error":"#REF!"}},{"$f":"#REF!","v":{"$error":"#REF!"}},{"$f":"#REF!","v":{"$error":"#REF!"}},{"$f":"#REF!","v":{"$error":"#REF!"}},{"$f":"#REF!","v":{"$error":"#REF!"}},null,{"$f":"RANK(K212,$K$126:$K245,0)","v":{"$error":"#REF!"}},{"$f":"#REF!","v":{"$error":"#REF!"}},{"$f":"#REF!","v":{"$error":"#REF!"}},{"$f":"#REF!","v":{"$error":"#REF!"}},{"$f":"#REF!","v":{"$error":"#REF!"}}]
[{"$f":"RANK(E213,$E$126:$E245,0)","v":{"$error":"#REF!"}},{"$f":"#REF!","v":{"$error":"#REF!"}},{"$f":"#REF!","v":{"$error":"#REF!"}},{"$f":"#REF!","v":{"$error":"#REF!"}},{"$f":"#REF!","v":{"$error":"#REF!"}},null,{"$f":"RANK(K213,$K$126:$K245,0)","v":{"$error":"#REF!"}},{"$f":"#REF!","v":{"$error":"#REF!"}},{"$f":"#REF!","v":{"$error":"#REF!"}},{"$f":"#REF!","v":{"$error":"#REF!"}},{"$f":"#REF!","v":{"$error":"#REF!"}}]
[{"$f":"RANK(E214,$E$126:$E245,0)","v":{"$error":"#REF!"}},{"$f":"#REF!","v":{"$error":"#REF!"}},{"$f":"#REF!","v":{"$error":"#REF!"}},{"$f":"#REF!","v":{"$error":"#REF!"}},{"$f":"#REF!","v":{"$error":"#REF!"}},null,{"$f":"RANK(K214,$K$126:$K245,0)","v":{"$error":"#REF!"}},{"$f":"#REF!","v":{"$error":"#REF!"}},{"$f":"#REF!","v":{"$error":"#REF!"}},{"$f":"#REF!","v":{"$error":"#REF!"}},{"$f":"#REF!","v":{"$error":"#REF!"}}]
[{"$f":"RANK(E215,$E$126:$E245,0)","v":{"$error":"#REF!"}},{"$f":"#REF!","v":{"$error":"#REF!"}},{"$f":"#REF!","v":{"$error":"#REF!"}},{"$f":"#REF!","v":{"$error":"#REF!"}},{"$f":"#REF!","v":{"$error":"#REF!"}},null,{"$f":"RANK(K215,$K$126:$K245,0)","v":{"$error":"#REF!"}},{"$f":"#REF!","v":{"$error":"#REF!"}},{"$f":"#REF!","v":{"$error":"#REF!"}},{"$f":"#REF!","v":{"$error":"#REF!"}},{"$f":"#REF!","v":{"$error":"#REF!"}}]
[{"$f":"RANK(E216,$E$126:$E245,0)","v":{"$error":"#REF!"}},{"$f":"#REF!","v":{"$error":"#REF!"}},{"$f":"#REF!","v":{"$error":"#REF!"}},{"$f":"#REF!","v":{"$error":"#REF!"}},{"$f":"#REF!","v":{"$error":"#REF!"}},null,{"$f":"RANK(K216,$K$126:$K245,0)","v":{"$error":"#REF!"}},{"$f":"#REF!","v":{"$error":"#REF!"}},{"$f":"#REF!","v":{"$error":"#REF!"}},{"$f":"#REF!","v":{"$error":"#REF!"}},{"$f":"#REF!","v":{"$error":"#REF!"}}]
[{"$f":"RANK(E217,$E$126:$E245,0)","v":{"$error":"#REF!"}},{"$f":"#REF!","v":{"$error":"#REF!"}},{"$f":"#REF!","v":{"$error":"#REF!"}},{"$f":"#REF!","v":{"$error":"#REF!"}},{"$f":"#REF!","v":{"$error":"#REF!"}},null,{"$f":"RANK(K217,$K$126:$K245,0)","v":{"$error":"#REF!"}},{"$f":"#REF!","v":{"$error":"#REF!"}},{"$f":"#REF!","v":{"$error":"#REF!"}},{"$f":"#REF!","v":{"$error":"#REF!"}},{"$f":"#REF!","v":{"$error":"#REF!"}}]
[{"$f":"RANK(E218,$E$126:$E245,0)","v":{"$error":"#REF!"}},{"$f":"#REF!","v":{"$error":"#REF!"}},{"$f":"#REF!","v":{"$error":"#REF!"}},{"$f":"#REF!","v":{"$error":"#REF!"}},{"$f":"#REF!","v":{"$error":"#REF!"}},null,{"$f":"RANK(K218,$K$126:$K245,0)","v":{"$error":"#REF!"}},{"$f":"#REF!","v":{"$error":"#REF!"}},{"$f":"#REF!","v":{"$error":"#REF!"}},{"$f":"#REF!","v":{"$error":"#REF!"}},{"$f":"#REF!","v":{"$error":"#REF!"}}]
[{"$f":"RANK(E219,$E$126:$E245,0)","v":{"$error":"#REF!"}},{"$f":"#REF!","v":{"$error":"#REF!"}},{"$f":"#REF!","v":{"$error":"#REF!"}},{"$f":"#REF!","v":{"$error":"#REF!"}},{"$f":"#REF!","v":{"$error":"#REF!"}},null,{"$f":"RANK(K219,$K$126:$K245,0)","v":{"$error":"#REF!"}},{"$f":"#REF!","v":{"$error":"#REF!"}},{"$f":"#REF!","v":{"$error":"#REF!"}},{"$f":"#REF!","v":{"$error":"#REF!"}},{"$f":"#REF!","v":{"$error":"#REF!"}}]
[{"$f":"RANK(E220,$E$126:$E245,0)","v":{"$error":"#REF!"}},{"$f":"#REF!","v":{"$error":"#REF!"}},{"$f":"#REF!","v":{"$error":"#REF!"}},{"$f":"#REF!","v":{"$error":"#REF!"}},{"$f":"#REF!","v":{"$error":"#REF!"}},null,{"$f":"RANK(K220,$K$126:$K245,0)","v":{"$error":"#REF!"}},{"$f":"#REF!","v":{"$error":"#REF!"}},{"$f":"#REF!","v":{"$error":"#REF!"}},{"$f":"#REF!","v":{"$error":"#REF!"}},{"$f":"#REF!","v":{"$error":"#REF!"}}]
[{"$f":"RANK(E221,$E$126:$E245,0)","v":{"$error":"#REF!"}},{"$f":"#REF!","v":{"$error":"#REF!"}},{"$f":"#REF!","v":{"$error":"#REF!"}},{"$f":"#REF!","v":{"$error":"#REF!"}},{"$f":"#REF!","v":{"$error":"#REF!"}},null,{"$f":"RANK(K221,$K$126:$K245,0)","v":{"$error":"#REF!"}},{"$f":"#REF!","v":{"$error":"#REF!"}},{"$f":"#REF!","v":{"$error":"#REF!"}},{"$f":"#REF!","v":{"$error":"#REF!"}},{"$f":"#REF!","v":{"$error":"#REF!"}}]
[{"$f":"RANK(E222,$E$126:$E245,0)","v":{"$error":"#REF!"}},{"$f":"#REF!","v":{"$error":"#REF!"}},{"$f":"#REF!","v":{"$error":"#REF!"}},{"$f":"#REF!","v":{"$error":"#REF!"}},{"$f":"#REF!","v":{"$error":"#REF!"}},null,{"$f":"RANK(K222,$K$126:$K245,0)","v":{"$error":"#REF!"}},{"$f":"#REF!","v":{"$error":"#REF!"}},{"$f":"#REF!","v":{"$error":"#REF!"}},{"$f":"#REF!","v":{"$error":"#REF!"}},{"$f":"#REF!","v":{"$error":"#REF!"}}]
[{"$f":"RANK(E223,$E$126:$E245,0)","v":{"$error":"#REF!"}},{"$f":"#REF!","v":{"$error":"#REF!"}},{"$f":"#REF!","v":{"$error":"#REF!"}},{"$f":"#REF!","v":{"$error":"#REF!"}},{"$f":"#REF!","v":{"$error":"#REF!"}},null,{"$f":"RANK(K223,$K$126:$K245,0)","v":{"$error":"#REF!"}},{"$f":"#REF!","v":{"$error":"#REF!"}},{"$f":"#REF!","v":{"$error":"#REF!"}},{"$f":"#REF!","v":{"$error":"#REF!"}},{"$f":"#REF!","v":{"$error":"#REF!"}}]
[{"$f":"RANK(E224,$E$126:$E245,0)","v":{"$error":"#REF!"}},{"$f":"#REF!","v":{"$error":"#REF!"}},{"$f":"#REF!","v":{"$error":"#REF!"}},{"$f":"#REF!","v":{"$error":"#REF!"}},{"$f":"#REF!","v":{"$error":"#REF!"}},null,{"$f":"RANK(K224,$K$126:$K245,0)","v":{"$error":"#REF!"}},{"$f":"#REF!","v":{"$error":"#REF!"}},{"$f":"#REF!","v":{"$error":"#REF!"}},{"$f":"#REF!","v":{"$error":"#REF!"}},{"$f":"#REF!","v":{"$error":"#REF!"}}]
[{"$f":"RANK(E225,$E$126:$E245,0)","v":{"$error":"#REF!"}},{"$f":"#REF!","v":{"$error":"#REF!"}},{"$f":"#REF!","v":{"$error":"#REF!"}},{"$f":"#REF!","v":{"$error":"#REF!"}},{"$f":"#REF!","v":{"$error":"#REF!"}},null,{"$f":"RANK(K225,$K$126:$K245,0)","v":{"$error":"#REF!"}},{"$f":"#REF!","v":{"$error":"#REF!"}},{"$f":"#REF!","v":{"$error":"#REF!"}},{"$f":"#REF!","v":{"$error":"#REF!"}},{"$f":"#REF!","v":{"$error":"#REF!"}}]
[{"$f":"RANK(E226,$E$126:$E245,0)","v":{"$error":"#REF!"}},{"$f":"#REF!","v":{"$error":"#REF!"}},{"$f":"#REF!","v":{"$error":"#REF!"}},{"$f":"#REF!","v":{"$error":"#REF!"}},{"$f":"#REF!","v":{"$error":"#REF!"}},null,{"$f":"RANK(K226,$K$126:$K245,0)","v":{"$error":"#REF!"}},{"$f":"#REF!","v":{"$error":"#REF!"}},{"$f":"#REF!","v":{"$error":"#REF!"}},{"$f":"#REF!","v":{"$error":"#REF!"}},{"$f":"#REF!","v":{"$error":"#REF!"}}]
[{"$f":"RANK(E227,$E$126:$E245,0)","v":{"$error":"#REF!"}},{"$f":"#REF!","v":{"$error":"#REF!"}},{"$f":"#REF!","v":{"$error":"#REF!"}},{"$f":"#REF!","v":{"$error":"#REF!"}},{"$f":"#REF!","v":{"$error":"#REF!"}},null,{"$f":"RANK(K227,$K$126:$K245,0)","v":{"$error":"#REF!"}},{"$f":"#REF!","v":{"$error":"#REF!"}},{"$f":"#REF!","v":{"$error":"#REF!"}},{"$f":"#REF!","v":{"$error":"#REF!"}},{"$f":"#REF!","v":{"$error":"#REF!"}}]
[{"$f":"RANK(E228,$E$126:$E245,0)","v":{"$error":"#REF!"}},{"$f":"#REF!","v":{"$error":"#REF!"}},{"$f":"#REF!","v":{"$error":"#REF!"}},{"$f":"#REF!","v":{"$error":"#REF!"}},{"$f":"#REF!","v":{"$error":"#REF!"}},null,{"$f":"RANK(K228,$K$126:$K245,0)","v":{"$error":"#REF!"}},{"$f":"#REF!","v":{"$error":"#REF!"}},{"$f":"#REF!","v":{"$error":"#REF!"}},{"$f":"#REF!","v":{"$error":"#REF!"}},{"$f":"#REF!","v":{"$error":"#REF!"}}]
[{"$f":"RANK(E229,$E$126:$E245,0)","v":{"$error":"#REF!"}},{"$f":"#REF!","v":{"$error":"#REF!"}},{"$f":"#REF!","v":{"$error":"#REF!"}},{"$f":"#REF!","v":{"$error":"#REF!"}},{"$f":"#REF!","v":{"$error":"#REF!"}},null,{"$f":"RANK(K229,$K$126:$K245,0)","v":{"$error":"#REF!"}},{"$f":"#REF!","v":{"$error":"#REF!"}},{"$f":"#REF!","v":{"$error":"#REF!"}},{"$f":"#REF!","v":{"$error":"#REF!"}},{"$f":"#REF!","v":{"$error":"#REF!"}}]
[{"$f":"RANK(E230,$E$126:$E245,0)","v":{"$error":"#REF!"}},{"$f":"#REF!","v":{"$error":"#REF!"}},{"$f":"#REF!","v":{"$error":"#REF!"}},{"$f":"#REF!","v":{"$error":"#REF!"}},{"$f":"#REF!","v":{"$error":"#REF!"}},null,{"$f":"RANK(K230,$K$126:$K245,0)","v":{"$error":"#REF!"}},{"$f":"#REF!","v":{"$error":"#REF!"}},{"$f":"#REF!","v":{"$error":"#REF!"}},{"$f":"#REF!","v":{"$error":"#REF!"}},{"$f":"#REF!","v":{"$error":"#REF!"}}]
[{"$f":"RANK(E231,$E$126:$E245,0)","v":{"$error":"#REF!"}},{"$f":"#REF!","v":{"$error":"#REF!"}},{"$f":"#REF!","v":{"$error":"#REF!"}},{"$f":"#REF!","v":{"$error":"#REF!"}},{"$f":"#REF!","v":{"$error":"#REF!"}},null,{"$f":"RANK(K231,$K$126:$K245,0)","v":{"$error":"#REF!"}},{"$f":"#REF!","v":{"$error":"#REF!"}},{"$f":"#REF!","v":{"$error":"#REF!"}},{"$f":"#REF!","v":{"$error":"#REF!"}},{"$f":"#REF!","v":{"$error":"#REF!"}}]
[{"$f":"RANK(E232,$E$126:$E245,0)","v":{"$error":"#REF!"}},{"$f":"#REF!","v":{"$error":"#REF!"}},{"$f":"#REF!","v":{"$error":"#REF!"}},{"$f":"#REF!","v":{"$error":"#REF!"}},{"$f":"#REF!","v":{"$error":"#REF!"}},null,{"$f":"RANK(K232,$K$126:$K245,0)","v":{"$error":"#REF!"}},{"$f":"#REF!","v":{"$error":"#REF!"}},{"$f":"#REF!","v":{"$error":"#REF!"}},{"$f":"#REF!","v":{"$error":"#REF!"}},{"$f":"#REF!","v":{"$error":"#REF!"}}]
[{"$f":"RANK(E233,$E$126:$E245,0)","v":{"$error":"#REF!"}},{"$f":"#REF!","v":{"$error":"#REF!"}},{"$f":"#REF!","v":{"$error":"#REF!"}},{"$f":"#REF!","v":{"$error":"#REF!"}},{"$f":"#REF!","v":{"$error":"#REF!"}},null,{"$f":"RANK(K233,$K$126:$K245,0)","v":{"$error":"#REF!"}},{"$f":"#REF!","v":{"$error":"#REF!"}},{"$f":"#REF!","v":{"$error":"#REF!"}},{"$f":"#REF!","v":{"$error":"#REF!"}},{"$f":"#REF!","v":{"$error":"#REF!"}}]
[{"$f":"RANK(E234,$E$126:$E245,0)","v":{"$error":"#REF!"}},{"$f":"#REF!","v":{"$error":"#REF!"}},{"$f":"#REF!","v":{"$error":"#REF!"}},{"$f":"#REF!","v":{"$error":"#REF!"}},{"$f":"#REF!","v":{"$error":"#REF!"}},null,{"$f":"RANK(K234,$K$126:$K245,0)","v":{"$error":"#REF!"}},{"$f":"#REF!","v":{"$error":"#REF!"}},{"$f":"#REF!","v":{"$error":"#REF!"}},{"$f":"#REF!","v":{"$error":"#REF!"}},{"$f":"#REF!","v":{"$error":"#REF!"}}]
[{"$f":"RANK(E235,$E$126:$E245,0)","v":{"$error":"#REF!"}},{"$f":"#REF!","v":{"$error":"#REF!"}},{"$f":"#REF!","v":{"$error":"#REF!"}},{"$f":"#REF!","v":{"$error":"#REF!"}},{"$f":"#REF!","v":{"$error":"#REF!"}},null,{"$f":"RANK(K235,$K$126:$K245,0)","v":{"$error":"#REF!"}},{"$f":"#REF!","v":{"$error":"#REF!"}},{"$f":"#REF!","v":{"$error":"#REF!"}},{"$f":"#REF!","v":{"$error":"#REF!"}},{"$f":"#REF!","v":{"$error":"#REF!"}}]
[{"$f":"RANK(E236,$E$126:$E245,0)","v":{"$error":"#REF!"}},{"$f":"#REF!","v":{"$error":"#REF!"}},{"$f":"#REF!","v":{"$error":"#REF!"}},{"$f":"#REF!","v":{"$error":"#REF!"}},{"$f":"#REF!","v":{"$error":"#REF!"}},null,{"$f":"RANK(K236,$K$126:$K245,0)","v":{"$error":"#REF!"}},{"$f":"#REF!","v":{"$error":"#REF!"}},{"$f":"#REF!","v":{"$error":"#REF!"}},{"$f":"#REF!","v":{"$error":"#REF!"}},{"$f":"#REF!","v":{"$error":"#REF!"}}]
[{"$f":"RANK(E237,$E$126:$E245,0)","v":{"$error":"#REF!"}},{"$f":"#REF!","v":{"$error":"#REF!"}},{"$f":"#REF!","v":{"$error":"#REF!"}},{"$f":"#REF!","v":{"$error":"#REF!"}},{"$f":"#REF!","v":{"$error":"#REF!"}},null,{"$f":"RANK(K237,$K$126:$K245,0)","v":{"$error":"#REF!"}},{"$f":"#REF!","v":{"$error":"#REF!"}},{"$f":"#REF!","v":{"$error":"#REF!"}},{"$f":"#REF!","v":{"$error":"#REF!"}},{"$f":"#REF!","v":{"$error":"#REF!"}}]
[{"$f":"RANK(E238,$E$126:$E245,0)","v":{"$error":"#REF!"}},{"$f":"#REF!","v":{"$error":"#REF!"}},{"$f":"#REF!","v":{"$error":"#REF!"}},{"$f":"#REF!","v":{"$error":"#REF!"}},{"$f":"#REF!","v":{"$error":"#REF!"}},null,{"$f":"RANK(K238,$K$126:$K245,0)","v":{"$error":"#REF!"}},{"$f":"#REF!","v":{"$error":"#REF!"}},{"$f":"#REF!","v":{"$error":"#REF!"}},{"$f":"#REF!","v":{"$error":"#REF!"}},{"$f":"#REF!","v":{"$error":"#REF!"}}]
[{"$f":"RANK(E239,$E$126:$E245,0)","v":{"$error":"#REF!"}},{"$f":"#REF!","v":{"$error":"#REF!"}},{"$f":"#REF!","v":{"$error":"#REF!"}},{"$f":"#REF!","v":{"$error":"#REF!"}},{"$f":"#REF!","v":{"$error":"#REF!"}},null,{"$f":"RANK(K239,$K$126:$K245,0)","v":{"$error":"#REF!"}},{"$f":"#REF!","v":{"$error":"#REF!"}},{"$f":"#REF!","v":{"$error":"#REF!"}},{"$f":"#REF!","v":{"$error":"#REF!"}},{"$f":"#REF!","v":{"$error":"#REF!"}}]
[{"$f":"RANK(E240,$E$126:$E245,0)","v":{"$error":"#REF!"}},{"$f":"#REF!","v":{"$error":"#REF!"}},{"$f":"#REF!","v":{"$error":"#REF!"}},{"$f":"#REF!","v":{"$error":"#REF!"}},{"$f":"#REF!","v":{"$error":"#REF!"}},null,{"$f":"RANK(K240,$K$126:$K245,0)","v":{"$error":"#REF!"}},{"$f":"#REF!","v":{"$error":"#REF!"}},{"$f":"#REF!","v":{"$error":"#REF!"}},{"$f":"#REF!","v":{"$error":"#REF!"}},{"$f":"#REF!","v":{"$error":"#REF!"}}]
[{"$f":"RANK(E241,$E$126:$E245,0)","v":{"$error":"#REF!"}},{"$f":"#REF!","v":{"$error":"#REF!"}},{"$f":"#REF!","v":{"$error":"#REF!"}},{"$f":"#REF!","v":{"$error":"#REF!"}},{"$f":"#REF!","v":{"$error":"#REF!"}},null,{"$f":"RANK(K241,$K$126:$K245,0)","v":{"$error":"#REF!"}},{"$f":"#REF!","v":{"$error":"#REF!"}},{"$f":"#REF!","v":{"$error":"#REF!"}},{"$f":"#REF!","v":{"$error":"#REF!"}},{"$f":"#REF!","v":{"$error":"#REF!"}}]
[{"$f":"RANK(E242,$E$126:$E245,0)","v":{"$error":"#REF!"}},{"$f":"#REF!","v":{"$error":"#REF!"}},{"$f":"#REF!","v":{"$error":"#REF!"}},{"$f":"#REF!","v":{"$error":"#REF!"}},{"$f":"#REF!","v":{"$error":"#REF!"}},null,{"$f":"RANK(K242,$K$126:$K245,0)","v":{"$error":"#REF!"}},{"$f":"#REF!","v":{"$error":"#REF!"}},{"$f":"#REF!","v":{"$error":"#REF!"}},{"$f":"#REF!","v":{"$error":"#REF!"}},{"$f":"#REF!","v":{"$error":"#REF!"}}]
[{"$f":"RANK(E243,$E$126:$E245,0)","v":{"$error":"#REF!"}},{"$f":"#REF!","v":{"$error":"#REF!"}},{"$f":"#REF!","v":{"$error":"#REF!"}},{"$f":"#REF!","v":{"$error":"#REF!"}},{"$f":"#REF!","v":{"$error":"#REF!"}},null,{"$f":"RANK(K243,$K$126:$K245,0)","v":{"$error":"#REF!"}},{"$f":"#REF!","v":{"$error":"#REF!"}},{"$f":"#REF!","v":{"$error":"#REF!"}},{"$f":"#REF!","v":{"$error":"#REF!"}},{"$f":"#REF!","v":{"$error":"#REF!"}}]
[{"$f":"RANK(E244,$E$126:$E245,0)","v":{"$error":"#REF!"}},{"$f":"#REF!","v":{"$error":"#REF!"}},{"$f":"#REF!","v":{"$error":"#REF!"}},{"$f":"#REF!","v":{"$error":"#REF!"}},{"$f":"#REF!","v":{"$error":"#REF!"}},null,{"$f":"RANK(K244,$K$126:$K245,0)","v":{"$error":"#REF!"}},{"$f":"#REF!","v":{"$error":"#REF!"}},{"$f":"#REF!","v":{"$error":"#REF!"}},{"$f":"#REF!","v":{"$error":"#REF!"}},{"$f":"#REF!","v":{"$error":"#REF!"}}]
[{"$f":"RANK(E245,$E$126:$E245,0)","v":{"$error":"#REF!"}},{"$f":"#REF!","v":{"$error":"#REF!"}},{"$f":"#REF!","v":{"$error":"#REF!"}},{"$f":"#REF!","v":{"$error":"#REF!"}},{"$f":"#REF!","v":{"$error":"#REF!"}},null,{"$f":"RANK(K245,$K$126:$K245,0)","v":{"$error":"#REF!"}},{"$f":"#REF!","v":{"$error":"#REF!"}},{"$f":"#REF!","v":{"$error":"#REF!"}},{"$f":"#REF!","v":{"$error":"#REF!"}},{"$f":"#REF!","v":{"$error":"#REF!"}}]
["Einzelwertung 60 m Weiblich",null,{"$f":"#REF!","v":{"$error":"#REF!"}},{"$f":"#REF!","v":{"$error":"#REF!"}},null,null,"Einzelwertung 60 m Männlich",null,{"$f":"#REF!","v":{"$error":"#REF!"}},{"$f":"#REF!","v":{"$error":"#REF!"}}]

{"sheet":"Ez-Schlagball","index":13,"n_rows":246,"n_cols":11,"rows_kept":246,"cut":false,"hidden":false,"merged":[[245,0,245,1],[245,6,245,7],[123,9,123,10],[0,0,0,1],[0,3,0,4],[0,6,0,7],[0,9,0,10],[123,0,123,1],[123,3,123,4],[123,6,123,7],[122,0,122,1],[122,6,122,7],[122,3,122,4],[245,3,245,4],[122,9,122,10],[245,9,245,10]]}
["Einzelwertung Schlagball",null,{"$f":"'w-E_R'!C1","v":"D-C/Regel-Schulen"},{"$f":"'w-E_R'!E1","v":"Ortsangabe,Datum"},null,null,"Einzelwertung Schlagball",null,{"$f":"#REF!","v":{"$error":"#REF!"}},{"$f":"#REF!","v":{"$error":"#REF!"}}]
["Rang","WEIBLICH","Schule:","Leistung","Punkte",null,"Rang","MÄNNLICH","Schule:","Leistung","Punkte"]
[{"$f":"RANK(E3,$E$3:$E$122,0)","v":1},{"$f":"'w-E_R'!B15","v":"Riegler Vanessa"},{"$f":"'w-E_R'!D15","v":"Borg Wolfsberg"},{"$f":"'w-E_R'!H15","v":43.9},{"$f":"'w-E_R'!I15","v":593},null,{"$f":"RANK(K3,$K$3:$K$122,0)","v":{"$error":"#REF!"}},{"$f":"#REF!","v":{"$error":"#REF!"}},{"$f":"#REF!","v":{"$error":"#REF!"}},{"$f":"#REF!","v":{"$error":"#REF!"}},{"$f":"#REF!","v":{"$error":"#REF!"}}]
[2,{"$f":"'w-E_R'!B38","v":"Fercher Annabell"},{"$f":"'w-E_R'!D38","v":"Musik NMS Hermagor"},{"$f":"'w-E_R'!H38","v":41.9},{"$f":"'w-E_R'!I38","v":565},null,{"$error":"#REF!"},{"$f":"#REF!","v":{"$error":"#REF!"}},{"$f":"#REF!","v":{"$error":"#REF!"}},{"$f":"#REF!","v":{"$error":"#REF!"}},{"$f":"#REF!","v":{"$error":"#REF!"}}]
[3,{"$f":"'w-E_R'!B68","v":"Krnjic Sonja"},{"$f":"'w-E_R'!D68","v":"NMS Viktring"},{"$f":"'w-E_R'!H68","v":41},{"$f":"'w-E_R'!I68","v":553},null,{"$error":"#REF!"},{"$f":"#REF!","v":{"$error":"#REF!"}},{"$f":"#REF!","v":{"$error":"#REF!"}},{"$f":"#REF!","v":{"$error":"#REF!"}},{"$f":"#REF!","v":{"$error":"#REF!"}}]
[4,{"$f":"'w-E_R'!B74","v":"Reiter Katharina"},{"$f":"'w-E_R'!D74","v":"RNMS Feldkirchen"},{"$f":"'w-E_R'!H74","v":40.700000000000003},{"$f":"'w-E_R'!I74","v":549},null,{"$error":"#REF!"},{"$f":"#REF!","v":{"$error":"#REF!"}},{"$f":"#REF!","v":{"$error":"#REF!"}},{"$f":"#REF!","v":{"$error":"#REF!"}},{"$f":"#REF!","v":{"$error":"#REF!"}}]
[5,{"$f":"'w-E_R'!B22","v":"Thaler Laurentine"},{"$f":"'w-E_R'!D22","v":"BRG Spittal"},{"$f":"'w-E_R'!H22","v":40.5},{"$f":"'w-E_R'!I22","v":546},null,{"$error":"#REF!"},{"$f":"#REF!","v":{"$error":"#REF!"}},{"$f":"#REF!","v":{"$error":"#REF!"}},{"$f":"#REF!","v":{"$error":"#REF!"}},{"$f":"#REF!","v":{"$error":"#REF!"}}]
[6,{"$f":"'w-E_R'!B4","v":"Feichter Nelly"},{"$f":"'w-E_R'!D4","v":"BG St.Martin"},{"$f":"'w-E_R'!H4","v":39.4},{"$f":"'w-E_R'!I4","v":531},null,{"$error":"#REF!"},{"$f":"#REF!","v":{"$error":"#REF!"}},{"$f":"#REF!","v":{"$error":"#REF!"}},{"$f":"#REF!","v":{"$error":"#REF!"}},{"$f":"#REF!","v":{"$error":"#REF!"}}]
[7,{"$f":"'w-E_R'!B5","v":"Heincz Gerit"},{"$f":"'w-E_R'!D5","v":"BG St.Martin"},{"$f":"'w-E_R'!H5","v":39.1},{"$f":"'w-E_R'!I5","v":527},null,{"$error":"#REF!"},{"$f":"#REF!","v":{"$error":"#REF!"}},{"$f":"#REF!","v":{"$error":"#REF!"}},{"$f":"#REF!","v":{"$error":"#REF!"}},{"$f":"#REF!","v":{"$error":"#REF!"}}]
[8,{"$f":"'w-E_R'!B40","v":"Wernitznig Nina"},{"$f":"'w-E_R'!D40","v":"Musik NMS Hermagor"},{"$f":"'w-E_R'!H40","v":38.9},{"$f":"'w-E_R'!I40","v":524},null,{"$error":"#REF!"},{"$f":"#REF!","v":{"$error":"#REF!"}},{"$f":"#REF!","v":{"$error":"#REF!"}},{"$f":"#REF!","v":{"$error":"#REF!"}},{"$f":"#REF!","v":{"$error":"#REF!"}}]
[9,{"$f":"'w-E_R'!B32","v":"Lippitsch Amelie"},{"$f":"'w-E_R'!D32","v":"Ingeborg Bachmann Gymnasium"},{"$f":"'w-E_R'!H32","v":38.1},{"$f":"'w-E_R'!I32","v":513},null,{"$error":"#REF!"},{"$f":"#REF!","v":{"$error":"#REF!"}},{"$f":"#REF!","v":{"$error":"#REF!"}},{"$f":"#REF!","v":{"$error":"#REF!"}},{"$f":"#REF!","v":{"$error":"#REF!"}}]
[10,{"$f":"'w-E_R'!B60","v":"Wiener Sophie"},{"$f":"'w-E_R'!D60","v":"NMS Landskron"},{"$f":"'w-E_R'!H60","v":38},{"$f":"'w-E_R'!I60","v":511},null,{"$error":"#REF!"},{"$f":"#REF!","v":{"$error":"#REF!"}},{"$f":"#REF!","v":{"$error":"#REF!"}},{"$f":"#REF!","v":{"$error":"#REF!"}},{"$f":"#REF!","v":{"$error":"#REF!"}}]
[11,{"$f":"'w-E_R'!B24","v":"Kampusch Michelle"},{"$f":"'w-E_R'!D24","v":"BZ Bad Eisenkappel"},{"$f":"'w-E_R'!H24","v":37.700000000000003},{"$f":"'w-E_R'!I24","v":507},null,{"$error":"#REF!"},{"$f":"#REF!","v":{"$error":"#REF!"}},{"$f":"#REF!","v":{"$error":"#REF!"}},{"$f":"#REF!","v":{"$error":"#REF!"}},{"$f":"#REF!","v":{"$error":"#REF!"}}]
[12,{"$f":"'w-E_R'!B14","v":"Pum Julia"},{"$f":"'w-E_R'!D14","v":"Borg Wolfsberg"},{"$f":"'w-E_R'!H14","v":37},{"$f":"'w-E_R'!I14","v":497},null,{"$error":"#REF!"},{"$f":"#REF!","v":{"$error":"#REF!"}},{"$f":"#REF!","v":{"$error":"#REF!"}},{"$f":"#REF!","v":{"$error":"#REF!"}},{"$f":"#REF!","v":{"$error":"#REF!"}}]
[13,{"$f":"'w-E_R'!B17","v":"Hartlieb Michelle"},{"$f":"'w-E_R'!D17","v":"BRG Spittal"},{"$f":"'w-E_R'!H17","v":36.799999999999997},{"$f":"'w-E_R'!I17","v":495},null,{"$error":"#REF!"},{"$f":"#REF!","v":{"$error":"#REF!"}},{"$f":"#REF!","v":{"$error":"#REF!"}},{"$f":"#REF!","v":{"$error":"#REF!"}},{"$f":"#REF!","v":{"$error":"#REF!"}}]
[14,{"$f":"'w-E_R'!B20","v":"Kowatsch Anna"},{"$f":"'w-E_R'!D20","v":"BRG Spittal"},{"$f":"'w-E_R'!H20","v":36.6},{"$f":"'w-E_R'!I20","v":492},null,{"$error":"#REF!"},{"$f":"#REF!","v":{"$error":"#REF!"}},{"$f":"#REF!","v":{"$error":"#REF!"}},{"$f":"#REF!","v":{"$error":"#REF!"}},{"$f":"#REF!","v":{"$error":"#REF!"}}]
[14,{"$f":"'w-E_R'!B25","v":"Kaschnig Lea"},{"$f":"'w-E_R'!D25","v":"BZ Bad Eisenkappel"},{"$f":"'w-E_R'!H25","v":36.6},{"$f":"'w-E_R'!I25","v":492},null,{"$error":"#REF!"},{"$f":"#REF!","v":{"$error":"#REF!"}},{"$f":"#REF!","v":{"$error":"#REF!"}},{"$f":"#REF!","v":{"$error":"#REF!"}},{"$f":"#REF!","v":{"$error":"#REF!"}}]
[16,{"$f":"'w-E_R'!B48","v":"Schaller Victoria"},{"$f":"'w-E_R'!D48","v":"NMS Friesach"},{"$f":"'w-E_R'!H48","v":35.9},{"$f":"'w-E_R'!I48","v":482},null,{"$error":"#REF!"},{"$f":"#REF!","v":{"$error":"#REF!"}},{"$f":"#REF!","v":{"$error":"#REF!"}},{"$f":"#REF!","v":{"$error":"#REF!"}},{"$f":"#REF!","v":{"$error":"#REF!"}}]
[16,{"$f":"'w-E_R'!B59","v":"Kassin Larissa"},{"$f":"'w-E_R'!D59","v":"NMS Landskron"},{"$f":"'w-E_R'!H59","v":35.9},{"$f":"'w-E_R'!I59","v":482},null,{"$error":"#REF!"},{"$f":"#REF!","v":{"$error":"#REF!"}},{"$f":"#REF!","v":{"$error":"#REF!"}},{"$f":"#REF!","v":{"$error":"#REF!"}},{"$f":"#REF!","v":{"$error":"#REF!"}}]
[18,{"$f":"'w-E_R'!B13","v":"Spendl Jennifer"},{"$f":"'w-E_R'!D13","v":"Borg Wolfsberg"},{"$f":"'w-E_R'!H13","v":35.799999999999997},{"$f":"'w-E_R'!I13","v":480},null,{"$error":"#REF!"},{"$f":"#REF!","v":{"$error":"#REF!"}},{"$f":"#REF!","v":{"$error":"#REF!"}},{"$f":"#REF!","v":{"$error":"#REF!"}},{"$f":"#REF!","v":{"$error":"#REF!"}}]
[19,{"$f":"'w-E_R'!B43","v":"Seebacher Mathilda"},{"$f":"'w-E_R'!D43","v":"Musik NMS Hermagor"},{"$f":"'w-E_R'!H43","v":35.6},{"$f":"'w-E_R'!I43","v":478},null,{"$error":"#REF!"},{"$f":"#REF!","v":{"$error":"#REF!"}},{"$f":"#REF!","v":{"$error":"#REF!"}},{"$f":"#REF!","v":{"$error":"#REF!"}},{"$f":"#REF!","v":{"$error":"#REF!"}}]
[20,{"$f":"'w-E_R'!B35","v":"Zenkl Hannah"},{"$f":"'w-E_R'!D35","v":"Ingeborg Bachmann Gymnasium"},{"$f":"'w-E_R'!H35","v":35.5},{"$f":"'w-E_R'!I35","v":476},null,{"$error":"#REF!"},{"$f":"#REF!","v":{"$error":"#REF!"}},{"$f":"#REF!","v":{"$error":"#REF!"}},{"$f":"#REF!","v":{"$error":"#REF!"}},{"$f":"#REF!","v":{"$error":"#REF!"}}]
[21,{"$f":"'w-E_R'!B27","v":"Millicevvic Renate"},{"$f":"'w-E_R'!D27","v":"BZ Bad Eisenkappel"},{"$f":"'w-E_R'!H27","v":35.299999999999997},{"$f":"'w-E_R'!I27","v":473},null,{"$error":"#REF!"},{"$f":"#REF!","v":{"$error":"#REF!"}},{"$f":"#REF!","v":{"$error":"#REF!"}},{"$f":"#REF!","v":{"$error":"#REF!"}},{"$f":"#REF!","v":{"$error":"#REF!"}}]
[22,{"$f":"'w-E_R'!B49","v":"Hölbling Laura"},{"$f":"'w-E_R'!D49","v":"NMS Friesach"},{"$f":"'w-E_R'!H49","v":35.200000000000003},{"$f":"'w-E_R'!I49","v":472},null,{"$error":"#REF!"},{"$f":"#REF!","v":{"$error":"#REF!"}},{"$f":"#REF!","v":{"$error":"#REF!"}},{"$f":"#REF!","v":{"$error":"#REF!"}},{"$f":"#REF!","v":{"$error":"#REF!"}}]
[22,{"$f":"'w-E_R'!B73","v":"Ebner Elena"},{"$f":"'w-E_R'!D73","v":"RNMS Feldkirchen"},{"$f":"'w-E_R'!H73","v":35.200000000000003},{"$f":"'w-E_R'!I73","v":472},null,{"$error":"#REF!"},{"$f":"#REF!","v":{"$error":"#REF!"}},{"$f":"#REF!","v":{"$error":"#REF!"}},{"$f":"#REF!","v":{"$error":"#REF!"}},{"$f":"#REF!","v":{"$error":"#REF!"}}]
[24,{"$f":"'w-E_R'!B36","v":"Laßnig Katharina"},{"$f":"'w-E_R'!D36","v":"Ingeborg Bachmann Gymnasium"},{"$f":"'w-E_R'!H36","v":34.700000000000003},{"$f":"'w-E_R'!I36","v":465},null,{"$error":"#REF!"},{"$f":"#REF!","v":{"$error":"#REF!"}},{"$f":"#REF!","v":{"$error":"#REF!"}},{"$f":"#REF!","v":{"$error":"#REF!"}},{"$f":"#REF!","v":{"$error":"#REF!"}}]
[25,{"$f":"'w-E_R'!B52","v":"Mayer Elena"},{"$f":"'w-E_R'!D52","v":"NMS Gegendtal"},{"$f":"'w-E_R'!H52","v":33.700000000000003},{"$f":"'w-E_R'!I52","v":451},null,{"$error":"#REF!"},{"$f":"#REF!","v":{"$error":"#REF!"}},{"$f":"#REF!","v":{"$error":"#REF!"}},{"$f":"#REF!","v":{"$error":"#REF!"}},{"$f":"#REF!","v":{"$error":"#REF!"}}]
[26,{"$f":"'w-E_R'!B6","v":"Enzi Sarah"},{"$f":"'w-E_R'!D6","v":"BG St.Martin"},{"$f":"'w-E_R'!H6","v":33.200000000000003},{"$f":"'w-E_R'!I6","v":444},null,{"$error":"#REF!"},{"$f":"#REF!","v":{"$error":"#REF!"}},{"$f":"#REF!","v":{"$error":"#REF!"}},{"$f":"#REF!","v":{"$error":"#REF!"}},{"$f":"#REF!","v":{"$error":"#REF!"}}]
[27,{"$f":"'w-E_R'!B8","v":"Fugger Sophie"},{"$f":"'w-E_R'!D8","v":"BG St.Martin"},{"$f":"'w-E_R'!H8","v":32.799999999999997},{"$f":"'w-E_R'!I8","v":438},null,{"$error":"#REF!"},{"$f":"#REF!","v":{"$error":"#REF!"}},{"$f":"#REF!","v":{"$error":"#REF!"}},{"$f":"#REF!","v":{"$error":"#REF!"}},{"$f":"#REF!","v":{"$error":"#REF!"}}]
[27,{"$f":"'w-E_R'!B19","v":"Krammer Kristin"},{"$f":"'w-E_R'!D19","v":"BRG Spittal"},{"$f":"'w-E_R'!H19","v":32.799999999999997},{"$f":"'w-E_R'!I19","v":438},null,{"$error":"#REF!"},{"$f":"#REF!","v":{"$error":"#REF!"}},{"$f":"#REF!","v":{"$error":"#REF!"}},{"$f":"#REF!","v":{"$error":"#REF!"}},{"$f":"#REF!","v":{"$error":"#REF!"}}]
[29,{"$f":"'w-E_R'!B21","v":"Possegger Christina"},{"$f":"'w-E_R'!D21","v":"BRG Spittal"},{"$f":"'w-E_R'!H21","v":32.6},{"$f":"'w-E_R'!I21","v":435},null,{"$error":"#REF!"},{"$f":"#REF!","v":{"$error":"#REF!"}},{"$f":"#REF!","v":{"$error":"#REF!"}},{"$f":"#REF!","v":{"$error":"#REF!"}},{"$f":"#REF!","v":{"$error":"#REF!"}}]
[30,{"$f":"'w-E_R'!B63","v":"Santner Fabienne"},{"$f":"'w-E_R'!D63","v":"NMS Landskron"},{"$f":"'w-E_R'!H63","v":31.9},{"$f":"'w-E_R'!I63","v":425},null,{"$error":"#REF!"},{"$f":"#REF!","v":{"$error":"#REF!"}},{"$f":"#REF!","v":{"$error":"#REF!"}},{"$f":"#REF!","v":{"$error":"#REF!"}},{"$f":"#REF!","v":{"$error":"#REF!"}}]
[31,{"$f":"'w-E_R'!B67","v":"Toth Lili"},{"$f":"'w-E_R'!D67","v":"NMS Viktring"},{"$f":"'w-E_R'!H67","v":31.8},{"$f":"'w-E_R'!I67","v":424},null,{"$error":"#REF!"},{"$f":"#REF!","v":{"$error":"#REF!"}},{"$f":"#REF!","v":{"$error":"#REF!"}},{"$f":"#REF!","v":{"$error":"#REF!"}},{"$f":"#REF!","v":{"$error":"#REF!"}}]
[32,{"$f":"'w-E_R'!B3","v":"Wallner Paulina"},{"$f":"'w-E_R'!D3","v":"BG St.Martin"},{"$f":"'w-E_R'!H3","v":31.5},{"$f":"'w-E_R'!I3","v":420},null,{"$error":"#REF!"},{"$f":"#REF!","v":{"$error":"#REF!"}},{"$f":"#REF!","v":{"$error":"#REF!"}},{"$f":"#REF!","v":{"$error":"#REF!"}},{"$f":"#REF!","v":{"$error":"#REF!"}}]
[{"$f":"RANK(E35,$E$3:$E$122,0)","v":33},{"$f":"'w-E_R'!B18","v":"Reiter Anna-Lena"},{"$f":"'w-E_R'!D18","v":"BRG Spittal"},{"$f":"'w-E_R'!H18","v":31.4},{"$f":"'w-E_R'!I18","v":418},null,{"$f":"RANK(K35,$K$3:$K$122,0)","v":{"$error":"#REF!"}},{"$f":"#REF!","v":{"$error":"#REF!"}},{"$f":"#REF!","v":{"$error":"#REF!"}},{"$f":"#REF!","v":{"$error":"#REF!"}},{"$f":"#REF!","v":{"$error":"#REF!"}}]
[33,{"$f":"'w-E_R'!B26","v":"Ebner Anna-Lena"},{"$f":"'w-E_R'!D26","v":"BZ Bad Eisenkappel"},{"$f":"'w-E_R'!H26","v":31.4},{"$f":"'w-E_R'!I26","v":418},null,{"$error":"#REF!"},{"$f":"#REF!","v":{"$error":"#REF!"}},{"$f":"#REF!","v":{"$error":"#REF!"}},{"$f":"#REF!","v":{"$error":"#REF!"}},{"$f":"#REF!","v":{"$error":"#REF!"}}]
[35,{"$f":"'w-E_R'!B46","v":"Kronlechner Bettina"},{"$f":"'w-E_R'!D46","v":"NMS Friesach"},{"$f":"'w-E_R'!H46","v":31.3},{"$f":"'w-E_R'!I46","v":417},null,{"$error":"#REF!"},{"$f":"#REF!","v":{"$error":"#REF!"}},{"$f":"#REF!","v":{"$error":"#REF!"}},{"$f":"#REF!","v":{"$error":"#REF!"}},{"$f":"#REF!","v":{"$error":"#REF!"}}]
[35,{"$f":"'w-E_R'!B70","v":"Bierbaumer Selina"},{"$f":"'w-E_R'!D70","v":"NMS Viktring"},{"$f":"'w-E_R'!H70","v":31.3},{"$f":"'w-E_R'!I70","v":417},null,{"$error":"#REF!"},{"$f":"#REF!","v":{"$error":"#REF!"}},{"$f":"#REF!","v":{"$error":"#REF!"}},{"$f":"#REF!","v":{"$error":"#REF!"}},{"$f":"#REF!","v":{"$error":"#REF!"}}]
[37,{"$f":"'w-E_R'!B39","v":"Ebenwaldner Carina"},{"$f":"'w-E_R'!D39","v":"Musik NMS Hermagor"},{"$f":"'w-E_R'!H39","v":30.9},{"$f":"'w-E_R'!I39","v":411},null,{"$error":"#REF!"},{"$f":"#REF!","v":{"$error":"#REF!"}},{"$f":"#REF!","v":{"$error":"#REF!"}},{"$f":"#REF!","v":{"$error":"#REF!"}},{"$f":"#REF!","v":{"$error":"#REF!"}}]
[38,{"$f":"'w-E_R'!B54","v":"Maier Jasmin"},{"$f":"'w-E_R'!D54","v":"NMS Gegendtal"},{"$f":"'w-E_R'!H54","v":30.8},{"$f":"'w-E_R'!I54","v":410},null,{"$error":"#REF!"},{"$f":"#REF!","v":{"$error":"#REF!"}},{"$f":"#REF!","v":{"$error":"#REF!"}},{"$f":"#REF!","v":{"$error":"#REF!"}},{"$f":"#REF!","v":{"$error":"#REF!"}}]
[39,{"$f":"'w-E_R'!B75","v":"Hinteregger Katrin"},{"$f":"'w-E_R'!D75","v":"RNMS Feldkirchen"},{"$f":"'w-E_R'!H75","v":29.8},{"$f":"'w-E_R'!I75","v":395},null,{"$error":"#REF!"},{"$f":"#REF!","v":{"$error":"#REF!"}},{"$f":"#REF!","v":{"$error":"#REF!"}},{"$f":"#REF!","v":{"$error":"#REF!"}},{"$f":"#REF!","v":{"$error":"#REF!"}}]
[40,{"$f":"'w-E_R'!B66","v":"Edlmann Chiara"},{"$f":"'w-E_R'!D66","v":"NMS Viktring"},{"$f":"'w-E_R'!H66","v":29.5},{"$f":"'w-E_R'!I66","v":391},null,{"$error":"#REF!"},{"$f":"#REF!","v":{"$error":"#REF!"}},{"$f":"#REF!","v":{"$error":"#REF!"}},{"$f":"#REF!","v":{"$error":"#REF!"}},{"$f":"#REF!","v":{"$error":"#REF!"}}]
[41,{"$f":"'w-E_R'!B45","v":"Pörtschacher Vanessa"},{"$f":"'w-E_R'!D45","v":"NMS Friesach"},{"$f":"'w-E_R'!H45","v":29.2},{"$f":"'w-E_R'!I45","v":387},null,{"$error":"#REF!"},{"$f":"#REF!","v":{"$error":"#REF!"}},{"$f":"#REF!","v":{"$error":"#REF!"}},{"$f":"#REF!","v":{"$error":"#REF!"}},{"$f":"#REF!","v":{"$error":"#REF!"}}]
[41,{"$f":"'w-E_R'!B50","v":"Pacher Selina"},{"$f":"'w-E_R'!D50","v":"NMS Friesach"},{"$f":"'w-E_R'!H50","v":29.2},{"$f":"'w-E_R'!I50","v":387},null,{"$error":"#REF!"},{"$f":"#REF!","v":{"$error":"#REF!"}},{"$f":"#REF!","v":{"$error":"#REF!"}},{"$f":"#REF!","v":{"$error":"#REF!"}},{"$f":"#REF!","v":{"$error":"#REF!"}}]
[43,{"$f":"'w-E_R'!B71","v":"Herkner Anna"},{"$f":"'w-E_R'!D71","v":"NMS Viktring"},{"$f":"'w-E_R'!H71","v":28.7},{"$f":"'w-E_R'!I71","v":379},null,{"$error":"#REF!"},{"$f":"#REF!","v":{"$error":"#REF!"}},{"$f":"#REF!","v":{"$error":"#REF!"}},{"$f":"#REF!","v":{"$error":"#REF!"}},{"$f":"#REF!","v":{"$error":"#REF!"}}]
[44,{"$f":"'w-E_R'!B47","v":"Delfser Anna-Magdalena"},{"$f":"'w-E_R'!D47","v":"NMS Friesach"},{"$f":"'w-E_R'!H47","v":28.2},{"$f":"'w-E_R'!I47","v":372},null,{"$error":"#REF!"},{"$f":"#REF!","v":{"$error":"#REF!"}},{"$f":"#REF!","v":{"$error":"#REF!"}},{"$f":"#REF!","v":{"$error":"#REF!"}},{"$f":"#REF!","v":{"$error":"#REF!"}}]
[45,{"$f":"'w-E_R'!B33","v":"Doboczky Sophie"},{"$f":"'w-E_R'!D33","v":"Ingeborg Bachmann Gymnasium"},{"$f":"'w-E_R'!H33","v":28.1},{"$f":"'w-E_R'!I33","v":371},null,{"$error":"#REF!"},{"$f":"#REF!","v":{"$error":"#REF!"}},{"$f":"#REF!","v":{"$error":"#REF!"}},{"$f":"#REF!","v":{"$error":"#REF!"}},{"$f":"#REF!","v":{"$error":"#REF!"}}]
[46,{"$f":"'w-E_R'!B42","v":"Matthei Laura"},{"$f":"'w-E_R'!D42","v":"Musik NMS Hermagor"},{"$f":"'w-E_R'!H42","v":28},{"$f":"'w-E_R'!I42","v":369},null,{"$error":"#REF!"},{"$f":"#REF!","v":{"$error":"#REF!"}},{"$f":"#REF!","v":{"$error":"#REF!"}},{"$f":"#REF!","v":{"$error":"#REF!"}},{"$f":"#REF!","v":{"$error":"#REF!"}}]
[47,{"$f":"'w-E_R'!B7","v":"Koch Anna"},{"$f":"'w-E_R'!D7","v":"BG St.Martin"},{"$f":"'w-E_R'!H7","v":27.8},{"$f":"'w-E_R'!I7","v":366},null,{"$error":"#REF!"},{"$f":"#REF!","v":{"$error":"#REF!"}},{"$f":"#REF!","v":{"$error":"#REF!"}},{"$f":"#REF!","v":{"$error":"#REF!"}},{"$f":"#REF!","v":{"$error":"#REF!"}}]
[48,{"$f":"'w-E_R'!B57","v":"Ostertschnig Lisa"},{"$f":"'w-E_R'!D57","v":"NMS Gegendtal"},{"$f":"'w-E_R'!H57","v":27.6},{"$f":"'w-E_R'!I57","v":364},null,{"$error":"#REF!"},{"$f":"#REF!","v":{"$error":"#REF!"}},{"$f":"#REF!","v":{"$error":"#REF!"}},{"$f":"#REF!","v":{"$error":"#REF!"}},{"$f":"#REF!","v":{"$error":"#REF!"}}]
[49,{"$f":"'w-E_R'!B28","v":"Pudgar Domenika"},{"$f":"'w-E_R'!D28","v":"BZ Bad Eisenkappel"},{"$f":"'w-E_R'!H28","v":27.5},{"$f":"'w-E_R'!I28","v":362},null,{"$error":"#REF!"},{"$f":"#REF!","v":{"$error":"#REF!"}},{"$f":"#REF!","v":{"$error":"#REF!"}},{"$f":"#REF!","v":{"$error":"#REF!"}},{"$f":"#REF!","v":{"$error":"#REF!"}}]
[49,{"$f":"'w-E_R'!B56","v":"Gasser Valentina"},{"$f":"'w-E_R'!D56","v":"NMS Gegendtal"},{"$f":"'w-E_R'!H56","v":27.5},{"$f":"'w-E_R'!I56","v":362},null,{"$error":"#REF!"},{"$f":"#REF!","v":{"$error":"#REF!"}},{"$f":"#REF!","v":{"$error":"#REF!"}},{"$f":"#REF!","v":{"$error":"#REF!"}},{"$f":"#REF!","v":{"$error":"#REF!"}}]
[51,{"$f":"'w-E_R'!B41","v":"Pettauer Sara"},{"$f":"'w-E_R'!D41","v":"Musik NMS Hermagor"},{"$f":"'w-E_R'!H41","v":26.9},{"$f":"'w-E_R'!I41","v":353},null,{"$error":"#REF!"},{"$f":"#REF!","v":{"$error":"#REF!"}},{"$f":"#REF!","v":{"$error":"#REF!"}},{"$f":"#REF!","v":{"$error":"#REF!"}},{"$f":"#REF!","v":{"$error":"#REF!"}}]
[52,{"$f":"'w-E_R'!B31","v":"Donner Rosa"},{"$f":"'w-E_R'!D31","v":"Ingeborg Bachmann Gymnasium"},{"$f":"'w-E_R'!H31","v":26.8},{"$f":"'w-E_R'!I31","v":352},null,{"$error":"#REF!"},{"$f":"#REF!","v":{"$error":"#REF!"}},{"$f":"#REF!","v":{"$error":"#REF!"}},{"$f":"#REF!","v":{"$error":"#REF!"}},{"$f":"#REF!","v":{"$error":"#REF!"}}]
[53,{"$f":"'w-E_R'!B62","v":"Pinzer Alina"},{"$f":"'w-E_R'!D62","v":"NMS Landskron"},{"$f":"'w-E_R'!H62","v":25.2},{"$f":"'w-E_R'!I62","v":329},null,{"$error":"#REF!"},{"$f":"#REF!","v":{"$error":"#REF!"}},{"$f":"#REF!","v":{"$error":"#REF!"}},{"$f":"#REF!","v":{"$error":"#REF!"}},{"$f":"#REF!","v":{"$error":"#REF!"}}]
[54,{"$f":"'w-E_R'!B61","v":"Neumann Lisa"},{"$f":"'w-E_R'!D61","v":"NMS Landskron"},{"$f":"'w-E_R'!H61","v":25.1},{"$f":"'w-E_R'!I61","v":327},null,{"$error":"#REF!"},{"$f":"#REF!","v":{"$error":"#REF!"}},{"$f":"#REF!","v":{"$error":"#REF!"}},{"$f":"#REF!","v":{"$error":"#REF!"}},{"$f":"#REF!","v":{"$error":"#REF!"}}]
[55,{"$f":"'w-E_R'!B69","v":"Esel Michelle"},{"$f":"'w-E_R'!D69","v":"NMS Viktring"},{"$f":"'w-E_R'!H69","v":24.8},{"$f":"'w-E_R'!I69","v":323},null,{"$error":"#REF!"},{"$f":"#REF!","v":{"$error":"#REF!"}},{"$f":"#REF!","v":{"$error":"#REF!"}},{"$f":"#REF!","v":{"$error":"#REF!"}},{"$f":"#REF!","v":{"$error":"#REF!"}}]
[56,{"$f":"'w-E_R'!B11","v":"Maier Magdalena"},{"$f":"'w-E_R'!D11","v":"Borg Wolfsberg"},{"$f":"'w-E_R'!H11","v":23.4},{"$f":"'w-E_R'!I11","v":302},null,{"$error":"#REF!"},{"$f":"#REF!","v":{"$error":"#REF!"}},{"$f":"#REF!","v":{"$error":"#REF!"}},{"$f":"#REF!","v":{"$error":"#REF!"}},{"$f":"#REF!","v":{"$error":"#REF!"}}]
[56,{"$f":"'w-E_R'!B78","v":"Petrascu Elisabeth"},{"$f":"'w-E_R'!D78","v":"RNMS Feldkirchen"},{"$f":"'w-E_R'!H78","v":23.4},{"$f":"'w-E_R'!I78","v":302},null,{"$error":"#REF!"},{"$f":"#REF!","v":{"$error":"#REF!"}},{"$f":"#REF!","v":{"$error":"#REF!"}},{"$f":"#REF!","v":{"$error":"#REF!"}},{"$f":"#REF!","v":{"$error":"#REF!"}}]
[58,{"$f":"'w-E_R'!B34","v":"Schmaranz Sophie"},{"$f":"'w-E_R'!D34","v":"Ingeborg Bachmann Gymnasium"},{"$f":"'w-E_R'!H34","v":23.1},{"$f":"'w-E_R'!I34","v":298},null,{"$error":"#REF!"},{"$f":"#REF!","v":{"$error":"#REF!"}},{"$f":"#REF!","v":{"$error":"#REF!"}},{"$f":"#REF!","v":{"$error":"#REF!"}},{"$f":"#REF!","v":{"$error":"#REF!"}}]
[59,{"$f":"'w-E_R'!B12","v":"Frauwallner Hanna"},{"$f":"'w-E_R'!D12","v":"Borg Wolfsberg"},{"$f":"'w-E_R'!H12","v":21.9},{"$f":"'w-E_R'!I12","v":280},null,{"$error":"#REF!"},{"$f":"#REF!","v":{"$error":"#REF!"}},{"$f":"#REF!","v":{"$error":"#REF!"}},{"$f":"#REF!","v":{"$error":"#REF!"}},{"$f":"#REF!","v":{"$error":"#REF!"}}]
[60,{"$f":"'w-E_R'!B64","v":"Petscher Maria"},{"$f":"'w-E_R'!D64","v":"NMS Landskron"},{"$f":"'w-E_R'!H64","v":20.2},{"$f":"'w-E_R'!I64","v":254},null,{"$error":"#REF!"},{"$f":"#REF!","v":{"$error":"#REF!"}},{"$f":"#REF!","v":{"$error":"#REF!"}},{"$f":"#REF!","v":{"$error":"#REF!"}},{"$f":"#REF!","v":{"$error":"#REF!"}}]
[61,{"$f":"'w-E_R'!B10","v":"Maier Celina"},{"$f":"'w-E_R'!D10","v":"Borg Wolfsberg"},{"$f":"'w-E_R'!H10","v":19},{"$f":"'w-E_R'!I10","v":236},null,{"$error":"#REF!"},{"$f":"#REF!","v":{"$error":"#REF!"}},{"$f":"#REF!","v":{"$error":"#REF!"}},{"$f":"#REF!","v":{"$error":"#REF!"}},{"$f":"#REF!","v":{"$error":"#REF!"}}]
[62,{"$f":"'w-E_R'!B29","v":0},{"$f":"'w-E_R'!D29","v":"BZ Bad Eisenkappel"},{"$f":"'w-E_R'!H29","v":0},{"$f":"'w-E_R'!I29","v":0},null,{"$error":"#REF!"},{"$f":"#REF!","v":{"$error":"#REF!"}},{"$f":"#REF!","v":{"$error":"#REF!"}},{"$f":"#REF!","v":{"$error":"#REF!"}},{"$f":"#REF!","v":{"$error":"#REF!"}}]
[62,{"$f":"'w-E_R'!B53","v":"Steiner Patricia"},{"$f":"'w-E_R'!D53","v":"NMS Gegendtal"},{"$f":"'w-E_R'!H53","v":0},{"$f":"'w-E_R'!I53","v":0},null,{"$error":"#REF!"},{"$f":"#REF!","v":{"$error":"#REF!"}},{"$f":"#REF!","v":{"$error":"#REF!"}},{"$f":"#REF!","v":{"$error":"#REF!"}},{"$f":"#REF!","v":{"$error":"#REF!"}}]
[62,{"$f":"'w-E_R'!B55","v":"Schweiger Nadja"},{"$f":"'w-E_R'!D55","v":"NMS Gegendtal"},{"$f":"'w-E_R'!H55","v":0},{"$f":"'w-E_R'!I55","v":0},null,{"$error":"#REF!"},{"$f":"#REF!","v":{"$error":"#REF!"}},{"$f":"#REF!","v":{"$error":"#REF!"}},{"$f":"#REF!","v":{"$error":"#REF!"}},{"$f":"#REF!","v":{"$error":"#REF!"}}]
[{"$f":"RANK(E67,$E$3:$E$122,0)","v":62},{"$f":"'w-E_R'!B76","v":"Kircher Florentina"},{"$f":"'w-E_R'!D76","v":"RNMS Feldkirchen"},{"$f":"'w-E_R'!H76","v":0},{"$f":"'w-E_R'!I76","v":0},null,{"$f":"RANK(K67,$K$3:$K$122,0)","v":{"$error":"#REF!"}},{"$f":"#REF!","v":{"$error":"#REF!"}},{"$f":"#REF!","v":{"$error":"#REF!"}},{"$f":"#REF!","v":{"$error":"#REF!"}},{"$f":"#REF!","v":{"$error":"#REF!"}}]
[62,{"$f":"'w-E_R'!B77","v":"Mühlbacher Nina"},{"$f":"'w-E_R'!D77","v":"RNMS Feldkirchen"},{"$f":"'w-E_R'!H77","v":0},{"$f":"'w-E_R'!I77","v":0},null,{"$error":"#REF!"},{"$f":"#REF!","v":{"$error":"#REF!"}},{"$f":"#REF!","v":{"$error":"#REF!"}},{"$f":"#REF!","v":{"$error":"#REF!"}},{"$f":"#REF!","v":{"$error":"#REF!"}}]
[62,{"$f":"'w-E_R'!B80","v":"W12/01-Regel"},{"$f":"'w-E_R'!D80","v":0},{"$f":"'w-E_R'!H80","v":0},{"$f":"'w-E_R'!I80","v":0},null,{"$error":"#REF!"},{"$f":"#REF!","v":{"$error":"#REF!"}},{"$f":"#REF!","v":{"$error":"#REF!"}},{"$f":"#REF!","v":{"$error":"#REF!"}},{"$f":"#REF!","v":{"$error":"#REF!"}}]
[62,{"$f":"'w-E_R'!B81","v":"W12/02-Regel"},{"$f":"'w-E_R'!D81","v":0},{"$f":"'w-E_R'!H81","v":0},{"$f":"'w-E_R'!I81","v":0},null,{"$error":"#REF!"},{"$f":"#REF!","v":{"$error":"#REF!"}},{"$f":"#REF!","v":{"$error":"#REF!"}},{"$f":"#REF!","v":{"$error":"#REF!"}},{"$f":"#REF!","v":{"$error":"#REF!"}}]
[62,{"$f":"'w-E_R'!B82","v":"W12/03-Regel"},{"$f":"'w-E_R'!D82","v":0},{"$f":"'w-E_R'!H82","v":0},{"$f":"'w-E_R'!I82","v":0},null,{"$error":"#REF!"},{"$f":"#REF!","v":{"$error":"#REF!"}},{"$f":"#REF!","v":{"$error":"#REF!"}},{"$f":"#REF!","v":{"$error":"#REF!"}},{"$f":"#REF!","v":{"$error":"#REF!"}}]
[62,{"$f":"'w-E_R'!B83","v":"W12/04-Regel"},{"$f":"'w-E_R'!D83","v":0},{"$f":"'w-E_R'!H83","v":0},{"$f":"'w-E_R'!I83","v":0},null,{"$error":"#REF!"},{"$f":"#REF!","v":{"$error":"#REF!"}},{"$f":"#REF!","v":{"$error":"#REF!"}},{"$f":"#REF!","v":{"$error":"#REF!"}},{"$f":"#REF!","v":{"$error":"#REF!"}}]
[62,{"$f":"'w-E_R'!B84","v":"W12/05-Regel"},{"$f":"'w-E_R'!D84","v":0},{"$f":"'w-E_R'!H84","v":0},{"$f":"'w-E_R'!I84","v":0},null,{"$error":"#REF!"},{"$f":"#REF!","v":{"$error":"#REF!"}},{"$f":"#REF!","v":{"$error":"#REF!"}},{"$f":"#REF!","v":{"$error":"#REF!"}},{"$f":"#REF!","v":{"$error":"#REF!"}}]
[62,{"$f":"'w-E_R'!B85","v":"W12/06-Regel"},{"$f":"'w-E_R'!D85","v":0},{"$f":"'w-E_R'!H85","v":0},{"$f":"'w-E_R'!I85","v":0},null,{"$error":"#REF!"},{"$f":"#REF!","v":{"$error":"#REF!"}},{"$f":"#REF!","v":{"$error":"#REF!"}},{"$f":"#REF!","v":{"$error":"#REF!"}},{"$f":"#REF!","v":{"$error":"#REF!"}}]
[62,{"$f":"'w-E_R'!B87","v":"W13/01-Regel"},{"$f":"'w-E_R'!D87","v":0},{"$f":"'w-E_R'!H87","v":0},{"$f":"'w-E_R'!I87","v":0},null,{"$error":"#REF!"},{"$f":"#REF!","v":{"$error":"#REF!"}},{"$f":"#REF!","v":{"$error":"#REF!"}},{"$f":"#REF!","v":{"$error":"#REF!"}},{"$f":"#REF!","v":{"$error":"#REF!"}}]
[62,{"$f":"'w-E_R'!B88","v":"W13/02-Regel"},{"$f":"'w-E_R'!D88","v":0},{"$f":"'w-E_R'!H88","v":0},{"$f":"'w-E_R'!I88","v":0},null,{"$error":"#REF!"},{"$f":"#REF!","v":{"$error":"#REF!"}},{"$f":"#REF!","v":{"$error":"#REF!"}},{"$f":"#REF!","v":{"$error":"#REF!"}},{"$f":"#REF!","v":{"$error":"#REF!"}}]
[62,{"$f":"'w-E_R'!B89","v":"W13/03-Regel"},{"$f":"'w-E_R'!D89","v":0},{"$f":"'w-E_R'!H89","v":0},{"$f":"'w-E_R'!I89","v":0},null,{"$error":"#REF!"},{"$f":"#REF!","v":{"$error":"#REF!"}},{"$f":"#REF!","v":{"$error":"#REF!"}},{"$f":"#REF!","v":{"$error":"#REF!"}},{"$f":"#REF!","v":{"$error":"#REF!"}}]
[62,{"$f":"'w-E_R'!B90","v":"W13/04-Regel"},{"$f":"'w-E_R'!D90","v":0},{"$f":"'w-E_R'!H90","v":0},{"$f":"'w-E_R'!I90","v":0},null,{"$error":"#REF!"},{"$f":"#REF!","v":{"$error":"#REF!"}},{"$f":"#REF!","v":{"$error":"#REF!"}},{"$f":"#REF!","v":{"$error":"#REF!"}},{"$f":"#REF!","v":{"$error":"#REF!"}}]
[62,{"$f":"'w-E_R'!B91","v":"W13/05-Regel"},{"$f":"'w-E_R'!D91","v":0},{"$f":"'w-E_R'!H91","v":0},{"$f":"'w-E_R'!I91","v":0},null,{"$error":"#REF!"},{"$f":"#REF!","v":{"$error":"#REF!"}},{"$f":"#REF!","v":{"$error":"#REF!"}},{"$f":"#REF!","v":{"$error":"#REF!"}},{"$f":"#REF!","v":{"$error":"#REF!"}}]
[62,{"$f":"'w-E_R'!B92","v":"W13/06-Regel"},{"$f":"'w-E_R'!D92","v":0},{"$f":"'w-E_R'!H92","v":0},{"$f":"'w-E_R'!I92","v":0},null,{"$error":"#REF!"},{"$f":"#REF!","v":{"$error":"#REF!"}},{"$f":"#REF!","v":{"$error":"#REF!"}},{"$f":"#REF!","v":{"$error":"#REF!"}},{"$f":"#REF!","v":{"$error":"#REF!"}}]
[62,{"$f":"'w-E_R'!B94","v":"W14/01-Regel"},{"$f":"'w-E_R'!D94","v":0},{"$f":"'w-E_R'!H94","v":0},{"$f":"'w-E_R'!I94","v":0},null,{"$error":"#REF!"},{"$f":"#REF!","v":{"$error":"#REF!"}},{"$f":"#REF!","v":{"$error":"#REF!"}},{"$f":"#REF!","v":{"$error":"#REF!"}},{"$f":"#REF!","v":{"$error":"#REF!"}}]
[62,{"$f":"'w-E_R'!B95","v":"W14/02-Regel"},{"$f":"'w-E_R'!D95","v":0},{"$f":"'w-E_R'!H95","v":0},{"$f":"'w-E_R'!I95","v":0},null,{"$error":"#REF!"},{"$f":"#REF!","v":{"$error":"#REF!"}},{"$f":"#REF!","v":{"$error":"#REF!"}},{"$f":"#REF!","v":{"$error":"#REF!"}},{"$f":"#REF!","v":{"$error":"#REF!"}}]
[62,{"$f":"'w-E_R'!B96","v":"W14/03-Regel"},{"$f":"'w-E_R'!D96","v":0},{"$f":"'w-E_R'!H96","v":0},{"$f":"'w-E_R'!I96","v":0},null,{"$error":"#REF!"},{"$f":"#REF!","v":{"$error":"#REF!"}},{"$f":"#REF!","v":{"$error":"#REF!"}},{"$f":"#REF!","v":{"$error":"#REF!"}},{"$f":"#REF!","v":{"$error":"#REF!"}}]
[62,{"$f":"'w-E_R'!B97","v":"W14/04-Regel"},{"$f":"'w-E_R'!D97","v":0},{"$f":"'w-E_R'!H97","v":0},{"$f":"'w-E_R'!I97","v":0},null,{"$error":"#REF!"},{"$f":"#REF!","v":{"$error":"#REF!"}},{"$f":"#REF!","v":{"$error":"#REF!"}},{"$f":"#REF!","v":{"$error":"#REF!"}},{"$f":"#REF!","v":{"$error":"#REF!"}}]
[62,{"$f":"'w-E_R'!B98","v":"W14/05-Regel"},{"$f":"'w-E_R'!D98","v":0},{"$f":"'w-E_R'!H98","v":0},{"$f":"'w-E_R'!I98","v":0},null,{"$error":"#REF!"},{"$f":"#REF!","v":{"$error":"#REF!"}},{"$f":"#REF!","v":{"$error":"#REF!"}},{"$f":"#REF!","v":{"$error":"#REF!"}},{"$f":"#REF!","v":{"$error":"#REF!"}}]
[62,{"$f":"'w-E_R'!B99","v":"W14/06-Regel"},{"$f":"'w-E_R'!D99","v":0},{"$f":"'w-E_R'!H99","v":0},{"$f":"'w-E_R'!I99","v":0},null,{"$error":"#REF!"},{"$f":"#REF!","v":{"$error":"#REF!"}},{"$f":"#REF!","v":{"$error":"#REF!"}},{"$f":"#REF!","v":{"$error":"#REF!"}},{"$f":"#REF!","v":{"$error":"#REF!"}}]
[62,{"$f":"'w-E_R'!B101","v":"W15/01-Regel"},{"$f":"'w-E_R'!D101","v":0},{"$f":"'w-E_R'!H101","v":0},{"$f":"'w-E_R'!I101","v":0},null,{"$error":"#REF!"},{"$f":"#REF!","v":{"$error":"#REF!"}},{"$f":"#REF!","v":{"$error":"#REF!"}},{"$f":"#REF!","v":{"$error":"#REF!"}},{"$f":"#REF!","v":{"$error":"#REF!"}}]
[62,{"$f":"'w-E_R'!B102","v":"W15/02-Regel"},{"$f":"'w-E_R'!D102","v":0},{"$f":"'w-E_R'!H102","v":0},{"$f":"'w-E_R'!I102","v":0},null,{"$error":"#REF!"},{"$f":"#REF!","v":{"$error":"#REF!"}},{"$f":"#REF!","v":{"$error":"#REF!"}},{"$f":"#REF!","v":{"$error":"#REF!"}},{"$f":"#REF!","v":{"$error":"#REF!"}}]
[62,{"$f":"'w-E_R'!B103","v":"W15/03-Regel"},{"$f":"'w-E_R'!D103","v":0},{"$f":"'w-E_R'!H103","v":0},{"$f":"'w-E_R'!I103","v":0},null,{"$error":"#REF!"},{"$f":"#REF!","v":{"$error":"#REF!"}},{"$f":"#REF!","v":{"$error":"#REF!"}},{"$f":"#REF!","v":{"$error":"#REF!"}},{"$f":"#REF!","v":{"$error":"#REF!"}}]
[62,{"$f":"'w-E_R'!B104","v":"W15/04-Regel"},{"$f":"'w-E_R'!D104","v":0},{"$f":"'w-E_R'!H104","v":0},{"$f":"'w-E_R'!I104","v":0},null,{"$error":"#REF!"},{"$f":"#REF!","v":{"$error":"#REF!"}},{"$f":"#REF!","v":{"$error":"#REF!"}},{"$f":"#REF!","v":{"$error":"#REF!"}},{"$f":"#REF!","v":{"$error":"#REF!"}}]
[62,{"$f":"'w-E_R'!B105","v":"W15/05-Regel"},{"$f":"'w-E_R'!D105","v":0},{"$f":"'w-E_R'!H105","v":0},{"$f":"'w-E_R'!I105","v":0},null,{"$error":"#REF!"},{"$f":"#REF!","v":{"$error":"#REF!"}},{"$f":"#REF!","v":{"$error":"#REF!"}},{"$f":"#REF!","v":{"$error":"#REF!"}},{"$f":"#REF!","v":{"$error":"#REF!"}}]
[62,{"$f":"'w-E_R'!B106","v":"W15/06-Regel"},{"$f":"'w-E_R'!D106","v":0},{"$f":"'w-E_R'!H106","v":0},{"$f":"'w-E_R'!I106","v":0},null,{"$error":"#REF!"},{"$f":"#REF!","v":{"$error":"#REF!"}},{"$f":"#REF!","v":{"$error":"#REF!"}},{"$f":"#REF!","v":{"$error":"#REF!"}},{"$f":"#REF!","v":{"$error":"#REF!"}}]
[62,{"$f":"'w-E_R'!B108","v":"W16/01-Regel"},{"$f":"'w-E_R'!D108","v":0},{"$f":"'w-E_R'!H108","v":0},{"$f":"'w-E_R'!I108","v":0},null,{"$error":"#REF!"},{"$f":"#REF!","v":{"$error":"#REF!"}},{"$f":"#REF!","v":{"$error":"#REF!"}},{"$f":"#REF!","v":{"$error":"#REF!"}},{"$f":"#REF!","v":{"$error":"#REF!"}}]
[62,{"$f":"'w-E_R'!B109","v":"W16/02-Regel"},{"$f":"'w-E_R'!D109","v":0},{"$f":"'w-E_R'!H109","v":0},{"$f":"'w-E_R'!I109","v":0},null,{"$error":"#REF!"},{"$f":"#REF!","v":{"$error":"#REF!"}},{"$f":"#REF!","v":{"$error":"#REF!"}},{"$f":"#REF!","v":{"$error":"#REF!"}},{"$f":"#REF!","v":{"$error":"#REF!"}}]
[62,{"$f":"'w-E_R'!B110","v":"W16/03-Regel"},{"$f":"'w-E_R'!D110","v":0},{"$f":"'w-E_R'!H110","v":0},{"$f":"'w-E_R'!I110","v":0},null,{"$error":"#REF!"},{"$f":"#REF!","v":{"$error":"#REF!"}},{"$f":"#REF!","v":{"$error":"#REF!"}},{"$f":"#REF!","v":{"$error":"#REF!"}},{"$f":"#REF!","v":{"$error":"#REF!"}}]
[62,{"$f":"'w-E_R'!B111","v":"W16/04-Regel"},{"$f":"'w-E_R'!D111","v":0},{"$f":"'w-E_R'!H111","v":0},{"$f":"'w-E_R'!I111","v":0},null,{"$error":"#REF!"},{"$f":"#REF!","v":{"$error":"#REF!"}},{"$f":"#REF!","v":{"$error":"#REF!"}},{"$f":"#REF!","v":{"$error":"#REF!"}},{"$f":"#REF!","v":{"$error":"#REF!"}}]
[62,{"$f":"'w-E_R'!B112","v":"W16/05-Regel"},{"$f":"'w-E_R'!D112","v":0},{"$f":"'w-E_R'!H112","v":0},{"$f":"'w-E_R'!I112","v":0},null,{"$error":"#REF!"},{"$f":"#REF!","v":{"$error":"#REF!"}},{"$f":"#REF!","v":{"$error":"#REF!"}},{"$f":"#REF!","v":{"$error":"#REF!"}},{"$f":"#REF!","v":{"$error":"#REF!"}}]
[62,{"$f":"'w-E_R'!B113","v":"W16/06-Regel"},{"$f":"'w-E_R'!D113","v":0},{"$f":"'w-E_R'!H113","v":0},{"$f":"'w-E_R'!I113","v":0},null,{"$error":"#REF!"},{"$f":"#REF!","v":{"$error":"#REF!"}},{"$f":"#REF!","v":{"$error":"#REF!"}},{"$f":"#REF!","v":{"$error":"#REF!"}},{"$f":"#REF!","v":{"$error":"#REF!"}}]
[{"$f":"RANK(E99,$E$3:$E$122,0)","v":62},{"$f":"'w-E_R'!B115","v":"W17/01-Regel"},{"$f":"'w-E_R'!D115","v":0},{"$f":"'w-E_R'!H115","v":0},{"$f":"'w-E_R'!I115","v":0},null,{"$f":"RANK(K99,$K$3:$K$122,0)","v":{"$error":"#REF!"}},{"$f":"#REF!","v":{"$error":"#REF!"}},{"$f":"#REF!","v":{"$error":"#REF!"}},{"$f":"#REF!","v":{"$error":"#REF!"}},{"$f":"#REF!","v":{"$error":"#REF!"}}]
[62,{"$f":"'w-E_R'!B116","v":"W17/02-Regel"},{"$f":"'w-E_R'!D116","v":0},{"$f":"'w-E_R'!H116","v":0},{"$f":"'w-E_R'!I116","v":0},null,{"$error":"#REF!"},{"$f":"#REF!","v":{"$error":"#REF!"}},{"$f":"#REF!","v":{"$error":"#REF!"}},{"$f":"#REF!","v":{"$error":"#REF!"}},{"$f":"#REF!","v":{"$error":"#REF!"}}]
[62,{"$f":"'w-E_R'!B117","v":"W17/03-Regel"},{"$f":"'w-E_R'!D117","v":0},{"$f":"'w-E_R'!H117","v":0},{"$f":"'w-E_R'!I117","v":0},null,{"$error":"#REF!"},{"$f":"#REF!","v":{"$error":"#REF!"}},{"$f":"#REF!","v":{"$error":"#REF!"}},{"$f":"#REF!","v":{"$error":"#REF!"}},{"$f":"#REF!","v":{"$error":"#REF!"}}]
[62,{"$f":"'w-E_R'!B118","v":"W17/04-Regel"},{"$f":"'w-E_R'!D118","v":0},{"$f":"'w-E_R'!H118","v":0},{"$f":"'w-E_R'!I118","v":0},null,{"$error":"#REF!"},{"$f":"#REF!","v":{"$error":"#REF!"}},{"$f":"#REF!","v":{"$error":"#REF!"}},{"$f":"#REF!","v":{"$error":"#REF!"}},{"$f":"#REF!","v":{"$error":"#REF!"}}]
[62,{"$f":"'w-E_R'!B119","v":"W17/05-Regel"},{"$f":"'w-E_R'!D119","v":0},{"$f":"'w-E_R'!H119","v":0},{"$f":"'w-E_R'!I119","v":0},null,{"$error":"#REF!"},{"$f":"#REF!","v":{"$error":"#REF!"}},{"$f":"#REF!","v":{"$error":"#REF!"}},{"$f":"#REF!","v":{"$error":"#REF!"}},{"$f":"#REF!","v":{"$error":"#REF!"}}]
[62,{"$f":"'w-E_R'!B120","v":"W17/06-Regel"},{"$f":"'w-E_R'!D120","v":0},{"$f":"'w-E_R'!H120","v":0},{"$f":"'w-E_R'!I120","v":0},null,{"$error":"#REF!"},{"$f":"#REF!","v":{"$error":"#REF!"}},{"$f":"#REF!","v":{"$error":"#REF!"}},{"$f":"#REF!","v":{"$error":"#REF!"}},{"$f":"#REF!","v":{"$error":"#REF!"}}]
[62,{"$f":"'w-E_R'!B122","v":"W18/01-Regel"},{"$f":"'w-E_R'!D122","v":0},{"$f":"'w-E_R'!H122","v":0},{"$f":"'w-E_R'!I122","v":0},null,{"$error":"#REF!"},{"$f":"#REF!","v":{"$error":"#REF!"}},{"$f":"#REF!","v":{"$error":"#REF!"}},{"$f":"#REF!","v":{"$error":"#REF!"}},{"$f":"#REF!","v":{"$error":"#REF!"}}]
[62,{"$f":"'w-E_R'!B123","v":"W18/02-Regel"},{"$f":"'w-E_R'!D123","v":0},{"$f":"'w-E_R'!H123","v":0},{"$f":"'w-E_R'!I123","v":0},null,{"$error":"#REF!"},{"$f":"#REF!","v":{"$error":"#REF!"}},{"$f":"#REF!","v":{"$error":"#REF!"}},{"$f":"#REF!","v":{"$error":"#REF!"}},{"$f":"#REF!","v":{"$error":"#REF!"}}]
[62,{"$f":"'w-E_R'!B124","v":"W18/03-Regel"},{"$f":"'w-E_R'!D124","v":0},{"$f":"'w-E_R'!H124","v":0},{"$f":"'w-E_R'!I124","v":0},null,{"$error":"#REF!"},{"$f":"#REF!","v":{"$error":"#REF!"}},{"$f":"#REF!","v":{"$error":"#REF!"}},{"$f":"#REF!","v":{"$error":"#REF!"}},{"$f":"#REF!","v":{"$error":"#REF!"}}]
[62,{"$f":"'w-E_R'!B125","v":"W18/04-Regel"},{"$f":"'w-E_R'!D125","v":0},{"$f":"'w-E_R'!H125","v":0},{"$f":"'w-E_R'!I125","v":0},null,{"$error":"#REF!"},{"$f":"#REF!","v":{"$error":"#REF!"}},{"$f":"#REF!","v":{"$error":"#REF!"}},{"$f":"#REF!","v":{"$error":"#REF!"}},{"$f":"#REF!","v":{"$error":"#REF!"}}]
[62,{"$f":"'w-E_R'!B126","v":"W18/05-Regel"},{"$f":"'w-E_R'!D126","v":0},{"$f":"'w-E_R'!H126","v":0},{"$f":"'w-E_R'!I126","v":0},null,{"$error":"#REF!"},{"$f":"#REF!","v":{"$error":"#REF!"}},{"$f":"#REF!","v":{"$error":"#REF!"}},{"$f":"#REF!","v":{"$error":"#REF!"}},{"$f":"#REF!","v":{"$error":"#REF!"}}]
[62,{"$f":"'w-E_R'!B127","v":"W18/06-Regel"},{"$f":"'w-E_R'!D127","v":0},{"$f":"'w-E_R'!H127","v":0},{"$f":"'w-E_R'!I127","v":0},null,{"$error":"#REF!"},{"$f":"#REF!","v":{"$error":"#REF!"}},{"$f":"#REF!","v":{"$error":"#REF!"}},{"$f":"#REF!","v":{"$error":"#REF!"}},{"$f":"#REF!","v":{"$error":"#REF!"}}]
[62,{"$f":"'w-E_R'!B129","v":"W19/01-Regel"},{"$f":"'w-E_R'!D129","v":0},{"$f":"'w-E_R'!H129","v":0},{"$f":"'w-E_R'!I129","v":0},null,{"$error":"#REF!"},{"$f":"#REF!","v":{"$error":"#REF!"}},{"$f":"#REF!","v":{"$error":"#REF!"}},{"$f":"#REF!","v":{"$error":"#REF!"}},{"$f":"#REF!","v":{"$error":"#REF!"}}]
[62,{"$f":"'w-E_R'!B130","v":"W19/02-Regel"},{"$f":"'w-E_R'!D130","v":0},{"$f":"'w-E_R'!H130","v":0},{"$f":"'w-E_R'!I130","v":0},null,{"$error":"#REF!"},{"$f":"#REF!","v":{"$error":"#REF!"}},{"$f":"#REF!","v":{"$error":"#REF!"}},{"$f":"#REF!","v":{"$error":"#REF!"}},{"$f":"#REF!","v":{"$error":"#REF!"}}]
[62,{"$f":"'w-E_R'!B131","v":"W19/03-Regel"},{"$f":"'w-E_R'!D131","v":0},{"$f":"'w-E_R'!H131","v":0},{"$f":"'w-E_R'!I131","v":0},null,{"$error":"#REF!"},{"$f":"#REF!","v":{"$error":"#REF!"}},{"$f":"#REF!","v":{"$error":"#REF!"}},{"$f":"#REF!","v":{"$error":"#REF!"}},{"$f":"#REF!","v":{"$error":"#REF!"}}]
[62,{"$f":"'w-E_R'!B132","v":"W19/04-Regel"},{"$f":"'w-E_R'!D132","v":0},{"$f":"'w-E_R'!H132","v":0},{"$f":"'w-E_R'!I132","v":0},null,{"$error":"#REF!"},{"$f":"#REF!","v":{"$error":"#REF!"}},{"$f":"#REF!","v":{"$error":"#REF!"}},{"$f":"#REF!","v":{"$error":"#REF!"}},{"$f":"#REF!","v":{"$error":"#REF!"}}]
[62,{"$f":"'w-E_R'!B133","v":"W19/05-Regel"},{"$f":"'w-E_R'!D133","v":0},{"$f":"'w-E_R'!H133","v":0},{"$f":"'w-E_R'!I133","v":0},null,{"$error":"#REF!"},{"$f":"#REF!","v":{"$error":"#REF!"}},{"$f":"#REF!","v":{"$error":"#REF!"}},{"$f":"#REF!","v":{"$error":"#REF!"}},{"$f":"#REF!","v":{"$error":"#REF!"}}]
[62,{"$f":"'w-E_R'!B134","v":"W19/06-Regel"},{"$f":"'w-E_R'!D134","v":0},{"$f":"'w-E_R'!H134","v":0},{"$f":"'w-E_R'!I134","v":0},null,{"$error":"#REF!"},{"$f":"#REF!","v":{"$error":"#REF!"}},{"$f":"#REF!","v":{"$error":"#REF!"}},{"$f":"#REF!","v":{"$error":"#REF!"}},{"$f":"#REF!","v":{"$error":"#REF!"}}]
[62,{"$f":"'w-E_R'!B136","v":"W20/01-Regel"},{"$f":"'w-E_R'!D136","v":0},{"$f":"'w-E_R'!H136","v":0},{"$f":"'w-E_R'!I136","v":0},null,{"$error":"#REF!"},{"$f":"#REF!","v":{"$error":"#REF!"}},{"$f":"#REF!","v":{"$error":"#REF!"}},{"$f":"#REF!","v":{"$error":"#REF!"}},{"$f":"#REF!","v":{"$error":"#REF!"}}]
[62,{"$f":"'w-E_R'!B137","v":"W20/02-Regel"},{"$f":"'w-E_R'!D137","v":0},{"$f":"'w-E_R'!H137","v":0},{"$f":"'w-E_R'!I137","v":0},null,{"$error":"#REF!"},{"$f":"#REF!","v":{"$error":"#REF!"}},{"$f":"#REF!","v":{"$error":"#REF!"}},{"$f":"#REF!","v":{"$error":"#REF!"}},{"$f":"#REF!","v":{"$error":"#REF!"}}]
[62,{"$f":"'w-E_R'!B138","v":"W20/03-Regel"},{"$f":"'w-E_R'!D138","v":0},{"$f":"'w-E_R'!H138","v":0},{"$f":"'w-E_R'!I138","v":0},null,{"$error":"#REF!"},{"$f":"#REF!","v":{"$error":"#REF!"}},{"$f":"#REF!","v":{"$error":"#REF!"}},{"$f":"#REF!","v":{"$error":"#REF!"}},{"$f":"#REF!","v":{"$error":"#REF!"}}]
[62,{"$f":"'w-E_R'!B139","v":"W20/04-Regel"},{"$f":"'w-E_R'!D139","v":0},{"$f":"'w-E_R'!H139","v":0},{"$f":"'w-E_R'!I139","v":0},null,{"$error":"#REF!"},{"$f":"#REF!","v":{"$error":"#REF!"}},{"$f":"#REF!","v":{"$error":"#REF!"}},{"$f":"#REF!","v":{"$error":"#REF!"}},{"$f":"#REF!","v":{"$error":"#REF!"}}]
[62,{"$f":"'w-E_R'!B140","v":"W20/05-Regel"},{"$f":"'w-E_R'!D140","v":0},{"$f":"'w-E_R'!H140","v":0},{"$f":"'w-E_R'!I140","v":0},null,{"$error":"#REF!"},{"$f":"#REF!","v":{"$error":"#REF!"}},{"$f":"#REF!","v":{"$error":"#REF!"}},{"$f":"#REF!","v":{"$error":"#REF!"}},{"$f":"#REF!","v":{"$error":"#REF!"}}]
[62,{"$f":"'w-E_R'!B141","v":"W20/06-Regel"},{"$f":"'w-E_R'!D141","v":0},{"$f":"'w-E_R'!H141","v":0},{"$f":"'w-E_R'!I141","v":0},null,{"$error":"#REF!"},{"$f":"#REF!","v":{"$error":"#REF!"}},{"$f":"#REF!","v":{"$error":"#REF!"}},{"$f":"#REF!","v":{"$error":"#REF!"}},{"$f":"#REF!","v":{"$error":"#REF!"}}]
["Einzelwertung Schlagball Weiblich",null,{"$f":"'w-E_R'!C1","v":"D-C/Regel-Schulen"},{"$f":"'w-E_R'!E1","v":"Ortsangabe,Datum"},null,null,"Einzelwertung Schlagball Männlich",null,{"$f":"#REF!","v":{"$error":"#REF!"}},{"$f":"#REF!","v":{"$error":"#REF!"}}]
["Einzelwertung Schlagball",null,{"$f":"#REF!","v":{"$error":"#REF!"}},{"$f":"#REF!","v":{"$error":"#REF!"}},null,null,"Einzelwertung Schlagball",null,{"$f":"#REF!","v":{"$error":"#REF!"}},{"$f":"#REF!","v":{"$error":"#REF!"}}]
["Rang","WEIBLICH","Schule:","Leistung","Punkte",null,"Rang","MÄNNLICH","Schule:","Leistung","Punkte"]
[{"$f":"RANK(E126,$E$126:$E245,0)","v":{"$error":"#REF!"}},{"$f":"#REF!","v":{"$error":"#REF!"}},{"$f":"#REF!","v":{"$error":"#REF!"}},{"$f":"#REF!","v":{"$error":"#REF!"}},{"$f":"#REF!","v":{"$error":"#REF!"}},null,{"$f":"RANK(K126,$K$126:$K245,0)","v":{"$error":"#REF!"}},{"$f":"#REF!","v":{"$error":"#REF!"}},{"$f":"#REF!","v":{"$error":"#REF!"}},{"$f":"#REF!","v":{"$error":"#REF!"}},{"$f":"#REF!","v":{"$error":"#REF!"}}]
[{"$f":"RANK(E127,$E$126:$E245,0)","v":{"$error":"#REF!"}},{"$f":"#REF!","v":{"$error":"#REF!"}},{"$f":"#REF!","v":{"$error":"#REF!"}},{"$f":"#REF!","v":{"$error":"#REF!"}},{"$f":"#REF!","v":{"$error":"#REF!"}},null,{"$f":"RANK(K127,$K$126:$K245,0)","v":{"$error":"#REF!"}},{"$f":"#REF!","v":{"$error":"#REF!"}},{"$f":"#REF!","v":{"$error":"#REF!"}},{"$f":"#REF!","v":{"$error":"#REF!"}},{"$f":"#REF!","v":{"$error":"#REF!"}}]
[{"$f":"RANK(E128,$E$126:$E245,0)","v":{"$error":"#REF!"}},{"$f":"#REF!","v":{"$error":"#REF!"}},{"$f":"#REF!","v":{"$error":"#REF!"}},{"$f":"#REF!","v":{"$error":"#REF!"}},{"$f":"#REF!","v":{"$error":"#REF!"}},null,{"$f":"RANK(K128,$K$126:$K245,0)","v":{"$error":"#REF!"}},{"$f":"#REF!","v":{"$error":"#REF!"}},{"$f":"#REF!","v":{"$error":"#REF!"}},{"$f":"#REF!","v":{"$error":"#REF!"}},{"$f":"#REF!","v":{"$error":"#REF!"}}]
[{"$f":"RANK(E129,$E$126:$E245,0)","v":{"$error":"#REF!"}},{"$f":"#REF!","v":{"$error":"#REF!"}},{"$f":"#REF!","v":{"$error":"#REF!"}},{"$f":"#REF!","v":{"$error":"#REF!"}},{"$f":"#REF!","v":{"$error":"#REF!"}},null,{"$f":"RANK(K129,$K$126:$K245,0)","v":{"$error":"#REF!"}},{"$f":"#REF!","v":{"$error":"#REF!"}},{"$f":"#REF!","v":{"$error":"#REF!"}},{"$f":"#REF!","v":{"$error":"#REF!"}},{"$f":"#REF!","v":{"$error":"#REF!"}}]
[{"$f":"RANK(E130,$E$126:$E245,0)","v":{"$error":"#REF!"}},{"$f":"#REF!","v":{"$error":"#REF!"}},{"$f":"#REF!","v":{"$error":"#REF!"}},{"$f":"#REF!","v":{"$error":"#REF!"}},{"$f":"#REF!","v":{"$error":"#REF!"}},null,{"$f":"RANK(K130,$K$126:$K245,0)","v":{"$error":"#REF!"}},{"$f":"#REF!","v":{"$error":"#REF!"}},{"$f":"#REF!","v":{"$error":"#REF!"}},{"$f":"#REF!","v":{"$error":"#REF!"}},{"$f":"#REF!","v":{"$error":"#REF!"}}]
[{"$f":"RANK(E131,$E$126:$E245,0)","v":{"$error":"#REF!"}},{"$f":"#REF!","v":{"$error":"#REF!"}},{"$f":"#REF!","v":{"$error":"#REF!"}},{"$f":"#REF!","v":{"$error":"#REF!"}},{"$f":"#REF!","v":{"$error":"#REF!"}},null,{"$f":"RANK(K131,$K$126:$K245,0)","v":{"$error":"#REF!"}},{"$f":"#REF!","v":{"$error":"#REF!"}},{"$f":"#REF!","v":{"$error":"#REF!"}},{"$f":"#REF!","v":{"$error":"#REF!"}},{"$f":"#REF!","v":{"$error":"#REF!"}}]
[{"$f":"RANK(E132,$E$126:$E245,0)","v":{"$error":"#REF!"}},{"$f":"#REF!","v":{"$error":"#REF!"}},{"$f":"#REF!","v":{"$error":"#REF!"}},{"$f":"#REF!","v":{"$error":"#REF!"}},{"$f":"#REF!","v":{"$error":"#REF!"}},null,{"$f":"RANK(K132,$K$126:$K245,0)","v":{"$error":"#REF!"}},{"$f":"#REF!","v":{"$error":"#REF!"}},{"$f":"#REF!","v":{"$error":"#REF!"}},{"$f":"#REF!","v":{"$error":"#REF!"}},{"$f":"#REF!","v":{"$error":"#REF!"}}]
[{"$f":"RANK(E133,$E$126:$E245,0)","v":{"$error":"#REF!"}},{"$f":"#REF!","v":{"$error":"#REF!"}},{"$f":"#REF!","v":{"$error":"#REF!"}},{"$f":"#REF!","v":{"$error":"#REF!"}},{"$f":"#REF!","v":{"$error":"#REF!"}},null,{"$f":"RANK(K133,$K$126:$K245,0)","v":{"$error":"#REF!"}},{"$f":"#REF!","v":{"$error":"#REF!"}},{"$f":"#REF!","v":{"$error":"#REF!"}},{"$f":"#REF!","v":{"$error":"#REF!"}},{"$f":"#REF!","v":{"$error":"#REF!"}}]
[{"$f":"RANK(E134,$E$126:$E245,0)","v":{"$error":"#REF!"}},{"$f":"#REF!","v":{"$error":"#REF!"}},{"$f":"#REF!","v":{"$error":"#REF!"}},{"$f":"#REF!","v":{"$error":"#REF!"}},{"$f":"#REF!","v":{"$error":"#REF!"}},null,{"$f":"RANK(K134,$K$126:$K245,0)","v":{"$error":"#REF!"}},{"$f":"#REF!","v":{"$error":"#REF!"}},{"$f":"#REF!","v":{"$error":"#REF!"}},{"$f":"#REF!","v":{"$error":"#REF!"}},{"$f":"#REF!","v":{"$error":"#REF!"}}]
[{"$f":"RANK(E135,$E$126:$E245,0)","v":{"$error":"#REF!"}},{"$f":"#REF!","v":{"$error":"#REF!"}},{"$f":"#REF!","v":{"$error":"#REF!"}},{"$f":"#REF!","v":{"$error":"#REF!"}},{"$f":"#REF!","v":{"$error":"#REF!"}},null,{"$f":"RANK(K135,$K$126:$K245,0)","v":{"$error":"#REF!"}},{"$f":"#REF!","v":{"$error":"#REF!"}},{"$f":"#REF!","v":{"$error":"#REF!"}},{"$f":"#REF!","v":{"$error":"#REF!"}},{"$f":"#REF!","v":{"$error":"#REF!"}}]
[{"$f":"RANK(E136,$E$126:$E245,0)","v":{"$error":"#REF!"}},{"$f":"#REF!","v":{"$error":"#REF!"}},{"$f":"#REF!","v":{"$error":"#REF!"}},{"$f":"#REF!","v":{"$error":"#REF!"}},{"$f":"#REF!","v":{"$error":"#REF!"}},null,{"$f":"RANK(K136,$K$126:$K245,0)","v":{"$error":"#REF!"}},{"$f":"#REF!","v":{"$error":"#REF!"}},{"$f":"#REF!","v":{"$error":"#REF!"}},{"$f":"#REF!","v":{"$error":"#REF!"}},{"$f":"#REF!","v":{"$error":"#REF!"}}]
[{"$f":"RANK(E137,$E$126:$E245,0)","v":{"$error":"#REF!"}},{"$f":"#REF!","v":{"$error":"#REF!"}},{"$f":"#REF!","v":{"$error":"#REF!"}},{"$f":"#REF!","v":{"$error":"#REF!"}},{"$f":"#REF!","v":{"$error":"#REF!"}},null,{"$f":"RANK(K137,$K$126:$K245,0)","v":{"$error":"#REF!"}},{"$f":"#REF!","v":{"$error":"#REF!"}},{"$f":"#REF!","v":{"$error":"#REF!"}},{"$f":"#REF!","v":{"$error":"#REF!"}},{"$f":"#REF!","v":{"$error":"#REF!"}}]
[{"$f":"RANK(E138,$E$126:$E245,0)","v":{"$error":"#REF!"}},{"$f":"#REF!","v":{"$error":"#REF!"}},{"$f":"#REF!","v":{"$error":"#REF!"}},{"$f":"#REF!","v":{"$error":"#REF!"}},{"$f":"#REF!","v":{"$error":"#REF!"}},null,{"$f":"RANK(K138,$K$126:$K245,0)","v":{"$error":"#REF!"}},{"$f":"#REF!","v":{"$error":"#REF!"}},{"$f":"#REF!","v":{"$error":"#REF!"}},{"$f":"#REF!","v":{"$error":"#REF!"}},{"$f":"#REF!","v":{"$error":"#REF!"}}]
[{"$f":"RANK(E139,$E$126:$E245,0)","v":{"$error":"#REF!"}},{"$f":"#REF!","v":{"$error":"#REF!"}},{"$f":"#REF!","v":{"$error":"#REF!"}},{"$f":"#REF!","v":{"$error":"#REF!"}},{"$f":"#REF!","v":{"$error":"#REF!"}},null,{"$f":"RANK(K139,$K$126:$K245,0)","v":{"$error":"#REF!"}},{"$f":"#REF!","v":{"$error":"#REF!"}},{"$f":"#REF!","v":{"$error":"#REF!"}},{"$f":"#REF!","v":{"$error":"#REF!"}},{"$f":"#REF!","v":{"$error":"#REF!"}}]
[{"$f":"RANK(E140,$E$126:$E245,0)","v":{"$error":"#REF!"}},{"$f":"#REF!","v":{"$error":"#REF!"}},{"$f":"#REF!","v":{"$error":"#REF!"}},{"$f":"#REF!","v":{"$error":"#REF!"}},{"$f":"#REF!","v":{"$error":"#REF!"}},null,{"$f":"RANK(K140,$K$126:$K245,0)","v":{"$error":"#REF!"}},{"$f":"#REF!","v":{"$error":"#REF!"}},{"$f":"#REF!","v":{"$error":"#REF!"}},{"$f":"#REF!","v":{"$error":"#REF!"}},{"$f":"#REF!","v":{"$error":"#REF!"}}]
[{"$f":"RANK(E141,$E$126:$E245,0)","v":{"$error":"#REF!"}},{"$f":"#REF!","v":{"$error":"#REF!"}},{"$f":"#REF!","v":{"$error":"#REF!"}},{"$f":"#REF!","v":{"$error":"#REF!"}},{"$f":"#REF!","v":{"$error":"#REF!"}},null,{"$f":"RANK(K141,$K$126:$K245,0)","v":{"$error":"#REF!"}},{"$f":"#REF!","v":{"$error":"#REF!"}},{"$f":"#REF!","v":{"$error":"#REF!"}},{"$f":"#REF!","v":{"$error":"#REF!"}},{"$f":"#REF!","v":{"$error":"#REF!"}}]
[{"$f":"RANK(E142,$E$126:$E245,0)","v":{"$error":"#REF!"}},{"$f":"#REF!","v":{"$error":"#REF!"}},{"$f":"#REF!","v":{"$error":"#REF!"}},{"$f":"#REF!","v":{"$error":"#REF!"}},{"$f":"#REF!","v":{"$error":"#REF!"}},null,{"$f":"RANK(K142,$K$126:$K245,0)","v":{"$error":"#REF!"}},{"$f":"#REF!","v":{"$error":"#REF!"}},{"$f":"#REF!","v":{"$error":"#REF!"}},{"$f":"#REF!","v":{"$error":"#REF!"}},{"$f":"#REF!","v":{"$error":"#REF!"}}]
[{"$f":"RANK(E143,$E$126:$E245,0)","v":{"$error":"#REF!"}},{"$f":"#REF!","v":{"$error":"#REF!"}},{"$f":"#REF!","v":{"$error":"#REF!"}},{"$f":"#REF!","v":{"$error":"#REF!"}},{"$f":"#REF!","v":{"$error":"#REF!"}},null,{"$f":"RANK(K143,$K$126:$K245,0)","v":{"$error":"#REF!"}},{"$f":"#REF!","v":{"$error":"#REF!"}},{"$f":"#REF!","v":{"$error":"#REF!"}},{"$f":"#REF!","v":{"$error":"#REF!"}},{"$f":"#REF!","v":{"$error":"#REF!"}}]
[{"$f":"RANK(E144,$E$126:$E245,0)","v":{"$error":"#REF!"}},{"$f":"#REF!","v":{"$error":"#REF!"}},{"$f":"#REF!","v":{"$error":"#REF!"}},{"$f":"#REF!","v":{"$error":"#REF!"}},{"$f":"#REF!","v":{"$error":"#REF!"}},null,{"$f":"RANK(K144,$K$126:$K245,0)","v":{"$error":"#REF!"}},{"$f":"#REF!","v":{"$error":"#REF!"}},{"$f":"#REF!","v":{"$error":"#REF!"}},{"$f":"#REF!","v":{"$error":"#REF!"}},{"$f":"#REF!","v":{"$error":"#REF!"}}]
[{"$f":"RANK(E145,$E$126:$E245,0)","v":{"$error":"#REF!"}},{"$f":"#REF!","v":{"$error":"#REF!"}},{"$f":"#REF!","v":{"$error":"#REF!"}},{"$f":"#REF!","v":{"$error":"#REF!"}},{"$f":"#REF!","v":{"$error":"#REF!"}},null,{"$f":"RANK(K145,$K$126:$K245,0)","v":{"$error":"#REF!"}},{"$f":"#REF!","v":{"$error":"#REF!"}},{"$f":"#REF!","v":{"$error":"#REF!"}},{"$f":"#REF!","v":{"$error":"#REF!"}},{"$f":"#REF!","v":{"$error":"#REF!"}}]
[{"$f":"RANK(E146,$E$126:$E245,0)","v":{"$error":"#REF!"}},{"$f":"#REF!","v":{"$error":"#REF!"}},{"$f":"#REF!","v":{"$error":"#REF!"}},{"$f":"#REF!","v":{"$error":"#REF!"}},{"$f":"#REF!","v":{"$error":"#REF!"}},null,{"$f":"RANK(K146,$K$126:$K245,0)","v":{"$error":"#REF!"}},{"$f":"#REF!","v":{"$error":"#REF!"}},{"$f":"#REF!","v":{"$error":"#REF!"}},{"$f":"#REF!","v":{"$error":"#REF!"}},{"$f":"#REF!","v":{"$error":"#REF!"}}]
[{"$f":"RANK(E147,$E$126:$E245,0)","v":{"$error":"#REF!"}},{"$f":"#REF!","v":{"$error":"#REF!"}},{"$f":"#REF!","v":{"$error":"#REF!"}},{"$f":"#REF!","v":{"$error":"#REF!"}},{"$f":"#REF!","v":{"$error":"#REF!"}},null,{"$f":"RANK(K147,$K$126:$K245,0)","v":{"$error":"#REF!"}},{"$f":"#REF!","v":{"$error":"#REF!"}},{"$f":"#REF!","v":{"$error":"#REF!"}},{"$f":"#REF!","v":{"$error":"#REF!"}},{"$f":"#REF!","v":{"$error":"#REF!"}}]
[{"$f":"RANK(E148,$E$126:$E245,0)","v":{"$error":"#REF!"}},{"$f":"#REF!","v":{"$error":"#REF!"}},{"$f":"#REF!","v":{"$error":"#REF!"}},{"$f":"#REF!","v":{"$error":"#REF!"}},{"$f":"#REF!","v":{"$error":"#REF!"}},null,{"$f":"RANK(K148,$K$126:$K245,0)","v":{"$error":"#REF!"}},{"$f":"#REF!","v":{"$error":"#REF!"}},{"$f":"#REF!","v":{"$error":"#REF!"}},{"$f":"#REF!","v":{"$error":"#REF!"}},{"$f":"#REF!","v":{"$error":"#REF!"}}]
[{"$f":"RANK(E149,$E$126:$E245,0)","v":{"$error":"#REF!"}},{"$f":"#REF!","v":{"$error":"#REF!"}},{"$f":"#REF!","v":{"$error":"#REF!"}},{"$f":"#REF!","v":{"$error":"#REF!"}},{"$f":"#REF!","v":{"$error":"#REF!"}},null,{"$f":"RANK(K149,$K$126:$K245,0)","v":{"$error":"#REF!"}},{"$f":"#REF!","v":{"$error":"#REF!"}},{"$f":"#REF!","v":{"$error":"#REF!"}},{"$f":"#REF!","v":{"$error":"#REF!"}},{"$f":"#REF!","v":{"$error":"#REF!"}}]
[{"$f":"RANK(E150,$E$126:$E245,0)","v":{"$error":"#REF!"}},{"$f":"#REF!","v":{"$error":"#REF!"}},{"$f":"#REF!","v":{"$error":"#REF!"}},{"$f":"#REF!","v":{"$error":"#REF!"}},{"$f":"#REF!","v":{"$error":"#REF!"}},null,{"$f":"RANK(K150,$K$126:$K245,0)","v":{"$error":"#REF!"}},{"$f":"#REF!","v":{"$error":"#REF!"}},{"$f":"#REF!","v":{"$error":"#REF!"}},{"$f":"#REF!","v":{"$error":"#REF!"}},{"$f":"#REF!","v":{"$error":"#REF!"}}]
[{"$f":"RANK(E151,$E$126:$E245,0)","v":{"$error":"#REF!"}},{"$f":"#REF!","v":{"$error":"#REF!"}},{"$f":"#REF!","v":{"$error":"#REF!"}},{"$f":"#REF!","v":{"$error":"#REF!"}},{"$f":"#REF!","v":{"$error":"#REF!"}},null,{"$f":"RANK(K151,$K$126:$K245,0)","v":{"$error":"#REF!"}},{"$f":"#REF!","v":{"$error":"#REF!"}},{"$f":"#REF!","v":{"$error":"#REF!"}},{"$f":"#REF!","v":{"$error":"#REF!"}},{"$f":"#REF!","v":{"$error":"#REF!"}}]
[{"$f":"RANK(E152,$E$126:$E245,0)","v":{"$error":"#REF!"}},{"$f":"#REF!","v":{"$error":"#REF!"}},{"$f":"#REF!","v":{"$error":"#REF!"}},{"$f":"#REF!","v":{"$error":"#REF!"}},{"$f":"#REF!","v":{"$error":"#REF!"}},null,{"$f":"RANK(K152,$K$126:$K245,0)","v":{"$error":"#REF!"}},{"$f":"#REF!","v":{"$error":"#REF!"}},{"$f":"#REF!","v":{"$error":"#REF!"}},{"$f":"#REF!","v":{"$error":"#REF!"}},{"$f":"#REF!","v":{"$error":"#REF!"}}]
[{"$f":"RANK(E153,$E$126:$E245,0)","v":{"$error":"#REF!"}},{"$f":"#REF!","v":{"$error":"#REF!"}},{"$f":"#REF!","v":{"$error":"#REF!"}},{"$f":"#REF!","v":{"$error":"#REF!"}},{"$f":"#REF!","v":{"$error":"#REF!"}},null,{"$f":"RANK(K153,$K$126:$K245,0)","v":{"$error":"#REF!"}},{"$f":"#REF!","v":{"$error":"#REF!"}},{"$f":"#REF!","v":{"$error":"#REF!"}},{"$f":"#REF!","v":{"$error":"#REF!"}},{"$f":"#REF!","v":{"$error":"#REF!"}}]
[{"$f":"RANK(E154,$E$126:$E245,0)","v":{"$error":"#REF!"}},{"$f":"#REF!","v":{"$error":"#REF!"}},{"$f":"#REF!","v":{"$error":"#REF!"}},{"$f":"#REF!","v":{"$error":"#REF!"}},{"$f":"#REF!","v":{"$error":"#REF!"}},null,{"$f":"RANK(K154,$K$126:$K245,0)","v":{"$error":"#REF!"}},{"$f":"#REF!","v":{"$error":"#REF!"}},{"$f":"#REF!","v":{"$error":"#REF!"}},{"$f":"#REF!","v":{"$error":"#REF!"}},{"$f":"#REF!","v":{"$error":"#REF!"}}]
[{"$f":"RANK(E155,$E$126:$E245,0)","v":{"$error":"#REF!"}},{"$f":"#REF!","v":{"$error":"#REF!"}},{"$f":"#REF!","v":{"$error":"#REF!"}},{"$f":"#REF!","v":{"$error":"#REF!"}},{"$f":"#REF!","v":{"$error":"#REF!"}},null,{"$f":"RANK(K155,$K$126:$K245,0)","v":{"$error":"#REF!"}},{"$f":"#REF!","v":{"$error":"#REF!"}},{"$f":"#REF!","v":{"$error":"#REF!"}},{"$f":"#REF!","v":{"$error":"#REF!"}},{"$f":"#REF!","v":{"$error":"#REF!"}}]
[{"$f":"RANK(E156,$E$126:$E245,0)","v":{"$error":"#REF!"}},{"$f":"#REF!","v":{"$error":"#REF!"}},{"$f":"#REF!","v":{"$error":"#REF!"}},{"$f":"#REF!","v":{"$error":"#REF!"}},{"$f":"#REF!","v":{"$error":"#REF!"}},null,{"$f":"RANK(K156,$K$126:$K245,0)","v":{"$error":"#REF!"}},{"$f":"#REF!","v":{"$error":"#REF!"}},{"$f":"#REF!","v":{"$error":"#REF!"}},{"$f":"#REF!","v":{"$error":"#REF!"}},{"$f":"#REF!","v":{"$error":"#REF!"}}]
[{"$f":"RANK(E157,$E$126:$E245,0)","v":{"$error":"#REF!"}},{"$f":"#REF!","v":{"$error":"#REF!"}},{"$f":"#REF!","v":{"$error":"#REF!"}},{"$f":"#REF!","v":{"$error":"#REF!"}},{"$f":"#REF!","v":{"$error":"#REF!"}},null,{"$f":"RANK(K157,$K$126:$K245,0)","v":{"$error":"#REF!"}},{"$f":"#REF!","v":{"$error":"#REF!"}},{"$f":"#REF!","v":{"$error":"#REF!"}},{"$f":"#REF!","v":{"$error":"#REF!"}},{"$f":"#REF!","v":{"$error":"#REF!"}}]
[{"$f":"RANK(E158,$E$126:$E245,0)","v":{"$error":"#REF!"}},{"$f":"#REF!","v":{"$error":"#REF!"}},{"$f":"#REF!","v":{"$error":"#REF!"}},{"$f":"#REF!","v":{"$error":"#REF!"}},{"$f":"#REF!","v":{"$error":"#REF!"}},null,{"$f":"RANK(K158,$K$126:$K245,0)","v":{"$error":"#REF!"}},{"$f":"#REF!","v":{"$error":"#REF!"}},{"$f":"#REF!","v":{"$error":"#REF!"}},{"$f":"#REF!","v":{"$error":"#REF!"}},{"$f":"#REF!","v":{"$error":"#REF!"}}]
[{"$f":"RANK(E159,$E$126:$E245,0)","v":{"$error":"#REF!"}},{"$f":"#REF!","v":{"$error":"#REF!"}},{"$f":"#REF!","v":{"$error":"#REF!"}},{"$f":"#REF!","v":{"$error":"#REF!"}},{"$f":"#REF!","v":{"$error":"#REF!"}},null,{"$f":"RANK(K159,$K$126:$K245,0)","v":{"$error":"#REF!"}},{"$f":"#REF!","v":{"$error":"#REF!"}},{"$f":"#REF!","v":{"$error":"#REF!"}},{"$f":"#REF!","v":{"$error":"#REF!"}},{"$f":"#REF!","v":{"$error":"#REF!"}}]
[{"$f":"RANK(E160,$E$126:$E245,0)","v":{"$error":"#REF!"}},{"$f":"#REF!","v":{"$error":"#REF!"}},{"$f":"#REF!","v":{"$error":"#REF!"}},{"$f":"#REF!","v":{"$error":"#REF!"}},{"$f":"#REF!","v":{"$error":"#REF!"}},null,{"$f":"RANK(K160,$K$126:$K245,0)","v":{"$error":"#REF!"}},{"$f":"#REF!","v":{"$error":"#REF!"}},{"$f":"#REF!","v":{"$error":"#REF!"}},{"$f":"#REF!","v":{"$error":"#REF!"}},{"$f":"#REF!","v":{"$error":"#REF!"}}]
[{"$f":"RANK(E161,$E$126:$E245,0)","v":{"$error":"#REF!"}},{"$f":"#REF!","v":{"$error":"#REF!"}},{"$f":"#REF!","v":{"$error":"#REF!"}},{"$f":"#REF!","v":{"$error":"#REF!"}},{"$f":"#REF!","v":{"$error":"#REF!"}},null,{"$f":"RANK(K161,$K$126:$K245,0)","v":{"$error":"#REF!"}},{"$f":"#REF!","v":{"$error":"#REF!"}},{"$f":"#REF!","v":{"$error":"#REF!"}},{"$f":"#REF!","v":{"$error":"#REF!"}},{"$f":"#REF!","v":{"$error":"#REF!"}}]
[{"$f":"RANK(E162,$E$126:$E245,0)","v":{"$error":"#REF!"}},{"$f":"#REF!","v":{"$error":"#REF!"}},{"$f":"#REF!","v":{"$error":"#REF!"}},{"$f":"#REF!","v":{"$error":"#REF!"}},{"$f":"#REF!","v":{"$error":"#REF!"}},null,{"$f":"RANK(K162,$K$126:$K245,0)","v":{"$error":"#REF!"}},{"$f":"#REF!","v":{"$error":"#REF!"}},{"$f":"#REF!","v":{"$error":"#REF!"}},{"$f":"#REF!","v":{"$error":"#REF!"}},{"$f":"#REF!","v":{"$error":"#REF!"}}]
[{"$f":"RANK(E163,$E$126:$E245,0)","v":{"$error":"#REF!"}},{"$f":"#REF!","v":{"$error":"#REF!"}},{"$f":"#REF!","v":{"$error":"#REF!"}},{"$f":"#REF!","v":{"$error":"#REF!"}},{"$f":"#REF!","v":{"$error":"#REF!"}},null,{"$f":"RANK(K163,$K$126:$K245,0)","v":{"$error":"#REF!"}},{"$f":"#REF!","v":{"$error":"#REF!"}},{"$f":"#REF!","v":{"$error":"#REF!"}},{"$f":"#REF!","v":{"$error":"#REF!"}},{"$f":"#REF!","v":{"$error":"#REF!"}}]
[{"$f":"RANK(E164,$E$126:$E245,0)","v":{"$error":"#REF!"}},{"$f":"#REF!","v":{"$error":"#REF!"}},{"$f":"#REF!","v":{"$error":"#REF!"}},{"$f":"#REF!","v":{"$error":"#REF!"}},{"$f":"#REF!","v":{"$error":"#REF!"}},null,{"$f":"RANK(K164,$K$126:$K245,0)","v":{"$error":"#REF!"}},{"$f":"#REF!","v":{"$error":"#REF!"}},{"$f":"#REF!","v":{"$error":"#REF!"}},{"$f":"#REF!","v":{"$error":"#REF!"}},{"$f":"#REF!","v":{"$error":"#REF!"}}]
[{"$f":"RANK(E165,$E$126:$E245,0)","v":{"$error":"#REF!"}},{"$f":"#REF!","v":{"$error":"#REF!"}},{"$f":"#REF!","v":{"$error":"#REF!"}},{"$f":"#REF!","v":{"$error":"#REF!"}},{"$f":"#REF!","v":{"$error":"#REF!"}},null,{"$f":"RANK(K165,$K$126:$K245,0)","v":{"$error":"#REF!"}},{"$f":"#REF!","v":{"$error":"#REF!"}},{"$f":"#REF!","v":{"$error":"#REF!"}},{"$f":"#REF!","v":{"$error":"#REF!"}},{"$f":"#REF!","v":{"$error":"#REF!"}}]
[{"$f":"RANK(E166,$E$126:$E245,0)","v":{"$error":"#REF!"}},{"$f":"#REF!","v":{"$error":"#REF!"}},{"$f":"#REF!","v":{"$error":"#REF!"}},{"$f":"#REF!","v":{"$error":"#REF!"}},{"$f":"#REF!","v":{"$error":"#REF!"}},null,{"$f":"RANK(K166,$K$126:$K245,0)","v":{"$error":"#REF!"}},{"$f":"#REF!","v":{"$error":"#REF!"}},{"$f":"#REF!","v":{"$error":"#REF!"}},{"$f":"#REF!","v":{"$error":"#REF!"}},{"$f":"#REF!","v":{"$error":"#REF!"}}]
[{"$f":"RANK(E167,$E$126:$E245,0)","v":{"$error":"#REF!"}},{"$f":"#REF!","v":{"$error":"#REF!"}},{"$f":"#REF!","v":{"$error":"#REF!"}},{"$f":"#REF!","v":{"$error":"#REF!"}},{"$f":"#REF!","v":{"$error":"#REF!"}},null,{"$f":"RANK(K167,$K$126:$K245,0)","v":{"$error":"#REF!"}},{"$f":"#REF!","v":{"$error":"#REF!"}},{"$f":"#REF!","v":{"$error":"#REF!"}},{"$f":"#REF!","v":{"$error":"#REF!"}},{"$f":"#REF!","v":{"$error":"#REF!"}}]
[{"$f":"RANK(E168,$E$126:$E245,0)","v":{"$error":"#REF!"}},{"$f":"#REF!","v":{"$error":"#REF!"}},{"$f":"#REF!","v":{"$error":"#REF!"}},{"$f":"#REF!","v":{"$error":"#REF!"}},{"$f":"#REF!","v":{"$error":"#REF!"}},null,{"$f":"RANK(K168,$K$126:$K245,0)","v":{"$error":"#REF!"}},{"$f":"#REF!","v":{"$error":"#REF!"}},{"$f":"#REF!","v":{"$error":"#REF!"}},{"$f":"#REF!","v":{"$error":"#REF!"}},{"$f":"#REF!","v":{"$error":"#REF!"}}]
[{"$f":"RANK(E169,$E$126:$E245,0)","v":{"$error":"#REF!"}},{"$f":"#REF!","v":{"$error":"#REF!"}},{"$f":"#REF!","v":{"$error":"#REF!"}},{"$f":"#REF!","v":{"$error":"#REF!"}},{"$f":"#REF!","v":{"$error":"#REF!"}},null,{"$f":"RANK(K169,$K$126:$K245,0)","v":{"$error":"#REF!"}},{"$f":"#REF!","v":{"$error":"#REF!"}},{"$f":"#REF!","v":{"$error":"#REF!"}},{"$f":"#REF!","v":{"$error":"#REF!"}},{"$f":"#REF!","v":{"$error":"#REF!"}}]
[{"$f":"RANK(E170,$E$126:$E245,0)","v":{"$error":"#REF!"}},{"$f":"#REF!","v":{"$error":"#REF!"}},{"$f":"#REF!","v":{"$error":"#REF!"}},{"$f":"#REF!","v":{"$error":"#REF!"}},{"$f":"#REF!","v":{"$error":"#REF!"}},null,{"$f":"RANK(K170,$K$126:$K245,0)","v":{"$error":"#REF!"}},{"$f":"#REF!","v":{"$error":"#REF!"}},{"$f":"#REF!","v":{"$error":"#REF!"}},{"$f":"#REF!","v":{"$error":"#REF!"}},{"$f":"#REF!","v":{"$error":"#REF!"}}]
[{"$f":"RANK(E171,$E$126:$E245,0)","v":{"$error":"#REF!"}},{"$f":"#REF!","v":{"$error":"#REF!"}},{"$f":"#REF!","v":{"$error":"#REF!"}},{"$f":"#REF!","v":{"$error":"#REF!"}},{"$f":"#REF!","v":{"$error":"#REF!"}},null,{"$f":"RANK(K171,$K$126:$K245,0)","v":{"$error":"#REF!"}},{"$f":"#REF!","v":{"$error":"#REF!"}},{"$f":"#REF!","v":{"$error":"#REF!"}},{"$f":"#REF!","v":{"$error":"#REF!"}},{"$f":"#REF!","v":{"$error":"#REF!"}}]
[{"$f":"RANK(E172,$E$126:$E245,0)","v":{"$error":"#REF!"}},{"$f":"#REF!","v":{"$error":"#REF!"}},{"$f":"#REF!","v":{"$error":"#REF!"}},{"$f":"#REF!","v":{"$error":"#REF!"}},{"$f":"#REF!","v":{"$error":"#REF!"}},null,{"$f":"RANK(K172,$K$126:$K245,0)","v":{"$error":"#REF!"}},{"$f":"#REF!","v":{"$error":"#REF!"}},{"$f":"#REF!","v":{"$error":"#REF!"}},{"$f":"#REF!","v":{"$error":"#REF!"}},{"$f":"#REF!","v":{"$error":"#REF!"}}]
[{"$f":"RANK(E173,$E$126:$E245,0)","v":{"$error":"#REF!"}},{"$f":"#REF!","v":{"$error":"#REF!"}},{"$f":"#REF!","v":{"$error":"#REF!"}},{"$f":"#REF!","v":{"$error":"#REF!"}},{"$f":"#REF!","v":{"$error":"#REF!"}},null,{"$f":"RANK(K173,$K$126:$K245,0)","v":{"$error":"#REF!"}},{"$f":"#REF!","v":{"$error":"#REF!"}},{"$f":"#REF!","v":{"$error":"#REF!"}},{"$f":"#REF!","v":{"$error":"#REF!"}},{"$f":"#REF!","v":{"$error":"#REF!"}}]
[{"$f":"RANK(E174,$E$126:$E245,0)","v":{"$error":"#REF!"}},{"$f":"#REF!","v":{"$error":"#REF!"}},{"$f":"#REF!","v":{"$error":"#REF!"}},{"$f":"#REF!","v":{"$error":"#REF!"}},{"$f":"#REF!","v":{"$error":"#REF!"}},null,{"$f":"RANK(K174,$K$126:$K245,0)","v":{"$error":"#REF!"}},{"$f":"#REF!","v":{"$error":"#REF!"}},{"$f":"#REF!","v":{"$error":"#REF!"}},{"$f":"#REF!","v":{"$error":"#REF!"}},{"$f":"#REF!","v":{"$error":"#REF!"}}]
[{"$f":"RANK(E175,$E$126:$E245,0)","v":{"$error":"#REF!"}},{"$f":"#REF!","v":{"$error":"#REF!"}},{"$f":"#REF!","v":{"$error":"#REF!"}},{"$f":"#REF!","v":{"$error":"#REF!"}},{"$f":"#REF!","v":{"$error":"#REF!"}},null,{"$f":"RANK(K175,$K$126:$K245,0)","v":{"$error":"#REF!"}},{"$f":"#REF!","v":{"$error":"#REF!"}},{"$f":"#REF!","v":{"$error":"#REF!"}},{"$f":"#REF!","v":{"$error":"#REF!"}},{"$f":"#REF!","v":{"$error":"#REF!"}}]
[{"$f":"RANK(E176,$E$126:$E245,0)","v":{"$error":"#REF!"}},{"$f":"#REF!","v":{"$error":"#REF!"}},{"$f":"#REF!","v":{"$error":"#REF!"}},{"$f":"#REF!","v":{"$error":"#REF!"}},{"$f":"#REF!","v":{"$error":"#REF!"}},null,{"$f":"RANK(K176,$K$126:$K245,0)","v":{"$error":"#REF!"}},{"$f":"#REF!","v":{"$error":"#REF!"}},{"$f":"#REF!","v":{"$error":"#REF!"}},{"$f":"#REF!","v":{"$error":"#REF!"}},{"$f":"#REF!","v":{"$error":"#REF!"}}]
[{"$f":"RANK(E177,$E$126:$E245,0)","v":{"$error":"#REF!"}},{"$f":"#REF!","v":{"$error":"#REF!"}},{"$f":"#REF!","v":{"$error":"#REF!"}},{"$f":"#REF!","v":{"$error":"#REF!"}},{"$f":"#REF!","v":{"$error":"#REF!"}},null,{"$f":"RANK(K177,$K$126:$K245,0)","v":{"$error":"#REF!"}},{"$f":"#REF!","v":{"$error":"#REF!"}},{"$f":"#REF!","v":{"$error":"#REF!"}},{"$f":"#REF!","v":{"$error":"#REF!"}},{"$f":"#REF!","v":{"$error":"#REF!"}}]
[{"$f":"RANK(E178,$E$126:$E245,0)","v":{"$error":"#REF!"}},{"$f":"#REF!","v":{"$error":"#REF!"}},{"$f":"#REF!","v":{"$error":"#REF!"}},{"$f":"#REF!","v":{"$error":"#REF!"}},{"$f":"#REF!","v":{"$error":"#REF!"}},null,{"$f":"RANK(K178,$K$126:$K245,0)","v":{"$error":"#REF!"}},{"$f":"#REF!","v":{"$error":"#REF!"}},{"$f":"#REF!","v":{"$error":"#REF!"}},{"$f":"#REF!","v":{"$error":"#REF!"}},{"$f":"#REF!","v":{"$error":"#REF!"}}]
[{"$f":"RANK(E179,$E$126:$E245,0)","v":{"$error":"#REF!"}},{"$f":"#REF!","v":{"$error":"#REF!"}},{"$f":"#REF!","v":{"$error":"#REF!"}},{"$f":"#REF!","v":{"$error":"#REF!"}},{"$f":"#REF!","v":{"$error":"#REF!"}},null,{"$f":"RANK(K179,$K$126:$K245,0)","v":{"$error":"#REF!"}},{"$f":"#REF!","v":{"$error":"#REF!"}},{"$f":"#REF!","v":{"$error":"#REF!"}},{"$f":"#REF!","v":{"$error":"#REF!"}},{"$f":"#REF!","v":{"$error":"#REF!"}}]
[{"$f":"RANK(E180,$E$126:$E245,0)","v":{"$error":"#REF!"}},{"$f":"#REF!","v":{"$error":"#REF!"}},{"$f":"#REF!","v":{"$error":"#REF!"}},{"$f":"#REF!","v":{"$error":"#REF!"}},{"$f":"#REF!","v":{"$error":"#REF!"}},null,{"$f":"RANK(K180,$K$126:$K245,0)","v":{"$error":"#REF!"}},{"$f":"#REF!","v":{"$error":"#REF!"}},{"$f":"#REF!","v":{"$error":"#REF!"}},{"$f":"#REF!","v":{"$error":"#REF!"}},{"$f":"#REF!","v":{"$error":"#REF!"}}]
[{"$f":"RANK(E181,$E$126:$E245,0)","v":{"$error":"#REF!"}},{"$f":"#REF!","v":{"$error":"#REF!"}},{"$f":"#REF!","v":{"$error":"#REF!"}},{"$f":"#REF!","v":{"$error":"#REF!"}},{"$f":"#REF!","v":{"$error":"#REF!"}},null,{"$f":"RANK(K181,$K$126:$K245,0)","v":{"$error":"#REF!"}},{"$f":"#REF!","v":{"$error":"#REF!"}},{"$f":"#REF!","v":{"$error":"#REF!"}},{"$f":"#REF!","v":{"$error":"#REF!"}},{"$f":"#REF!","v":{"$error":"#REF!"}}]
[{"$f":"RANK(E182,$E$126:$E245,0)","v":{"$error":"#REF!"}},{"$f":"#REF!","v":{"$error":"#REF!"}},{"$f":"#REF!","v":{"$error":"#REF!"}},{"$f":"#REF!","v":{"$error":"#REF!"}},{"$f":"#REF!","v":{"$error":"#REF!"}},null,{"$f":"RANK(K182,$K$126:$K245,0)","v":{"$error":"#REF!"}},{"$f":"#REF!","v":{"$error":"#REF!"}},{"$f":"#REF!","v":{"$error":"#REF!"}},{"$f":"#REF!","v":{"$error":"#REF!"}},{"$f":"#REF!","v":{"$error":"#REF!"}}]
[{"$f":"RANK(E183,$E$126:$E245,0)","v":{"$error":"#REF!"}},{"$f":"#REF!","v":{"$error":"#REF!"}},{"$f":"#REF!","v":{"$error":"#REF!"}},{"$f":"#REF!","v":{"$error":"#REF!"}},{"$f":"#REF!","v":{"$error":"#REF!"}},null,{"$f":"RANK(K183,$K$126:$K245,0)","v":{"$error":"#REF!"}},{"$f":"#REF!","v":{"$error":"#REF!"}},{"$f":"#REF!","v":{"$error":"#REF!"}},{"$f":"#REF!","v":{"$error":"#REF!"}},{"$f":"#REF!","v":{"$error":"#REF!"}}]
[{"$f":"RANK(E184,$E$126:$E245,0)","v":{"$error":"#REF!"}},{"$f":"#REF!","v":{"$error":"#REF!"}},{"$f":"#REF!","v":{"$error":"#REF!"}},{"$f":"#REF!","v":{"$error":"#REF!"}},{"$f":"#REF!","v":{"$error":"#REF!"}},null,{"$f":"RANK(K184,$K$126:$K245,0)","v":{"$error":"#REF!"}},{"$f":"#REF!","v":{"$error":"#REF!"}},{"$f":"#REF!","v":{"$error":"#REF!"}},{"$f":"#REF!","v":{"$error":"#REF!"}},{"$f":"#REF!","v":{"$error":"#REF!"}}]
[{"$f":"RANK(E185,$E$126:$E245,0)","v":{"$error":"#REF!"}},{"$f":"#REF!","v":{"$error":"#REF!"}},{"$f":"#REF!","v":{"$error":"#REF!"}},{"$f":"#REF!","v":{"$error":"#REF!"}},{"$f":"#REF!","v":{"$error":"#REF!"}},null,{"$f":"RANK(K185,$K$126:$K245,0)","v":{"$error":"#REF!"}},{"$f":"#REF!","v":{"$error":"#REF!"}},{"$f":"#REF!","v":{"$error":"#REF!"}},{"$f":"#REF!","v":{"$error":"#REF!"}},{"$f":"#REF!","v":{"$error":"#REF!"}}]
[{"$f":"RANK(E186,$E$126:$E245,0)","v":{"$error":"#REF!"}},{"$f":"#REF!","v":{"$error":"#REF!"}},{"$f":"#REF!","v":{"$error":"#REF!"}},{"$f":"#REF!","v":{"$error":"#REF!"}},{"$f":"#REF!","v":{"$error":"#REF!"}},null,{"$f":"RANK(K186,$K$126:$K245,0)","v":{"$error":"#REF!"}},{"$f":"#REF!","v":{"$error":"#REF!"}},{"$f":"#REF!","v":{"$error":"#REF!"}},{"$f":"#REF!","v":{"$error":"#REF!"}},{"$f":"#REF!","v":{"$error":"#REF!"}}]
[{"$f":"RANK(E187,$E$126:$E245,0)","v":{"$error":"#REF!"}},{"$f":"#REF!","v":{"$error":"#REF!"}},{"$f":"#REF!","v":{"$error":"#REF!"}},{"$f":"#REF!","v":{"$error":"#REF!"}},{"$f":"#REF!","v":{"$error":"#REF!"}},null,{"$f":"RANK(K187,$K$126:$K245,0)","v":{"$error":"#REF!"}},{"$f":"#REF!","v":{"$error":"#REF!"}},{"$f":"#REF!","v":{"$error":"#REF!"}},{"$f":"#REF!","v":{"$error":"#REF!"}},{"$f":"#REF!","v":{"$error":"#REF!"}}]
[{"$f":"RANK(E188,$E$126:$E245,0)","v":{"$error":"#REF!"}},{"$f":"#REF!","v":{"$error":"#REF!"}},{"$f":"#REF!","v":{"$error":"#REF!"}},{"$f":"#REF!","v":{"$error":"#REF!"}},{"$f":"#REF!","v":{"$error":"#REF!"}},null,{"$f":"RANK(K188,$K$126:$K245,0)","v":{"$error":"#REF!"}},{"$f":"#REF!","v":{"$error":"#REF!"}},{"$f":"#REF!","v":{"$error":"#REF!"}},{"$f":"#REF!","v":{"$error":"#REF!"}},{"$f":"#REF!","v":{"$error":"#REF!"}}]
[{"$f":"RANK(E189,$E$126:$E245,0)","v":{"$error":"#REF!"}},{"$f":"#REF!","v":{"$error":"#REF!"}},{"$f":"#REF!","v":{"$error":"#REF!"}},{"$f":"#REF!","v":{"$error":"#REF!"}},{"$f":"#REF!","v":{"$error":"#REF!"}},null,{"$f":"RANK(K189,$K$126:$K245,0)","v":{"$error":"#REF!"}},{"$f":"#REF!","v":{"$error":"#REF!"}},{"$f":"#REF!","v":{"$error":"#REF!"}},{"$f":"#REF!","v":{"$error":"#REF!"}},{"$f":"#REF!","v":{"$error":"#REF!"}}]
[{"$f":"RANK(E190,$E$126:$E245,0)","v":{"$error":"#REF!"}},{"$f":"#REF!","v":{"$error":"#REF!"}},{"$f":"#REF!","v":{"$error":"#REF!"}},{"$f":"#REF!","v":{"$error":"#REF!"}},{"$f":"#REF!","v":{"$error":"#REF!"}},null,{"$f":"RANK(K190,$K$126:$K245,0)","v":{"$error":"#REF!"}},{"$f":"#REF!","v":{"$error":"#REF!"}},{"$f":"#REF!","v":{"$error":"#REF!"}},{"$f":"#REF!","v":{"$error":"#REF!"}},{"$f":"#REF!","v":{"$error":"#REF!"}}]
[{"$f":"RANK(E191,$E$126:$E245,0)","v":{"$error":"#REF!"}},{"$f":"#REF!","v":{"$error":"#REF!"}},{"$f":"#REF!","v":{"$error":"#REF!"}},{"$f":"#REF!","v":{"$error":"#REF!"}},{"$f":"#REF!","v":{"$error":"#REF!"}},null,{"$f":"RANK(K191,$K$126:$K245,0)","v":{"$error":"#REF!"}},{"$f":"#REF!","v":{"$error":"#REF!"}},{"$f":"#REF!","v":{"$error":"#REF!"}},{"$f":"#REF!","v":{"$error":"#REF!"}},{"$f":"#REF!","v":{"$error":"#REF!"}}]
[{"$f":"RANK(E192,$E$126:$E245,0)","v":{"$error":"#REF!"}},{"$f":"#REF!","v":{"$error":"#REF!"}},{"$f":"#REF!","v":{"$error":"#REF!"}},{"$f":"#REF!","v":{"$error":"#REF!"}},{"$f":"#REF!","v":{"$error":"#REF!"}},null,{"$f":"RANK(K192,$K$126:$K245,0)","v":{"$error":"#REF!"}},{"$f":"#REF!","v":{"$error":"#REF!"}},{"$f":"#REF!","v":{"$error":"#REF!"}},{"$f":"#REF!","v":{"$error":"#REF!"}},{"$f":"#REF!","v":{"$error":"#REF!"}}]
[{"$f":"RANK(E193,$E$126:$E245,0)","v":{"$error":"#REF!"}},{"$f":"#REF!","v":{"$error":"#REF!"}},{"$f":"#REF!","v":{"$error":"#REF!"}},{"$f":"#REF!","v":{"$error":"#REF!"}},{"$f":"#REF!","v":{"$error":"#REF!"}},null,{"$f":"RANK(K193,$K$126:$K245,0)","v":{"$error":"#REF!"}},{"$f":"#REF!","v":{"$error":"#REF!"}},{"$f":"#REF!","v":{"$error":"#REF!"}},{"$f":"#REF!","v":{"$error":"#REF!"}},{"$f":"#REF!","v":{"$error":"#REF!"}}]
[{"$f":"RANK(E194,$E$126:$E245,0)","v":{"$error":"#REF!"}},{"$f":"#REF!","v":{"$error":"#REF!"}},{"$f":"#REF!","v":{"$error":"#REF!"}},{"$f":"#REF!","v":{"$error":"#REF!"}},{"$f":"#REF!","v":{"$error":"#REF!"}},null,{"$f":"RANK(K194,$K$126:$K245,0)","v":{"$error":"#REF!"}},{"$f":"#REF!","v":{"$error":"#REF!"}},{"$f":"#REF!","v":{"$error":"#REF!"}},{"$f":"#REF!","v":{"$error":"#REF!"}},{"$f":"#REF!","v":{"$error":"#REF!"}}]
[{"$f":"RANK(E195,$E$126:$E245,0)","v":{"$error":"#REF!"}},{"$f":"#REF!","v":{"$error":"#REF!"}},{"$f":"#REF!","v":{"$error":"#REF!"}},{"$f":"#REF!","v":{"$error":"#REF!"}},{"$f":"#REF!","v":{"$error":"#REF!"}},null,{"$f":"RANK(K195,$K$126:$K245,0)","v":{"$error":"#REF!"}},{"$f":"#REF!","v":{"$error":"#REF!"}},{"$f":"#REF!","v":{"$error":"#REF!"}},{"$f":"#REF!","v":{"$error":"#REF!"}},{"$f":"#REF!","v":{"$error":"#REF!"}}]
[{"$f":"RANK(E196,$E$126:$E245,0)","v":{"$error":"#REF!"}},{"$f":"#REF!","v":{"$error":"#REF!"}},{"$f":"#REF!","v":{"$error":"#REF!"}},{"$f":"#REF!","v":{"$error":"#REF!"}},{"$f":"#REF!","v":{"$error":"#REF!"}},null,{"$f":"RANK(K196,$K$126:$K245,0)","v":{"$error":"#REF!"}},{"$f":"#REF!","v":{"$error":"#REF!"}},{"$f":"#REF!","v":{"$error":"#REF!"}},{"$f":"#REF!","v":{"$error":"#REF!"}},{"$f":"#REF!","v":{"$error":"#REF!"}}]
[{"$f":"RANK(E197,$E$126:$E245,0)","v":{"$error":"#REF!"}},{"$f":"#REF!","v":{"$error":"#REF!"}},{"$f":"#REF!","v":{"$error":"#REF!"}},{"$f":"#REF!","v":{"$error":"#REF!"}},{"$f":"#REF!","v":{"$error":"#REF!"}},null,{"$f":"RANK(K197,$K$126:$K245,0)","v":{"$error":"#REF!"}},{"$f":"#REF!","v":{"$error":"#REF!"}},{"$f":"#REF!","v":{"$error":"#REF!"}},{"$f":"#REF!","v":{"$error":"#REF!"}},{"$f":"#REF!","v":{"$error":"#REF!"}}]
[{"$f":"RANK(E198,$E$126:$E245,0)","v":{"$error":"#REF!"}},{"$f":"#REF!","v":{"$error":"#REF!"}},{"$f":"#REF!","v":{"$error":"#REF!"}},{"$f":"#REF!","v":{"$error":"#REF!"}},{"$f":"#REF!","v":{"$error":"#REF!"}},null,{"$f":"RANK(K198,$K$126:$K245,0)","v":{"$error":"#REF!"}},{"$f":"#REF!","v":{"$error":"#REF!"}},{"$f":"#REF!","v":{"$error":"#REF!"}},{"$f":"#REF!","v":{"$error":"#REF!"}},{"$f":"#REF!","v":{"$error":"#REF!"}}]
[{"$f":"RANK(E199,$E$126:$E245,0)","v":{"$error":"#REF!"}},{"$f":"#REF!","v":{"$error":"#REF!"}},{"$f":"#REF!","v":{"$error":"#REF!"}},{"$f":"#REF!","v":{"$error":"#REF!"}},{"$f":"#REF!","v":{"$error":"#REF!"}},null,{"$f":"RANK(K199,$K$126:$K245,0)","v":{"$error":"#REF!"}},{"$f":"#REF!","v":{"$error":"#REF!"}},{"$f":"#REF!","v":{"$error":"#REF!"}},{"$f":"#REF!","v":{"$error":"#REF!"}},{"$f":"#REF!","v":{"$error":"#REF!"}}]
[{"$f":"RANK(E200,$E$126:$E245,0)","v":{"$error":"#REF!"}},{"$f":"#REF!","v":{"$error":"#REF!"}},{"$f":"#REF!","v":{"$error":"#REF!"}},{"$f":"#REF!","v":{"$error":"#REF!"}},{"$f":"#REF!","v":{"$error":"#REF!"}},null,{"$f":"RANK(K200,$K$126:$K245,0)","v":{"$error":"#REF!"}},{"$f":"#REF!","v":{"$error":"#REF!"}},{"$f":"#REF!","v":{"$error":"#REF!"}},{"$f":"#REF!","v":{"$error":"#REF!"}},{"$f":"#REF!","v":{"$error":"#REF!"}}]
[{"$f":"RANK(E201,$E$126:$E245,0)","v":{"$error":"#REF!"}},{"$f":"#REF!","v":{"$error":"#REF!"}},{"$f":"#REF!","v":{"$error":"#REF!"}},{"$f":"#REF!","v":{"$error":"#REF!"}},{"$f":"#REF!","v":{"$error":"#REF!"}},null,{"$f":"RANK(K201,$K$126:$K245,0)","v":{"$error":"#REF!"}},{"$f":"#REF!","v":{"$error":"#REF!"}},{"$f":"#REF!","v":{"$error":"#REF!"}},{"$f":"#REF!","v":{"$error":"#REF!"}},{"$f":"#REF!","v":{"$error":"#REF!"}}]
[{"$f":"RANK(E202,$E$126:$E245,0)","v":{"$error":"#REF!"}},{"$f":"#REF!","v":{"$error":"#REF!"}},{"$f":"#REF!","v":{"$error":"#REF!"}},{"$f":"#REF!","v":{"$error":"#REF!"}},{"$f":"#REF!","v":{"$error":"#REF!"}},null,{"$f":"RANK(K202,$K$126:$K245,0)","v":{"$error":"#REF!"}},{"$f":"#REF!","v":{"$error":"#REF!"}},{"$f":"#REF!","v":{"$error":"#REF!"}},{"$f":"#REF!","v":{"$error":"#REF!"}},{"$f":"#REF!","v":{"$error":"#REF!"}}]
[{"$f":"RANK(E203,$E$126:$E245,0)","v":{"$error":"#REF!"}},{"$f":"#REF!","v":{"$error":"#REF!"}},{"$f":"#REF!","v":{"$error":"#REF!"}},{"$f":"#REF!","v":{"$error":"#REF!"}},{"$f":"#REF!","v":{"$error":"#REF!"}},null,{"$f":"RANK(K203,$K$126:$K245,0)","v":{"$error":"#REF!"}},{"$f":"#REF!","v":{"$error":"#REF!"}},{"$f":"#REF!","v":{"$error":"#REF!"}},{"$f":"#REF!","v":{"$error":"#REF!"}},{"$f":"#REF!","v":{"$error":"#REF!"}}]
[{"$f":"RANK(E204,$E$126:$E245,0)","v":{"$error":"#REF!"}},{"$f":"#REF!","v":{"$error":"#REF!"}},{"$f":"#REF!","v":{"$error":"#REF!"}},{"$f":"#REF!","v":{"$error":"#REF!"}},{"$f":"#REF!","v":{"$error":"#REF!"}},null,{"$f":"RANK(K204,$K$126:$K245,0)","v":{"$error":"#REF!"}},{"$f":"#REF!","v":{"$error":"#REF!"}},{"$f":"#REF!","v":{"$error":"#REF!"}},{"$f":"#REF!","v":{"$error":"#REF!"}},{"$f":"#REF!","v":{"$error":"#REF!"}}]
[{"$f":"RANK(E205,$E$126:$E245,0)","v":{"$error":"#REF!"}},{"$f":"#REF!","v":{"$error":"#REF!"}},{"$f":"#REF!","v":{"$error":"#REF!"}},{"$f":"#REF!","v":{"$error":"#REF!"}},{"$f":"#REF!","v":{"$error":"#REF!"}},null,{"$f":"RANK(K205,$K$126:$K245,0)","v":{"$error":"#REF!"}},{"$f":"#REF!","v":{"$error":"#REF!"}},{"$f":"#REF!","v":{"$error":"#REF!"}},{"$f":"#REF!","v":{"$error":"#REF!"}},{"$f":"#REF!","v":{"$error":"#REF!"}}]
[{"$f":"RANK(E206,$E$126:$E245,0)","v":{"$error":"#REF!"}},{"$f":"#REF!","v":{"$error":"#REF!"}},{"$f":"#REF!","v":{"$error":"#REF!"}},{"$f":"#REF!","v":{"$error":"#REF!"}},{"$f":"#REF!","v":{"$error":"#REF!"}},null,{"$f":"RANK(K206,$K$126:$K245,0)","v":{"$error":"#REF!"}},{"$f":"#REF!","v":{"$error":"#REF!"}},{"$f":"#REF!","v":{"$error":"#REF!"}},{"$f":"#REF!","v":{"$error":"#REF!"}},{"$f":"#REF!","v":{"$error":"#REF!"}}]
[{"$f":"RANK(E207,$E$126:$E245,0)","v":{"$error":"#REF!"}},{"$f":"#REF!","v":{"$error":"#REF!"}},{"$f":"#REF!","v":{"$error":"#REF!"}},{"$f":"#REF!","v":{"$error":"#REF!"}},{"$f":"#REF!","v":{"$error":"#REF!"}},null,{"$f":"RANK(K207,$K$126:$K245,0)","v":{"$error":"#REF!"}},{"$f":"#REF!","v":{"$error":"#REF!"}},{"$f":"#REF!","v":{"$error":"#REF!"}},{"$f":"#REF!","v":{"$error":"#REF!"}},{"$f":"#REF!","v":{"$error":"#REF!"}}]
[{"$f":"RANK(E208,$E$126:$E245,0)","v":{"$error":"#REF!"}},{"$f":"#REF!","v":{"$error":"#REF!"}},{"$f":"#REF!","v":{"$error":"#REF!"}},{"$f":"#REF!","v":{"$error":"#REF!"}},{"$f":"#REF!","v":{"$error":"#REF!"}},null,{"$f":"RANK(K208,$K$126:$K245,0)","v":{"$error":"#REF!"}},{"$f":"#REF!","v":{"$error":"#REF!"}},{"$f":"#REF!","v":{"$error":"#REF!"}},{"$f":"#REF!","v":{"$error":"#REF!"}},{"$f":"#REF!","v":{"$error":"#REF!"}}]
[{"$f":"RANK(E209,$E$126:$E245,0)","v":{"$error":"#REF!"}},{"$f":"#REF!","v":{"$error":"#REF!"}},{"$f":"#REF!","v":{"$error":"#REF!"}},{"$f":"#REF!","v":{"$error":"#REF!"}},{"$f":"#REF!","v":{"$error":"#REF!"}},null,{"$f":"RANK(K209,$K$126:$K245,0)","v":{"$error":"#REF!"}},{"$f":"#REF!","v":{"$error":"#REF!"}},{"$f":"#REF!","v":{"$error":"#REF!"}},{"$f":"#REF!","v":{"$error":"#REF!"}},{"$f":"#REF!","v":{"$error":"#REF!"}}]
[{"$f":"RANK(E210,$E$126:$E245,0)","v":{"$error":"#REF!"}},{"$f":"#REF!","v":{"$error":"#REF!"}},{"$f":"#REF!","v":{"$error":"#REF!"}},{"$f":"#REF!","v":{"$error":"#REF!"}},{"$f":"#REF!","v":{"$error":"#REF!"}},null,{"$f":"RANK(K210,$K$126:$K245,0)","v":{"$error":"#REF!"}},{"$f":"#REF!","v":{"$error":"#REF!"}},{"$f":"#REF!","v":{"$error":"#REF!"}},{"$f":"#REF!","v":{"$error":"#REF!"}},{"$f":"#REF!","v":{"$error":"#REF!"}}]
[{"$f":"RANK(E211,$E$126:$E245,0)","v":{"$error":"#REF!"}},{"$f":"#REF!","v":{"$error":"#REF!"}},{"$f":"#REF!","v":{"$error":"#REF!"}},{"$f":"#REF!","v":{"$error":"#REF!"}},{"$f":"#REF!","v":{"$error":"#REF!"}},null,{"$f":"RANK(K211,$K$126:$K245,0)","v":{"$error":"#REF!"}},{"$f":"#REF!","v":{"$error":"#REF!"}},{"$f":"#REF!","v":{"$error":"#REF!"}},{"$f":"#REF!","v":{"$error":"#REF!"}},{"$f":"#REF!","v":{"$error":"#REF!"}}]
[{"$f":"RANK(E212,$E$126:$E245,0)","v":{"$error":"#REF!"}},{"$f":"#REF!","v":{"$error":"#REF!"}},{"$f":"#REF!","v":{"$error":"#REF!"}},{"$f":"#REF!","v":{"$error":"#REF!"}},{"$f":"#REF!","v":{"$error":"#REF!"}},null,{"$f":"RANK(K212,$K$126:$K245,0)","v":{"$error":"#REF!"}},{"$f":"#REF!","v":{"$error":"#REF!"}},{"$f":"#REF!","v":{"$error":"#REF!"}},{"$f":"#REF!","v":{"$error":"#REF!"}},{"$f":"#REF!","v":{"$error":"#REF!"}}]
[{"$f":"RANK(E213,$E$126:$E245,0)","v":{"$error":"#REF!"}},{"$f":"#REF!","v":{"$error":"#REF!"}},{"$f":"#REF!","v":{"$error":"#REF!"}},{"$f":"#REF!","v":{"$error":"#REF!"}},{"$f":"#REF!","v":{"$error":"#REF!"}},null,{"$f":"RANK(K213,$K$126:$K245,0)","v":{"$error":"#REF!"}},{"$f":"#REF!","v":{"$error":"#REF!"}},{"$f":"#REF!","v":{"$error":"#REF!"}},{"$f":"#REF!","v":{"$error":"#REF!"}},{"$f":"#REF!","v":{"$error":"#REF!"}}]
[{"$f":"RANK(E214,$E$126:$E245,0)","v":{"$error":"#REF!"}},{"$f":"#REF!","v":{"$error":"#REF!"}},{"$f":"#REF!","v":{"$error":"#REF!"}},{"$f":"#REF!","v":{"$error":"#REF!"}},{"$f":"#REF!","v":{"$error":"#REF!"}},null,{"$f":"RANK(K214,$K$126:$K245,0)","v":{"$error":"#REF!"}},{"$f":"#REF!","v":{"$error":"#REF!"}},{"$f":"#REF!","v":{"$error":"#REF!"}},{"$f":"#REF!","v":{"$error":"#REF!"}},{"$f":"#REF!","v":{"$error":"#REF!"}}]
[{"$f":"RANK(E215,$E$126:$E245,0)","v":{"$error":"#REF!"}},{"$f":"#REF!","v":{"$error":"#REF!"}},{"$f":"#REF!","v":{"$error":"#REF!"}},{"$f":"#REF!","v":{"$error":"#REF!"}},{"$f":"#REF!","v":{"$error":"#REF!"}},null,{"$f":"RANK(K215,$K$126:$K245,0)","v":{"$error":"#REF!"}},{"$f":"#REF!","v":{"$error":"#REF!"}},{"$f":"#REF!","v":{"$error":"#REF!"}},{"$f":"#REF!","v":{"$error":"#REF!"}},{"$f":"#REF!","v":{"$error":"#REF!"}}]
[{"$f":"RANK(E216,$E$126:$E245,0)","v":{"$error":"#REF!"}},{"$f":"#REF!","v":{"$error":"#REF!"}},{"$f":"#REF!","v":{"$error":"#REF!"}},{"$f":"#REF!","v":{"$error":"#REF!"}},{"$f":"#REF!","v":{"$error":"#REF!"}},null,{"$f":"RANK(K216,$K$126:$K245,0)","v":{"$error":"#REF!"}},{"$f":"#REF!","v":{"$error":"#REF!"}},{"$f":"#REF!","v":{"$error":"#REF!"}},{"$f":"#REF!","v":{"$error":"#REF!"}},{"$f":"#REF!","v":{"$error":"#REF!"}}]
[{"$f":"RANK(E217,$E$126:$E245,0)","v":{"$error":"#REF!"}},{"$f":"#REF!","v":{"$error":"#REF!"}},{"$f":"#REF!","v":{"$error":"#REF!"}},{"$f":"#REF!","v":{"$error":"#REF!"}},{"$f":"#REF!","v":{"$error":"#REF!"}},null,{"$f":"RANK(K217,$K$126:$K245,0)","v":{"$error":"#REF!"}},{"$f":"#REF!","v":{"$error":"#REF!"}},{"$f":"#REF!","v":{"$error":"#REF!"}},{"$f":"#REF!","v":{"$error":"#REF!"}},{"$f":"#REF!","v":{"$error":"#REF!"}}]
[{"$f":"RANK(E218,$E$126:$E245,0)","v":{"$error":"#REF!"}},{"$f":"#REF!","v":{"$error":"#REF!"}},{"$f":"#REF!","v":{"$error":"#REF!"}},{"$f":"#REF!","v":{"$error":"#REF!"}},{"$f":"#REF!","v":{"$error":"#REF!"}},null,{"$f":"RANK(K218,$K$126:$K245,0)","v":{"$error":"#REF!"}},{"$f":"#REF!","v":{"$error":"#REF!"}},{"$f":"#REF!","v":{"$error":"#REF!"}},{"$f":"#REF!","v":{"$error":"#REF!"}},{"$f":"#REF!","v":{"$error":"#REF!"}}]
[{"$f":"RANK(E219,$E$126:$E245,0)","v":{"$error":"#REF!"}},{"$f":"#REF!","v":{"$error":"#REF!"}},{"$f":"#REF!","v":{"$error":"#REF!"}},{"$f":"#REF!","v":{"$error":"#REF!"}},{"$f":"#REF!","v":{"$error":"#REF!"}},null,{"$f":"RANK(K219,$K$126:$K245,0)","v":{"$error":"#REF!"}},{"$f":"#REF!","v":{"$error":"#REF!"}},{"$f":"#REF!","v":{"$error":"#REF!"}},{"$f":"#REF!","v":{"$error":"#REF!"}},{"$f":"#REF!","v":{"$error":"#REF!"}}]
[{"$f":"RANK(E220,$E$126:$E245,0)","v":{"$error":"#REF!"}},{"$f":"#REF!","v":{"$error":"#REF!"}},{"$f":"#REF!","v":{"$error":"#REF!"}},{"$f":"#REF!","v":{"$error":"#REF!"}},{"$f":"#REF!","v":{"$error":"#REF!"}},null,{"$f":"RANK(K220,$K$126:$K245,0)","v":{"$error":"#REF!"}},{"$f":"#REF!","v":{"$error":"#REF!"}},{"$f":"#REF!","v":{"$error":"#REF!"}},{"$f":"#REF!","v":{"$error":"#REF!"}},{"$f":"#REF!","v":{"$error":"#REF!"}}]
[{"$f":"RANK(E221,$E$126:$E245,0)","v":{"$error":"#REF!"}},{"$f":"#REF!","v":{"$error":"#REF!"}},{"$f":"#REF!","v":{"$error":"#REF!"}},{"$f":"#REF!","v":{"$error":"#REF!"}},{"$f":"#REF!","v":{"$error":"#REF!"}},null,{"$f":"RANK(K221,$K$126:$K245,0)","v":{"$error":"#REF!"}},{"$f":"#REF!","v":{"$error":"#REF!"}},{"$f":"#REF!","v":{"$error":"#REF!"}},{"$f":"#REF!","v":{"$error":"#REF!"}},{"$f":"#REF!","v":{"$error":"#REF!"}}]
[{"$f":"RANK(E222,$E$126:$E245,0)","v":{"$error":"#REF!"}},{"$f":"#REF!","v":{"$error":"#REF!"}},{"$f":"#REF!","v":{"$error":"#REF!"}},{"$f":"#REF!","v":{"$error":"#REF!"}},{"$f":"#REF!","v":{"$error":"#REF!"}},null,{"$f":"RANK(K222,$K$126:$K245,0)","v":{"$error":"#REF!"}},{"$f":"#REF!","v":{"$error":"#REF!"}},{"$f":"#REF!","v":{"$error":"#REF!"}},{"$f":"#REF!","v":{"$error":"#REF!"}},{"$f":"#REF!","v":{"$error":"#REF!"}}]
[{"$f":"RANK(E223,$E$126:$E245,0)","v":{"$error":"#REF!"}},{"$f":"#REF!","v":{"$error":"#REF!"}},{"$f":"#REF!","v":{"$error":"#REF!"}},{"$f":"#REF!","v":{"$error":"#REF!"}},{"$f":"#REF!","v":{"$error":"#REF!"}},null,{"$f":"RANK(K223,$K$126:$K245,0)","v":{"$error":"#REF!"}},{"$f":"#REF!","v":{"$error":"#REF!"}},{"$f":"#REF!","v":{"$error":"#REF!"}},{"$f":"#REF!","v":{"$error":"#REF!"}},{"$f":"#REF!","v":{"$error":"#REF!"}}]
[{"$f":"RANK(E224,$E$126:$E245,0)","v":{"$error":"#REF!"}},{"$f":"#REF!","v":{"$error":"#REF!"}},{"$f":"#REF!","v":{"$error":"#REF!"}},{"$f":"#REF!","v":{"$error":"#REF!"}},{"$f":"#REF!","v":{"$error":"#REF!"}},null,{"$f":"RANK(K224,$K$126:$K245,0)","v":{"$error":"#REF!"}},{"$f":"#REF!","v":{"$error":"#REF!"}},{"$f":"#REF!","v":{"$error":"#REF!"}},{"$f":"#REF!","v":{"$error":"#REF!"}},{"$f":"#REF!","v":{"$error":"#REF!"}}]
[{"$f":"RANK(E225,$E$126:$E245,0)","v":{"$error":"#REF!"}},{"$f":"#REF!","v":{"$error":"#REF!"}},{"$f":"#REF!","v":{"$error":"#REF!"}},{"$f":"#REF!","v":{"$error":"#REF!"}},{"$f":"#REF!","v":{"$error":"#REF!"}},null,{"$f":"RANK(K225,$K$126:$K245,0)","v":{"$error":"#REF!"}},{"$f":"#REF!","v":{"$error":"#REF!"}},{"$f":"#REF!","v":{"$error":"#REF!"}},{"$f":"#REF!","v":{"$error":"#REF!"}},{"$f":"#REF!","v":{"$error":"#REF!"}}]
[{"$f":"RANK(E226,$E$126:$E245,0)","v":{"$error":"#REF!"}},{"$f":"#REF!","v":{"$error":"#REF!"}},{"$f":"#REF!","v":{"$error":"#REF!"}},{"$f":"#REF!","v":{"$error":"#REF!"}},{"$f":"#REF!","v":{"$error":"#REF!"}},null,{"$f":"RANK(K226,$K$126:$K245,0)","v":{"$error":"#REF!"}},{"$f":"#REF!","v":{"$error":"#REF!"}},{"$f":"#REF!","v":{"$error":"#REF!"}},{"$f":"#REF!","v":{"$error":"#REF!"}},{"$f":"#REF!","v":{"$error":"#REF!"}}]
[{"$f":"RANK(E227,$E$126:$E245,0)","v":{"$error":"#REF!"}},{"$f":"#REF!","v":{"$error":"#REF!"}},{"$f":"#REF!","v":{"$error":"#REF!"}},{"$f":"#REF!","v":{"$error":"#REF!"}},{"$f":"#REF!","v":{"$error":"#REF!"}},null,{"$f":"RANK(K227,$K$126:$K245,0)","v":{"$error":"#REF!"}},{"$f":"#REF!","v":{"$error":"#REF!"}},{"$f":"#REF!","v":{"$error":"#REF!"}},{"$f":"#REF!","v":{"$error":"#REF!"}},{"$f":"#REF!","v":{"$error":"#REF!"}}]
[{"$f":"RANK(E228,$E$126:$E245,0)","v":{"$error":"#REF!"}},{"$f":"#REF!","v":{"$error":"#REF!"}},{"$f":"#REF!","v":{"$error":"#REF!"}},{"$f":"#REF!","v":{"$error":"#REF!"}},{"$f":"#REF!","v":{"$error":"#REF!"}},null,{"$f":"RANK(K228,$K$126:$K245,0)","v":{"$error":"#REF!"}},{"$f":"#REF!","v":{"$error":"#REF!"}},{"$f":"#REF!","v":{"$error":"#REF!"}},{"$f":"#REF!","v":{"$error":"#REF!"}},{"$f":"#REF!","v":{"$error":"#REF!"}}]
[{"$f":"RANK(E229,$E$126:$E245,0)","v":{"$error":"#REF!"}},{"$f":"#REF!","v":{"$error":"#REF!"}},{"$f":"#REF!","v":{"$error":"#REF!"}},{"$f":"#REF!","v":{"$error":"#REF!"}},{"$f":"#REF!","v":{"$error":"#REF!"}},null,{"$f":"RANK(K229,$K$126:$K245,0)","v":{"$error":"#REF!"}},{"$f":"#REF!","v":{"$error":"#REF!"}},{"$f":"#REF!","v":{"$error":"#REF!"}},{"$f":"#REF!","v":{"$error":"#REF!"}},{"$f":"#REF!","v":{"$error":"#REF!"}}]
[{"$f":"RANK(E230,$E$126:$E245,0)","v":{"$error":"#REF!"}},{"$f":"#REF!","v":{"$error":"#REF!"}},{"$f":"#REF!","v":{"$error":"#REF!"}},{"$f":"#REF!","v":{"$error":"#REF!"}},{"$f":"#REF!","v":{"$error":"#REF!"}},null,{"$f":"RANK(K230,$K$126:$K245,0)","v":{"$error":"#REF!"}},{"$f":"#REF!","v":{"$error":"#REF!"}},{"$f":"#REF!","v":{"$error":"#REF!"}},{"$f":"#REF!","v":{"$error":"#REF!"}},{"$f":"#REF!","v":{"$error":"#REF!"}}]
[{"$f":"RANK(E231,$E$126:$E245,0)","v":{"$error":"#REF!"}},{"$f":"#REF!","v":{"$error":"#REF!"}},{"$f":"#REF!","v":{"$error":"#REF!"}},{"$f":"#REF!","v":{"$error":"#REF!"}},{"$f":"#REF!","v":{"$error":"#REF!"}},null,{"$f":"RANK(K231,$K$126:$K245,0)","v":{"$error":"#REF!"}},{"$f":"#REF!","v":{"$error":"#REF!"}},{"$f":"#REF!","v":{"$error":"#REF!"}},{"$f":"#REF!","v":{"$error":"#REF!"}},{"$f":"#REF!","v":{"$error":"#REF!"}}]
[{"$f":"RANK(E232,$E$126:$E245,0)","v":{"$error":"#REF!"}},{"$f":"#REF!","v":{"$error":"#REF!"}},{"$f":"#REF!","v":{"$error":"#REF!"}},{"$f":"#REF!","v":{"$error":"#REF!"}},{"$f":"#REF!","v":{"$error":"#REF!"}},null,{"$f":"RANK(K232,$K$126:$K245,0)","v":{"$error":"#REF!"}},{"$f":"#REF!","v":{"$error":"#REF!"}},{"$f":"#REF!","v":{"$error":"#REF!"}},{"$f":"#REF!","v":{"$error":"#REF!"}},{"$f":"#REF!","v":{"$error":"#REF!"}}]
[{"$f":"RANK(E233,$E$126:$E245,0)","v":{"$error":"#REF!"}},{"$f":"#REF!","v":{"$error":"#REF!"}},{"$f":"#REF!","v":{"$error":"#REF!"}},{"$f":"#REF!","v":{"$error":"#REF!"}},{"$f":"#REF!","v":{"$error":"#REF!"}},null,{"$f":"RANK(K233,$K$126:$K245,0)","v":{"$error":"#REF!"}},{"$f":"#REF!","v":{"$error":"#REF!"}},{"$f":"#REF!","v":{"$error":"#REF!"}},{"$f":"#REF!","v":{"$error":"#REF!"}},{"$f":"#REF!","v":{"$error":"#REF!"}}]
[{"$f":"RANK(E234,$E$126:$E245,0)","v":{"$error":"#REF!"}},{"$f":"#REF!","v":{"$error":"#REF!"}},{"$f":"#REF!","v":{"$error":"#REF!"}},{"$f":"#REF!","v":{"$error":"#REF!"}},{"$f":"#REF!","v":{"$error":"#REF!"}},null,{"$f":"RANK(K234,$K$126:$K245,0)","v":{"$error":"#REF!"}},{"$f":"#REF!","v":{"$error":"#REF!"}},{"$f":"#REF!","v":{"$error":"#REF!"}},{"$f":"#REF!","v":{"$error":"#REF!"}},{"$f":"#REF!","v":{"$error":"#REF!"}}]
[{"$f":"RANK(E235,$E$126:$E245,0)","v":{"$error":"#REF!"}},{"$f":"#REF!","v":{"$error":"#REF!"}},{"$f":"#REF!","v":{"$error":"#REF!"}},{"$f":"#REF!","v":{"$error":"#REF!"}},{"$f":"#REF!","v":{"$error":"#REF!"}},null,{"$f":"RANK(K235,$K$126:$K245,0)","v":{"$error":"#REF!"}},{"$f":"#REF!","v":{"$error":"#REF!"}},{"$f":"#REF!","v":{"$error":"#REF!"}},{"$f":"#REF!","v":{"$error":"#REF!"}},{"$f":"#REF!","v":{"$error":"#REF!"}}]
[{"$f":"RANK(E236,$E$126:$E245,0)","v":{"$error":"#REF!"}},{"$f":"#REF!","v":{"$error":"#REF!"}},{"$f":"#REF!","v":{"$error":"#REF!"}},{"$f":"#REF!","v":{"$error":"#REF!"}},{"$f":"#REF!","v":{"$error":"#REF!"}},null,{"$f":"RANK(K236,$K$126:$K245,0)","v":{"$error":"#REF!"}},{"$f":"#REF!","v":{"$error":"#REF!"}},{"$f":"#REF!","v":{"$error":"#REF!"}},{"$f":"#REF!","v":{"$error":"#REF!"}},{"$f":"#REF!","v":{"$error":"#REF!"}}]
[{"$f":"RANK(E237,$E$126:$E245,0)","v":{"$error":"#REF!"}},{"$f":"#REF!","v":{"$error":"#REF!"}},{"$f":"#REF!","v":{"$error":"#REF!"}},{"$f":"#REF!","v":{"$error":"#REF!"}},{"$f":"#REF!","v":{"$error":"#REF!"}},null,{"$f":"RANK(K237,$K$126:$K245,0)","v":{"$error":"#REF!"}},{"$f":"#REF!","v":{"$error":"#REF!"}},{"$f":"#REF!","v":{"$error":"#REF!"}},{"$f":"#REF!","v":{"$error":"#REF!"}},{"$f":"#REF!","v":{"$error":"#REF!"}}]
[{"$f":"RANK(E238,$E$126:$E245,0)","v":{"$error":"#REF!"}},{"$f":"#REF!","v":{"$error":"#REF!"}},{"$f":"#REF!","v":{"$error":"#REF!"}},{"$f":"#REF!","v":{"$error":"#REF!"}},{"$f":"#REF!","v":{"$error":"#REF!"}},null,{"$f":"RANK(K238,$K$126:$K245,0)","v":{"$error":"#REF!"}},{"$f":"#REF!","v":{"$error":"#REF!"}},{"$f":"#REF!","v":{"$error":"#REF!"}},{"$f":"#REF!","v":{"$error":"#REF!"}},{"$f":"#REF!","v":{"$error":"#REF!"}}]
[{"$f":"RANK(E239,$E$126:$E245,0)","v":{"$error":"#REF!"}},{"$f":"#REF!","v":{"$error":"#REF!"}},{"$f":"#REF!","v":{"$error":"#REF!"}},{"$f":"#REF!","v":{"$error":"#REF!"}},{"$f":"#REF!","v":{"$error":"#REF!"}},null,{"$f":"RANK(K239,$K$126:$K245,0)","v":{"$error":"#REF!"}},{"$f":"#REF!","v":{"$error":"#REF!"}},{"$f":"#REF!","v":{"$error":"#REF!"}},{"$f":"#REF!","v":{"$error":"#REF!"}},{"$f":"#REF!","v":{"$error":"#REF!"}}]
[{"$f":"RANK(E240,$E$126:$E245,0)","v":{"$error":"#REF!"}},{"$f":"#REF!","v":{"$error":"#REF!"}},{"$f":"#REF!","v":{"$error":"#REF!"}},{"$f":"#REF!","v":{"$error":"#REF!"}},{"$f":"#REF!","v":{"$error":"#REF!"}},null,{"$f":"RANK(K240,$K$126:$K245,0)","v":{"$error":"#REF!"}},{"$f":"#REF!","v":{"$error":"#REF!"}},{"$f":"#REF!","v":{"$error":"#REF!"}},{"$f":"#REF!","v":{"$error":"#REF!"}},{"$f":"#REF!","v":{"$error":"#REF!"}}]
[{"$f":"RANK(E241,$E$126:$E245,0)","v":{"$error":"#REF!"}},{"$f":"#REF!","v":{"$error":"#REF!"}},{"$f":"#REF!","v":{"$error":"#REF!"}},{"$f":"#REF!","v":{"$error":"#REF!"}},{"$f":"#REF!","v":{"$error":"#REF!"}},null,{"$f":"RANK(K241,$K$126:$K245,0)","v":{"$error":"#REF!"}},{"$f":"#REF!","v":{"$error":"#REF!"}},{"$f":"#REF!","v":{"$error":"#REF!"}},{"$f":"#REF!","v":{"$error":"#REF!"}},{"$f":"#REF!","v":{"$error":"#REF!"}}]
[{"$f":"RANK(E242,$E$126:$E245,0)","v":{"$error":"#REF!"}},{"$f":"#REF!","v":{"$error":"#REF!"}},{"$f":"#REF!","v":{"$error":"#REF!"}},{"$f":"#REF!","v":{"$error":"#REF!"}},{"$f":"#REF!","v":{"$error":"#REF!"}},null,{"$f":"RANK(K242,$K$126:$K245,0)","v":{"$error":"#REF!"}},{"$f":"#REF!","v":{"$error":"#REF!"}},{"$f":"#REF!","v":{"$error":"#REF!"}},{"$f":"#REF!","v":{"$error":"#REF!"}},{"$f":"#REF!","v":{"$error":"#REF!"}}]
[{"$f":"RANK(E243,$E$126:$E245,0)","v":{"$error":"#REF!"}},{"$f":"#REF!","v":{"$error":"#REF!"}},{"$f":"#REF!","v":{"$error":"#REF!"}},{"$f":"#REF!","v":{"$error":"#REF!"}},{"$f":"#REF!","v":{"$error":"#REF!"}},null,{"$f":"RANK(K243,$K$126:$K245,0)","v":{"$error":"#REF!"}},{"$f":"#REF!","v":{"$error":"#REF!"}},{"$f":"#REF!","v":{"$error":"#REF!"}},{"$f":"#REF!","v":{"$error":"#REF!"}},{"$f":"#REF!","v":{"$error":"#REF!"}}]
[{"$f":"RANK(E244,$E$126:$E245,0)","v":{"$error":"#REF!"}},{"$f":"#REF!","v":{"$error":"#REF!"}},{"$f":"#REF!","v":{"$error":"#REF!"}},{"$f":"#REF!","v":{"$error":"#REF!"}},{"$f":"#REF!","v":{"$error":"#REF!"}},null,{"$f":"RANK(K244,$K$126:$K245,0)","v":{"$error":"#REF!"}},{"$f":"#REF!","v":{"$error":"#REF!"}},{"$f":"#REF!","v":{"$error":"#REF!"}},{"$f":"#REF!","v":{"$error":"#REF!"}},{"$f":"#REF!","v":{"$error":"#REF!"}}]
[{"$f":"RANK(E245,$E$126:$E245,0)","v":{"$error":"#REF!"}},{"$f":"#REF!","v":{"$error":"#REF!"}},{"$f":"#REF!","v":{"$error":"#REF!"}},{"$f":"#REF!","v":{"$error":"#REF!"}},{"$f":"#REF!","v":{"$error":"#REF!"}},null,{"$f":"RANK(K245,$K$126:$K245,0)","v":{"$error":"#REF!"}},{"$f":"#REF!","v":{"$error":"#REF!"}},{"$f":"#REF!","v":{"$error":"#REF!"}},{"$f":"#REF!","v":{"$error":"#REF!"}},{"$f":"#REF!","v":{"$error":"#REF!"}}]
["Einzelwertung Schlagball Weiblich",null,{"$f":"#REF!","v":{"$error":"#REF!"}},{"$f":"#REF!","v":{"$error":"#REF!"}},null,null,"Einzelwertung Schlagball Männlich",null,{"$f":"#REF!","v":{"$error":"#REF!"}},{"$f":"#REF!","v":{"$error":"#REF!"}}]

{"sheet":"Ez-Kugel","index":14,"n_rows":246,"n_cols":11,"rows_kept":246,"cut":false,"hidden":false,"merged":[[0,9,0,10],[123,0,123,1],[123,3,123,4],[123,6,123,7],[245,0,245,1],[122,0,122,1],[122,6,122,7],[245,6,245,7],[0,0,0,1],[0,3,0,4],[0,6,0,7],[245,3,245,4],[122,3,122,4],[123,9,123,10],[245,9,245,10],[122,9,122,10]]}
["Einzelwertung Kugel",null,{"$f":"'w-E_R'!C1","v":"D-C/Regel-Schulen"},{"$f":"'w-E_R'!E1","v":"Ortsangabe,Datum"},null,null,"Einzelwertung Kugel",null,{"$f":"#REF!","v":{"$error":"#REF!"}},{"$f":"#REF!","v":{"$error":"#REF!"}}]
["Rang","WEIBLICH","Schule:","Leistung","Punkte",null,"Rang","MÄNNLICH","Schule:","Leistung","Punkte"]
[{"$f":"RANK(E3,$E$3:$E$122,0)","v":1},{"$f":"'w-E_R'!B76","v":"Kircher Florentina"},{"$f":"'w-E_R'!D76","v":"RNMS Feldkirchen"},{"$f":"'w-E_R'!J76","v":7.6},{"$f":"'w-E_R'!K76","v":437},null,{"$f":"RANK(K3,$K$3:$K$122,0)","v":{"$error":"#REF!"}},{"$f":"#REF!","v":{"$error":"#REF!"}},{"$f":"#REF!","v":{"$error":"#REF!"}},{"$f":"#REF!","v":{"$error":"#REF!"}},{"$f":"#REF!","v":{"$error":"#REF!"}}]
[2,{"$f":"'w-E_R'!B53","v":"Steiner Patricia"},{"$f":"'w-E_R'!D53","v":"NMS Gegendtal"},{"$f":"'w-E_R'!J53","v":7.29},{"$f":"'w-E_R'!K53","v":417},null,{"$error":"#REF!"},{"$f":"#REF!","v":{"$error":"#REF!"}},{"$f":"#REF!","v":{"$error":"#REF!"}},{"$f":"#REF!","v":{"$error":"#REF!"}},{"$f":"#REF!","v":{"$error":"#REF!"}}]
[4,{"$f":"'w-E_R'!B55","v":"Schweiger Nadja"},{"$f":"'w-E_R'!D55","v":"NMS Gegendtal"},{"$f":"'w-E_R'!J55","v":6.93},{"$f":"'w-E_R'!K55","v":395},null,{"$error":"#REF!"},{"$f":"#REF!","v":{"$error":"#REF!"}},{"$f":"#REF!","v":{"$error":"#REF!"}},{"$f":"#REF!","v":{"$error":"#REF!"}},{"$f":"#REF!","v":{"$error":"#REF!"}}]
[3,{"$f":"'w-E_R'!B77","v":"Mühlbacher Nina"},{"$f":"'w-E_R'!D77","v":"RNMS Feldkirchen"},{"$f":"'w-E_R'!J77","v":6.97},{"$f":"'w-E_R'!K77","v":397},null,{"$error":"#REF!"},{"$f":"#REF!","v":{"$error":"#REF!"}},{"$f":"#REF!","v":{"$error":"#REF!"}},{"$f":"#REF!","v":{"$error":"#REF!"}},{"$f":"#REF!","v":{"$error":"#REF!"}}]
[5,{"$f":"'w-E_R'!B3","v":"Wallner Paulina"},{"$f":"'w-E_R'!D3","v":"BG St.Martin"},{"$f":"'w-E_R'!J3","v":0},{"$f":"'w-E_R'!K3","v":0},null,{"$error":"#REF!"},{"$f":"#REF!","v":{"$error":"#REF!"}},{"$f":"#REF!","v":{"$error":"#REF!"}},{"$f":"#REF!","v":{"$error":"#REF!"}},{"$f":"#REF!","v":{"$error":"#REF!"}}]
[5,{"$f":"'w-E_R'!B4","v":"Feichter Nelly"},{"$f":"'w-E_R'!D4","v":"BG St.Martin"},{"$f":"'w-E_R'!J4","v":0},{"$f":"'w-E_R'!K4","v":0},null,{"$error":"#REF!"},{"$f":"#REF!","v":{"$error":"#REF!"}},{"$f":"#REF!","v":{"$error":"#REF!"}},{"$f":"#REF!","v":{"$error":"#REF!"}},{"$f":"#REF!","v":{"$error":"#REF!"}}]
[5,{"$f":"'w-E_R'!B5","v":"Heincz Gerit"},{"$f":"'w-E_R'!D5","v":"BG St.Martin"},{"$f":"'w-E_R'!J5","v":0},{"$f":"'w-E_R'!K5","v":0},null,{"$error":"#REF!"},{"$f":"#REF!","v":{"$error":"#REF!"}},{"$f":"#REF!","v":{"$error":"#REF!"}},{"$f":"#REF!","v":{"$error":"#REF!"}},{"$f":"#REF!","v":{"$error":"#REF!"}}]
[5,{"$f":"'w-E_R'!B6","v":"Enzi Sarah"},{"$f":"'w-E_R'!D6","v":"BG St.Martin"},{"$f":"'w-E_R'!J6","v":0},{"$f":"'w-E_R'!K6","v":0},null,{"$error":"#REF!"},{"$f":"#REF!","v":{"$error":"#REF!"}},{"$f":"#REF!","v":{"$error":"#REF!"}},{"$f":"#REF!","v":{"$error":"#REF!"}},{"$f":"#REF!","v":{"$error":"#REF!"}}]
[5,{"$f":"'w-E_R'!B7","v":"Koch Anna"},{"$f":"'w-E_R'!D7","v":"BG St.Martin"},{"$f":"'w-E_R'!J7","v":0},{"$f":"'w-E_R'!K7","v":0},null,{"$error":"#REF!"},{"$f":"#REF!","v":{"$error":"#REF!"}},{"$f":"#REF!","v":{"$error":"#REF!"}},{"$f":"#REF!","v":{"$error":"#REF!"}},{"$f":"#REF!","v":{"$error":"#REF!"}}]
[5,{"$f":"'w-E_R'!B8","v":"Fugger Sophie"},{"$f":"'w-E_R'!D8","v":"BG St.Martin"},{"$f":"'w-E_R'!J8","v":0},{"$f":"'w-E_R'!K8","v":0},null,{"$error":"#REF!"},{"$f":"#REF!","v":{"$error":"#REF!"}},{"$f":"#REF!","v":{"$error":"#REF!"}},{"$f":"#REF!","v":{"$error":"#REF!"}},{"$f":"#REF!","v":{"$error":"#REF!"}}]
[5,{"$f":"'w-E_R'!B10","v":"Maier Celina"},{"$f":"'w-E_R'!D10","v":"Borg Wolfsberg"},{"$f":"'w-E_R'!J10","v":0},{"$f":"'w-E_R'!K10","v":0},null,{"$error":"#REF!"},{"$f":"#REF!","v":{"$error":"#REF!"}},{"$f":"#REF!","v":{"$error":"#REF!"}},{"$f":"#REF!","v":{"$error":"#REF!"}},{"$f":"#REF!","v":{"$error":"#REF!"}}]
[5,{"$f":"'w-E_R'!B11","v":"Maier Magdalena"},{"$f":"'w-E_R'!D11","v":"Borg Wolfsberg"},{"$f":"'w-E_R'!J11","v":0},{"$f":"'w-E_R'!K11","v":0},null,{"$error":"#REF!"},{"$f":"#REF!","v":{"$error":"#REF!"}},{"$f":"#REF!","v":{"$error":"#REF!"}},{"$f":"#REF!","v":{"$error":"#REF!"}},{"$f":"#REF!","v":{"$error":"#REF!"}}]
[5,{"$f":"'w-E_R'!B12","v":"Frauwallner Hanna"},{"$f":"'w-E_R'!D12","v":"Borg Wolfsberg"},{"$f":"'w-E_R'!J12","v":0},{"$f":"'w-E_R'!K12","v":0},null,{"$error":"#REF!"},{"$f":"#REF!","v":{"$error":"#REF!"}},{"$f":"#REF!","v":{"$error":"#REF!"}},{"$f":"#REF!","v":{"$error":"#REF!"}},{"$f":"#REF!","v":{"$error":"#REF!"}}]
[5,{"$f":"'w-E_R'!B13","v":"Spendl Jennifer"},{"$f":"'w-E_R'!D13","v":"Borg Wolfsberg"},{"$f":"'w-E_R'!J13","v":0},{"$f":"'w-E_R'!K13","v":0},null,{"$error":"#REF!"},{"$f":"#REF!","v":{"$error":"#REF!"}},{"$f":"#REF!","v":{"$error":"#REF!"}},{"$f":"#REF!","v":{"$error":"#REF!"}},{"$f":"#REF!","v":{"$error":"#REF!"}}]
[5,{"$f":"'w-E_R'!B14","v":"Pum Julia"},{"$f":"'w-E_R'!D14","v":"Borg Wolfsberg"},{"$f":"'w-E_R'!J14","v":0},{"$f":"'w-E_R'!K14","v":0},null,{"$error":"#REF!"},{"$f":"#REF!","v":{"$error":"#REF!"}},{"$f":"#REF!","v":{"$error":"#REF!"}},{"$f":"#REF!","v":{"$error":"#REF!"}},{"$f":"#REF!","v":{"$error":"#REF!"}}]
[5,{"$f":"'w-E_R'!B15","v":"Riegler Vanessa"},{"$f":"'w-E_R'!D15","v":"Borg Wolfsberg"},{"$f":"'w-E_R'!J15","v":0},{"$f":"'w-E_R'!K15","v":0},null,{"$error":"#REF!"},{"$f":"#REF!","v":{"$error":"#REF!"}},{"$f":"#REF!","v":{"$error":"#REF!"}},{"$f":"#REF!","v":{"$error":"#REF!"}},{"$f":"#REF!","v":{"$error":"#REF!"}}]
[5,{"$f":"'w-E_R'!B17","v":"Hartlieb Michelle"},{"$f":"'w-E_R'!D17","v":"BRG Spittal"},{"$f":"'w-E_R'!J17","v":0},{"$f":"'w-E_R'!K17","v":0},null,{"$error":"#REF!"},{"$f":"#REF!","v":{"$error":"#REF!"}},{"$f":"#REF!","v":{"$error":"#REF!"}},{"$f":"#REF!","v":{"$error":"#REF!"}},{"$f":"#REF!","v":{"$error":"#REF!"}}]
[5,{"$f":"'w-E_R'!B18","v":"Reiter Anna-Lena"},{"$f":"'w-E_R'!D18","v":"BRG Spittal"},{"$f":"'w-E_R'!J18","v":0},{"$f":"'w-E_R'!K18","v":0},null,{"$error":"#REF!"},{"$f":"#REF!","v":{"$error":"#REF!"}},{"$f":"#REF!","v":{"$error":"#REF!"}},{"$f":"#REF!","v":{"$error":"#REF!"}},{"$f":"#REF!","v":{"$error":"#REF!"}}]
[5,{"$f":"'w-E_R'!B19","v":"Krammer Kristin"},{"$f":"'w-E_R'!D19","v":"BRG Spittal"},{"$f":"'w-E_R'!J19","v":0},{"$f":"'w-E_R'!K19","v":0},null,{"$error":"#REF!"},{"$f":"#REF!","v":{"$error":"#REF!"}},{"$f":"#REF!","v":{"$error":"#REF!"}},{"$f":"#REF!","v":{"$error":"#REF!"}},{"$f":"#REF!","v":{"$error":"#REF!"}}]
[5,{"$f":"'w-E_R'!B20","v":"Kowatsch Anna"},{"$f":"'w-E_R'!D20","v":"BRG Spittal"},{"$f":"'w-E_R'!J20","v":0},{"$f":"'w-E_R'!K20","v":0},null,{"$error":"#REF!"},{"$f":"#REF!","v":{"$error":"#REF!"}},{"$f":"#REF!","v":{"$error":"#REF!"}},{"$f":"#REF!","v":{"$error":"#REF!"}},{"$f":"#REF!","v":{"$error":"#REF!"}}]
[5,{"$f":"'w-E_R'!B21","v":"Possegger Christina"},{"$f":"'w-E_R'!D21","v":"BRG Spittal"},{"$f":"'w-E_R'!J21","v":0},{"$f":"'w-E_R'!K21","v":0},null,{"$error":"#REF!"},{"$f":"#REF!","v":{"$error":"#REF!"}},{"$f":"#REF!","v":{"$error":"#REF!"}},{"$f":"#REF!","v":{"$error":"#REF!"}},{"$f":"#REF!","v":{"$error":"#REF!"}}]
[5,{"$f":"'w-E_R'!B22","v":"Thaler Laurentine"},{"$f":"'w-E_R'!D22","v":"BRG Spittal"},{"$f":"'w-E_R'!J22","v":0},{"$f":"'w-E_R'!K22","v":0},null,{"$error":"#REF!"},{"$f":"#REF!","v":{"$error":"#REF!"}},{"$f":"#REF!","v":{"$error":"#REF!"}},{"$f":"#REF!","v":{"$error":"#REF!"}},{"$f":"#REF!","v":{"$error":"#REF!"}}]
[5,{"$f":"'w-E_R'!B24","v":"Kampusch Michelle"},{"$f":"'w-E_R'!D24","v":"BZ Bad Eisenkappel"},{"$f":"'w-E_R'!J24","v":0},{"$f":"'w-E_R'!K24","v":0},null,{"$error":"#REF!"},{"$f":"#REF!","v":{"$error":"#REF!"}},{"$f":"#REF!","v":{"$error":"#REF!"}},{"$f":"#REF!","v":{"$error":"#REF!"}},{"$f":"#REF!","v":{"$error":"#REF!"}}]
[5,{"$f":"'w-E_R'!B25","v":"Kaschnig Lea"},{"$f":"'w-E_R'!D25","v":"BZ Bad Eisenkappel"},{"$f":"'w-E_R'!J25","v":0},{"$f":"'w-E_R'!K25","v":0},null,{"$error":"#REF!"},{"$f":"#REF!","v":{"$error":"#REF!"}},{"$f":"#REF!","v":{"$error":"#REF!"}},{"$f":"#REF!","v":{"$error":"#REF!"}},{"$f":"#REF!","v":{"$error":"#REF!"}}]
[5,{"$f":"'w-E_R'!B26","v":"Ebner Anna-Lena"},{"$f":"'w-E_R'!D26","v":"BZ Bad Eisenkappel"},{"$f":"'w-E_R'!J26","v":0},{"$f":"'w-E_R'!K26","v":0},null,{"$error":"#REF!"},{"$f":"#REF!","v":{"$error":"#REF!"}},{"$f":"#REF!","v":{"$error":"#REF!"}},{"$f":"#REF!","v":{"$error":"#REF!"}},{"$f":"#REF!","v":{"$error":"#REF!"}}]
[5,{"$f":"'w-E_R'!B27","v":"Millicevvic Renate"},{"$f":"'w-E_R'!D27","v":"BZ Bad Eisenkappel"},{"$f":"'w-E_R'!J27","v":0},{"$f":"'w-E_R'!K27","v":0},null,{"$error":"#REF!"},{"$f":"#REF!","v":{"$error":"#REF!"}},{"$f":"#REF!","v":{"$error":"#REF!"}},{"$f":"#REF!","v":{"$error":"#REF!"}},{"$f":"#REF!","v":{"$error":"#REF!"}}]
[5,{"$f":"'w-E_R'!B28","v":"Pudgar Domenika"},{"$f":"'w-E_R'!D28","v":"BZ Bad Eisenkappel"},{"$f":"'w-E_R'!J28","v":0},{"$f":"'w-E_R'!K28","v":0},null,{"$error":"#REF!"},{"$f":"#REF!","v":{"$error":"#REF!"}},{"$f":"#REF!","v":{"$error":"#REF!"}},{"$f":"#REF!","v":{"$error":"#REF!"}},{"$f":"#REF!","v":{"$error":"#REF!"}}]
[5,{"$f":"'w-E_R'!B29","v":0},{"$f":"'w-E_R'!D29","v":"BZ Bad Eisenkappel"},{"$f":"'w-E_R'!J29","v":0},{"$f":"'w-E_R'!K29","v":0},null,{"$error":"#REF!"},{"$f":"#REF!","v":{"$error":"#REF!"}},{"$f":"#REF!","v":{"$error":"#REF!"}},{"$f":"#REF!","v":{"$error":"#REF!"}},{"$f":"#REF!","v":{"$error":"#REF!"}}]
[5,{"$f":"'w-E_R'!B31","v":"Donner Rosa"},{"$f":"'w-E_R'!D31","v":"Ingeborg Bachmann Gymnasium"},{"$f":"'w-E_R'!J31","v":0},{"$f":"'w-E_R'!K31","v":0},null,{"$error":"#REF!"},{"$f":"#REF!","v":{"$error":"#REF!"}},{"$f":"#REF!","v":{"$error":"#REF!"}},{"$f":"#REF!","v":{"$error":"#REF!"}},{"$f":"#REF!","v":{"$error":"#REF!"}}]
[5,{"$f":"'w-E_R'!B32","v":"Lippitsch Amelie"},{"$f":"'w-E_R'!D32","v":"Ingeborg Bachmann Gymnasium"},{"$f":"'w-E_R'!J32","v":0},{"$f":"'w-E_R'!K32","v":0},null,{"$error":"#REF!"},{"$f":"#REF!","v":{"$error":"#REF!"}},{"$f":"#REF!","v":{"$error":"#REF!"}},{"$f":"#REF!","v":{"$error":"#REF!"}},{"$f":"#REF!","v":{"$error":"#REF!"}}]
[5,{"$f":"'w-E_R'!B33","v":"Doboczky Sophie"},{"$f":"'w-E_R'!D33","v":"Ingeborg Bachmann Gymnasium"},{"$f":"'w-E_R'!J33","v":0},{"$f":"'w-E_R'!K33","v":0},null,{"$error":"#REF!"},{"$f":"#REF!","v":{"$error":"#REF!"}},{"$f":"#REF!","v":{"$error":"#REF!"}},{"$f":"#REF!","v":{"$error":"#REF!"}},{"$f":"#REF!","v":{"$error":"#REF!"}}]
[5,{"$f":"'w-E_R'!B34","v":"Schmaranz Sophie"},{"$f":"'w-E_R'!D34","v":"Ingeborg Bachmann Gymnasium"},{"$f":"'w-E_R'!J34","v":0},{"$f":"'w-E_R'!K34","v":0},null,{"$error":"#REF!"},{"$f":"#REF!","v":{"$error":"#REF!"}},{"$f":"#REF!","v":{"$error":"#REF!"}},{"$f":"#REF!","v":{"$error":"#REF!"}},{"$f":"#REF!","v":{"$error":"#REF!"}}]
[{"$f":"RANK(E35,$E$3:$E$122,0)","v":5},{"$f":"'w-E_R'!B35","v":"Zenkl Hannah"},{"$f":"'w-E_R'!D35","v":"Ingeborg Bachmann Gymnasium"},{"$f":"'w-E_R'!J35","v":0},{"$f":"'w-E_R'!K35","v":0},null,{"$f":"RANK(K35,$K$3:$K$122,0)","v":{"$error":"#REF!"}},{"$f":"#REF!","v":{"$error":"#REF!"}},{"$f":"#REF!","v":{"$error":"#REF!"}},{"$f":"#REF!","v":{"$error":"#REF!"}},{"$f":"#REF!","v":{"$error":"#REF!"}}]
[5,{"$f":"'w-E_R'!B36","v":"Laßnig Katharina"},{"$f":"'w-E_R'!D36","v":"Ingeborg Bachmann Gymnasium"},{"$f":"'w-E_R'!J36","v":0},{"$f":"'w-E_R'!K36","v":0},null,{"$error":"#REF!"},{"$f":"#REF!","v":{"$error":"#REF!"}},{"$f":"#REF!","v":{"$error":"#REF!"}},{"$f":"#REF!","v":{"$error":"#REF!"}},{"$f":"#REF!","v":{"$error":"#REF!"}}]
[5,{"$f":"'w-E_R'!B38","v":"Fercher Annabell"},{"$f":"'w-E_R'!D38","v":"Musik NMS Hermagor"},{"$f":"'w-E_R'!J38","v":0},{"$f":"'w-E_R'!K38","v":0},null,{"$error":"#REF!"},{"$f":"#REF!","v":{"$error":"#REF!"}},{"$f":"#REF!","v":{"$error":"#REF!"}},{"$f":"#REF!","v":{"$error":"#REF!"}},{"$f":"#REF!","v":{"$error":"#REF!"}}]
[5,{"$f":"'w-E_R'!B39","v":"Ebenwaldner Carina"},{"$f":"'w-E_R'!D39","v":"Musik NMS Hermagor"},{"$f":"'w-E_R'!J39","v":0},{"$f":"'w-E_R'!K39","v":0},null,{"$error":"#REF!"},{"$f":"#REF!","v":{"$error":"#REF!"}},{"$f":"#REF!","v":{"$error":"#REF!"}},{"$f":"#REF!","v":{"$error":"#REF!"}},{"$f":"#REF!","v":{"$error":"#REF!"}}]
[5,{"$f":"'w-E_R'!B40","v":"Wernitznig Nina"},{"$f":"'w-E_R'!D40","v":"Musik NMS Hermagor"},{"$f":"'w-E_R'!J40","v":0},{"$f":"'w-E_R'!K40","v":0},null,{"$error":"#REF!"},{"$f":"#REF!","v":{"$error":"#REF!"}},{"$f":"#REF!","v":{"$error":"#REF!"}},{"$f":"#REF!","v":{"$error":"#REF!"}},{"$f":"#REF!","v":{"$error":"#REF!"}}]
[5,{"$f":"'w-E_R'!B41","v":"Pettauer Sara"},{"$f":"'w-E_R'!D41","v":"Musik NMS Hermagor"},{"$f":"'w-E_R'!J41","v":0},{"$f":"'w-E_R'!K41","v":0},null,{"$error":"#REF!"},{"$f":"#REF!","v":{"$error":"#REF!"}},{"$f":"#REF!","v":{"$error":"#REF!"}},{"$f":"#REF!","v":{"$error":"#REF!"}},{"$f":"#REF!","v":{"$error":"#REF!"}}]
[5,{"$f":"'w-E_R'!B42","v":"Matthei Laura"},{"$f":"'w-E_R'!D42","v":"Musik NMS Hermagor"},{"$f":"'w-E_R'!J42","v":0},{"$f":"'w-E_R'!K42","v":0},null,{"$error":"#REF!"},{"$f":"#REF!","v":{"$error":"#REF!"}},{"$f":"#REF!","v":{"$error":"#REF!"}},{"$f":"#REF!","v":{"$error":"#REF!"}},{"$f":"#REF!","v":{"$error":"#REF!"}}]
[5,{"$f":"'w-E_R'!B43","v":"Seebacher Mathilda"},{"$f":"'w-E_R'!D43","v":"Musik NMS Hermagor"},{"$f":"'w-E_R'!J43","v":0},{"$f":"'w-E_R'!K43","v":0},null,{"$error":"#REF!"},{"$f":"#REF!","v":{"$error":"#REF!"}},{"$f":"#REF!","v":{"$error":"#REF!"}},{"$f":"#REF!","v":{"$error":"#REF!"}},{"$f":"#REF!","v":{"$error":"#REF!"}}]
[5,{"$f":"'w-E_R'!B45","v":"Pörtschacher Vanessa"},{"$f":"'w-E_R'!D45","v":"NMS Friesach"},{"$f":"'w-E_R'!J45","v":0},{"$f":"'w-E_R'!K45","v":0},null,{"$error":"#REF!"},{"$f":"#REF!","v":{"$error":"#REF!"}},{"$f":"#REF!","v":{"$error":"#REF!"}},{"$f":"#REF!","v":{"$error":"#REF!"}},{"$f":"#REF!","v":{"$error":"#REF!"}}]
[5,{"$f":"'w-E_R'!B46","v":"Kronlechner Bettina"},{"$f":"'w-E_R'!D46","v":"NMS Friesach"},{"$f":"'w-E_R'!J46","v":0},{"$f":"'w-E_R'!K46","v":0},null,{"$error":"#REF!"},{"$f":"#REF!","v":{"$error":"#REF!"}},{"$f":"#REF!","v":{"$error":"#REF!"}},{"$f":"#REF!","v":{"$error":"#REF!"}},{"$f":"#REF!","v":{"$error":"#REF!"}}]
[5,{"$f":"'w-E_R'!B47","v":"Delfser Anna-Magdalena"},{"$f":"'w-E_R'!D47","v":"NMS Friesach"},{"$f":"'w-E_R'!J47","v":0},{"$f":"'w-E_R'!K47","v":0},null,{"$error":"#REF!"},{"$f":"#REF!","v":{"$error":"#REF!"}},{"$f":"#REF!","v":{"$error":"#REF!"}},{"$f":"#REF!","v":{"$error":"#REF!"}},{"$f":"#REF!","v":{"$error":"#REF!"}}]
[5,{"$f":"'w-E_R'!B48","v":"Schaller Victoria"},{"$f":"'w-E_R'!D48","v":"NMS Friesach"},{"$f":"'w-E_R'!J48","v":0},{"$f":"'w-E_R'!K48","v":0},null,{"$error":"#REF!"},{"$f":"#REF!","v":{"$error":"#REF!"}},{"$f":"#REF!","v":{"$error":"#REF!"}},{"$f":"#REF!","v":{"$error":"#REF!"}},{"$f":"#REF!","v":{"$error":"#REF!"}}]
[5,{"$f":"'w-E_R'!B49","v":"Hölbling Laura"},{"$f":"'w-E_R'!D49","v":"NMS Friesach"},{"$f":"'w-E_R'!J49","v":0},{"$f":"'w-E_R'!K49","v":0},null,{"$error":"#REF!"},{"$f":"#REF!","v":{"$error":"#REF!"}},{"$f":"#REF!","v":{"$error":"#REF!"}},{"$f":"#REF!","v":{"$error":"#REF!"}},{"$f":"#REF!","v":{"$error":"#REF!"}}]
[5,{"$f":"'w-E_R'!B50","v":"Pacher Selina"},{"$f":"'w-E_R'!D50","v":"NMS Friesach"},{"$f":"'w-E_R'!J50","v":0},{"$f":"'w-E_R'!K50","v":0},null,{"$error":"#REF!"},{"$f":"#REF!","v":{"$error":"#REF!"}},{"$f":"#REF!","v":{"$error":"#REF!"}},{"$f":"#REF!","v":{"$error":"#REF!"}},{"$f":"#REF!","v":{"$error":"#REF!"}}]
[5,{"$f":"'w-E_R'!B52","v":"Mayer Elena"},{"$f":"'w-E_R'!D52","v":"NMS Gegendtal"},{"$f":"'w-E_R'!J52","v":0},{"$f":"'w-E_R'!K52","v":0},null,{"$error":"#REF!"},{"$f":"#REF!","v":{"$error":"#REF!"}},{"$f":"#REF!","v":{"$error":"#REF!"}},{"$f":"#REF!","v":{"$error":"#REF!"}},{"$f":"#REF!","v":{"$error":"#REF!"}}]
[5,{"$f":"'w-E_R'!B54","v":"Maier Jasmin"},{"$f":"'w-E_R'!D54","v":"NMS Gegendtal"},{"$f":"'w-E_R'!J54","v":0},{"$f":"'w-E_R'!K54","v":0},null,{"$error":"#REF!"},{"$f":"#REF!","v":{"$error":"#REF!"}},{"$f":"#REF!","v":{"$error":"#REF!"}},{"$f":"#REF!","v":{"$error":"#REF!"}},{"$f":"#REF!","v":{"$error":"#REF!"}}]
[5,{"$f":"'w-E_R'!B56","v":"Gasser Valentina"},{"$f":"'w-E_R'!D56","v":"NMS Gegendtal"},{"$f":"'w-E_R'!J56","v":0},{"$f":"'w-E_R'!K56","v":0},null,{"$error":"#REF!"},{"$f":"#REF!","v":{"$error":"#REF!"}},{"$f":"#REF!","v":{"$error":"#REF!"}},{"$f":"#REF!","v":{"$error":"#REF!"}},{"$f":"#REF!","v":{"$error":"#REF!"}}]
[5,{"$f":"'w-E_R'!B57","v":"Ostertschnig Lisa"},{"$f":"'w-E_R'!D57","v":"NMS Gegendtal"},{"$f":"'w-E_R'!J57","v":0},{"$f":"'w-E_R'!K57","v":0},null,{"$error":"#REF!"},{"$f":"#REF!","v":{"$error":"#REF!"}},{"$f":"#REF!","v":{"$error":"#REF!"}},{"$f":"#REF!","v":{"$error":"#REF!"}},{"$f":"#REF!","v":{"$error":"#REF!"}}]
[5,{"$f":"'w-E_R'!B59","v":"Kassin Larissa"},{"$f":"'w-E_R'!D59","v":"NMS Landskron"},{"$f":"'w-E_R'!J59","v":0},{"$f":"'w-E_R'!K59","v":0},null,{"$error":"#REF!"},{"$f":"#REF!","v":{"$error":"#REF!"}},{"$f":"#REF!","v":{"$error":"#REF!"}},{"$f":"#REF!","v":{"$error":"#REF!"}},{"$f":"#REF!","v":{"$error":"#REF!"}}]
[5,{"$f":"'w-E_R'!B60","v":"Wiener Sophie"},{"$f":"'w-E_R'!D60","v":"NMS Landskron"},{"$f":"'w-E_R'!J60","v":0},{"$f":"'w-E_R'!K60","v":0},null,{"$error":"#REF!"},{"$f":"#REF!","v":{"$error":"#REF!"}},{"$f":"#REF!","v":{"$error":"#REF!"}},{"$f":"#REF!","v":{"$error":"#REF!"}},{"$f":"#REF!","v":{"$error":"#REF!"}}]
[5,{"$f":"'w-E_R'!B61","v":"Neumann Lisa"},{"$f":"'w-E_R'!D61","v":"NMS Landskron"},{"$f":"'w-E_R'!J61","v":0},{"$f":"'w-E_R'!K61","v":0},null,{"$error":"#REF!"},{"$f":"#REF!","v":{"$error":"#REF!"}},{"$f":"#REF!","v":{"$error":"#REF!"}},{"$f":"#REF!","v":{"$error":"#REF!"}},{"$f":"#REF!","v":{"$error":"#REF!"}}]
[5,{"$f":"'w-E_R'!B62","v":"Pinzer Alina"},{"$f":"'w-E_R'!D62","v":"NMS Landskron"},{"$f":"'w-E_R'!J62","v":0},{"$f":"'w-E_R'!K62","v":0},null,{"$error":"#REF!"},{"$f":"#REF!","v":{"$error":"#REF!"}},{"$f":"#REF!","v":{"$error":"#REF!"}},{"$f":"#REF!","v":{"$error":"#REF!"}},{"$f":"#REF!","v":{"$error":"#REF!"}}]
[5,{"$f":"'w-E_R'!B63","v":"Santner Fabienne"},{"$f":"'w-E_R'!D63","v":"NMS Landskron"},{"$f":"'w-E_R'!J63","v":0},{"$f":"'w-E_R'!K63","v":0},null,{"$error":"#REF!"},{"$f":"#REF!","v":{"$error":"#REF!"}},{"$f":"#REF!","v":{"$error":"#REF!"}},{"$f":"#REF!","v":{"$error":"#REF!"}},{"$f":"#REF!","v":{"$error":"#REF!"}}]
[5,{"$f":"'w-E_R'!B64","v":"Petscher Maria"},{"$f":"'w-E_R'!D64","v":"NMS Landskron"},{"$f":"'w-E_R'!J64","v":0},{"$f":"'w-E_R'!K64","v":0},null,{"$error":"#REF!"},{"$f":"#REF!","v":{"$error":"#REF!"}},{"$f":"#REF!","v":{"$error":"#REF!"}},{"$f":"#REF!","v":{"$error":"#REF!"}},{"$f":"#REF!","v":{"$error":"#REF!"}}]
[5,{"$f":"'w-E_R'!B66","v":"Edlmann Chiara"},{"$f":"'w-E_R'!D66","v":"NMS Viktring"},{"$f":"'w-E_R'!J66","v":0},{"$f":"'w-E_R'!K66","v":0},null,{"$error":"#REF!"},{"$f":"#REF!","v":{"$error":"#REF!"}},{"$f":"#REF!","v":{"$error":"#REF!"}},{"$f":"#REF!","v":{"$error":"#REF!"}},{"$f":"#REF!","v":{"$error":"#REF!"}}]
[5,{"$f":"'w-E_R'!B67","v":"Toth Lili"},{"$f":"'w-E_R'!D67","v":"NMS Viktring"},{"$f":"'w-E_R'!J67","v":0},{"$f":"'w-E_R'!K67","v":0},null,{"$error":"#REF!"},{"$f":"#REF!","v":{"$error":"#REF!"}},{"$f":"#REF!","v":{"$error":"#REF!"}},{"$f":"#REF!","v":{"$error":"#REF!"}},{"$f":"#REF!","v":{"$error":"#REF!"}}]
[5,{"$f":"'w-E_R'!B68","v":"Krnjic Sonja"},{"$f":"'w-E_R'!D68","v":"NMS Viktring"},{"$f":"'w-E_R'!J68","v":0},{"$f":"'w-E_R'!K68","v":0},null,{"$error":"#REF!"},{"$f":"#REF!","v":{"$error":"#REF!"}},{"$f":"#REF!","v":{"$error":"#REF!"}},{"$f":"#REF!","v":{"$error":"#REF!"}},{"$f":"#REF!","v":{"$error":"#REF!"}}]
[5,{"$f":"'w-E_R'!B69","v":"Esel Michelle"},{"$f":"'w-E_R'!D69","v":"NMS Viktring"},{"$f":"'w-E_R'!J69","v":0},{"$f":"'w-E_R'!K69","v":0},null,{"$error":"#REF!"},{"$f":"#REF!","v":{"$error":"#REF!"}},{"$f":"#REF!","v":{"$error":"#REF!"}},{"$f":"#REF!","v":{"$error":"#REF!"}},{"$f":"#REF!","v":{"$error":"#REF!"}}]
[5,{"$f":"'w-E_R'!B70","v":"Bierbaumer Selina"},{"$f":"'w-E_R'!D70","v":"NMS Viktring"},{"$f":"'w-E_R'!J70","v":0},{"$f":"'w-E_R'!K70","v":0},null,{"$error":"#REF!"},{"$f":"#REF!","v":{"$error":"#REF!"}},{"$f":"#REF!","v":{"$error":"#REF!"}},{"$f":"#REF!","v":{"$error":"#REF!"}},{"$f":"#REF!","v":{"$error":"#REF!"}}]
[5,{"$f":"'w-E_R'!B71","v":"Herkner Anna"},{"$f":"'w-E_R'!D71","v":"NMS Viktring"},{"$f":"'w-E_R'!J71","v":0},{"$f":"'w-E_R'!K71","v":0},null,{"$error":"#REF!"},{"$f":"#REF!","v":{"$error":"#REF!"}},{"$f":"#REF!","v":{"$error":"#REF!"}},{"$f":"#REF!","v":{"$error":"#REF!"}},{"$f":"#REF!","v":{"$error":"#REF!"}}]
[5,{"$f":"'w-E_R'!B73","v":"Ebner Elena"},{"$f":"'w-E_R'!D73","v":"RNMS Feldkirchen"},{"$f":"'w-E_R'!J73","v":0},{"$f":"'w-E_R'!K73","v":0},null,{"$error":"#REF!"},{"$f":"#REF!","v":{"$error":"#REF!"}},{"$f":"#REF!","v":{"$error":"#REF!"}},{"$f":"#REF!","v":{"$error":"#REF!"}},{"$f":"#REF!","v":{"$error":"#REF!"}}]
[5,{"$f":"'w-E_R'!B74","v":"Reiter Katharina"},{"$f":"'w-E_R'!D74","v":"RNMS Feldkirchen"},{"$f":"'w-E_R'!J74","v":0},{"$f":"'w-E_R'!K74","v":0},null,{"$error":"#REF!"},{"$f":"#REF!","v":{"$error":"#REF!"}},{"$f":"#REF!","v":{"$error":"#REF!"}},{"$f":"#REF!","v":{"$error":"#REF!"}},{"$f":"#REF!","v":{"$error":"#REF!"}}]
[{"$f":"RANK(E67,$E$3:$E$122,0)","v":5},{"$f":"'w-E_R'!B75","v":"Hinteregger Katrin"},{"$f":"'w-E_R'!D75","v":"RNMS Feldkirchen"},{"$f":"'w-E_R'!J75","v":0},{"$f":"'w-E_R'!K75","v":0},null,{"$f":"RANK(K67,$K$3:$K$122,0)","v":{"$error":"#REF!"}},{"$f":"#REF!","v":{"$error":"#REF!"}},{"$f":"#REF!","v":{"$error":"#REF!"}},{"$f":"#REF!","v":{"$error":"#REF!"}},{"$f":"#REF!","v":{"$error":"#REF!"}}]
[5,{"$f":"'w-E_R'!B78","v":"Petrascu Elisabeth"},{"$f":"'w-E_R'!D78","v":"RNMS Feldkirchen"},{"$f":"'w-E_R'!J78","v":0},{"$f":"'w-E_R'!K78","v":0},null,{"$error":"#REF!"},{"$f":"#REF!","v":{"$error":"#REF!"}},{"$f":"#REF!","v":{"$error":"#REF!"}},{"$f":"#REF!","v":{"$error":"#REF!"}},{"$f":"#REF!","v":{"$error":"#REF!"}}]
[5,{"$f":"'w-E_R'!B80","v":"W12/01-Regel"},{"$f":"'w-E_R'!D80","v":0},{"$f":"'w-E_R'!J80","v":0},{"$f":"'w-E_R'!K80","v":0},null,{"$error":"#REF!"},{"$f":"#REF!","v":{"$error":"#REF!"}},{"$f":"#REF!","v":{"$error":"#REF!"}},{"$f":"#REF!","v":{"$error":"#REF!"}},{"$f":"#REF!","v":{"$error":"#REF!"}}]
[5,{"$f":"'w-E_R'!B81","v":"W12/02-Regel"},{"$f":"'w-E_R'!D81","v":0},{"$f":"'w-E_R'!J81","v":0},{"$f":"'w-E_R'!K81","v":0},null,{"$error":"#REF!"},{"$f":"#REF!","v":{"$error":"#REF!"}},{"$f":"#REF!","v":{"$error":"#REF!"}},{"$f":"#REF!","v":{"$error":"#REF!"}},{"$f":"#REF!","v":{"$error":"#REF!"}}]
[5,{"$f":"'w-E_R'!B82","v":"W12/03-Regel"},{"$f":"'w-E_R'!D82","v":0},{"$f":"'w-E_R'!J82","v":0},{"$f":"'w-E_R'!K82","v":0},null,{"$error":"#REF!"},{"$f":"#REF!","v":{"$error":"#REF!"}},{"$f":"#REF!","v":{"$error":"#REF!"}},{"$f":"#REF!","v":{"$error":"#REF!"}},{"$f":"#REF!","v":{"$error":"#REF!"}}]
[5,{"$f":"'w-E_R'!B83","v":"W12/04-Regel"},{"$f":"'w-E_R'!D83","v":0},{"$f":"'w-E_R'!J83","v":0},{"$f":"'w-E_R'!K83","v":0},null,{"$error":"#REF!"},{"$f":"#REF!","v":{"$error":"#REF!"}},{"$f":"#REF!","v":{"$error":"#REF!"}},{"$f":"#REF!","v":{"$error":"#REF!"}},{"$f":"#REF!","v":{"$error":"#REF!"}}]
[5,{"$f":"'w-E_R'!B84","v":"W12/05-Regel"},{"$f":"'w-E_R'!D84","v":0},{"$f":"'w-E_R'!J84","v":0},{"$f":"'w-E_R'!K84","v":0},null,{"$error":"#REF!"},{"$f":"#REF!","v":{"$error":"#REF!"}},{"$f":"#REF!","v":{"$error":"#REF!"}},{"$f":"#REF!","v":{"$error":"#REF!"}},{"$f":"#REF!","v":{"$error":"#REF!"}}]
[5,{"$f":"'w-E_R'!B85","v":"W12/06-Regel"},{"$f":"'w-E_R'!D85","v":0},{"$f":"'w-E_R'!J85","v":0},{"$f":"'w-E_R'!K85","v":0},null,{"$error":"#REF!"},{"$f":"#REF!","v":{"$error":"#REF!"}},{"$f":"#REF!","v":{"$error":"#REF!"}},{"$f":"#REF!","v":{"$error":"#REF!"}},{"$f":"#REF!","v":{"$error":"#REF!"}}]
[5,{"$f":"'w-E_R'!B87","v":"W13/01-Regel"},{"$f":"'w-E_R'!D87","v":0},{"$f":"'w-E_R'!J87","v":0},{"$f":"'w-E_R'!K87","v":0},null,{"$error":"#REF!"},{"$f":"#REF!","v":{"$error":"#REF!"}},{"$f":"#REF!","v":{"$error":"#REF!"}},{"$f":"#REF!","v":{"$error":"#REF!"}},{"$f":"#REF!","v":{"$error":"#REF!"}}]
[5,{"$f":"'w-E_R'!B88","v":"W13/02-Regel"},{"$f":"'w-E_R'!D88","v":0},{"$f":"'w-E_R'!J88","v":0},{"$f":"'w-E_R'!K88","v":0},null,{"$error":"#REF!"},{"$f":"#REF!","v":{"$error":"#REF!"}},{"$f":"#REF!","v":{"$error":"#REF!"}},{"$f":"#REF!","v":{"$error":"#REF!"}},{"$f":"#REF!","v":{"$error":"#REF!"}}]
[5,{"$f":"'w-E_R'!B89","v":"W13/03-Regel"},{"$f":"'w-E_R'!D89","v":0},{"$f":"'w-E_R'!J89","v":0},{"$f":"'w-E_R'!K89","v":0},null,{"$error":"#REF!"},{"$f":"#REF!","v":{"$error":"#REF!"}},{"$f":"#REF!","v":{"$error":"#REF!"}},{"$f":"#REF!","v":{"$error":"#REF!"}},{"$f":"#REF!","v":{"$error":"#REF!"}}]
[5,{"$f":"'w-E_R'!B90","v":"W13/04-Regel"},{"$f":"'w-E_R'!D90","v":0},{"$f":"'w-E_R'!J90","v":0},{"$f":"'w-E_R'!K90","v":0},null,{"$error":"#REF!"},{"$f":"#REF!","v":{"$error":"#REF!"}},{"$f":"#REF!","v":{"$error":"#REF!"}},{"$f":"#REF!","v":{"$error":"#REF!"}},{"$f":"#REF!","v":{"$error":"#REF!"}}]
[5,{"$f":"'w-E_R'!B91","v":"W13/05-Regel"},{"$f":"'w-E_R'!D91","v":0},{"$f":"'w-E_R'!J91","v":0},{"$f":"'w-E_R'!K91","v":0},null,{"$error":"#REF!"},{"$f":"#REF!","v":{"$error":"#REF!"}},{"$f":"#REF!","v":{"$error":"#REF!"}},{"$f":"#REF!","v":{"$error":"#REF!"}},{"$f":"#REF!","v":{"$error":"#REF!"}}]
[5,{"$f":"'w-E_R'!B92","v":"W13/06-Regel"},{"$f":"'w-E_R'!D92","v":0},{"$f":"'w-E_R'!J92","v":0},{"$f":"'w-E_R'!K92","v":0},null,{"$error":"#REF!"},{"$f":"#REF!","v":{"$error":"#REF!"}},{"$f":"#REF!","v":{"$error":"#REF!"}},{"$f":"#REF!","v":{"$error":"#REF!"}},{"$f":"#REF!","v":{"$error":"#REF!"}}]
[5,{"$f":"'w-E_R'!B94","v":"W14/01-Regel"},{"$f":"'w-E_R'!D94","v":0},{"$f":"'w-E_R'!J94","v":0},{"$f":"'w-E_R'!K94","v":0},null,{"$error":"#REF!"},{"$f":"#REF!","v":{"$error":"#REF!"}},{"$f":"#REF!","v":{"$error":"#REF!"}},{"$f":"#REF!","v":{"$error":"#REF!"}},{"$f":"#REF!","v":{"$error":"#REF!"}}]
[5,{"$f":"'w-E_R'!B95","v":"W14/02-Regel"},{"$f":"'w-E_R'!D95","v":0},{"$f":"'w-E_R'!J95","v":0},{"$f":"'w-E_R'!K95","v":0},null,{"$error":"#REF!"},{"$f":"#REF!","v":{"$error":"#REF!"}},{"$f":"#REF!","v":{"$error":"#REF!"}},{"$f":"#REF!","v":{"$error":"#REF!"}},{"$f":"#REF!","v":{"$error":"#REF!"}}]
[5,{"$f":"'w-E_R'!B96","v":"W14/03-Regel"},{"$f":"'w-E_R'!D96","v":0},{"$f":"'w-E_R'!J96","v":0},{"$f":"'w-E_R'!K96","v":0},null,{"$error":"#REF!"},{"$f":"#REF!","v":{"$error":"#REF!"}},{"$f":"#REF!","v":{"$error":"#REF!"}},{"$f":"#REF!","v":{"$error":"#REF!"}},{"$f":"#REF!","v":{"$error":"#REF!"}}]
[5,{"$f":"'w-E_R'!B97","v":"W14/04-Regel"},{"$f":"'w-E_R'!D97","v":0},{"$f":"'w-E_R'!J97","v":0},{"$f":"'w-E_R'!K97","v":0},null,{"$error":"#REF!"},{"$f":"#REF!","v":{"$error":"#REF!"}},{"$f":"#REF!","v":{"$error":"#REF!"}},{"$f":"#REF!","v":{"$error":"#REF!"}},{"$f":"#REF!","v":{"$error":"#REF!"}}]
[5,{"$f":"'w-E_R'!B98","v":"W14/05-Regel"},{"$f":"'w-E_R'!D98","v":0},{"$f":"'w-E_R'!J98","v":0},{"$f":"'w-E_R'!K98","v":0},null,{"$error":"#REF!"},{"$f":"#REF!","v":{"$error":"#REF!"}},{"$f":"#REF!","v":{"$error":"#REF!"}},{"$f":"#REF!","v":{"$error":"#REF!"}},{"$f":"#REF!","v":{"$error":"#REF!"}}]
[5,{"$f":"'w-E_R'!B99","v":"W14/06-Regel"},{"$f":"'w-E_R'!D99","v":0},{"$f":"'w-E_R'!J99","v":0},{"$f":"'w-E_R'!K99","v":0},null,{"$error":"#REF!"},{"$f":"#REF!","v":{"$error":"#REF!"}},{"$f":"#REF!","v":{"$error":"#REF!"}},{"$f":"#REF!","v":{"$error":"#REF!"}},{"$f":"#REF!","v":{"$error":"#REF!"}}]
[5,{"$f":"'w-E_R'!B101","v":"W15/01-Regel"},{"$f":"'w-E_R'!D101","v":0},{"$f":"'w-E_R'!J101","v":0},{"$f":"'w-E_R'!K101","v":0},null,{"$error":"#REF!"},{"$f":"#REF!","v":{"$error":"#REF!"}},{"$f":"#REF!","v":{"$error":"#REF!"}},{"$f":"#REF!","v":{"$error":"#REF!"}},{"$f":"#REF!","v":{"$error":"#REF!"}}]
[5,{"$f":"'w-E_R'!B102","v":"W15/02-Regel"},{"$f":"'w-E_R'!D102","v":0},{"$f":"'w-E_R'!J102","v":0},{"$f":"'w-E_R'!K102","v":0},null,{"$error":"#REF!"},{"$f":"#REF!","v":{"$error":"#REF!"}},{"$f":"#REF!","v":{"$error":"#REF!"}},{"$f":"#REF!","v":{"$error":"#REF!"}},{"$f":"#REF!","v":{"$error":"#REF!"}}]
[5,{"$f":"'w-E_R'!B103","v":"W15/03-Regel"},{"$f":"'w-E_R'!D103","v":0},{"$f":"'w-E_R'!J103","v":0},{"$f":"'w-E_R'!K103","v":0},null,{"$error":"#REF!"},{"$f":"#REF!","v":{"$error":"#REF!"}},{"$f":"#REF!","v":{"$error":"#REF!"}},{"$f":"#REF!","v":{"$error":"#REF!"}},{"$f":"#REF!","v":{"$error":"#REF!"}}]
[5,{"$f":"'w-E_R'!B104","v":"W15/04-Regel"},{"$f":"'w-E_R'!D104","v":0},{"$f":"'w-E_R'!J104","v":0},{"$f":"'w-E_R'!K104","v":0},null,{"$error":"#REF!"},{"$f":"#REF!","v":{"$error":"#REF!"}},{"$f":"#REF!","v":{"$error":"#REF!"}},{"$f":"#REF!","v":{"$error":"#REF!"}},{"$f":"#REF!","v":{"$error":"#REF!"}}]
[5,{"$f":"'w-E_R'!B105","v":"W15/05-Regel"},{"$f":"'w-E_R'!D105","v":0},{"$f":"'w-E_R'!J105","v":0},{"$f":"'w-E_R'!K105","v":0},null,{"$error":"#REF!"},{"$f":"#REF!","v":{"$error":"#REF!"}},{"$f":"#REF!","v":{"$error":"#REF!"}},{"$f":"#REF!","v":{"$error":"#REF!"}},{"$f":"#REF!","v":{"$error":"#REF!"}}]
[5,{"$f":"'w-E_R'!B106","v":"W15/06-Regel"},{"$f":"'w-E_R'!D106","v":0},{"$f":"'w-E_R'!J106","v":0},{"$f":"'w-E_R'!K106","v":0},null,{"$error":"#REF!"},{"$f":"#REF!","v":{"$error":"#REF!"}},{"$f":"#REF!","v":{"$error":"#REF!"}},{"$f":"#REF!","v":{"$error":"#REF!"}},{"$f":"#REF!","v":{"$error":"#REF!"}}]
[5,{"$f":"'w-E_R'!B108","v":"W16/01-Regel"},{"$f":"'w-E_R'!D108","v":0},{"$f":"'w-E_R'!J108","v":0},{"$f":"'w-E_R'!K108","v":0},null,{"$error":"#REF!"},{"$f":"#REF!","v":{"$error":"#REF!"}},{"$f":"#REF!","v":{"$error":"#REF!"}},{"$f":"#REF!","v":{"$error":"#REF!"}},{"$f":"#REF!","v":{"$error":"#REF!"}}]
[5,{"$f":"'w-E_R'!B109","v":"W16/02-Regel"},{"$f":"'w-E_R'!D109","v":0},{"$f":"'w-E_R'!J109","v":0},{"$f":"'w-E_R'!K109","v":0},null,{"$error":"#REF!"},{"$f":"#REF!","v":{"$error":"#REF!"}},{"$f":"#REF!","v":{"$error":"#REF!"}},{"$f":"#REF!","v":{"$error":"#REF!"}},{"$f":"#REF!","v":{"$error":"#REF!"}}]
[5,{"$f":"'w-E_R'!B110","v":"W16/03-Regel"},{"$f":"'w-E_R'!D110","v":0},{"$f":"'w-E_R'!J110","v":0},{"$f":"'w-E_R'!K110","v":0},null,{"$error":"#REF!"},{"$f":"#REF!","v":{"$error":"#REF!"}},{"$f":"#REF!","v":{"$error":"#REF!"}},{"$f":"#REF!","v":{"$error":"#REF!"}},{"$f":"#REF!","v":{"$error":"#REF!"}}]
[5,{"$f":"'w-E_R'!B111","v":"W16/04-Regel"},{"$f":"'w-E_R'!D111","v":0},{"$f":"'w-E_R'!J111","v":0},{"$f":"'w-E_R'!K111","v":0},null,{"$error":"#REF!"},{"$f":"#REF!","v":{"$error":"#REF!"}},{"$f":"#REF!","v":{"$error":"#REF!"}},{"$f":"#REF!","v":{"$error":"#REF!"}},{"$f":"#REF!","v":{"$error":"#REF!"}}]
[5,{"$f":"'w-E_R'!B112","v":"W16/05-Regel"},{"$f":"'w-E_R'!D112","v":0},{"$f":"'w-E_R'!J112","v":0},{"$f":"'w-E_R'!K112","v":0},null,{"$error":"#REF!"},{"$f":"#REF!","v":{"$error":"#REF!"}},{"$f":"#REF!","v":{"$error":"#REF!"}},{"$f":"#REF!","v":{"$error":"#REF!"}},{"$f":"#REF!","v":{"$error":"#REF!"}}]
[5,{"$f":"'w-E_R'!B113","v":"W16/06-Regel"},{"$f":"'w-E_R'!D113","v":0},{"$f":"'w-E_R'!J113","v":0},{"$f":"'w-E_R'!K113","v":0},null,{"$error":"#REF!"},{"$f":"#REF!","v":{"$error":"#REF!"}},{"$f":"#REF!","v":{"$error":"#REF!"}},{"$f":"#REF!","v":{"$error":"#REF!"}},{"$f":"#REF!","v":{"$error":"#REF!"}}]
[{"$f":"RANK(E99,$E$3:$E$122,0)","v":5},{"$f":"'w-E_R'!B115","v":"W17/01-Regel"},{"$f":"'w-E_R'!D115","v":0},{"$f":"'w-E_R'!J115","v":0},{"$f":"'w-E_R'!K115","v":0},null,{"$f":"RANK(K99,$K$3:$K$122,0)","v":{"$error":"#REF!"}},{"$f":"#REF!","v":{"$error":"#REF!"}},{"$f":"#REF!","v":{"$error":"#REF!"}},{"$f":"#REF!","v":{"$error":"#REF!"}},{"$f":"#REF!","v":{"$error":"#REF!"}}]
[5,{"$f":"'w-E_R'!B116","v":"W17/02-Regel"},{"$f":"'w-E_R'!D116","v":0},{"$f":"'w-E_R'!J116","v":0},{"$f":"'w-E_R'!K116","v":0},null,{"$error":"#REF!"},{"$f":"#REF!","v":{"$error":"#REF!"}},{"$f":"#REF!","v":{"$error":"#REF!"}},{"$f":"#REF!","v":{"$error":"#REF!"}},{"$f":"#REF!","v":{"$error":"#REF!"}}]
[5,{"$f":"'w-E_R'!B117","v":"W17/03-Regel"},{"$f":"'w-E_R'!D117","v":0},{"$f":"'w-E_R'!J117","v":0},{"$f":"'w-E_R'!K117","v":0},null,{"$error":"#REF!"},{"$f":"#REF!","v":{"$error":"#REF!"}},{"$f":"#REF!","v":{"$error":"#REF!"}},{"$f":"#REF!","v":{"$error":"#REF!"}},{"$f":"#REF!","v":{"$error":"#REF!"}}]
[5,{"$f":"'w-E_R'!B118","v":"W17/04-Regel"},{"$f":"'w-E_R'!D118","v":0},{"$f":"'w-E_R'!J118","v":0},{"$f":"'w-E_R'!K118","v":0},null,{"$error":"#REF!"},{"$f":"#REF!","v":{"$error":"#REF!"}},{"$f":"#REF!","v":{"$error":"#REF!"}},{"$f":"#REF!","v":{"$error":"#REF!"}},{"$f":"#REF!","v":{"$error":"#REF!"}}]
[5,{"$f":"'w-E_R'!B119","v":"W17/05-Regel"},{"$f":"'w-E_R'!D119","v":0},{"$f":"'w-E_R'!J119","v":0},{"$f":"'w-E_R'!K119","v":0},null,{"$error":"#REF!"},{"$f":"#REF!","v":{"$error":"#REF!"}},{"$f":"#REF!","v":{"$error":"#REF!"}},{"$f":"#REF!","v":{"$error":"#REF!"}},{"$f":"#REF!","v":{"$error":"#REF!"}}]
[5,{"$f":"'w-E_R'!B120","v":"W17/06-Regel"},{"$f":"'w-E_R'!D120","v":0},{"$f":"'w-E_R'!J120","v":0},{"$f":"'w-E_R'!K120","v":0},null,{"$error":"#REF!"},{"$f":"#REF!","v":{"$error":"#REF!"}},{"$f":"#REF!","v":{"$error":"#REF!"}},{"$f":"#REF!","v":{"$error":"#REF!"}},{"$f":"#REF!","v":{"$error":"#REF!"}}]
[5,{"$f":"'w-E_R'!B122","v":"W18/01-Regel"},{"$f":"'w-E_R'!D122","v":0},{"$f":"'w-E_R'!J122","v":0},{"$f":"'w-E_R'!K122","v":0},null,{"$error":"#REF!"},{"$f":"#REF!","v":{"$error":"#REF!"}},{"$f":"#REF!","v":{"$error":"#REF!"}},{"$f":"#REF!","v":{"$error":"#REF!"}},{"$f":"#REF!","v":{"$error":"#REF!"}}]
[5,{"$f":"'w-E_R'!B123","v":"W18/02-Regel"},{"$f":"'w-E_R'!D123","v":0},{"$f":"'w-E_R'!J123","v":0},{"$f":"'w-E_R'!K123","v":0},null,{"$error":"#REF!"},{"$f":"#REF!","v":{"$error":"#REF!"}},{"$f":"#REF!","v":{"$error":"#REF!"}},{"$f":"#REF!","v":{"$error":"#REF!"}},{"$f":"#REF!","v":{"$error":"#REF!"}}]
[5,{"$f":"'w-E_R'!B124","v":"W18/03-Regel"},{"$f":"'w-E_R'!D124","v":0},{"$f":"'w-E_R'!J124","v":0},{"$f":"'w-E_R'!K124","v":0},null,{"$error":"#REF!"},{"$f":"#REF!","v":{"$error":"#REF!"}},{"$f":"#REF!","v":{"$error":"#REF!"}},{"$f":"#REF!","v":{"$error":"#REF!"}},{"$f":"#REF!","v":{"$error":"#REF!"}}]
[5,{"$f":"'w-E_R'!B125","v":"W18/04-Regel"},{"$f":"'w-E_R'!D125","v":0},{"$f":"'w-E_R'!J125","v":0},{"$f":"'w-E_R'!K125","v":0},null,{"$error":"#REF!"},{"$f":"#REF!","v":{"$error":"#REF!"}},{"$f":"#REF!","v":{"$error":"#REF!"}},{"$f":"#REF!","v":{"$error":"#REF!"}},{"$f":"#REF!","v":{"$error":"#REF!"}}]
[5,{"$f":"'w-E_R'!B126","v":"W18/05-Regel"},{"$f":"'w-E_R'!D126","v":0},{"$f":"'w-E_R'!J126","v":0},{"$f":"'w-E_R'!K126","v":0},null,{"$error":"#REF!"},{"$f":"#REF!","v":{"$error":"#REF!"}},{"$f":"#REF!","v":{"$error":"#REF!"}},{"$f":"#REF!","v":{"$error":"#REF!"}},{"$f":"#REF!","v":{"$error":"#REF!"}}]
[5,{"$f":"'w-E_R'!B127","v":"W18/06-Regel"},{"$f":"'w-E_R'!D127","v":0},{"$f":"'w-E_R'!J127","v":0},{"$f":"'w-E_R'!K127","v":0},null,{"$error":"#REF!"},{"$f":"#REF!","v":{"$error":"#REF!"}},{"$f":"#REF!","v":{"$error":"#REF!"}},{"$f":"#REF!","v":{"$error":"#REF!"}},{"$f":"#REF!","v":{"$error":"#REF!"}}]
[5,{"$f":"'w-E_R'!B129","v":"W19/01-Regel"},{"$f":"'w-E_R'!D129","v":0},{"$f":"'w-E_R'!J129","v":0},{"$f":"'w-E_R'!K129","v":0},null,{"$error":"#REF!"},{"$f":"#REF!","v":{"$error":"#REF!"}},{"$f":"#REF!","v":{"$error":"#REF!"}},{"$f":"#REF!","v":{"$error":"#REF!"}},{"$f":"#REF!","v":{"$error":"#REF!"}}]
[5,{"$f":"'w-E_R'!B130","v":"W19/02-Regel"},{"$f":"'w-E_R'!D130","v":0},{"$f":"'w-E_R'!J130","v":0},{"$f":"'w-E_R'!K130","v":0},null,{"$error":"#REF!"},{"$f":"#REF!","v":{"$error":"#REF!"}},{"$f":"#REF!","v":{"$error":"#REF!"}},{"$f":"#REF!","v":{"$error":"#REF!"}},{"$f":"#REF!","v":{"$error":"#REF!"}}]
[5,{"$f":"'w-E_R'!B131","v":"W19/03-Regel"},{"$f":"'w-E_R'!D131","v":0},{"$f":"'w-E_R'!J131","v":0},{"$f":"'w-E_R'!K131","v":0},null,{"$error":"#REF!"},{"$f":"#REF!","v":{"$error":"#REF!"}},{"$f":"#REF!","v":{"$error":"#REF!"}},{"$f":"#REF!","v":{"$error":"#REF!"}},{"$f":"#REF!","v":{"$error":"#REF!"}}]
[5,{"$f":"'w-E_R'!B132","v":"W19/04-Regel"},{"$f":"'w-E_R'!D132","v":0},{"$f":"'w-E_R'!J132","v":0},{"$f":"'w-E_R'!K132","v":0},null,{"$error":"#REF!"},{"$f":"#REF!","v":{"$error":"#REF!"}},{"$f":"#REF!","v":{"$error":"#REF!"}},{"$f":"#REF!","v":{"$error":"#REF!"}},{"$f":"#REF!","v":{"$error":"#REF!"}}]
[5,{"$f":"'w-E_R'!B133","v":"W19/05-Regel"},{"$f":"'w-E_R'!D133","v":0},{"$f":"'w-E_R'!J133","v":0},{"$f":"'w-E_R'!K133","v":0},null,{"$error":"#REF!"},{"$f":"#REF!","v":{"$error":"#REF!"}},{"$f":"#REF!","v":{"$error":"#REF!"}},{"$f":"#REF!","v":{"$error":"#REF!"}},{"$f":"#REF!","v":{"$error":"#REF!"}}]
[5,{"$f":"'w-E_R'!B134","v":"W19/06-Regel"},{"$f":"'w-E_R'!D134","v":0},{"$f":"'w-E_R'!J134","v":0},{"$f":"'w-E_R'!K134","v":0},null,{"$error":"#REF!"},{"$f":"#REF!","v":{"$error":"#REF!"}},{"$f":"#REF!","v":{"$error":"#REF!"}},{"$f":"#REF!","v":{"$error":"#REF!"}},{"$f":"#REF!","v":{"$error":"#REF!"}}]
[5,{"$f":"'w-E_R'!B136","v":"W20/01-Regel"},{"$f":"'w-E_R'!D136","v":0},{"$f":"'w-E_R'!J136","v":0},{"$f":"'w-E_R'!K136","v":0},null,{"$error":"#REF!"},{"$f":"#REF!","v":{"$error":"#REF!"}},{"$f":"#REF!","v":{"$error":"#REF!"}},{"$f":"#REF!","v":{"$error":"#REF!"}},{"$f":"#REF!","v":{"$error":"#REF!"}}]
[5,{"$f":"'w-E_R'!B137","v":"W20/02-Regel"},{"$f":"'w-E_R'!D137","v":0},{"$f":"'w-E_R'!J137","v":0},{"$f":"'w-E_R'!K137","v":0},null,{"$error":"#REF!"},{"$f":"#REF!","v":{"$error":"#REF!"}},{"$f":"#REF!","v":{"$error":"#REF!"}},{"$f":"#REF!","v":{"$error":"#REF!"}},{"$f":"#REF!","v":{"$error":"#REF!"}}]
[5,{"$f":"'w-E_R'!B138","v":"W20/03-Regel"},{"$f":"'w-E_R'!D138","v":0},{"$f":"'w-E_R'!J138","v":0},{"$f":"'w-E_R'!K138","v":0},null,{"$error":"#REF!"},{"$f":"#REF!","v":{"$error":"#REF!"}},{"$f":"#REF!","v":{"$error":"#REF!"}},{"$f":"#REF!","v":{"$error":"#REF!"}},{"$f":"#REF!","v":{"$error":"#REF!"}}]
[5,{"$f":"'w-E_R'!B139","v":"W20/04-Regel"},{"$f":"'w-E_R'!D139","v":0},{"$f":"'w-E_R'!J139","v":0},{"$f":"'w-E_R'!K139","v":0},null,{"$error":"#REF!"},{"$f":"#REF!","v":{"$error":"#REF!"}},{"$f":"#REF!","v":{"$error":"#REF!"}},{"$f":"#REF!","v":{"$error":"#REF!"}},{"$f":"#REF!","v":{"$error":"#REF!"}}]
[5,{"$f":"'w-E_R'!B140","v":"W20/05-Regel"},{"$f":"'w-E_R'!D140","v":0},{"$f":"'w-E_R'!J140","v":0},{"$f":"'w-E_R'!K140","v":0},null,{"$error":"#REF!"},{"$f":"#REF!","v":{"$error":"#REF!"}},{"$f":"#REF!","v":{"$error":"#REF!"}},{"$f":"#REF!","v":{"$error":"#REF!"}},{"$f":"#REF!","v":{"$error":"#REF!"}}]
[5,{"$f":"'w-E_R'!B141","v":"W20/06-Regel"},{"$f":"'w-E_R'!D141","v":0},{"$f":"'w-E_R'!J141","v":0},{"$f":"'w-E_R'!K141","v":0},null,{"$error":"#REF!"},{"$f":"#REF!","v":{"$error":"#REF!"}},{"$f":"#REF!","v":{"$error":"#REF!"}},{"$f":"#REF!","v":{"$error":"#REF!"}},{"$f":"#REF!","v":{"$error":"#REF!"}}]
["Einzelwertung Kugel Weiblich",null,{"$f":"'w-E_R'!C1","v":"D-C/Regel-Schulen"},{"$f":"'w-E_R'!E1","v":"Ortsangabe,Datum"},null,null,"Einzelwertung Kugel Männlich",null,{"$f":"#REF!","v":{"$error":"#REF!"}},{"$f":"#REF!","v":{"$error":"#REF!"}}]
["Einzelwertung Kugel",null,{"$f":"#REF!","v":{"$error":"#REF!"}},{"$f":"#REF!","v":{"$error":"#REF!"}},null,null,"Einzelwertung Kugel",null,{"$f":"#REF!","v":{"$error":"#REF!"}},{"$f":"#REF!","v":{"$error":"#REF!"}}]
["Rang","WEIBLICH","Schule:","Leistung","Punkte",null,"Rang","MÄNNLICH","Schule:","Leistung","Punkte"]
[{"$f":"RANK(E126,$E$126:$E245,0)","v":{"$error":"#REF!"}},{"$f":"#REF!","v":{"$error":"#REF!"}},{"$f":"#REF!","v":{"$error":"#REF!"}},{"$f":"#REF!","v":{"$error":"#REF!"}},{"$f":"#REF!","v":{"$error":"#REF!"}},null,{"$f":"RANK(K126,$K$126:$K245,0)","v":{"$error":"#REF!"}},{"$f":"#REF!","v":{"$error":"#REF!"}},{"$f":"#REF!","v":{"$error":"#REF!"}},{"$f":"#REF!","v":{"$error":"#REF!"}},{"$f":"#REF!","v":{"$error":"#REF!"}}]
[{"$f":"RANK(E127,$E$126:$E245,0)","v":{"$error":"#REF!"}},{"$f":"#REF!","v":{"$error":"#REF!"}},{"$f":"#REF!","v":{"$error":"#REF!"}},{"$f":"#REF!","v":{"$error":"#REF!"}},{"$f":"#REF!","v":{"$error":"#REF!"}},null,{"$f":"RANK(K127,$K$126:$K245,0)","v":{"$error":"#REF!"}},{"$f":"#REF!","v":{"$error":"#REF!"}},{"$f":"#REF!","v":{"$error":"#REF!"}},{"$f":"#REF!","v":{"$error":"#REF!"}},{"$f":"#REF!","v":{"$error":"#REF!"}}]
[{"$f":"RANK(E128,$E$126:$E245,0)","v":{"$error":"#REF!"}},{"$f":"#REF!","v":{"$error":"#REF!"}},{"$f":"#REF!","v":{"$error":"#REF!"}},{"$f":"#REF!","v":{"$error":"#REF!"}},{"$f":"#REF!","v":{"$error":"#REF!"}},null,{"$f":"RANK(K128,$K$126:$K245,0)","v":{"$error":"#REF!"}},{"$f":"#REF!","v":{"$error":"#REF!"}},{"$f":"#REF!","v":{"$error":"#REF!"}},{"$f":"#REF!","v":{"$error":"#REF!"}},{"$f":"#REF!","v":{"$error":"#REF!"}}]
[{"$f":"RANK(E129,$E$126:$E245,0)","v":{"$error":"#REF!"}},{"$f":"#REF!","v":{"$error":"#REF!"}},{"$f":"#REF!","v":{"$error":"#REF!"}},{"$f":"#REF!","v":{"$error":"#REF!"}},{"$f":"#REF!","v":{"$error":"#REF!"}},null,{"$f":"RANK(K129,$K$126:$K245,0)","v":{"$error":"#REF!"}},{"$f":"#REF!","v":{"$error":"#REF!"}},{"$f":"#REF!","v":{"$error":"#REF!"}},{"$f":"#REF!","v":{"$error":"#REF!"}},{"$f":"#REF!","v":{"$error":"#REF!"}}]
[{"$f":"RANK(E130,$E$126:$E245,0)","v":{"$error":"#REF!"}},{"$f":"#REF!","v":{"$error":"#REF!"}},{"$f":"#REF!","v":{"$error":"#REF!"}},{"$f":"#REF!","v":{"$error":"#REF!"}},{"$f":"#REF!","v":{"$error":"#REF!"}},null,{"$f":"RANK(K130,$K$126:$K245,0)","v":{"$error":"#REF!"}},{"$f":"#REF!","v":{"$error":"#REF!"}},{"$f":"#REF!","v":{"$error":"#REF!"}},{"$f":"#REF!","v":{"$error":"#REF!"}},{"$f":"#REF!","v":{"$error":"#REF!"}}]
[{"$f":"RANK(E131,$E$126:$E245,0)","v":{"$error":"#REF!"}},{"$f":"#REF!","v":{"$error":"#REF!"}},{"$f":"#REF!","v":{"$error":"#REF!"}},{"$f":"#REF!","v":{"$error":"#REF!"}},{"$f":"#REF!","v":{"$error":"#REF!"}},null,{"$f":"RANK(K131,$K$126:$K245,0)","v":{"$error":"#REF!"}},{"$f":"#REF!","v":{"$error":"#REF!"}},{"$f":"#REF!","v":{"$error":"#REF!"}},{"$f":"#REF!","v":{"$error":"#REF!"}},{"$f":"#REF!","v":{"$error":"#REF!"}}]
[{"$f":"RANK(E132,$E$126:$E245,0)","v":{"$error":"#REF!"}},{"$f":"#REF!","v":{"$error":"#REF!"}},{"$f":"#REF!","v":{"$error":"#REF!"}},{"$f":"#REF!","v":{"$error":"#REF!"}},{"$f":"#REF!","v":{"$error":"#REF!"}},null,{"$f":"RANK(K132,$K$126:$K245,0)","v":{"$error":"#REF!"}},{"$f":"#REF!","v":{"$error":"#REF!"}},{"$f":"#REF!","v":{"$error":"#REF!"}},{"$f":"#REF!","v":{"$error":"#REF!"}},{"$f":"#REF!","v":{"$error":"#REF!"}}]
[{"$f":"RANK(E133,$E$126:$E245,0)","v":{"$error":"#REF!"}},{"$f":"#REF!","v":{"$error":"#REF!"}},{"$f":"#REF!","v":{"$error":"#REF!"}},{"$f":"#REF!","v":{"$error":"#REF!"}},{"$f":"#REF!","v":{"$error":"#REF!"}},null,{"$f":"RANK(K133,$K$126:$K245,0)","v":{"$error":"#REF!"}},{"$f":"#REF!","v":{"$error":"#REF!"}},{"$f":"#REF!","v":{"$error":"#REF!"}},{"$f":"#REF!","v":{"$error":"#REF!"}},{"$f":"#REF!","v":{"$error":"#REF!"}}]
[{"$f":"RANK(E134,$E$126:$E245,0)","v":{"$error":"#REF!"}},{"$f":"#REF!","v":{"$error":"#REF!"}},{"$f":"#REF!","v":{"$error":"#REF!"}},{"$f":"#REF!","v":{"$error":"#REF!"}},{"$f":"#REF!","v":{"$error":"#REF!"}},null,{"$f":"RANK(K134,$K$126:$K245,0)","v":{"$error":"#REF!"}},{"$f":"#REF!","v":{"$error":"#REF!"}},{"$f":"#REF!","v":{"$error":"#REF!"}},{"$f":"#REF!","v":{"$error":"#REF!"}},{"$f":"#REF!","v":{"$error":"#REF!"}}]
[{"$f":"RANK(E135,$E$126:$E245,0)","v":{"$error":"#REF!"}},{"$f":"#REF!","v":{"$error":"#REF!"}},{"$f":"#REF!","v":{"$error":"#REF!"}},{"$f":"#REF!","v":{"$error":"#REF!"}},{"$f":"#REF!","v":{"$error":"#REF!"}},null,{"$f":"RANK(K135,$K$126:$K245,0)","v":{"$error":"#REF!"}},{"$f":"#REF!","v":{"$error":"#REF!"}},{"$f":"#REF!","v":{"$error":"#REF!"}},{"$f":"#REF!","v":{"$error":"#REF!"}},{"$f":"#REF!","v":{"$error":"#REF!"}}]
[{"$f":"RANK(E136,$E$126:$E245,0)","v":{"$error":"#REF!"}},{"$f":"#REF!","v":{"$error":"#REF!"}},{"$f":"#REF!","v":{"$error":"#REF!"}},{"$f":"#REF!","v":{"$error":"#REF!"}},{"$f":"#REF!","v":{"$error":"#REF!"}},null,{"$f":"RANK(K136,$K$126:$K245,0)","v":{"$error":"#REF!"}},{"$f":"#REF!","v":{"$error":"#REF!"}},{"$f":"#REF!","v":{"$error":"#REF!"}},{"$f":"#REF!","v":{"$error":"#REF!"}},{"$f":"#REF!","v":{"$error":"#REF!"}}]
[{"$f":"RANK(E137,$E$126:$E245,0)","v":{"$error":"#REF!"}},{"$f":"#REF!","v":{"$error":"#REF!"}},{"$f":"#REF!","v":{"$error":"#REF!"}},{"$f":"#REF!","v":{"$error":"#REF!"}},{"$f":"#REF!","v":{"$error":"#REF!"}},null,{"$f":"RANK(K137,$K$126:$K245,0)","v":{"$error":"#REF!"}},{"$f":"#REF!","v":{"$error":"#REF!"}},{"$f":"#REF!","v":{"$error":"#REF!"}},{"$f":"#REF!","v":{"$error":"#REF!"}},{"$f":"#REF!","v":{"$error":"#REF!"}}]
[{"$f":"RANK(E138,$E$126:$E245,0)","v":{"$error":"#REF!"}},{"$f":"#REF!","v":{"$error":"#REF!"}},{"$f":"#REF!","v":{"$error":"#REF!"}},{"$f":"#REF!","v":{"$error":"#REF!"}},{"$f":"#REF!","v":{"$error":"#REF!"}},null,{"$f":"RANK(K138,$K$126:$K245,0)","v":{"$error":"#REF!"}},{"$f":"#REF!","v":{"$error":"#REF!"}},{"$f":"#REF!","v":{"$error":"#REF!"}},{"$f":"#REF!","v":{"$error":"#REF!"}},{"$f":"#REF!","v":{"$error":"#REF!"}}]
[{"$f":"RANK(E139,$E$126:$E245,0)","v":{"$error":"#REF!"}},{"$f":"#REF!","v":{"$error":"#REF!"}},{"$f":"#REF!","v":{"$error":"#REF!"}},{"$f":"#REF!","v":{"$error":"#REF!"}},{"$f":"#REF!","v":{"$error":"#REF!"}},null,{"$f":"RANK(K139,$K$126:$K245,0)","v":{"$error":"#REF!"}},{"$f":"#REF!","v":{"$error":"#REF!"}},{"$f":"#REF!","v":{"$error":"#REF!"}},{"$f":"#REF!","v":{"$error":"#REF!"}},{"$f":"#REF!","v":{"$error":"#REF!"}}]
[{"$f":"RANK(E140,$E$126:$E245,0)","v":{"$error":"#REF!"}},{"$f":"#REF!","v":{"$error":"#REF!"}},{"$f":"#REF!","v":{"$error":"#REF!"}},{"$f":"#REF!","v":{"$error":"#REF!"}},{"$f":"#REF!","v":{"$error":"#REF!"}},null,{"$f":"RANK(K140,$K$126:$K245,0)","v":{"$error":"#REF!"}},{"$f":"#REF!","v":{"$error":"#REF!"}},{"$f":"#REF!","v":{"$error":"#REF!"}},{"$f":"#REF!","v":{"$error":"#REF!"}},{"$f":"#REF!","v":{"$error":"#REF!"}}]
[{"$f":"RANK(E141,$E$126:$E245,0)","v":{"$error":"#REF!"}},{"$f":"#REF!","v":{"$error":"#REF!"}},{"$f":"#REF!","v":{"$error":"#REF!"}},{"$f":"#REF!","v":{"$error":"#REF!"}},{"$f":"#REF!","v":{"$error":"#REF!"}},null,{"$f":"RANK(K141,$K$126:$K245,0)","v":{"$error":"#REF!"}},{"$f":"#REF!","v":{"$error":"#REF!"}},{"$f":"#REF!","v":{"$error":"#REF!"}},{"$f":"#REF!","v":{"$error":"#REF!"}},{"$f":"#REF!","v":{"$error":"#REF!"}}]
[{"$f":"RANK(E142,$E$126:$E245,0)","v":{"$error":"#REF!"}},{"$f":"#REF!","v":{"$error":"#REF!"}},{"$f":"#REF!","v":{"$error":"#REF!"}},{"$f":"#REF!","v":{"$error":"#REF!"}},{"$f":"#REF!","v":{"$error":"#REF!"}},null,{"$f":"RANK(K142,$K$126:$K245,0)","v":{"$error":"#REF!"}},{"$f":"#REF!","v":{"$error":"#REF!"}},{"$f":"#REF!","v":{"$error":"#REF!"}},{"$f":"#REF!","v":{"$error":"#REF!"}},{"$f":"#REF!","v":{"$error":"#REF!"}}]
[{"$f":"RANK(E143,$E$126:$E245,0)","v":{"$error":"#REF!"}},{"$f":"#REF!","v":{"$error":"#REF!"}},{"$f":"#REF!","v":{"$error":"#REF!"}},{"$f":"#REF!","v":{"$error":"#REF!"}},{"$f":"#REF!","v":{"$error":"#REF!"}},null,{"$f":"RANK(K143,$K$126:$K245,0)","v":{"$error":"#REF!"}},{"$f":"#REF!","v":{"$error":"#REF!"}},{"$f":"#REF!","v":{"$error":"#REF!"}},{"$f":"#REF!","v":{"$error":"#REF!"}},{"$f":"#REF!","v":{"$error":"#REF!"}}]
[{"$f":"RANK(E144,$E$126:$E245,0)","v":{"$error":"#REF!"}},{"$f":"#REF!","v":{"$error":"#REF!"}},{"$f":"#REF!","v":{"$error":"#REF!"}},{"$f":"#REF!","v":{"$error":"#REF!"}},{"$f":"#REF!","v":{"$error":"#REF!"}},null,{"$f":"RANK(K144,$K$126:$K245,0)","v":{"$error":"#REF!"}},{"$f":"#REF!","v":{"$error":"#REF!"}},{"$f":"#REF!","v":{"$error":"#REF!"}},{"$f":"#REF!","v":{"$error":"#REF!"}},{"$f":"#REF!","v":{"$error":"#REF!"}}]
[{"$f":"RANK(E145,$E$126:$E245,0)","v":{"$error":"#REF!"}},{"$f":"#REF!","v":{"$error":"#REF!"}},{"$f":"#REF!","v":{"$error":"#REF!"}},{"$f":"#REF!","v":{"$error":"#REF!"}},{"$f":"#REF!","v":{"$error":"#REF!"}},null,{"$f":"RANK(K145,$K$126:$K245,0)","v":{"$error":"#REF!"}},{"$f":"#REF!","v":{"$error":"#REF!"}},{"$f":"#REF!","v":{"$error":"#REF!"}},{"$f":"#REF!","v":{"$error":"#REF!"}},{"$f":"#REF!","v":{"$error":"#REF!"}}]
[{"$f":"RANK(E146,$E$126:$E245,0)","v":{"$error":"#REF!"}},{"$f":"#REF!","v":{"$error":"#REF!"}},{"$f":"#REF!","v":{"$error":"#REF!"}},{"$f":"#REF!","v":{"$error":"#REF!"}},{"$f":"#REF!","v":{"$error":"#REF!"}},null,{"$f":"RANK(K146,$K$126:$K245,0)","v":{"$error":"#REF!"}},{"$f":"#REF!","v":{"$error":"#REF!"}},{"$f":"#REF!","v":{"$error":"#REF!"}},{"$f":"#REF!","v":{"$error":"#REF!"}},{"$f":"#REF!","v":{"$error":"#REF!"}}]
[{"$f":"RANK(E147,$E$126:$E245,0)","v":{"$error":"#REF!"}},{"$f":"#REF!","v":{"$error":"#REF!"}},{"$f":"#REF!","v":{"$error":"#REF!"}},{"$f":"#REF!","v":{"$error":"#REF!"}},{"$f":"#REF!","v":{"$error":"#REF!"}},null,{"$f":"RANK(K147,$K$126:$K245,0)","v":{"$error":"#REF!"}},{"$f":"#REF!","v":{"$error":"#REF!"}},{"$f":"#REF!","v":{"$error":"#REF!"}},{"$f":"#REF!","v":{"$error":"#REF!"}},{"$f":"#REF!","v":{"$error":"#REF!"}}]
[{"$f":"RANK(E148,$E$126:$E245,0)","v":{"$error":"#REF!"}},{"$f":"#REF!","v":{"$error":"#REF!"}},{"$f":"#REF!","v":{"$error":"#REF!"}},{"$f":"#REF!","v":{"$error":"#REF!"}},{"$f":"#REF!","v":{"$error":"#REF!"}},null,{"$f":"RANK(K148,$K$126:$K245,0)","v":{"$error":"#REF!"}},{"$f":"#REF!","v":{"$error":"#REF!"}},{"$f":"#REF!","v":{"$error":"#REF!"}},{"$f":"#REF!","v":{"$error":"#REF!"}},{"$f":"#REF!","v":{"$error":"#REF!"}}]
[{"$f":"RANK(E149,$E$126:$E245,0)","v":{"$error":"#REF!"}},{"$f":"#REF!","v":{"$error":"#REF!"}},{"$f":"#REF!","v":{"$error":"#REF!"}},{"$f":"#REF!","v":{"$error":"#REF!"}},{"$f":"#REF!","v":{"$error":"#REF!"}},null,{"$f":"RANK(K149,$K$126:$K245,0)","v":{"$error":"#REF!"}},{"$f":"#REF!","v":{"$error":"#REF!"}},{"$f":"#REF!","v":{"$error":"#REF!"}},{"$f":"#REF!","v":{"$error":"#REF!"}},{"$f":"#REF!","v":{"$error":"#REF!"}}]
[{"$f":"RANK(E150,$E$126:$E245,0)","v":{"$error":"#REF!"}},{"$f":"#REF!","v":{"$error":"#REF!"}},{"$f":"#REF!","v":{"$error":"#REF!"}},{"$f":"#REF!","v":{"$error":"#REF!"}},{"$f":"#REF!","v":{"$error":"#REF!"}},null,{"$f":"RANK(K150,$K$126:$K245,0)","v":{"$error":"#REF!"}},{"$f":"#REF!","v":{"$error":"#REF!"}},{"$f":"#REF!","v":{"$error":"#REF!"}},{"$f":"#REF!","v":{"$error":"#REF!"}},{"$f":"#REF!","v":{"$error":"#REF!"}}]
[{"$f":"RANK(E151,$E$126:$E245,0)","v":{"$error":"#REF!"}},{"$f":"#REF!","v":{"$error":"#REF!"}},{"$f":"#REF!","v":{"$error":"#REF!"}},{"$f":"#REF!","v":{"$error":"#REF!"}},{"$f":"#REF!","v":{"$error":"#REF!"}},null,{"$f":"RANK(K151,$K$126:$K245,0)","v":{"$error":"#REF!"}},{"$f":"#REF!","v":{"$error":"#REF!"}},{"$f":"#REF!","v":{"$error":"#REF!"}},{"$f":"#REF!","v":{"$error":"#REF!"}},{"$f":"#REF!","v":{"$error":"#REF!"}}]
[{"$f":"RANK(E152,$E$126:$E245,0)","v":{"$error":"#REF!"}},{"$f":"#REF!","v":{"$error":"#REF!"}},{"$f":"#REF!","v":{"$error":"#REF!"}},{"$f":"#REF!","v":{"$error":"#REF!"}},{"$f":"#REF!","v":{"$error":"#REF!"}},null,{"$f":"RANK(K152,$K$126:$K245,0)","v":{"$error":"#REF!"}},{"$f":"#REF!","v":{"$error":"#REF!"}},{"$f":"#REF!","v":{"$error":"#REF!"}},{"$f":"#REF!","v":{"$error":"#REF!"}},{"$f":"#REF!","v":{"$error":"#REF!"}}]
[{"$f":"RANK(E153,$E$126:$E245,0)","v":{"$error":"#REF!"}},{"$f":"#REF!","v":{"$error":"#REF!"}},{"$f":"#REF!","v":{"$error":"#REF!"}},{"$f":"#REF!","v":{"$error":"#REF!"}},{"$f":"#REF!","v":{"$error":"#REF!"}},null,{"$f":"RANK(K153,$K$126:$K245,0)","v":{"$error":"#REF!"}},{"$f":"#REF!","v":{"$error":"#REF!"}},{"$f":"#REF!","v":{"$error":"#REF!"}},{"$f":"#REF!","v":{"$error":"#REF!"}},{"$f":"#REF!","v":{"$error":"#REF!"}}]
[{"$f":"RANK(E154,$E$126:$E245,0)","v":{"$error":"#REF!"}},{"$f":"#REF!","v":{"$error":"#REF!"}},{"$f":"#REF!","v":{"$error":"#REF!"}},{"$f":"#REF!","v":{"$error":"#REF!"}},{"$f":"#REF!","v":{"$error":"#REF!"}},null,{"$f":"RANK(K154,$K$126:$K245,0)","v":{"$error":"#REF!"}},{"$f":"#REF!","v":{"$error":"#REF!"}},{"$f":"#REF!","v":{"$error":"#REF!"}},{"$f":"#REF!","v":{"$error":"#REF!"}},{"$f":"#REF!","v":{"$error":"#REF!"}}]
[{"$f":"RANK(E155,$E$126:$E245,0)","v":{"$error":"#REF!"}},{"$f":"#REF!","v":{"$error":"#REF!"}},{"$f":"#REF!","v":{"$error":"#REF!"}},{"$f":"#REF!","v":{"$error":"#REF!"}},{"$f":"#REF!","v":{"$error":"#REF!"}},null,{"$f":"RANK(K155,$K$126:$K245,0)","v":{"$error":"#REF!"}},{"$f":"#REF!","v":{"$error":"#REF!"}},{"$f":"#REF!","v":{"$error":"#REF!"}},{"$f":"#REF!","v":{"$error":"#REF!"}},{"$f":"#REF!","v":{"$error":"#REF!"}}]
[{"$f":"RANK(E156,$E$126:$E245,0)","v":{"$error":"#REF!"}},{"$f":"#REF!","v":{"$error":"#REF!"}},{"$f":"#REF!","v":{"$error":"#REF!"}},{"$f":"#REF!","v":{"$error":"#REF!"}},{"$f":"#REF!","v":{"$error":"#REF!"}},null,{"$f":"RANK(K156,$K$126:$K245,0)","v":{"$error":"#REF!"}},{"$f":"#REF!","v":{"$error":"#REF!"}},{"$f":"#REF!","v":{"$error":"#REF!"}},{"$f":"#REF!","v":{"$error":"#REF!"}},{"$f":"#REF!","v":{"$error":"#REF!"}}]
[{"$f":"RANK(E157,$E$126:$E245,0)","v":{"$error":"#REF!"}},{"$f":"#REF!","v":{"$error":"#REF!"}},{"$f":"#REF!","v":{"$error":"#REF!"}},{"$f":"#REF!","v":{"$error":"#REF!"}},{"$f":"#REF!","v":{"$error":"#REF!"}},null,{"$f":"RANK(K157,$K$126:$K245,0)","v":{"$error":"#REF!"}},{"$f":"#REF!","v":{"$error":"#REF!"}},{"$f":"#REF!","v":{"$error":"#REF!"}},{"$f":"#REF!","v":{"$error":"#REF!"}},{"$f":"#REF!","v":{"$error":"#REF!"}}]
[{"$f":"RANK(E158,$E$126:$E245,0)","v":{"$error":"#REF!"}},{"$f":"#REF!","v":{"$error":"#REF!"}},{"$f":"#REF!","v":{"$error":"#REF!"}},{"$f":"#REF!","v":{"$error":"#REF!"}},{"$f":"#REF!","v":{"$error":"#REF!"}},null,{"$f":"RANK(K158,$K$126:$K245,0)","v":{"$error":"#REF!"}},{"$f":"#REF!","v":{"$error":"#REF!"}},{"$f":"#REF!","v":{"$error":"#REF!"}},{"$f":"#REF!","v":{"$error":"#REF!"}},{"$f":"#REF!","v":{"$error":"#REF!"}}]
[{"$f":"RANK(E159,$E$126:$E245,0)","v":{"$error":"#REF!"}},{"$f":"#REF!","v":{"$error":"#REF!"}},{"$f":"#REF!","v":{"$error":"#REF!"}},{"$f":"#REF!","v":{"$error":"#REF!"}},{"$f":"#REF!","v":{"$error":"#REF!"}},null,{"$f":"RANK(K159,$K$126:$K245,0)","v":{"$error":"#REF!"}},{"$f":"#REF!","v":{"$error":"#REF!"}},{"$f":"#REF!","v":{"$error":"#REF!"}},{"$f":"#REF!","v":{"$error":"#REF!"}},{"$f":"#REF!","v":{"$error":"#REF!"}}]
[{"$f":"RANK(E160,$E$126:$E245,0)","v":{"$error":"#REF!"}},{"$f":"#REF!","v":{"$error":"#REF!"}},{"$f":"#REF!","v":{"$error":"#REF!"}},{"$f":"#REF!","v":{"$error":"#REF!"}},{"$f":"#REF!","v":{"$error":"#REF!"}},null,{"$f":"RANK(K160,$K$126:$K245,0)","v":{"$error":"#REF!"}},{"$f":"#REF!","v":{"$error":"#REF!"}},{"$f":"#REF!","v":{"$error":"#REF!"}},{"$f":"#REF!","v":{"$error":"#REF!"}},{"$f":"#REF!","v":{"$error":"#REF!"}}]
[{"$f":"RANK(E161,$E$126:$E245,0)","v":{"$error":"#REF!"}},{"$f":"#REF!","v":{"$error":"#REF!"}},{"$f":"#REF!","v":{"$error":"#REF!"}},{"$f":"#REF!","v":{"$error":"#REF!"}},{"$f":"#REF!","v":{"$error":"#REF!"}},null,{"$f":"RANK(K161,$K$126:$K245,0)","v":{"$error":"#REF!"}},{"$f":"#REF!","v":{"$error":"#REF!"}},{"$f":"#REF!","v":{"$error":"#REF!"}},{"$f":"#REF!","v":{"$error":"#REF!"}},{"$f":"#REF!","v":{"$error":"#REF!"}}]
[{"$f":"RANK(E162,$E$126:$E245,0)","v":{"$error":"#REF!"}},{"$f":"#REF!","v":{"$error":"#REF!"}},{"$f":"#REF!","v":{"$error":"#REF!"}},{"$f":"#REF!","v":{"$error":"#REF!"}},{"$f":"#REF!","v":{"$error":"#REF!"}},null,{"$f":"RANK(K162,$K$126:$K245,0)","v":{"$error":"#REF!"}},{"$f":"#REF!","v":{"$error":"#REF!"}},{"$f":"#REF!","v":{"$error":"#REF!"}},{"$f":"#REF!","v":{"$error":"#REF!"}},{"$f":"#REF!","v":{"$error":"#REF!"}}]
[{"$f":"RANK(E163,$E$126:$E245,0)","v":{"$error":"#REF!"}},{"$f":"#REF!","v":{"$error":"#REF!"}},{"$f":"#REF!","v":{"$error":"#REF!"}},{"$f":"#REF!","v":{"$error":"#REF!"}},{"$f":"#REF!","v":{"$error":"#REF!"}},null,{"$f":"RANK(K163,$K$126:$K245,0)","v":{"$error":"#REF!"}},{"$f":"#REF!","v":{"$error":"#REF!"}},{"$f":"#REF!","v":{"$error":"#REF!"}},{"$f":"#REF!","v":{"$error":"#REF!"}},{"$f":"#REF!","v":{"$error":"#REF!"}}]
[{"$f":"RANK(E164,$E$126:$E245,0)","v":{"$error":"#REF!"}},{"$f":"#REF!","v":{"$error":"#REF!"}},{"$f":"#REF!","v":{"$error":"#REF!"}},{"$f":"#REF!","v":{"$error":"#REF!"}},{"$f":"#REF!","v":{"$error":"#REF!"}},null,{"$f":"RANK(K164,$K$126:$K245,0)","v":{"$error":"#REF!"}},{"$f":"#REF!","v":{"$error":"#REF!"}},{"$f":"#REF!","v":{"$error":"#REF!"}},{"$f":"#REF!","v":{"$error":"#REF!"}},{"$f":"#REF!","v":{"$error":"#REF!"}}]
[{"$f":"RANK(E165,$E$126:$E245,0)","v":{"$error":"#REF!"}},{"$f":"#REF!","v":{"$error":"#REF!"}},{"$f":"#REF!","v":{"$error":"#REF!"}},{"$f":"#REF!","v":{"$error":"#REF!"}},{"$f":"#REF!","v":{"$error":"#REF!"}},null,{"$f":"RANK(K165,$K$126:$K245,0)","v":{"$error":"#REF!"}},{"$f":"#REF!","v":{"$error":"#REF!"}},{"$f":"#REF!","v":{"$error":"#REF!"}},{"$f":"#REF!","v":{"$error":"#REF!"}},{"$f":"#REF!","v":{"$error":"#REF!"}}]
[{"$f":"RANK(E166,$E$126:$E245,0)","v":{"$error":"#REF!"}},{"$f":"#REF!","v":{"$error":"#REF!"}},{"$f":"#REF!","v":{"$error":"#REF!"}},{"$f":"#REF!","v":{"$error":"#REF!"}},{"$f":"#REF!","v":{"$error":"#REF!"}},null,{"$f":"RANK(K166,$K$126:$K245,0)","v":{"$error":"#REF!"}},{"$f":"#REF!","v":{"$error":"#REF!"}},{"$f":"#REF!","v":{"$error":"#REF!"}},{"$f":"#REF!","v":{"$error":"#REF!"}},{"$f":"#REF!","v":{"$error":"#REF!"}}]
[{"$f":"RANK(E167,$E$126:$E245,0)","v":{"$error":"#REF!"}},{"$f":"#REF!","v":{"$error":"#REF!"}},{"$f":"#REF!","v":{"$error":"#REF!"}},{"$f":"#REF!","v":{"$error":"#REF!"}},{"$f":"#REF!","v":{"$error":"#REF!"}},null,{"$f":"RANK(K167,$K$126:$K245,0)","v":{"$error":"#REF!"}},{"$f":"#REF!","v":{"$error":"#REF!"}},{"$f":"#REF!","v":{"$error":"#REF!"}},{"$f":"#REF!","v":{"$error":"#REF!"}},{"$f":"#REF!","v":{"$error":"#REF!"}}]
[{"$f":"RANK(E168,$E$126:$E245,0)","v":{"$error":"#REF!"}},{"$f":"#REF!","v":{"$error":"#REF!"}},{"$f":"#REF!","v":{"$error":"#REF!"}},{"$f":"#REF!","v":{"$error":"#REF!"}},{"$f":"#REF!","v":{"$error":"#REF!"}},null,{"$f":"RANK(K168,$K$126:$K245,0)","v":{"$error":"#REF!"}},{"$f":"#REF!","v":{"$error":"#REF!"}},{"$f":"#REF!","v":{"$error":"#REF!"}},{"$f":"#REF!","v":{"$error":"#REF!"}},{"$f":"#REF!","v":{"$error":"#REF!"}}]
[{"$f":"RANK(E169,$E$126:$E245,0)","v":{"$error":"#REF!"}},{"$f":"#REF!","v":{"$error":"#REF!"}},{"$f":"#REF!","v":{"$error":"#REF!"}},{"$f":"#REF!","v":{"$error":"#REF!"}},{"$f":"#REF!","v":{"$error":"#REF!"}},null,{"$f":"RANK(K169,$K$126:$K245,0)","v":{"$error":"#REF!"}},{"$f":"#REF!","v":{"$error":"#REF!"}},{"$f":"#REF!","v":{"$error":"#REF!"}},{"$f":"#REF!","v":{"$error":"#REF!"}},{"$f":"#REF!","v":{"$error":"#REF!"}}]
[{"$f":"RANK(E170,$E$126:$E245,0)","v":{"$error":"#REF!"}},{"$f":"#REF!","v":{"$error":"#REF!"}},{"$f":"#REF!","v":{"$error":"#REF!"}},{"$f":"#REF!","v":{"$error":"#REF!"}},{"$f":"#REF!","v":{"$error":"#REF!"}},null,{"$f":"RANK(K170,$K$126:$K245,0)","v":{"$error":"#REF!"}},{"$f":"#REF!","v":{"$error":"#REF!"}},{"$f":"#REF!","v":{"$error":"#REF!"}},{"$f":"#REF!","v":{"$error":"#REF!"}},{"$f":"#REF!","v":{"$error":"#REF!"}}]
[{"$f":"RANK(E171,$E$126:$E245,0)","v":{"$error":"#REF!"}},{"$f":"#REF!","v":{"$error":"#REF!"}},{"$f":"#REF!","v":{"$error":"#REF!"}},{"$f":"#REF!","v":{"$error":"#REF!"}},{"$f":"#REF!","v":{"$error":"#REF!"}},null,{"$f":"RANK(K171,$K$126:$K245,0)","v":{"$error":"#REF!"}},{"$f":"#REF!","v":{"$error":"#REF!"}},{"$f":"#REF!","v":{"$error":"#REF!"}},{"$f":"#REF!","v":{"$error":"#REF!"}},{"$f":"#REF!","v":{"$error":"#REF!"}}]
[{"$f":"RANK(E172,$E$126:$E245,0)","v":{"$error":"#REF!"}},{"$f":"#REF!","v":{"$error":"#REF!"}},{"$f":"#REF!","v":{"$error":"#REF!"}},{"$f":"#REF!","v":{"$error":"#REF!"}},{"$f":"#REF!","v":{"$error":"#REF!"}},null,{"$f":"RANK(K172,$K$126:$K245,0)","v":{"$error":"#REF!"}},{"$f":"#REF!","v":{"$error":"#REF!"}},{"$f":"#REF!","v":{"$error":"#REF!"}},{"$f":"#REF!","v":{"$error":"#REF!"}},{"$f":"#REF!","v":{"$error":"#REF!"}}]
[{"$f":"RANK(E173,$E$126:$E245,0)","v":{"$error":"#REF!"}},{"$f":"#REF!","v":{"$error":"#REF!"}},{"$f":"#REF!","v":{"$error":"#REF!"}},{"$f":"#REF!","v":{"$error":"#REF!"}},{"$f":"#REF!","v":{"$error":"#REF!"}},null,{"$f":"RANK(K173,$K$126:$K245,0)","v":{"$error":"#REF!"}},{"$f":"#REF!","v":{"$error":"#REF!"}},{"$f":"#REF!","v":{"$error":"#REF!"}},{"$f":"#REF!","v":{"$error":"#REF!"}},{"$f":"#REF!","v":{"$error":"#REF!"}}]
[{"$f":"RANK(E174,$E$126:$E245,0)","v":{"$error":"#REF!"}},{"$f":"#REF!","v":{"$error":"#REF!"}},{"$f":"#REF!","v":{"$error":"#REF!"}},{"$f":"#REF!","v":{"$error":"#REF!"}},{"$f":"#REF!","v":{"$error":"#REF!"}},null,{"$f":"RANK(K174,$K$126:$K245,0)","v":{"$error":"#REF!"}},{"$f":"#REF!","v":{"$error":"#REF!"}},{"$f":"#REF!","v":{"$error":"#REF!"}},{"$f":"#REF!","v":{"$error":"#REF!"}},{"$f":"#REF!","v":{"$error":"#REF!"}}]
[{"$f":"RANK(E175,$E$126:$E245,0)","v":{"$error":"#REF!"}},{"$f":"#REF!","v":{"$error":"#REF!"}},{"$f":"#REF!","v":{"$error":"#REF!"}},{"$f":"#REF!","v":{"$error":"#REF!"}},{"$f":"#REF!","v":{"$error":"#REF!"}},null,{"$f":"RANK(K175,$K$126:$K245,0)","v":{"$error":"#REF!"}},{"$f":"#REF!","v":{"$error":"#REF!"}},{"$f":"#REF!","v":{"$error":"#REF!"}},{"$f":"#REF!","v":{"$error":"#REF!"}},{"$f":"#REF!","v":{"$error":"#REF!"}}]
[{"$f":"RANK(E176,$E$126:$E245,0)","v":{"$error":"#REF!"}},{"$f":"#REF!","v":{"$error":"#REF!"}},{"$f":"#REF!","v":{"$error":"#REF!"}},{"$f":"#REF!","v":{"$error":"#REF!"}},{"$f":"#REF!","v":{"$error":"#REF!"}},null,{"$f":"RANK(K176,$K$126:$K245,0)","v":{"$error":"#REF!"}},{"$f":"#REF!","v":{"$error":"#REF!"}},{"$f":"#REF!","v":{"$error":"#REF!"}},{"$f":"#REF!","v":{"$error":"#REF!"}},{"$f":"#REF!","v":{"$error":"#REF!"}}]
[{"$f":"RANK(E177,$E$126:$E245,0)","v":{"$error":"#REF!"}},{"$f":"#REF!","v":{"$error":"#REF!"}},{"$f":"#REF!","v":{"$error":"#REF!"}},{"$f":"#REF!","v":{"$error":"#REF!"}},{"$f":"#REF!","v":{"$error":"#REF!"}},null,{"$f":"RANK(K177,$K$126:$K245,0)","v":{"$error":"#REF!"}},{"$f":"#REF!","v":{"$error":"#REF!"}},{"$f":"#REF!","v":{"$error":"#REF!"}},{"$f":"#REF!","v":{"$error":"#REF!"}},{"$f":"#REF!","v":{"$error":"#REF!"}}]
[{"$f":"RANK(E178,$E$126:$E245,0)","v":{"$error":"#REF!"}},{"$f":"#REF!","v":{"$error":"#REF!"}},{"$f":"#REF!","v":{"$error":"#REF!"}},{"$f":"#REF!","v":{"$error":"#REF!"}},{"$f":"#REF!","v":{"$error":"#REF!"}},null,{"$f":"RANK(K178,$K$126:$K245,0)","v":{"$error":"#REF!"}},{"$f":"#REF!","v":{"$error":"#REF!"}},{"$f":"#REF!","v":{"$error":"#REF!"}},{"$f":"#REF!","v":{"$error":"#REF!"}},{"$f":"#REF!","v":{"$error":"#REF!"}}]
[{"$f":"RANK(E179,$E$126:$E245,0)","v":{"$error":"#REF!"}},{"$f":"#REF!","v":{"$error":"#REF!"}},{"$f":"#REF!","v":{"$error":"#REF!"}},{"$f":"#REF!","v":{"$error":"#REF!"}},{"$f":"#REF!","v":{"$error":"#REF!"}},null,{"$f":"RANK(K179,$K$126:$K245,0)","v":{"$error":"#REF!"}},{"$f":"#REF!","v":{"$error":"#REF!"}},{"$f":"#REF!","v":{"$error":"#REF!"}},{"$f":"#REF!","v":{"$error":"#REF!"}},{"$f":"#REF!","v":{"$error":"#REF!"}}]
[{"$f":"RANK(E180,$E$126:$E245,0)","v":{"$error":"#REF!"}},{"$f":"#REF!","v":{"$error":"#REF!"}},{"$f":"#REF!","v":{"$error":"#REF!"}},{"$f":"#REF!","v":{"$error":"#REF!"}},{"$f":"#REF!","v":{"$error":"#REF!"}},null,{"$f":"RANK(K180,$K$126:$K245,0)","v":{"$error":"#REF!"}},{"$f":"#REF!","v":{"$error":"#REF!"}},{"$f":"#REF!","v":{"$error":"#REF!"}},{"$f":"#REF!","v":{"$error":"#REF!"}},{"$f":"#REF!","v":{"$error":"#REF!"}}]
[{"$f":"RANK(E181,$E$126:$E245,0)","v":{"$error":"#REF!"}},{"$f":"#REF!","v":{"$error":"#REF!"}},{"$f":"#REF!","v":{"$error":"#REF!"}},{"$f":"#REF!","v":{"$error":"#REF!"}},{"$f":"#REF!","v":{"$error":"#REF!"}},null,{"$f":"RANK(K181,$K$126:$K245,0)","v":{"$error":"#REF!"}},{"$f":"#REF!","v":{"$error":"#REF!"}},{"$f":"#REF!","v":{"$error":"#REF!"}},{"$f":"#REF!","v":{"$error":"#REF!"}},{"$f":"#REF!","v":{"$error":"#REF!"}}]
[{"$f":"RANK(E182,$E$126:$E245,0)","v":{"$error":"#REF!"}},{"$f":"#REF!","v":{"$error":"#REF!"}},{"$f":"#REF!","v":{"$error":"#REF!"}},{"$f":"#REF!","v":{"$error":"#REF!"}},{"$f":"#REF!","v":{"$error":"#REF!"}},null,{"$f":"RANK(K182,$K$126:$K245,0)","v":{"$error":"#REF!"}},{"$f":"#REF!","v":{"$error":"#REF!"}},{"$f":"#REF!","v":{"$error":"#REF!"}},{"$f":"#REF!","v":{"$error":"#REF!"}},{"$f":"#REF!","v":{"$error":"#REF!"}}]
[{"$f":"RANK(E183,$E$126:$E245,0)","v":{"$error":"#REF!"}},{"$f":"#REF!","v":{"$error":"#REF!"}},{"$f":"#REF!","v":{"$error":"#REF!"}},{"$f":"#REF!","v":{"$error":"#REF!"}},{"$f":"#REF!","v":{"$error":"#REF!"}},null,{"$f":"RANK(K183,$K$126:$K245,0)","v":{"$error":"#REF!"}},{"$f":"#REF!","v":{"$error":"#REF!"}},{"$f":"#REF!","v":{"$error":"#REF!"}},{"$f":"#REF!","v":{"$error":"#REF!"}},{"$f":"#REF!","v":{"$error":"#REF!"}}]
[{"$f":"RANK(E184,$E$126:$E245,0)","v":{"$error":"#REF!"}},{"$f":"#REF!","v":{"$error":"#REF!"}},{"$f":"#REF!","v":{"$error":"#REF!"}},{"$f":"#REF!","v":{"$error":"#REF!"}},{"$f":"#REF!","v":{"$error":"#REF!"}},null,{"$f":"RANK(K184,$K$126:$K245,0)","v":{"$error":"#REF!"}},{"$f":"#REF!","v":{"$error":"#REF!"}},{"$f":"#REF!","v":{"$error":"#REF!"}},{"$f":"#REF!","v":{"$error":"#REF!"}},{"$f":"#REF!","v":{"$error":"#REF!"}}]
[{"$f":"RANK(E185,$E$126:$E245,0)","v":{"$error":"#REF!"}},{"$f":"#REF!","v":{"$error":"#REF!"}},{"$f":"#REF!","v":{"$error":"#REF!"}},{"$f":"#REF!","v":{"$error":"#REF!"}},{"$f":"#REF!","v":{"$error":"#REF!"}},null,{"$f":"RANK(K185,$K$126:$K245,0)","v":{"$error":"#REF!"}},{"$f":"#REF!","v":{"$error":"#REF!"}},{"$f":"#REF!","v":{"$error":"#REF!"}},{"$f":"#REF!","v":{"$error":"#REF!"}},{"$f":"#REF!","v":{"$error":"#REF!"}}]
[{"$f":"RANK(E186,$E$126:$E245,0)","v":{"$error":"#REF!"}},{"$f":"#REF!","v":{"$error":"#REF!"}},{"$f":"#REF!","v":{"$error":"#REF!"}},{"$f":"#REF!","v":{"$error":"#REF!"}},{"$f":"#REF!","v":{"$error":"#REF!"}},null,{"$f":"RANK(K186,$K$126:$K245,0)","v":{"$error":"#REF!"}},{"$f":"#REF!","v":{"$error":"#REF!"}},{"$f":"#REF!","v":{"$error":"#REF!"}},{"$f":"#REF!","v":{"$error":"#REF!"}},{"$f":"#REF!","v":{"$error":"#REF!"}}]
[{"$f":"RANK(E187,$E$126:$E245,0)","v":{"$error":"#REF!"}},{"$f":"#REF!","v":{"$error":"#REF!"}},{"$f":"#REF!","v":{"$error":"#REF!"}},{"$f":"#REF!","v":{"$error":"#REF!"}},{"$f":"#REF!","v":{"$error":"#REF!"}},null,{"$f":"RANK(K187,$K$126:$K245,0)","v":{"$error":"#REF!"}},{"$f":"#REF!","v":{"$error":"#REF!"}},{"$f":"#REF!","v":{"$error":"#REF!"}},{"$f":"#REF!","v":{"$error":"#REF!"}},{"$f":"#REF!","v":{"$error":"#REF!"}}]
[{"$f":"RANK(E188,$E$126:$E245,0)","v":{"$error":"#REF!"}},{"$f":"#REF!","v":{"$error":"#REF!"}},{"$f":"#REF!","v":{"$error":"#REF!"}},{"$f":"#REF!","v":{"$error":"#REF!"}},{"$f":"#REF!","v":{"$error":"#REF!"}},null,{"$f":"RANK(K188,$K$126:$K245,0)","v":{"$error":"#REF!"}},{"$f":"#REF!","v":{"$error":"#REF!"}},{"$f":"#REF!","v":{"$error":"#REF!"}},{"$f":"#REF!","v":{"$error":"#REF!"}},{"$f":"#REF!","v":{"$error":"#REF!"}}]
[{"$f":"RANK(E189,$E$126:$E245,0)","v":{"$error":"#REF!"}},{"$f":"#REF!","v":{"$error":"#REF!"}},{"$f":"#REF!","v":{"$error":"#REF!"}},{"$f":"#REF!","v":{"$error":"#REF!"}},{"$f":"#REF!","v":{"$error":"#REF!"}},null,{"$f":"RANK(K189,$K$126:$K245,0)","v":{"$error":"#REF!"}},{"$f":"#REF!","v":{"$error":"#REF!"}},{"$f":"#REF!","v":{"$error":"#REF!"}},{"$f":"#REF!","v":{"$error":"#REF!"}},{"$f":"#REF!","v":{"$error":"#REF!"}}]
[{"$f":"RANK(E190,$E$126:$E245,0)","v":{"$error":"#REF!"}},{"$f":"#REF!","v":{"$error":"#REF!"}},{"$f":"#REF!","v":{"$error":"#REF!"}},{"$f":"#REF!","v":{"$error":"#REF!"}},{"$f":"#REF!","v":{"$error":"#REF!"}},null,{"$f":"RANK(K190,$K$126:$K245,0)","v":{"$error":"#REF!"}},{"$f":"#REF!","v":{"$error":"#REF!"}},{"$f":"#REF!","v":{"$error":"#REF!"}},{"$f":"#REF!","v":{"$error":"#REF!"}},{"$f":"#REF!","v":{"$error":"#REF!"}}]
[{"$f":"RANK(E191,$E$126:$E245,0)","v":{"$error":"#REF!"}},{"$f":"#REF!","v":{"$error":"#REF!"}},{"$f":"#REF!","v":{"$error":"#REF!"}},{"$f":"#REF!","v":{"$error":"#REF!"}},{"$f":"#REF!","v":{"$error":"#REF!"}},null,{"$f":"RANK(K191,$K$126:$K245,0)","v":{"$error":"#REF!"}},{"$f":"#REF!","v":{"$error":"#REF!"}},{"$f":"#REF!","v":{"$error":"#REF!"}},{"$f":"#REF!","v":{"$error":"#REF!"}},{"$f":"#REF!","v":{"$error":"#REF!"}}]
[{"$f":"RANK(E192,$E$126:$E245,0)","v":{"$error":"#REF!"}},{"$f":"#REF!","v":{"$error":"#REF!"}},{"$f":"#REF!","v":{"$error":"#REF!"}},{"$f":"#REF!","v":{"$error":"#REF!"}},{"$f":"#REF!","v":{"$error":"#REF!"}},null,{"$f":"RANK(K192,$K$126:$K245,0)","v":{"$error":"#REF!"}},{"$f":"#REF!","v":{"$error":"#REF!"}},{"$f":"#REF!","v":{"$error":"#REF!"}},{"$f":"#REF!","v":{"$error":"#REF!"}},{"$f":"#REF!","v":{"$error":"#REF!"}}]
[{"$f":"RANK(E193,$E$126:$E245,0)","v":{"$error":"#REF!"}},{"$f":"#REF!","v":{"$error":"#REF!"}},{"$f":"#REF!","v":{"$error":"#REF!"}},{"$f":"#REF!","v":{"$error":"#REF!"}},{"$f":"#REF!","v":{"$error":"#REF!"}},null,{"$f":"RANK(K193,$K$126:$K245,0)","v":{"$error":"#REF!"}},{"$f":"#REF!","v":{"$error":"#REF!"}},{"$f":"#REF!","v":{"$error":"#REF!"}},{"$f":"#REF!","v":{"$error":"#REF!"}},{"$f":"#REF!","v":{"$error":"#REF!"}}]
[{"$f":"RANK(E194,$E$126:$E245,0)","v":{"$error":"#REF!"}},{"$f":"#REF!","v":{"$error":"#REF!"}},{"$f":"#REF!","v":{"$error":"#REF!"}},{"$f":"#REF!","v":{"$error":"#REF!"}},{"$f":"#REF!","v":{"$error":"#REF!"}},null,{"$f":"RANK(K194,$K$126:$K245,0)","v":{"$error":"#REF!"}},{"$f":"#REF!","v":{"$error":"#REF!"}},{"$f":"#REF!","v":{"$error":"#REF!"}},{"$f":"#REF!","v":{"$error":"#REF!"}},{"$f":"#REF!","v":{"$error":"#REF!"}}]
[{"$f":"RANK(E195,$E$126:$E245,0)","v":{"$error":"#REF!"}},{"$f":"#REF!","v":{"$error":"#REF!"}},{"$f":"#REF!","v":{"$error":"#REF!"}},{"$f":"#REF!","v":{"$error":"#REF!"}},{"$f":"#REF!","v":{"$error":"#REF!"}},null,{"$f":"RANK(K195,$K$126:$K245,0)","v":{"$error":"#REF!"}},{"$f":"#REF!","v":{"$error":"#REF!"}},{"$f":"#REF!","v":{"$error":"#REF!"}},{"$f":"#REF!","v":{"$error":"#REF!"}},{"$f":"#REF!","v":{"$error":"#REF!"}}]
[{"$f":"RANK(E196,$E$126:$E245,0)","v":{"$error":"#REF!"}},{"$f":"#REF!","v":{"$error":"#REF!"}},{"$f":"#REF!","v":{"$error":"#REF!"}},{"$f":"#REF!","v":{"$error":"#REF!"}},{"$f":"#REF!","v":{"$error":"#REF!"}},null,{"$f":"RANK(K196,$K$126:$K245,0)","v":{"$error":"#REF!"}},{"$f":"#REF!","v":{"$error":"#REF!"}},{"$f":"#REF!","v":{"$error":"#REF!"}},{"$f":"#REF!","v":{"$error":"#REF!"}},{"$f":"#REF!","v":{"$error":"#REF!"}}]
[{"$f":"RANK(E197,$E$126:$E245,0)","v":{"$error":"#REF!"}},{"$f":"#REF!","v":{"$error":"#REF!"}},{"$f":"#REF!","v":{"$error":"#REF!"}},{"$f":"#REF!","v":{"$error":"#REF!"}},{"$f":"#REF!","v":{"$error":"#REF!"}},null,{"$f":"RANK(K197,$K$126:$K245,0)","v":{"$error":"#REF!"}},{"$f":"#REF!","v":{"$error":"#REF!"}},{"$f":"#REF!","v":{"$error":"#REF!"}},{"$f":"#REF!","v":{"$error":"#REF!"}},{"$f":"#REF!","v":{"$error":"#REF!"}}]
[{"$f":"RANK(E198,$E$126:$E245,0)","v":{"$error":"#REF!"}},{"$f":"#REF!","v":{"$error":"#REF!"}},{"$f":"#REF!","v":{"$error":"#REF!"}},{"$f":"#REF!","v":{"$error":"#REF!"}},{"$f":"#REF!","v":{"$error":"#REF!"}},null,{"$f":"RANK(K198,$K$126:$K245,0)","v":{"$error":"#REF!"}},{"$f":"#REF!","v":{"$error":"#REF!"}},{"$f":"#REF!","v":{"$error":"#REF!"}},{"$f":"#REF!","v":{"$error":"#REF!"}},{"$f":"#REF!","v":{"$error":"#REF!"}}]
[{"$f":"RANK(E199,$E$126:$E245,0)","v":{"$error":"#REF!"}},{"$f":"#REF!","v":{"$error":"#REF!"}},{"$f":"#REF!","v":{"$error":"#REF!"}},{"$f":"#REF!","v":{"$error":"#REF!"}},{"$f":"#REF!","v":{"$error":"#REF!"}},null,{"$f":"RANK(K199,$K$126:$K245,0)","v":{"$error":"#REF!"}},{"$f":"#REF!","v":{"$error":"#REF!"}},{"$f":"#REF!","v":{"$error":"#REF!"}},{"$f":"#REF!","v":{"$error":"#REF!"}},{"$f":"#REF!","v":{"$error":"#REF!"}}]
[{"$f":"RANK(E200,$E$126:$E245,0)","v":{"$error":"#REF!"}},{"$f":"#REF!","v":{"$error":"#REF!"}},{"$f":"#REF!","v":{"$error":"#REF!"}},{"$f":"#REF!","v":{"$error":"#REF!"}},{"$f":"#REF!","v":{"$error":"#REF!"}},null,{"$f":"RANK(K200,$K$126:$K245,0)","v":{"$error":"#REF!"}},{"$f":"#REF!","v":{"$error":"#REF!"}},{"$f":"#REF!","v":{"$error":"#REF!"}},{"$f":"#REF!","v":{"$error":"#REF!"}},{"$f":"#REF!","v":{"$error":"#REF!"}}]
[{"$f":"RANK(E201,$E$126:$E245,0)","v":{"$error":"#REF!"}},{"$f":"#REF!","v":{"$error":"#REF!"}},{"$f":"#REF!","v":{"$error":"#REF!"}},{"$f":"#REF!","v":{"$error":"#REF!"}},{"$f":"#REF!","v":{"$error":"#REF!"}},null,{"$f":"RANK(K201,$K$126:$K245,0)","v":{"$error":"#REF!"}},{"$f":"#REF!","v":{"$error":"#REF!"}},{"$f":"#REF!","v":{"$error":"#REF!"}},{"$f":"#REF!","v":{"$error":"#REF!"}},{"$f":"#REF!","v":{"$error":"#REF!"}}]
[{"$f":"RANK(E202,$E$126:$E245,0)","v":{"$error":"#REF!"}},{"$f":"#REF!","v":{"$error":"#REF!"}},{"$f":"#REF!","v":{"$error":"#REF!"}},{"$f":"#REF!","v":{"$error":"#REF!"}},{"$f":"#REF!","v":{"$error":"#REF!"}},null,{"$f":"RANK(K202,$K$126:$K245,0)","v":{"$error":"#REF!"}},{"$f":"#REF!","v":{"$error":"#REF!"}},{"$f":"#REF!","v":{"$error":"#REF!"}},{"$f":"#REF!","v":{"$error":"#REF!"}},{"$f":"#REF!","v":{"$error":"#REF!"}}]
[{"$f":"RANK(E203,$E$126:$E245,0)","v":{"$error":"#REF!"}},{"$f":"#REF!","v":{"$error":"#REF!"}},{"$f":"#REF!","v":{"$error":"#REF!"}},{"$f":"#REF!","v":{"$error":"#REF!"}},{"$f":"#REF!","v":{"$error":"#REF!"}},null,{"$f":"RANK(K203,$K$126:$K245,0)","v":{"$error":"#REF!"}},{"$f":"#REF!","v":{"$error":"#REF!"}},{"$f":"#REF!","v":{"$error":"#REF!"}},{"$f":"#REF!","v":{"$error":"#REF!"}},{"$f":"#REF!","v":{"$error":"#REF!"}}]
[{"$f":"RANK(E204,$E$126:$E245,0)","v":{"$error":"#REF!"}},{"$f":"#REF!","v":{"$error":"#REF!"}},{"$f":"#REF!","v":{"$error":"#REF!"}},{"$f":"#REF!","v":{"$error":"#REF!"}},{"$f":"#REF!","v":{"$error":"#REF!"}},null,{"$f":"RANK(K204,$K$126:$K245,0)","v":{"$error":"#REF!"}},{"$f":"#REF!","v":{"$error":"#REF!"}},{"$f":"#REF!","v":{"$error":"#REF!"}},{"$f":"#REF!","v":{"$error":"#REF!"}},{"$f":"#REF!","v":{"$error":"#REF!"}}]
[{"$f":"RANK(E205,$E$126:$E245,0)","v":{"$error":"#REF!"}},{"$f":"#REF!","v":{"$error":"#REF!"}},{"$f":"#REF!","v":{"$error":"#REF!"}},{"$f":"#REF!","v":{"$error":"#REF!"}},{"$f":"#REF!","v":{"$error":"#REF!"}},null,{"$f":"RANK(K205,$K$126:$K245,0)","v":{"$error":"#REF!"}},{"$f":"#REF!","v":{"$error":"#REF!"}},{"$f":"#REF!","v":{"$error":"#REF!"}},{"$f":"#REF!","v":{"$error":"#REF!"}},{"$f":"#REF!","v":{"$error":"#REF!"}}]
[{"$f":"RANK(E206,$E$126:$E245,0)","v":{"$error":"#REF!"}},{"$f":"#REF!","v":{"$error":"#REF!"}},{"$f":"#REF!","v":{"$error":"#REF!"}},{"$f":"#REF!","v":{"$error":"#REF!"}},{"$f":"#REF!","v":{"$error":"#REF!"}},null,{"$f":"RANK(K206,$K$126:$K245,0)","v":{"$error":"#REF!"}},{"$f":"#REF!","v":{"$error":"#REF!"}},{"$f":"#REF!","v":{"$error":"#REF!"}},{"$f":"#REF!","v":{"$error":"#REF!"}},{"$f":"#REF!","v":{"$error":"#REF!"}}]
[{"$f":"RANK(E207,$E$126:$E245,0)","v":{"$error":"#REF!"}},{"$f":"#REF!","v":{"$error":"#REF!"}},{"$f":"#REF!","v":{"$error":"#REF!"}},{"$f":"#REF!","v":{"$error":"#REF!"}},{"$f":"#REF!","v":{"$error":"#REF!"}},null,{"$f":"RANK(K207,$K$126:$K245,0)","v":{"$error":"#REF!"}},{"$f":"#REF!","v":{"$error":"#REF!"}},{"$f":"#REF!","v":{"$error":"#REF!"}},{"$f":"#REF!","v":{"$error":"#REF!"}},{"$f":"#REF!","v":{"$error":"#REF!"}}]
[{"$f":"RANK(E208,$E$126:$E245,0)","v":{"$error":"#REF!"}},{"$f":"#REF!","v":{"$error":"#REF!"}},{"$f":"#REF!","v":{"$error":"#REF!"}},{"$f":"#REF!","v":{"$error":"#REF!"}},{"$f":"#REF!","v":{"$error":"#REF!"}},null,{"$f":"RANK(K208,$K$126:$K245,0)","v":{"$error":"#REF!"}},{"$f":"#REF!","v":{"$error":"#REF!"}},{"$f":"#REF!","v":{"$error":"#REF!"}},{"$f":"#REF!","v":{"$error":"#REF!"}},{"$f":"#REF!","v":{"$error":"#REF!"}}]
[{"$f":"RANK(E209,$E$126:$E245,0)","v":{"$error":"#REF!"}},{"$f":"#REF!","v":{"$error":"#REF!"}},{"$f":"#REF!","v":{"$error":"#REF!"}},{"$f":"#REF!","v":{"$error":"#REF!"}},{"$f":"#REF!","v":{"$error":"#REF!"}},null,{"$f":"RANK(K209,$K$126:$K245,0)","v":{"$error":"#REF!"}},{"$f":"#REF!","v":{"$error":"#REF!"}},{"$f":"#REF!","v":{"$error":"#REF!"}},{"$f":"#REF!","v":{"$error":"#REF!"}},{"$f":"#REF!","v":{"$error":"#REF!"}}]
[{"$f":"RANK(E210,$E$126:$E245,0)","v":{"$error":"#REF!"}},{"$f":"#REF!","v":{"$error":"#REF!"}},{"$f":"#REF!","v":{"$error":"#REF!"}},{"$f":"#REF!","v":{"$error":"#REF!"}},{"$f":"#REF!","v":{"$error":"#REF!"}},null,{"$f":"RANK(K210,$K$126:$K245,0)","v":{"$error":"#REF!"}},{"$f":"#REF!","v":{"$error":"#REF!"}},{"$f":"#REF!","v":{"$error":"#REF!"}},{"$f":"#REF!","v":{"$error":"#REF!"}},{"$f":"#REF!","v":{"$error":"#REF!"}}]
[{"$f":"RANK(E211,$E$126:$E245,0)","v":{"$error":"#REF!"}},{"$f":"#REF!","v":{"$error":"#REF!"}},{"$f":"#REF!","v":{"$error":"#REF!"}},{"$f":"#REF!","v":{"$error":"#REF!"}},{"$f":"#REF!","v":{"$error":"#REF!"}},null,{"$f":"RANK(K211,$K$126:$K245,0)","v":{"$error":"#REF!"}},{"$f":"#REF!","v":{"$error":"#REF!"}},{"$f":"#REF!","v":{"$error":"#REF!"}},{"$f":"#REF!","v":{"$error":"#REF!"}},{"$f":"#REF!","v":{"$error":"#REF!"}}]
[{"$f":"RANK(E212,$E$126:$E245,0)","v":{"$error":"#REF!"}},{"$f":"#REF!","v":{"$error":"#REF!"}},{"$f":"#REF!","v":{"$error":"#REF!"}},{"$f":"#REF!","v":{"$error":"#REF!"}},{"$f":"#REF!","v":{"$error":"#REF!"}},null,{"$f":"RANK(K212,$K$126:$K245,0)","v":{"$error":"#REF!"}},{"$f":"#REF!","v":{"$error":"#REF!"}},{"$f":"#REF!","v":{"$error":"#REF!"}},{"$f":"#REF!","v":{"$error":"#REF!"}},{"$f":"#REF!","v":{"$error":"#REF!"}}]
[{"$f":"RANK(E213,$E$126:$E245,0)","v":{"$error":"#REF!"}},{"$f":"#REF!","v":{"$error":"#REF!"}},{"$f":"#REF!","v":{"$error":"#REF!"}},{"$f":"#REF!","v":{"$error":"#REF!"}},{"$f":"#REF!","v":{"$error":"#REF!"}},null,{"$f":"RANK(K213,$K$126:$K245,0)","v":{"$error":"#REF!"}},{"$f":"#REF!","v":{"$error":"#REF!"}},{"$f":"#REF!","v":{"$error":"#REF!"}},{"$f":"#REF!","v":{"$error":"#REF!"}},{"$f":"#REF!","v":{"$error":"#REF!"}}]
[{"$f":"RANK(E214,$E$126:$E245,0)","v":{"$error":"#REF!"}},{"$f":"#REF!","v":{"$error":"#REF!"}},{"$f":"#REF!","v":{"$error":"#REF!"}},{"$f":"#REF!","v":{"$error":"#REF!"}},{"$f":"#REF!","v":{"$error":"#REF!"}},null,{"$f":"RANK(K214,$K$126:$K245,0)","v":{"$error":"#REF!"}},{"$f":"#REF!","v":{"$error":"#REF!"}},{"$f":"#REF!","v":{"$error":"#REF!"}},{"$f":"#REF!","v":{"$error":"#REF!"}},{"$f":"#REF!","v":{"$error":"#REF!"}}]
[{"$f":"RANK(E215,$E$126:$E245,0)","v":{"$error":"#REF!"}},{"$f":"#REF!","v":{"$error":"#REF!"}},{"$f":"#REF!","v":{"$error":"#REF!"}},{"$f":"#REF!","v":{"$error":"#REF!"}},{"$f":"#REF!","v":{"$error":"#REF!"}},null,{"$f":"RANK(K215,$K$126:$K245,0)","v":{"$error":"#REF!"}},{"$f":"#REF!","v":{"$error":"#REF!"}},{"$f":"#REF!","v":{"$error":"#REF!"}},{"$f":"#REF!","v":{"$error":"#REF!"}},{"$f":"#REF!","v":{"$error":"#REF!"}}]
[{"$f":"RANK(E216,$E$126:$E245,0)","v":{"$error":"#REF!"}},{"$f":"#REF!","v":{"$error":"#REF!"}},{"$f":"#REF!","v":{"$error":"#REF!"}},{"$f":"#REF!","v":{"$error":"#REF!"}},{"$f":"#REF!","v":{"$error":"#REF!"}},null,{"$f":"RANK(K216,$K$126:$K245,0)","v":{"$error":"#REF!"}},{"$f":"#REF!","v":{"$error":"#REF!"}},{"$f":"#REF!","v":{"$error":"#REF!"}},{"$f":"#REF!","v":{"$error":"#REF!"}},{"$f":"#REF!","v":{"$error":"#REF!"}}]
[{"$f":"RANK(E217,$E$126:$E245,0)","v":{"$error":"#REF!"}},{"$f":"#REF!","v":{"$error":"#REF!"}},{"$f":"#REF!","v":{"$error":"#REF!"}},{"$f":"#REF!","v":{"$error":"#REF!"}},{"$f":"#REF!","v":{"$error":"#REF!"}},null,{"$f":"RANK(K217,$K$126:$K245,0)","v":{"$error":"#REF!"}},{"$f":"#REF!","v":{"$error":"#REF!"}},{"$f":"#REF!","v":{"$error":"#REF!"}},{"$f":"#REF!","v":{"$error":"#REF!"}},{"$f":"#REF!","v":{"$error":"#REF!"}}]
[{"$f":"RANK(E218,$E$126:$E245,0)","v":{"$error":"#REF!"}},{"$f":"#REF!","v":{"$error":"#REF!"}},{"$f":"#REF!","v":{"$error":"#REF!"}},{"$f":"#REF!","v":{"$error":"#REF!"}},{"$f":"#REF!","v":{"$error":"#REF!"}},null,{"$f":"RANK(K218,$K$126:$K245,0)","v":{"$error":"#REF!"}},{"$f":"#REF!","v":{"$error":"#REF!"}},{"$f":"#REF!","v":{"$error":"#REF!"}},{"$f":"#REF!","v":{"$error":"#REF!"}},{"$f":"#REF!","v":{"$error":"#REF!"}}]
[{"$f":"RANK(E219,$E$126:$E245,0)","v":{"$error":"#REF!"}},{"$f":"#REF!","v":{"$error":"#REF!"}},{"$f":"#REF!","v":{"$error":"#REF!"}},{"$f":"#REF!","v":{"$error":"#REF!"}},{"$f":"#REF!","v":{"$error":"#REF!"}},null,{"$f":"RANK(K219,$K$126:$K245,0)","v":{"$error":"#REF!"}},{"$f":"#REF!","v":{"$error":"#REF!"}},{"$f":"#REF!","v":{"$error":"#REF!"}},{"$f":"#REF!","v":{"$error":"#REF!"}},{"$f":"#REF!","v":{"$error":"#REF!"}}]
[{"$f":"RANK(E220,$E$126:$E245,0)","v":{"$error":"#REF!"}},{"$f":"#REF!","v":{"$error":"#REF!"}},{"$f":"#REF!","v":{"$error":"#REF!"}},{"$f":"#REF!","v":{"$error":"#REF!"}},{"$f":"#REF!","v":{"$error":"#REF!"}},null,{"$f":"RANK(K220,$K$126:$K245,0)","v":{"$error":"#REF!"}},{"$f":"#REF!","v":{"$error":"#REF!"}},{"$f":"#REF!","v":{"$error":"#REF!"}},{"$f":"#REF!","v":{"$error":"#REF!"}},{"$f":"#REF!","v":{"$error":"#REF!"}}]
[{"$f":"RANK(E221,$E$126:$E245,0)","v":{"$error":"#REF!"}},{"$f":"#REF!","v":{"$error":"#REF!"}},{"$f":"#REF!","v":{"$error":"#REF!"}},{"$f":"#REF!","v":{"$error":"#REF!"}},{"$f":"#REF!","v":{"$error":"#REF!"}},null,{"$f":"RANK(K221,$K$126:$K245,0)","v":{"$error":"#REF!"}},{"$f":"#REF!","v":{"$error":"#REF!"}},{"$f":"#REF!","v":{"$error":"#REF!"}},{"$f":"#REF!","v":{"$error":"#REF!"}},{"$f":"#REF!","v":{"$error":"#REF!"}}]
[{"$f":"RANK(E222,$E$126:$E245,0)","v":{"$error":"#REF!"}},{"$f":"#REF!","v":{"$error":"#REF!"}},{"$f":"#REF!","v":{"$error":"#REF!"}},{"$f":"#REF!","v":{"$error":"#REF!"}},{"$f":"#REF!","v":{"$error":"#REF!"}},null,{"$f":"RANK(K222,$K$126:$K245,0)","v":{"$error":"#REF!"}},{"$f":"#REF!","v":{"$error":"#REF!"}},{"$f":"#REF!","v":{"$error":"#REF!"}},{"$f":"#REF!","v":{"$error":"#REF!"}},{"$f":"#REF!","v":{"$error":"#REF!"}}]
[{"$f":"RANK(E223,$E$126:$E245,0)","v":{"$error":"#REF!"}},{"$f":"#REF!","v":{"$error":"#REF!"}},{"$f":"#REF!","v":{"$error":"#REF!"}},{"$f":"#REF!","v":{"$error":"#REF!"}},{"$f":"#REF!","v":{"$error":"#REF!"}},null,{"$f":"RANK(K223,$K$126:$K245,0)","v":{"$error":"#REF!"}},{"$f":"#REF!","v":{"$error":"#REF!"}},{"$f":"#REF!","v":{"$error":"#REF!"}},{"$f":"#REF!","v":{"$error":"#REF!"}},{"$f":"#REF!","v":{"$error":"#REF!"}}]
[{"$f":"RANK(E224,$E$126:$E245,0)","v":{"$error":"#REF!"}},{"$f":"#REF!","v":{"$error":"#REF!"}},{"$f":"#REF!","v":{"$error":"#REF!"}},{"$f":"#REF!","v":{"$error":"#REF!"}},{"$f":"#REF!","v":{"$error":"#REF!"}},null,{"$f":"RANK(K224,$K$126:$K245,0)","v":{"$error":"#REF!"}},{"$f":"#REF!","v":{"$error":"#REF!"}},{"$f":"#REF!","v":{"$error":"#REF!"}},{"$f":"#REF!","v":{"$error":"#REF!"}},{"$f":"#REF!","v":{"$error":"#REF!"}}]
[{"$f":"RANK(E225,$E$126:$E245,0)","v":{"$error":"#REF!"}},{"$f":"#REF!","v":{"$error":"#REF!"}},{"$f":"#REF!","v":{"$error":"#REF!"}},{"$f":"#REF!","v":{"$error":"#REF!"}},{"$f":"#REF!","v":{"$error":"#REF!"}},null,{"$f":"RANK(K225,$K$126:$K245,0)","v":{"$error":"#REF!"}},{"$f":"#REF!","v":{"$error":"#REF!"}},{"$f":"#REF!","v":{"$error":"#REF!"}},{"$f":"#REF!","v":{"$error":"#REF!"}},{"$f":"#REF!","v":{"$error":"#REF!"}}]
[{"$f":"RANK(E226,$E$126:$E245,0)","v":{"$error":"#REF!"}},{"$f":"#REF!","v":{"$error":"#REF!"}},{"$f":"#REF!","v":{"$error":"#REF!"}},{"$f":"#REF!","v":{"$error":"#REF!"}},{"$f":"#REF!","v":{"$error":"#REF!"}},null,{"$f":"RANK(K226,$K$126:$K245,0)","v":{"$error":"#REF!"}},{"$f":"#REF!","v":{"$error":"#REF!"}},{"$f":"#REF!","v":{"$error":"#REF!"}},{"$f":"#REF!","v":{"$error":"#REF!"}},{"$f":"#REF!","v":{"$error":"#REF!"}}]
[{"$f":"RANK(E227,$E$126:$E245,0)","v":{"$error":"#REF!"}},{"$f":"#REF!","v":{"$error":"#REF!"}},{"$f":"#REF!","v":{"$error":"#REF!"}},{"$f":"#REF!","v":{"$error":"#REF!"}},{"$f":"#REF!","v":{"$error":"#REF!"}},null,{"$f":"RANK(K227,$K$126:$K245,0)","v":{"$error":"#REF!"}},{"$f":"#REF!","v":{"$error":"#REF!"}},{"$f":"#REF!","v":{"$error":"#REF!"}},{"$f":"#REF!","v":{"$error":"#REF!"}},{"$f":"#REF!","v":{"$error":"#REF!"}}]
[{"$f":"RANK(E228,$E$126:$E245,0)","v":{"$error":"#REF!"}},{"$f":"#REF!","v":{"$error":"#REF!"}},{"$f":"#REF!","v":{"$error":"#REF!"}},{"$f":"#REF!","v":{"$error":"#REF!"}},{"$f":"#REF!","v":{"$error":"#REF!"}},null,{"$f":"RANK(K228,$K$126:$K245,0)","v":{"$error":"#REF!"}},{"$f":"#REF!","v":{"$error":"#REF!"}},{"$f":"#REF!","v":{"$error":"#REF!"}},{"$f":"#REF!","v":{"$error":"#REF!"}},{"$f":"#REF!","v":{"$error":"#REF!"}}]
[{"$f":"RANK(E229,$E$126:$E245,0)","v":{"$error":"#REF!"}},{"$f":"#REF!","v":{"$error":"#REF!"}},{"$f":"#REF!","v":{"$error":"#REF!"}},{"$f":"#REF!","v":{"$error":"#REF!"}},{"$f":"#REF!","v":{"$error":"#REF!"}},null,{"$f":"RANK(K229,$K$126:$K245,0)","v":{"$error":"#REF!"}},{"$f":"#REF!","v":{"$error":"#REF!"}},{"$f":"#REF!","v":{"$error":"#REF!"}},{"$f":"#REF!","v":{"$error":"#REF!"}},{"$f":"#REF!","v":{"$error":"#REF!"}}]
[{"$f":"RANK(E230,$E$126:$E245,0)","v":{"$error":"#REF!"}},{"$f":"#REF!","v":{"$error":"#REF!"}},{"$f":"#REF!","v":{"$error":"#REF!"}},{"$f":"#REF!","v":{"$error":"#REF!"}},{"$f":"#REF!","v":{"$error":"#REF!"}},null,{"$f":"RANK(K230,$K$126:$K245,0)","v":{"$error":"#REF!"}},{"$f":"#REF!","v":{"$error":"#REF!"}},{"$f":"#REF!","v":{"$error":"#REF!"}},{"$f":"#REF!","v":{"$error":"#REF!"}},{"$f":"#REF!","v":{"$error":"#REF!"}}]
[{"$f":"RANK(E231,$E$126:$E245,0)","v":{"$error":"#REF!"}},{"$f":"#REF!","v":{"$error":"#REF!"}},{"$f":"#REF!","v":{"$error":"#REF!"}},{"$f":"#REF!","v":{"$error":"#REF!"}},{"$f":"#REF!","v":{"$error":"#REF!"}},null,{"$f":"RANK(K231,$K$126:$K245,0)","v":{"$error":"#REF!"}},{"$f":"#REF!","v":{"$error":"#REF!"}},{"$f":"#REF!","v":{"$error":"#REF!"}},{"$f":"#REF!","v":{"$error":"#REF!"}},{"$f":"#REF!","v":{"$error":"#REF!"}}]
[{"$f":"RANK(E232,$E$126:$E245,0)","v":{"$error":"#REF!"}},{"$f":"#REF!","v":{"$error":"#REF!"}},{"$f":"#REF!","v":{"$error":"#REF!"}},{"$f":"#REF!","v":{"$error":"#REF!"}},{"$f":"#REF!","v":{"$error":"#REF!"}},null,{"$f":"RANK(K232,$K$126:$K245,0)","v":{"$error":"#REF!"}},{"$f":"#REF!","v":{"$error":"#REF!"}},{"$f":"#REF!","v":{"$error":"#REF!"}},{"$f":"#REF!","v":{"$error":"#REF!"}},{"$f":"#REF!","v":{"$error":"#REF!"}}]
[{"$f":"RANK(E233,$E$126:$E245,0)","v":{"$error":"#REF!"}},{"$f":"#REF!","v":{"$error":"#REF!"}},{"$f":"#REF!","v":{"$error":"#REF!"}},{"$f":"#REF!","v":{"$error":"#REF!"}},{"$f":"#REF!","v":{"$error":"#REF!"}},null,{"$f":"RANK(K233,$K$126:$K245,0)","v":{"$error":"#REF!"}},{"$f":"#REF!","v":{"$error":"#REF!"}},{"$f":"#REF!","v":{"$error":"#REF!"}},{"$f":"#REF!","v":{"$error":"#REF!"}},{"$f":"#REF!","v":{"$error":"#REF!"}}]
[{"$f":"RANK(E234,$E$126:$E245,0)","v":{"$error":"#REF!"}},{"$f":"#REF!","v":{"$error":"#REF!"}},{"$f":"#REF!","v":{"$error":"#REF!"}},{"$f":"#REF!","v":{"$error":"#REF!"}},{"$f":"#REF!","v":{"$error":"#REF!"}},null,{"$f":"RANK(K234,$K$126:$K245,0)","v":{"$error":"#REF!"}},{"$f":"#REF!","v":{"$error":"#REF!"}},{"$f":"#REF!","v":{"$error":"#REF!"}},{"$f":"#REF!","v":{"$error":"#REF!"}},{"$f":"#REF!","v":{"$error":"#REF!"}}]
[{"$f":"RANK(E235,$E$126:$E245,0)","v":{"$error":"#REF!"}},{"$f":"#REF!","v":{"$error":"#REF!"}},{"$f":"#REF!","v":{"$error":"#REF!"}},{"$f":"#REF!","v":{"$error":"#REF!"}},{"$f":"#REF!","v":{"$error":"#REF!"}},null,{"$f":"RANK(K235,$K$126:$K245,0)","v":{"$error":"#REF!"}},{"$f":"#REF!","v":{"$error":"#REF!"}},{"$f":"#REF!","v":{"$error":"#REF!"}},{"$f":"#REF!","v":{"$error":"#REF!"}},{"$f":"#REF!","v":{"$error":"#REF!"}}]
[{"$f":"RANK(E236,$E$126:$E245,0)","v":{"$error":"#REF!"}},{"$f":"#REF!","v":{"$error":"#REF!"}},{"$f":"#REF!","v":{"$error":"#REF!"}},{"$f":"#REF!","v":{"$error":"#REF!"}},{"$f":"#REF!","v":{"$error":"#REF!"}},null,{"$f":"RANK(K236,$K$126:$K245,0)","v":{"$error":"#REF!"}},{"$f":"#REF!","v":{"$error":"#REF!"}},{"$f":"#REF!","v":{"$error":"#REF!"}},{"$f":"#REF!","v":{"$error":"#REF!"}},{"$f":"#REF!","v":{"$error":"#REF!"}}]
[{"$f":"RANK(E237,$E$126:$E245,0)","v":{"$error":"#REF!"}},{"$f":"#REF!","v":{"$error":"#REF!"}},{"$f":"#REF!","v":{"$error":"#REF!"}},{"$f":"#REF!","v":{"$error":"#REF!"}},{"$f":"#REF!","v":{"$error":"#REF!"}},null,{"$f":"RANK(K237,$K$126:$K245,0)","v":{"$error":"#REF!"}},{"$f":"#REF!","v":{"$error":"#REF!"}},{"$f":"#REF!","v":{"$error":"#REF!"}},{"$f":"#REF!","v":{"$error":"#REF!"}},{"$f":"#REF!","v":{"$error":"#REF!"}}]
[{"$f":"RANK(E238,$E$126:$E245,0)","v":{"$error":"#REF!"}},{"$f":"#REF!","v":{"$error":"#REF!"}},{"$f":"#REF!","v":{"$error":"#REF!"}},{"$f":"#REF!","v":{"$error":"#REF!"}},{"$f":"#REF!","v":{"$error":"#REF!"}},null,{"$f":"RANK(K238,$K$126:$K245,0)","v":{"$error":"#REF!"}},{"$f":"#REF!","v":{"$error":"#REF!"}},{"$f":"#REF!","v":{"$error":"#REF!"}},{"$f":"#REF!","v":{"$error":"#REF!"}},{"$f":"#REF!","v":{"$error":"#REF!"}}]
[{"$f":"RANK(E239,$E$126:$E245,0)","v":{"$error":"#REF!"}},{"$f":"#REF!","v":{"$error":"#REF!"}},{"$f":"#REF!","v":{"$error":"#REF!"}},{"$f":"#REF!","v":{"$error":"#REF!"}},{"$f":"#REF!","v":{"$error":"#REF!"}},null,{"$f":"RANK(K239,$K$126:$K245,0)","v":{"$error":"#REF!"}},{"$f":"#REF!","v":{"$error":"#REF!"}},{"$f":"#REF!","v":{"$error":"#REF!"}},{"$f":"#REF!","v":{"$error":"#REF!"}},{"$f":"#REF!","v":{"$error":"#REF!"}}]
[{"$f":"RANK(E240,$E$126:$E245,0)","v":{"$error":"#REF!"}},{"$f":"#REF!","v":{"$error":"#REF!"}},{"$f":"#REF!","v":{"$error":"#REF!"}},{"$f":"#REF!","v":{"$error":"#REF!"}},{"$f":"#REF!","v":{"$error":"#REF!"}},null,{"$f":"RANK(K240,$K$126:$K245,0)","v":{"$error":"#REF!"}},{"$f":"#REF!","v":{"$error":"#REF!"}},{"$f":"#REF!","v":{"$error":"#REF!"}},{"$f":"#REF!","v":{"$error":"#REF!"}},{"$f":"#REF!","v":{"$error":"#REF!"}}]
[{"$f":"RANK(E241,$E$126:$E245,0)","v":{"$error":"#REF!"}},{"$f":"#REF!","v":{"$error":"#REF!"}},{"$f":"#REF!","v":{"$error":"#REF!"}},{"$f":"#REF!","v":{"$error":"#REF!"}},{"$f":"#REF!","v":{"$error":"#REF!"}},null,{"$f":"RANK(K241,$K$126:$K245,0)","v":{"$error":"#REF!"}},{"$f":"#REF!","v":{"$error":"#REF!"}},{"$f":"#REF!","v":{"$error":"#REF!"}},{"$f":"#REF!","v":{"$error":"#REF!"}},{"$f":"#REF!","v":{"$error":"#REF!"}}]
[{"$f":"RANK(E242,$E$126:$E245,0)","v":{"$error":"#REF!"}},{"$f":"#REF!","v":{"$error":"#REF!"}},{"$f":"#REF!","v":{"$error":"#REF!"}},{"$f":"#REF!","v":{"$error":"#REF!"}},{"$f":"#REF!","v":{"$error":"#REF!"}},null,{"$f":"RANK(K242,$K$126:$K245,0)","v":{"$error":"#REF!"}},{"$f":"#REF!","v":{"$error":"#REF!"}},{"$f":"#REF!","v":{"$error":"#REF!"}},{"$f":"#REF!","v":{"$error":"#REF!"}},{"$f":"#REF!","v":{"$error":"#REF!"}}]
[{"$f":"RANK(E243,$E$126:$E245,0)","v":{"$error":"#REF!"}},{"$f":"#REF!","v":{"$error":"#REF!"}},{"$f":"#REF!","v":{"$error":"#REF!"}},{"$f":"#REF!","v":{"$error":"#REF!"}},{"$f":"#REF!","v":{"$error":"#REF!"}},null,{"$f":"RANK(K243,$K$126:$K245,0)","v":{"$error":"#REF!"}},{"$f":"#REF!","v":{"$error":"#REF!"}},{"$f":"#REF!","v":{"$error":"#REF!"}},{"$f":"#REF!","v":{"$error":"#REF!"}},{"$f":"#REF!","v":{"$error":"#REF!"}}]
[{"$f":"RANK(E244,$E$126:$E245,0)","v":{"$error":"#REF!"}},{"$f":"#REF!","v":{"$error":"#REF!"}},{"$f":"#REF!","v":{"$error":"#REF!"}},{"$f":"#REF!","v":{"$error":"#REF!"}},{"$f":"#REF!","v":{"$error":"#REF!"}},null,{"$f":"RANK(K244,$K$126:$K245,0)","v":{"$error":"#REF!"}},{"$f":"#REF!","v":{"$error":"#REF!"}},{"$f":"#REF!","v":{"$error":"#REF!"}},{"$f":"#REF!","v":{"$error":"#REF!"}},{"$f":"#REF!","v":{"$error":"#REF!"}}]
[{"$f":"RANK(E245,$E$126:$E245,0)","v":{"$error":"#REF!"}},{"$f":"#REF!","v":{"$error":"#REF!"}},{"$f":"#REF!","v":{"$error":"#REF!"}},{"$f":"#REF!","v":{"$error":"#REF!"}},{"$f":"#REF!","v":{"$error":"#REF!"}},null,{"$f":"RANK(K245,$K$126:$K245,0)","v":{"$error":"#REF!"}},{"$f":"#REF!","v":{"$error":"#REF!"}},{"$f":"#REF!","v":{"$error":"#REF!"}},{"$f":"#REF!","v":{"$error":"#REF!"}},{"$f":"#REF!","v":{"$error":"#REF!"}}]
["Einzelwertung Kugel Weiblich",null,{"$f":"#REF!","v":{"$error":"#REF!"}},{"$f":"#REF!","v":{"$error":"#REF!"}},null,null,"Einzelwertung Kugel Männlich",null,{"$f":"#REF!","v":{"$error":"#REF!"}},{"$f":"#REF!","v":{"$error":"#REF!"}}]

{"sheet":"Ez-Weit","index":15,"n_rows":246,"n_cols":11,"rows_kept":246,"cut":false,"hidden":false,"merged":[[245,3,245,4],[122,3,122,4],[245,9,245,10],[122,9,122,10],[245,0,245,1],[245,6,245,7],[122,6,122,7],[0,9,0,10],[123,0,123,1],[123,3,123,4],[123,6,123,7],[123,9,123,10],[122,0,122,1],[0,0,0,1],[0,3,0,4],[0,6,0,7]]}
["Einzelwertung Weit",null,{"$f":"'w-E_R'!C1","v":"D-C/Regel-Schulen"},{"$f":"'w-E_R'!E1","v":"Ortsangabe,Datum"},null,null,"Einzelwertung Weit",null,{"$f":"#REF!","v":{"$error":"#REF!"}},{"$f":"#REF!","v":{"$error":"#REF!"}}]
["Rang","WEIBLICH","Schule:","Leistung","Punkte",null,"Rang","MÄNNLICH","Schule:","Leistung","Punkte"]
[{"$f":"RANK(E3,$E$3:$E$122,0)","v":1},{"$f":"'w-E_R'!B15","v":"Riegler Vanessa"},{"$f":"'w-E_R'!D15","v":"Borg Wolfsberg"},{"$f":"'w-E_R'!L15","v":5.25},{"$f":"'w-E_R'!M15","v":761},null,{"$f":"RANK(K3,$K$3:$K$122,0)","v":{"$error":"#REF!"}},{"$f":"#REF!","v":{"$error":"#REF!"}},{"$f":"#REF!","v":{"$error":"#REF!"}},{"$f":"#REF!","v":{"$error":"#REF!"}},{"$f":"#REF!","v":{"$error":"#REF!"}}]
[2,{"$f":"'w-E_R'!B22","v":"Thaler Laurentine"},{"$f":"'w-E_R'!D22","v":"BRG Spittal"},{"$f":"'w-E_R'!L22","v":5.19},{"$f":"'w-E_R'!M22","v":747},null,{"$error":"#REF!"},{"$f":"#REF!","v":{"$error":"#REF!"}},{"$f":"#REF!","v":{"$error":"#REF!"}},{"$f":"#REF!","v":{"$error":"#REF!"}},{"$f":"#REF!","v":{"$error":"#REF!"}}]
[3,{"$f":"'w-E_R'!B34","v":"Schmaranz Sophie"},{"$f":"'w-E_R'!D34","v":"Ingeborg Bachmann Gymnasium"},{"$f":"'w-E_R'!L34","v":5.07},{"$f":"'w-E_R'!M34","v":721},null,{"$error":"#REF!"},{"$f":"#REF!","v":{"$error":"#REF!"}},{"$f":"#REF!","v":{"$error":"#REF!"}},{"$f":"#REF!","v":{"$error":"#REF!"}},{"$f":"#REF!","v":{"$error":"#REF!"}}]
[4,{"$f":"'w-E_R'!B14","v":"Pum Julia"},{"$f":"'w-E_R'!D14","v":"Borg Wolfsberg"},{"$f":"'w-E_R'!L14","v":5},{"$f":"'w-E_R'!M14","v":706},null,{"$error":"#REF!"},{"$f":"#REF!","v":{"$error":"#REF!"}},{"$f":"#REF!","v":{"$error":"#REF!"}},{"$f":"#REF!","v":{"$error":"#REF!"}},{"$f":"#REF!","v":{"$error":"#REF!"}}]
[5,{"$f":"'w-E_R'!B21","v":"Possegger Christina"},{"$f":"'w-E_R'!D21","v":"BRG Spittal"},{"$f":"'w-E_R'!L21","v":4.8899999999999997},{"$f":"'w-E_R'!M21","v":681},null,{"$error":"#REF!"},{"$f":"#REF!","v":{"$error":"#REF!"}},{"$f":"#REF!","v":{"$error":"#REF!"}},{"$f":"#REF!","v":{"$error":"#REF!"}},{"$f":"#REF!","v":{"$error":"#REF!"}}]
[6,{"$f":"'w-E_R'!B38","v":"Fercher Annabell"},{"$f":"'w-E_R'!D38","v":"Musik NMS Hermagor"},{"$f":"'w-E_R'!L38","v":4.8},{"$f":"'w-E_R'!M38","v":661},null,{"$error":"#REF!"},{"$f":"#REF!","v":{"$error":"#REF!"}},{"$f":"#REF!","v":{"$error":"#REF!"}},{"$f":"#REF!","v":{"$error":"#REF!"}},{"$f":"#REF!","v":{"$error":"#REF!"}}]
[7,{"$f":"'w-E_R'!B6","v":"Enzi Sarah"},{"$f":"'w-E_R'!D6","v":"BG St.Martin"},{"$f":"'w-E_R'!L6","v":4.7},{"$f":"'w-E_R'!M6","v":639},null,{"$error":"#REF!"},{"$f":"#REF!","v":{"$error":"#REF!"}},{"$f":"#REF!","v":{"$error":"#REF!"}},{"$f":"#REF!","v":{"$error":"#REF!"}},{"$f":"#REF!","v":{"$error":"#REF!"}}]
[8,{"$f":"'w-E_R'!B73","v":"Ebner Elena"},{"$f":"'w-E_R'!D73","v":"RNMS Feldkirchen"},{"$f":"'w-E_R'!L73","v":4.66},{"$f":"'w-E_R'!M73","v":630},null,{"$error":"#REF!"},{"$f":"#REF!","v":{"$error":"#REF!"}},{"$f":"#REF!","v":{"$error":"#REF!"}},{"$f":"#REF!","v":{"$error":"#REF!"}},{"$f":"#REF!","v":{"$error":"#REF!"}}]
[9,{"$f":"'w-E_R'!B20","v":"Kowatsch Anna"},{"$f":"'w-E_R'!D20","v":"BRG Spittal"},{"$f":"'w-E_R'!L20","v":4.6500000000000004},{"$f":"'w-E_R'!M20","v":628},null,{"$error":"#REF!"},{"$f":"#REF!","v":{"$error":"#REF!"}},{"$f":"#REF!","v":{"$error":"#REF!"}},{"$f":"#REF!","v":{"$error":"#REF!"}},{"$f":"#REF!","v":{"$error":"#REF!"}}]
[11,{"$f":"'w-E_R'!B39","v":"Ebenwaldner Carina"},{"$f":"'w-E_R'!D39","v":"Musik NMS Hermagor"},{"$f":"'w-E_R'!L39","v":4.63},{"$f":"'w-E_R'!M39","v":624},null,{"$error":"#REF!"},{"$f":"#REF!","v":{"$error":"#REF!"}},{"$f":"#REF!","v":{"$error":"#REF!"}},{"$f":"#REF!","v":{"$error":"#REF!"}},{"$f":"#REF!","v":{"$error":"#REF!"}}]
[12,{"$f":"'w-E_R'!B40","v":"Wernitznig Nina"},{"$f":"'w-E_R'!D40","v":"Musik NMS Hermagor"},{"$f":"'w-E_R'!L40","v":4.62},{"$f":"'w-E_R'!M40","v":622},null,{"$error":"#REF!"},{"$f":"#REF!","v":{"$error":"#REF!"}},{"$f":"#REF!","v":{"$error":"#REF!"}},{"$f":"#REF!","v":{"$error":"#REF!"}},{"$f":"#REF!","v":{"$error":"#REF!"}}]
[9,{"$f":"'w-E_R'!B7","v":"Koch Anna"},{"$f":"'w-E_R'!D7","v":"BG St.Martin"},{"$f":"'w-E_R'!L7","v":4.6500000000000004},{"$f":"'w-E_R'!M7","v":628},null,{"$error":"#REF!"},{"$f":"#REF!","v":{"$error":"#REF!"}},{"$f":"#REF!","v":{"$error":"#REF!"}},{"$f":"#REF!","v":{"$error":"#REF!"}},{"$f":"#REF!","v":{"$error":"#REF!"}}]
[13,{"$f":"'w-E_R'!B75","v":"Hinteregger Katrin"},{"$f":"'w-E_R'!D75","v":"RNMS Feldkirchen"},{"$f":"'w-E_R'!L75","v":4.5599999999999996},{"$f":"'w-E_R'!M75","v":608},null,{"$error":"#REF!"},{"$f":"#REF!","v":{"$error":"#REF!"}},{"$f":"#REF!","v":{"$error":"#REF!"}},{"$f":"#REF!","v":{"$error":"#REF!"}},{"$f":"#REF!","v":{"$error":"#REF!"}}]
[14,{"$f":"'w-E_R'!B18","v":"Reiter Anna-Lena"},{"$f":"'w-E_R'!D18","v":"BRG Spittal"},{"$f":"'w-E_R'!L18","v":4.55},{"$f":"'w-E_R'!M18","v":606},null,{"$error":"#REF!"},{"$f":"#REF!","v":{"$error":"#REF!"}},{"$f":"#REF!","v":{"$error":"#REF!"}},{"$f":"#REF!","v":{"$error":"#REF!"}},{"$f":"#REF!","v":{"$error":"#REF!"}}]
[15,{"$f":"'w-E_R'!B78","v":"Petrascu Elisabeth"},{"$f":"'w-E_R'!D78","v":"RNMS Feldkirchen"},{"$f":"'w-E_R'!L78","v":4.53},{"$f":"'w-E_R'!M78","v":602},null,{"$error":"#REF!"},{"$f":"#REF!","v":{"$error":"#REF!"}},{"$f":"#REF!","v":{"$error":"#REF!"}},{"$f":"#REF!","v":{"$error":"#REF!"}},{"$f":"#REF!","v":{"$error":"#REF!"}}]
[16,{"$f":"'w-E_R'!B19","v":"Krammer Kristin"},{"$f":"'w-E_R'!D19","v":"BRG Spittal"},{"$f":"'w-E_R'!L19","v":4.5},{"$f":"'w-E_R'!M19","v":595},null,{"$error":"#REF!"},{"$f":"#REF!","v":{"$error":"#REF!"}},{"$f":"#REF!","v":{"$error":"#REF!"}},{"$f":"#REF!","v":{"$error":"#REF!"}},{"$f":"#REF!","v":{"$error":"#REF!"}}]
[17,{"$f":"'w-E_R'!B74","v":"Reiter Katharina"},{"$f":"'w-E_R'!D74","v":"RNMS Feldkirchen"},{"$f":"'w-E_R'!L74","v":4.45},{"$f":"'w-E_R'!M74","v":584},null,{"$error":"#REF!"},{"$f":"#REF!","v":{"$error":"#REF!"}},{"$f":"#REF!","v":{"$error":"#REF!"}},{"$f":"#REF!","v":{"$error":"#REF!"}},{"$f":"#REF!","v":{"$error":"#REF!"}}]
[17,{"$f":"'w-E_R'!B8","v":"Fugger Sophie"},{"$f":"'w-E_R'!D8","v":"BG St.Martin"},{"$f":"'w-E_R'!L8","v":4.45},{"$f":"'w-E_R'!M8","v":584},null,{"$error":"#REF!"},{"$f":"#REF!","v":{"$error":"#REF!"}},{"$f":"#REF!","v":{"$error":"#REF!"}},{"$f":"#REF!","v":{"$error":"#REF!"}},{"$f":"#REF!","v":{"$error":"#REF!"}}]
[19,{"$f":"'w-E_R'!B59","v":"Kassin Larissa"},{"$f":"'w-E_R'!D59","v":"NMS Landskron"},{"$f":"'w-E_R'!L59","v":4.41},{"$f":"'w-E_R'!M59","v":575},null,{"$error":"#REF!"},{"$f":"#REF!","v":{"$error":"#REF!"}},{"$f":"#REF!","v":{"$error":"#REF!"}},{"$f":"#REF!","v":{"$error":"#REF!"}},{"$f":"#REF!","v":{"$error":"#REF!"}}]
[20,{"$f":"'w-E_R'!B3","v":"Wallner Paulina"},{"$f":"'w-E_R'!D3","v":"BG St.Martin"},{"$f":"'w-E_R'!L3","v":4.4000000000000004},{"$f":"'w-E_R'!M3","v":573},null,{"$error":"#REF!"},{"$f":"#REF!","v":{"$error":"#REF!"}},{"$f":"#REF!","v":{"$error":"#REF!"}},{"$f":"#REF!","v":{"$error":"#REF!"}},{"$f":"#REF!","v":{"$error":"#REF!"}}]
[20,{"$f":"'w-E_R'!B4","v":"Feichter Nelly"},{"$f":"'w-E_R'!D4","v":"BG St.Martin"},{"$f":"'w-E_R'!L4","v":4.4000000000000004},{"$f":"'w-E_R'!M4","v":573},null,{"$error":"#REF!"},{"$f":"#REF!","v":{"$error":"#REF!"}},{"$f":"#REF!","v":{"$error":"#REF!"}},{"$f":"#REF!","v":{"$error":"#REF!"}},{"$f":"#REF!","v":{"$error":"#REF!"}}]
[22,{"$f":"'w-E_R'!B35","v":"Zenkl Hannah"},{"$f":"'w-E_R'!D35","v":"Ingeborg Bachmann Gymnasium"},{"$f":"'w-E_R'!L35","v":4.3600000000000003},{"$f":"'w-E_R'!M35","v":564},null,{"$error":"#REF!"},{"$f":"#REF!","v":{"$error":"#REF!"}},{"$f":"#REF!","v":{"$error":"#REF!"}},{"$f":"#REF!","v":{"$error":"#REF!"}},{"$f":"#REF!","v":{"$error":"#REF!"}}]
[23,{"$f":"'w-E_R'!B60","v":"Wiener Sophie"},{"$f":"'w-E_R'!D60","v":"NMS Landskron"},{"$f":"'w-E_R'!L60","v":4.3499999999999996},{"$f":"'w-E_R'!M60","v":562},null,{"$error":"#REF!"},{"$f":"#REF!","v":{"$error":"#REF!"}},{"$f":"#REF!","v":{"$error":"#REF!"}},{"$f":"#REF!","v":{"$error":"#REF!"}},{"$f":"#REF!","v":{"$error":"#REF!"}}]
[23,{"$f":"'w-E_R'!B42","v":"Matthei Laura"},{"$f":"'w-E_R'!D42","v":"Musik NMS Hermagor"},{"$f":"'w-E_R'!L42","v":4.3499999999999996},{"$f":"'w-E_R'!M42","v":562},null,{"$error":"#REF!"},{"$f":"#REF!","v":{"$error":"#REF!"}},{"$f":"#REF!","v":{"$error":"#REF!"}},{"$f":"#REF!","v":{"$error":"#REF!"}},{"$f":"#REF!","v":{"$error":"#REF!"}}]
[23,{"$f":"'w-E_R'!B48","v":"Schaller Victoria"},{"$f":"'w-E_R'!D48","v":"NMS Friesach"},{"$f":"'w-E_R'!L48","v":4.3499999999999996},{"$f":"'w-E_R'!M48","v":562},null,{"$error":"#REF!"},{"$f":"#REF!","v":{"$error":"#REF!"}},{"$f":"#REF!","v":{"$error":"#REF!"}},{"$f":"#REF!","v":{"$error":"#REF!"}},{"$f":"#REF!","v":{"$error":"#REF!"}}]
[26,{"$f":"'w-E_R'!B11","v":"Maier Magdalena"},{"$f":"'w-E_R'!D11","v":"Borg Wolfsberg"},{"$f":"'w-E_R'!L11","v":4.34},{"$f":"'w-E_R'!M11","v":560},null,{"$error":"#REF!"},{"$f":"#REF!","v":{"$error":"#REF!"}},{"$f":"#REF!","v":{"$error":"#REF!"}},{"$f":"#REF!","v":{"$error":"#REF!"}},{"$f":"#REF!","v":{"$error":"#REF!"}}]
[27,{"$f":"'w-E_R'!B52","v":"Mayer Elena"},{"$f":"'w-E_R'!D52","v":"NMS Gegendtal"},{"$f":"'w-E_R'!L52","v":4.33},{"$f":"'w-E_R'!M52","v":558},null,{"$error":"#REF!"},{"$f":"#REF!","v":{"$error":"#REF!"}},{"$f":"#REF!","v":{"$error":"#REF!"}},{"$f":"#REF!","v":{"$error":"#REF!"}},{"$f":"#REF!","v":{"$error":"#REF!"}}]
[28,{"$f":"'w-E_R'!B41","v":"Pettauer Sara"},{"$f":"'w-E_R'!D41","v":"Musik NMS Hermagor"},{"$f":"'w-E_R'!L41","v":4.32},{"$f":"'w-E_R'!M41","v":555},null,{"$error":"#REF!"},{"$f":"#REF!","v":{"$error":"#REF!"}},{"$f":"#REF!","v":{"$error":"#REF!"}},{"$f":"#REF!","v":{"$error":"#REF!"}},{"$f":"#REF!","v":{"$error":"#REF!"}}]
[29,{"$f":"'w-E_R'!B36","v":"Laßnig Katharina"},{"$f":"'w-E_R'!D36","v":"Ingeborg Bachmann Gymnasium"},{"$f":"'w-E_R'!L36","v":4.3},{"$f":"'w-E_R'!M36","v":551},null,{"$error":"#REF!"},{"$f":"#REF!","v":{"$error":"#REF!"}},{"$f":"#REF!","v":{"$error":"#REF!"}},{"$f":"#REF!","v":{"$error":"#REF!"}},{"$f":"#REF!","v":{"$error":"#REF!"}}]
[29,{"$f":"'w-E_R'!B46","v":"Kronlechner Bettina"},{"$f":"'w-E_R'!D46","v":"NMS Friesach"},{"$f":"'w-E_R'!L46","v":4.3},{"$f":"'w-E_R'!M46","v":551},null,{"$error":"#REF!"},{"$f":"#REF!","v":{"$error":"#REF!"}},{"$f":"#REF!","v":{"$error":"#REF!"}},{"$f":"#REF!","v":{"$error":"#REF!"}},{"$f":"#REF!","v":{"$error":"#REF!"}}]
[29,{"$f":"'w-E_R'!B49","v":"Hölbling Laura"},{"$f":"'w-E_R'!D49","v":"NMS Friesach"},{"$f":"'w-E_R'!L49","v":4.3},{"$f":"'w-E_R'!M49","v":551},null,{"$error":"#REF!"},{"$f":"#REF!","v":{"$error":"#REF!"}},{"$f":"#REF!","v":{"$error":"#REF!"}},{"$f":"#REF!","v":{"$error":"#REF!"}},{"$f":"#REF!","v":{"$error":"#REF!"}}]
[32,{"$f":"'w-E_R'!B43","v":"Seebacher Mathilda"},{"$f":"'w-E_R'!D43","v":"Musik NMS Hermagor"},{"$f":"'w-E_R'!L43","v":4.26},{"$f":"'w-E_R'!M43","v":542},null,{"$error":"#REF!"},{"$f":"#REF!","v":{"$error":"#REF!"}},{"$f":"#REF!","v":{"$error":"#REF!"}},{"$f":"#REF!","v":{"$error":"#REF!"}},{"$f":"#REF!","v":{"$error":"#REF!"}}]
[{"$f":"RANK(E35,$E$3:$E$122,0)","v":33},{"$f":"'w-E_R'!B66","v":"Edlmann Chiara"},{"$f":"'w-E_R'!D66","v":"NMS Viktring"},{"$f":"'w-E_R'!L66","v":4.25},{"$f":"'w-E_R'!M66","v":540},null,{"$f":"RANK(K35,$K$3:$K$122,0)","v":{"$error":"#REF!"}},{"$f":"#REF!","v":{"$error":"#REF!"}},{"$f":"#REF!","v":{"$error":"#REF!"}},{"$f":"#REF!","v":{"$error":"#REF!"}},{"$f":"#REF!","v":{"$error":"#REF!"}}]
[33,{"$f":"'w-E_R'!B67","v":"Toth Lili"},{"$f":"'w-E_R'!D67","v":"NMS Viktring"},{"$f":"'w-E_R'!L67","v":4.25},{"$f":"'w-E_R'!M67","v":540},null,{"$error":"#REF!"},{"$f":"#REF!","v":{"$error":"#REF!"}},{"$f":"#REF!","v":{"$error":"#REF!"}},{"$f":"#REF!","v":{"$error":"#REF!"}},{"$f":"#REF!","v":{"$error":"#REF!"}}]
[35,{"$f":"'w-E_R'!B5","v":"Heincz Gerit"},{"$f":"'w-E_R'!D5","v":"BG St.Martin"},{"$f":"'w-E_R'!L5","v":4.24},{"$f":"'w-E_R'!M5","v":538},null,{"$error":"#REF!"},{"$f":"#REF!","v":{"$error":"#REF!"}},{"$f":"#REF!","v":{"$error":"#REF!"}},{"$f":"#REF!","v":{"$error":"#REF!"}},{"$f":"#REF!","v":{"$error":"#REF!"}}]
[36,{"$f":"'w-E_R'!B25","v":"Kaschnig Lea"},{"$f":"'w-E_R'!D25","v":"BZ Bad Eisenkappel"},{"$f":"'w-E_R'!L25","v":4.21},{"$f":"'w-E_R'!M25","v":531},null,{"$error":"#REF!"},{"$f":"#REF!","v":{"$error":"#REF!"}},{"$f":"#REF!","v":{"$error":"#REF!"}},{"$f":"#REF!","v":{"$error":"#REF!"}},{"$f":"#REF!","v":{"$error":"#REF!"}}]
[37,{"$f":"'w-E_R'!B71","v":"Herkner Anna"},{"$f":"'w-E_R'!D71","v":"NMS Viktring"},{"$f":"'w-E_R'!L71","v":4.2},{"$f":"'w-E_R'!M71","v":529},null,{"$error":"#REF!"},{"$f":"#REF!","v":{"$error":"#REF!"}},{"$f":"#REF!","v":{"$error":"#REF!"}},{"$f":"#REF!","v":{"$error":"#REF!"}},{"$f":"#REF!","v":{"$error":"#REF!"}}]
[38,{"$f":"'w-E_R'!B53","v":"Steiner Patricia"},{"$f":"'w-E_R'!D53","v":"NMS Gegendtal"},{"$f":"'w-E_R'!L53","v":4.18},{"$f":"'w-E_R'!M53","v":525},null,{"$error":"#REF!"},{"$f":"#REF!","v":{"$error":"#REF!"}},{"$f":"#REF!","v":{"$error":"#REF!"}},{"$f":"#REF!","v":{"$error":"#REF!"}},{"$f":"#REF!","v":{"$error":"#REF!"}}]
[38,{"$f":"'w-E_R'!B33","v":"Doboczky Sophie"},{"$f":"'w-E_R'!D33","v":"Ingeborg Bachmann Gymnasium"},{"$f":"'w-E_R'!L33","v":4.18},{"$f":"'w-E_R'!M33","v":525},null,{"$error":"#REF!"},{"$f":"#REF!","v":{"$error":"#REF!"}},{"$f":"#REF!","v":{"$error":"#REF!"}},{"$f":"#REF!","v":{"$error":"#REF!"}},{"$f":"#REF!","v":{"$error":"#REF!"}}]
[40,{"$f":"'w-E_R'!B47","v":"Delfser Anna-Magdalena"},{"$f":"'w-E_R'!D47","v":"NMS Friesach"},{"$f":"'w-E_R'!L47","v":4.16},{"$f":"'w-E_R'!M47","v":520},null,{"$error":"#REF!"},{"$f":"#REF!","v":{"$error":"#REF!"}},{"$f":"#REF!","v":{"$error":"#REF!"}},{"$f":"#REF!","v":{"$error":"#REF!"}},{"$f":"#REF!","v":{"$error":"#REF!"}}]
[41,{"$f":"'w-E_R'!B76","v":"Kircher Florentina"},{"$f":"'w-E_R'!D76","v":"RNMS Feldkirchen"},{"$f":"'w-E_R'!L76","v":4.1500000000000004},{"$f":"'w-E_R'!M76","v":518},null,{"$error":"#REF!"},{"$f":"#REF!","v":{"$error":"#REF!"}},{"$f":"#REF!","v":{"$error":"#REF!"}},{"$f":"#REF!","v":{"$error":"#REF!"}},{"$f":"#REF!","v":{"$error":"#REF!"}}]
[42,{"$f":"'w-E_R'!B50","v":"Pacher Selina"},{"$f":"'w-E_R'!D50","v":"NMS Friesach"},{"$f":"'w-E_R'!L50","v":4.1399999999999997},{"$f":"'w-E_R'!M50","v":516},null,{"$error":"#REF!"},{"$f":"#REF!","v":{"$error":"#REF!"}},{"$f":"#REF!","v":{"$error":"#REF!"}},{"$f":"#REF!","v":{"$error":"#REF!"}},{"$f":"#REF!","v":{"$error":"#REF!"}}]
[43,{"$f":"'w-E_R'!B61","v":"Neumann Lisa"},{"$f":"'w-E_R'!D61","v":"NMS Landskron"},{"$f":"'w-E_R'!L61","v":4.13},{"$f":"'w-E_R'!M61","v":514},null,{"$error":"#REF!"},{"$f":"#REF!","v":{"$error":"#REF!"}},{"$f":"#REF!","v":{"$error":"#REF!"}},{"$f":"#REF!","v":{"$error":"#REF!"}},{"$f":"#REF!","v":{"$error":"#REF!"}}]
[43,{"$f":"'w-E_R'!B31","v":"Donner Rosa"},{"$f":"'w-E_R'!D31","v":"Ingeborg Bachmann Gymnasium"},{"$f":"'w-E_R'!L31","v":4.13},{"$f":"'w-E_R'!M31","v":514},null,{"$error":"#REF!"},{"$f":"#REF!","v":{"$error":"#REF!"}},{"$f":"#REF!","v":{"$error":"#REF!"}},{"$f":"#REF!","v":{"$error":"#REF!"}},{"$f":"#REF!","v":{"$error":"#REF!"}}]
[45,{"$f":"'w-E_R'!B26","v":"Ebner Anna-Lena"},{"$f":"'w-E_R'!D26","v":"BZ Bad Eisenkappel"},{"$f":"'w-E_R'!L26","v":4.12},{"$f":"'w-E_R'!M26","v":511},null,{"$error":"#REF!"},{"$f":"#REF!","v":{"$error":"#REF!"}},{"$f":"#REF!","v":{"$error":"#REF!"}},{"$f":"#REF!","v":{"$error":"#REF!"}},{"$f":"#REF!","v":{"$error":"#REF!"}}]
[46,{"$f":"'w-E_R'!B17","v":"Hartlieb Michelle"},{"$f":"'w-E_R'!D17","v":"BRG Spittal"},{"$f":"'w-E_R'!L17","v":4.1100000000000003},{"$f":"'w-E_R'!M17","v":509},null,{"$error":"#REF!"},{"$f":"#REF!","v":{"$error":"#REF!"}},{"$f":"#REF!","v":{"$error":"#REF!"}},{"$f":"#REF!","v":{"$error":"#REF!"}},{"$f":"#REF!","v":{"$error":"#REF!"}}]
[47,{"$f":"'w-E_R'!B27","v":"Millicevvic Renate"},{"$f":"'w-E_R'!D27","v":"BZ Bad Eisenkappel"},{"$f":"'w-E_R'!L27","v":4.0999999999999996},{"$f":"'w-E_R'!M27","v":507},null,{"$error":"#REF!"},{"$f":"#REF!","v":{"$error":"#REF!"}},{"$f":"#REF!","v":{"$error":"#REF!"}},{"$f":"#REF!","v":{"$error":"#REF!"}},{"$f":"#REF!","v":{"$error":"#REF!"}}]
[47,{"$f":"'w-E_R'!B64","v":"Petscher Maria"},{"$f":"'w-E_R'!D64","v":"NMS Landskron"},{"$f":"'w-E_R'!L64","v":4.0999999999999996},{"$f":"'w-E_R'!M64","v":507},null,{"$error":"#REF!"},{"$f":"#REF!","v":{"$error":"#REF!"}},{"$f":"#REF!","v":{"$error":"#REF!"}},{"$f":"#REF!","v":{"$error":"#REF!"}},{"$f":"#REF!","v":{"$error":"#REF!"}}]
[47,{"$f":"'w-E_R'!B45","v":"Pörtschacher Vanessa"},{"$f":"'w-E_R'!D45","v":"NMS Friesach"},{"$f":"'w-E_R'!L45","v":4.0999999999999996},{"$f":"'w-E_R'!M45","v":507},null,{"$error":"#REF!"},{"$f":"#REF!","v":{"$error":"#REF!"}},{"$f":"#REF!","v":{"$error":"#REF!"}},{"$f":"#REF!","v":{"$error":"#REF!"}},{"$f":"#REF!","v":{"$error":"#REF!"}}]
[47,{"$f":"'w-E_R'!B68","v":"Krnjic Sonja"},{"$f":"'w-E_R'!D68","v":"NMS Viktring"},{"$f":"'w-E_R'!L68","v":4.0999999999999996},{"$f":"'w-E_R'!M68","v":507},null,{"$error":"#REF!"},{"$f":"#REF!","v":{"$error":"#REF!"}},{"$f":"#REF!","v":{"$error":"#REF!"}},{"$f":"#REF!","v":{"$error":"#REF!"}},{"$f":"#REF!","v":{"$error":"#REF!"}}]
[51,{"$f":"'w-E_R'!B77","v":"Mühlbacher Nina"},{"$f":"'w-E_R'!D77","v":"RNMS Feldkirchen"},{"$f":"'w-E_R'!L77","v":4.0599999999999996},{"$f":"'w-E_R'!M77","v":498},null,{"$error":"#REF!"},{"$f":"#REF!","v":{"$error":"#REF!"}},{"$f":"#REF!","v":{"$error":"#REF!"}},{"$f":"#REF!","v":{"$error":"#REF!"}},{"$f":"#REF!","v":{"$error":"#REF!"}}]
[52,{"$f":"'w-E_R'!B63","v":"Santner Fabienne"},{"$f":"'w-E_R'!D63","v":"NMS Landskron"},{"$f":"'w-E_R'!L63","v":4.04},{"$f":"'w-E_R'!M63","v":494},null,{"$error":"#REF!"},{"$f":"#REF!","v":{"$error":"#REF!"}},{"$f":"#REF!","v":{"$error":"#REF!"}},{"$f":"#REF!","v":{"$error":"#REF!"}},{"$f":"#REF!","v":{"$error":"#REF!"}}]
[53,{"$f":"'w-E_R'!B69","v":"Esel Michelle"},{"$f":"'w-E_R'!D69","v":"NMS Viktring"},{"$f":"'w-E_R'!L69","v":4},{"$f":"'w-E_R'!M69","v":485},null,{"$error":"#REF!"},{"$f":"#REF!","v":{"$error":"#REF!"}},{"$f":"#REF!","v":{"$error":"#REF!"}},{"$f":"#REF!","v":{"$error":"#REF!"}},{"$f":"#REF!","v":{"$error":"#REF!"}}]
[54,{"$f":"'w-E_R'!B13","v":"Spendl Jennifer"},{"$f":"'w-E_R'!D13","v":"Borg Wolfsberg"},{"$f":"'w-E_R'!L13","v":3.99},{"$f":"'w-E_R'!M13","v":483},null,{"$error":"#REF!"},{"$f":"#REF!","v":{"$error":"#REF!"}},{"$f":"#REF!","v":{"$error":"#REF!"}},{"$f":"#REF!","v":{"$error":"#REF!"}},{"$f":"#REF!","v":{"$error":"#REF!"}}]
[55,{"$f":"'w-E_R'!B24","v":"Kampusch Michelle"},{"$f":"'w-E_R'!D24","v":"BZ Bad Eisenkappel"},{"$f":"'w-E_R'!L24","v":3.98},{"$f":"'w-E_R'!M24","v":480},null,{"$error":"#REF!"},{"$f":"#REF!","v":{"$error":"#REF!"}},{"$f":"#REF!","v":{"$error":"#REF!"}},{"$f":"#REF!","v":{"$error":"#REF!"}},{"$f":"#REF!","v":{"$error":"#REF!"}}]
[56,{"$f":"'w-E_R'!B28","v":"Pudgar Domenika"},{"$f":"'w-E_R'!D28","v":"BZ Bad Eisenkappel"},{"$f":"'w-E_R'!L28","v":3.92},{"$f":"'w-E_R'!M28","v":467},null,{"$error":"#REF!"},{"$f":"#REF!","v":{"$error":"#REF!"}},{"$f":"#REF!","v":{"$error":"#REF!"}},{"$f":"#REF!","v":{"$error":"#REF!"}},{"$f":"#REF!","v":{"$error":"#REF!"}}]
[56,{"$f":"'w-E_R'!B62","v":"Pinzer Alina"},{"$f":"'w-E_R'!D62","v":"NMS Landskron"},{"$f":"'w-E_R'!L62","v":3.92},{"$f":"'w-E_R'!M62","v":467},null,{"$error":"#REF!"},{"$f":"#REF!","v":{"$error":"#REF!"}},{"$f":"#REF!","v":{"$error":"#REF!"}},{"$f":"#REF!","v":{"$error":"#REF!"}},{"$f":"#REF!","v":{"$error":"#REF!"}}]
[58,{"$f":"'w-E_R'!B55","v":"Schweiger Nadja"},{"$f":"'w-E_R'!D55","v":"NMS Gegendtal"},{"$f":"'w-E_R'!L55","v":3.9},{"$f":"'w-E_R'!M55","v":463},null,{"$error":"#REF!"},{"$f":"#REF!","v":{"$error":"#REF!"}},{"$f":"#REF!","v":{"$error":"#REF!"}},{"$f":"#REF!","v":{"$error":"#REF!"}},{"$f":"#REF!","v":{"$error":"#REF!"}}]
[59,{"$f":"'w-E_R'!B12","v":"Frauwallner Hanna"},{"$f":"'w-E_R'!D12","v":"Borg Wolfsberg"},{"$f":"'w-E_R'!L12","v":3.87},{"$f":"'w-E_R'!M12","v":456},null,{"$error":"#REF!"},{"$f":"#REF!","v":{"$error":"#REF!"}},{"$f":"#REF!","v":{"$error":"#REF!"}},{"$f":"#REF!","v":{"$error":"#REF!"}},{"$f":"#REF!","v":{"$error":"#REF!"}}]
[60,{"$f":"'w-E_R'!B56","v":"Gasser Valentina"},{"$f":"'w-E_R'!D56","v":"NMS Gegendtal"},{"$f":"'w-E_R'!L56","v":3.83},{"$f":"'w-E_R'!M56","v":447},null,{"$error":"#REF!"},{"$f":"#REF!","v":{"$error":"#REF!"}},{"$f":"#REF!","v":{"$error":"#REF!"}},{"$f":"#REF!","v":{"$error":"#REF!"}},{"$f":"#REF!","v":{"$error":"#REF!"}}]
[60,{"$f":"'w-E_R'!B57","v":"Ostertschnig Lisa"},{"$f":"'w-E_R'!D57","v":"NMS Gegendtal"},{"$f":"'w-E_R'!L57","v":3.83},{"$f":"'w-E_R'!M57","v":447},null,{"$error":"#REF!"},{"$f":"#REF!","v":{"$error":"#REF!"}},{"$f":"#REF!","v":{"$error":"#REF!"}},{"$f":"#REF!","v":{"$error":"#REF!"}},{"$f":"#REF!","v":{"$error":"#REF!"}}]
[62,{"$f":"'w-E_R'!B54","v":"Maier Jasmin"},{"$f":"'w-E_R'!D54","v":"NMS Gegendtal"},{"$f":"'w-E_R'!L54","v":3.79},{"$f":"'w-E_R'!M54","v":439},null,{"$error":"#REF!"},{"$f":"#REF!","v":{"$error":"#REF!"}},{"$f":"#REF!","v":{"$error":"#REF!"}},{"$f":"#REF!","v":{"$error":"#REF!"}},{"$f":"#REF!","v":{"$error":"#REF!"}}]
[63,{"$f":"'w-E_R'!B32","v":"Lippitsch Amelie"},{"$f":"'w-E_R'!D32","v":"Ingeborg Bachmann Gymnasium"},{"$f":"'w-E_R'!L32","v":3.67},{"$f":"'w-E_R'!M32","v":412},null,{"$error":"#REF!"},{"$f":"#REF!","v":{"$error":"#REF!"}},{"$f":"#REF!","v":{"$error":"#REF!"}},{"$f":"#REF!","v":{"$error":"#REF!"}},{"$f":"#REF!","v":{"$error":"#REF!"}}]
[64,{"$f":"'w-E_R'!B70","v":"Bierbaumer Selina"},{"$f":"'w-E_R'!D70","v":"NMS Viktring"},{"$f":"'w-E_R'!L70","v":3.48},{"$f":"'w-E_R'!M70","v":370},null,{"$error":"#REF!"},{"$f":"#REF!","v":{"$error":"#REF!"}},{"$f":"#REF!","v":{"$error":"#REF!"}},{"$f":"#REF!","v":{"$error":"#REF!"}},{"$f":"#REF!","v":{"$error":"#REF!"}}]
[{"$f":"RANK(E67,$E$3:$E$122,0)","v":65},{"$f":"'w-E_R'!B10","v":"Maier Celina"},{"$f":"'w-E_R'!D10","v":"Borg Wolfsberg"},{"$f":"'w-E_R'!L10","v":2.69},{"$f":"'w-E_R'!M10","v":196},null,{"$f":"RANK(K67,$K$3:$K$122,0)","v":{"$error":"#REF!"}},{"$f":"#REF!","v":{"$error":"#REF!"}},{"$f":"#REF!","v":{"$error":"#REF!"}},{"$f":"#REF!","v":{"$error":"#REF!"}},{"$f":"#REF!","v":{"$error":"#REF!"}}]
[66,{"$f":"'w-E_R'!B29","v":0},{"$f":"'w-E_R'!D29","v":"BZ Bad Eisenkappel"},{"$f":"'w-E_R'!L29","v":0},{"$f":"'w-E_R'!M29","v":0},null,{"$error":"#REF!"},{"$f":"#REF!","v":{"$error":"#REF!"}},{"$f":"#REF!","v":{"$error":"#REF!"}},{"$f":"#REF!","v":{"$error":"#REF!"}},{"$f":"#REF!","v":{"$error":"#REF!"}}]
[66,{"$f":"'w-E_R'!B80","v":"W12/01-Regel"},{"$f":"'w-E_R'!D80","v":0},{"$f":"'w-E_R'!L80","v":0},{"$f":"'w-E_R'!M80","v":0},null,{"$error":"#REF!"},{"$f":"#REF!","v":{"$error":"#REF!"}},{"$f":"#REF!","v":{"$error":"#REF!"}},{"$f":"#REF!","v":{"$error":"#REF!"}},{"$f":"#REF!","v":{"$error":"#REF!"}}]
[66,{"$f":"'w-E_R'!B81","v":"W12/02-Regel"},{"$f":"'w-E_R'!D81","v":0},{"$f":"'w-E_R'!L81","v":0},{"$f":"'w-E_R'!M81","v":0},null,{"$error":"#REF!"},{"$f":"#REF!","v":{"$error":"#REF!"}},{"$f":"#REF!","v":{"$error":"#REF!"}},{"$f":"#REF!","v":{"$error":"#REF!"}},{"$f":"#REF!","v":{"$error":"#REF!"}}]
[66,{"$f":"'w-E_R'!B82","v":"W12/03-Regel"},{"$f":"'w-E_R'!D82","v":0},{"$f":"'w-E_R'!L82","v":0},{"$f":"'w-E_R'!M82","v":0},null,{"$error":"#REF!"},{"$f":"#REF!","v":{"$error":"#REF!"}},{"$f":"#REF!","v":{"$error":"#REF!"}},{"$f":"#REF!","v":{"$error":"#REF!"}},{"$f":"#REF!","v":{"$error":"#REF!"}}]
[66,{"$f":"'w-E_R'!B83","v":"W12/04-Regel"},{"$f":"'w-E_R'!D83","v":0},{"$f":"'w-E_R'!L83","v":0},{"$f":"'w-E_R'!M83","v":0},null,{"$error":"#REF!"},{"$f":"#REF!","v":{"$error":"#REF!"}},{"$f":"#REF!","v":{"$error":"#REF!"}},{"$f":"#REF!","v":{"$error":"#REF!"}},{"$f":"#REF!","v":{"$error":"#REF!"}}]
[66,{"$f":"'w-E_R'!B84","v":"W12/05-Regel"},{"$f":"'w-E_R'!D84","v":0},{"$f":"'w-E_R'!L84","v":0},{"$f":"'w-E_R'!M84","v":0},null,{"$error":"#REF!"},{"$f":"#REF!","v":{"$error":"#REF!"}},{"$f":"#REF!","v":{"$error":"#REF!"}},{"$f":"#REF!","v":{"$error":"#REF!"}},{"$f":"#REF!","v":{"$error":"#REF!"}}]
[66,{"$f":"'w-E_R'!B85","v":"W12/06-Regel"},{"$f":"'w-E_R'!D85","v":0},{"$f":"'w-E_R'!L85","v":0},{"$f":"'w-E_R'!M85","v":0},null,{"$error":"#REF!"},{"$f":"#REF!","v":{"$error":"#REF!"}},{"$f":"#REF!","v":{"$error":"#REF!"}},{"$f":"#REF!","v":{"$error":"#REF!"}},{"$f":"#REF!","v":{"$error":"#REF!"}}]
[66,{"$f":"'w-E_R'!B87","v":"W13/01-Regel"},{"$f":"'w-E_R'!D87","v":0},{"$f":"'w-E_R'!L87","v":0},{"$f":"'w-E_R'!M87","v":0},null,{"$error":"#REF!"},{"$f":"#REF!","v":{"$error":"#REF!"}},{"$f":"#REF!","v":{"$error":"#REF!"}},{"$f":"#REF!","v":{"$error":"#REF!"}},{"$f":"#REF!","v":{"$error":"#REF!"}}]
[66,{"$f":"'w-E_R'!B88","v":"W13/02-Regel"},{"$f":"'w-E_R'!D88","v":0},{"$f":"'w-E_R'!L88","v":0},{"$f":"'w-E_R'!M88","v":0},null,{"$error":"#REF!"},{"$f":"#REF!","v":{"$error":"#REF!"}},{"$f":"#REF!","v":{"$error":"#REF!"}},{"$f":"#REF!","v":{"$error":"#REF!"}},{"$f":"#REF!","v":{"$error":"#REF!"}}]
[66,{"$f":"'w-E_R'!B89","v":"W13/03-Regel"},{"$f":"'w-E_R'!D89","v":0},{"$f":"'w-E_R'!L89","v":0},{"$f":"'w-E_R'!M89","v":0},null,{"$error":"#REF!"},{"$f":"#REF!","v":{"$error":"#REF!"}},{"$f":"#REF!","v":{"$error":"#REF!"}},{"$f":"#REF!","v":{"$error":"#REF!"}},{"$f":"#REF!","v":{"$error":"#REF!"}}]
[66,{"$f":"'w-E_R'!B90","v":"W13/04-Regel"},{"$f":"'w-E_R'!D90","v":0},{"$f":"'w-E_R'!L90","v":0},{"$f":"'w-E_R'!M90","v":0},null,{"$error":"#REF!"},{"$f":"#REF!","v":{"$error":"#REF!"}},{"$f":"#REF!","v":{"$error":"#REF!"}},{"$f":"#REF!","v":{"$error":"#REF!"}},{"$f":"#REF!","v":{"$error":"#REF!"}}]
[66,{"$f":"'w-E_R'!B91","v":"W13/05-Regel"},{"$f":"'w-E_R'!D91","v":0},{"$f":"'w-E_R'!L91","v":0},{"$f":"'w-E_R'!M91","v":0},null,{"$error":"#REF!"},{"$f":"#REF!","v":{"$error":"#REF!"}},{"$f":"#REF!","v":{"$error":"#REF!"}},{"$f":"#REF!","v":{"$error":"#REF!"}},{"$f":"#REF!","v":{"$error":"#REF!"}}]
[66,{"$f":"'w-E_R'!B92","v":"W13/06-Regel"},{"$f":"'w-E_R'!D92","v":0},{"$f":"'w-E_R'!L92","v":0},{"$f":"'w-E_R'!M92","v":0},null,{"$error":"#REF!"},{"$f":"#REF!","v":{"$error":"#REF!"}},{"$f":"#REF!","v":{"$error":"#REF!"}},{"$f":"#REF!","v":{"$error":"#REF!"}},{"$f":"#REF!","v":{"$error":"#REF!"}}]
[66,{"$f":"'w-E_R'!B94","v":"W14/01-Regel"},{"$f":"'w-E_R'!D94","v":0},{"$f":"'w-E_R'!L94","v":0},{"$f":"'w-E_R'!M94","v":0},null,{"$error":"#REF!"},{"$f":"#REF!","v":{"$error":"#REF!"}},{"$f":"#REF!","v":{"$error":"#REF!"}},{"$f":"#REF!","v":{"$error":"#REF!"}},{"$f":"#REF!","v":{"$error":"#REF!"}}]
[66,{"$f":"'w-E_R'!B95","v":"W14/02-Regel"},{"$f":"'w-E_R'!D95","v":0},{"$f":"'w-E_R'!L95","v":0},{"$f":"'w-E_R'!M95","v":0},null,{"$error":"#REF!"},{"$f":"#REF!","v":{"$error":"#REF!"}},{"$f":"#REF!","v":{"$error":"#REF!"}},{"$f":"#REF!","v":{"$error":"#REF!"}},{"$f":"#REF!","v":{"$error":"#REF!"}}]
[66,{"$f":"'w-E_R'!B96","v":"W14/03-Regel"},{"$f":"'w-E_R'!D96","v":0},{"$f":"'w-E_R'!L96","v":0},{"$f":"'w-E_R'!M96","v":0},null,{"$error":"#REF!"},{"$f":"#REF!","v":{"$error":"#REF!"}},{"$f":"#REF!","v":{"$error":"#REF!"}},{"$f":"#REF!","v":{"$error":"#REF!"}},{"$f":"#REF!","v":{"$error":"#REF!"}}]
[66,{"$f":"'w-E_R'!B97","v":"W14/04-Regel"},{"$f":"'w-E_R'!D97","v":0},{"$f":"'w-E_R'!L97","v":0},{"$f":"'w-E_R'!M97","v":0},null,{"$error":"#REF!"},{"$f":"#REF!","v":{"$error":"#REF!"}},{"$f":"#REF!","v":{"$error":"#REF!"}},{"$f":"#REF!","v":{"$error":"#REF!"}},{"$f":"#REF!","v":{"$error":"#REF!"}}]
[66,{"$f":"'w-E_R'!B98","v":"W14/05-Regel"},{"$f":"'w-E_R'!D98","v":0},{"$f":"'w-E_R'!L98","v":0},{"$f":"'w-E_R'!M98","v":0},null,{"$error":"#REF!"},{"$f":"#REF!","v":{"$error":"#REF!"}},{"$f":"#REF!","v":{"$error":"#REF!"}},{"$f":"#REF!","v":{"$error":"#REF!"}},{"$f":"#REF!","v":{"$error":"#REF!"}}]
[66,{"$f":"'w-E_R'!B99","v":"W14/06-Regel"},{"$f":"'w-E_R'!D99","v":0},{"$f":"'w-E_R'!L99","v":0},{"$f":"'w-E_R'!M99","v":0},null,{"$error":"#REF!"},{"$f":"#REF!","v":{"$error":"#REF!"}},{"$f":"#REF!","v":{"$error":"#REF!"}},{"$f":"#REF!","v":{"$error":"#REF!"}},{"$f":"#REF!","v":{"$error":"#REF!"}}]
[66,{"$f":"'w-E_R'!B101","v":"W15/01-Regel"},{"$f":"'w-E_R'!D101","v":0},{"$f":"'w-E_R'!L101","v":0},{"$f":"'w-E_R'!M101","v":0},null,{"$error":"#REF!"},{"$f":"#REF!","v":{"$error":"#REF!"}},{"$f":"#REF!","v":{"$error":"#REF!"}},{"$f":"#REF!","v":{"$error":"#REF!"}},{"$f":"#REF!","v":{"$error":"#REF!"}}]
[66,{"$f":"'w-E_R'!B102","v":"W15/02-Regel"},{"$f":"'w-E_R'!D102","v":0},{"$f":"'w-E_R'!L102","v":0},{"$f":"'w-E_R'!M102","v":0},null,{"$error":"#REF!"},{"$f":"#REF!","v":{"$error":"#REF!"}},{"$f":"#REF!","v":{"$error":"#REF!"}},{"$f":"#REF!","v":{"$error":"#REF!"}},{"$f":"#REF!","v":{"$error":"#REF!"}}]
[66,{"$f":"'w-E_R'!B103","v":"W15/03-Regel"},{"$f":"'w-E_R'!D103","v":0},{"$f":"'w-E_R'!L103","v":0},{"$f":"'w-E_R'!M103","v":0},null,{"$error":"#REF!"},{"$f":"#REF!","v":{"$error":"#REF!"}},{"$f":"#REF!","v":{"$error":"#REF!"}},{"$f":"#REF!","v":{"$error":"#REF!"}},{"$f":"#REF!","v":{"$error":"#REF!"}}]
[66,{"$f":"'w-E_R'!B104","v":"W15/04-Regel"},{"$f":"'w-E_R'!D104","v":0},{"$f":"'w-E_R'!L104","v":0},{"$f":"'w-E_R'!M104","v":0},null,{"$error":"#REF!"},{"$f":"#REF!","v":{"$error":"#REF!"}},{"$f":"#REF!","v":{"$error":"#REF!"}},{"$f":"#REF!","v":{"$error":"#REF!"}},{"$f":"#REF!","v":{"$error":"#REF!"}}]
[66,{"$f":"'w-E_R'!B105","v":"W15/05-Regel"},{"$f":"'w-E_R'!D105","v":0},{"$f":"'w-E_R'!L105","v":0},{"$f":"'w-E_R'!M105","v":0},null,{"$error":"#REF!"},{"$f":"#REF!","v":{"$error":"#REF!"}},{"$f":"#REF!","v":{"$error":"#REF!"}},{"$f":"#REF!","v":{"$error":"#REF!"}},{"$f":"#REF!","v":{"$error":"#REF!"}}]
[66,{"$f":"'w-E_R'!B106","v":"W15/06-Regel"},{"$f":"'w-E_R'!D106","v":0},{"$f":"'w-E_R'!L106","v":0},{"$f":"'w-E_R'!M106","v":0},null,{"$error":"#REF!"},{"$f":"#REF!","v":{"$error":"#REF!"}},{"$f":"#REF!","v":{"$error":"#REF!"}},{"$f":"#REF!","v":{"$error":"#REF!"}},{"$f":"#REF!","v":{"$error":"#REF!"}}]
[66,{"$f":"'w-E_R'!B108","v":"W16/01-Regel"},{"$f":"'w-E_R'!D108","v":0},{"$f":"'w-E_R'!L108","v":0},{"$f":"'w-E_R'!M108","v":0},null,{"$error":"#REF!"},{"$f":"#REF!","v":{"$error":"#REF!"}},{"$f":"#REF!","v":{"$error":"#REF!"}},{"$f":"#REF!","v":{"$error":"#REF!"}},{"$f":"#REF!","v":{"$error":"#REF!"}}]
[66,{"$f":"'w-E_R'!B109","v":"W16/02-Regel"},{"$f":"'w-E_R'!D109","v":0},{"$f":"'w-E_R'!L109","v":0},{"$f":"'w-E_R'!M109","v":0},null,{"$error":"#REF!"},{"$f":"#REF!","v":{"$error":"#REF!"}},{"$f":"#REF!","v":{"$error":"#REF!"}},{"$f":"#REF!","v":{"$error":"#REF!"}},{"$f":"#REF!","v":{"$error":"#REF!"}}]
[66,{"$f":"'w-E_R'!B110","v":"W16/03-Regel"},{"$f":"'w-E_R'!D110","v":0},{"$f":"'w-E_R'!L110","v":0},{"$f":"'w-E_R'!M110","v":0},null,{"$error":"#REF!"},{"$f":"#REF!","v":{"$error":"#REF!"}},{"$f":"#REF!","v":{"$error":"#REF!"}},{"$f":"#REF!","v":{"$error":"#REF!"}},{"$f":"#REF!","v":{"$error":"#REF!"}}]
[66,{"$f":"'w-E_R'!B111","v":"W16/04-Regel"},{"$f":"'w-E_R'!D111","v":0},{"$f":"'w-E_R'!L111","v":0},{"$f":"'w-E_R'!M111","v":0},null,{"$error":"#REF!"},{"$f":"#REF!","v":{"$error":"#REF!"}},{"$f":"#REF!","v":{"$error":"#REF!"}},{"$f":"#REF!","v":{"$error":"#REF!"}},{"$f":"#REF!","v":{"$error":"#REF!"}}]
[66,{"$f":"'w-E_R'!B112","v":"W16/05-Regel"},{"$f":"'w-E_R'!D112","v":0},{"$f":"'w-E_R'!L112","v":0},{"$f":"'w-E_R'!M112","v":0},null,{"$error":"#REF!"},{"$f":"#REF!","v":{"$error":"#REF!"}},{"$f":"#REF!","v":{"$error":"#REF!"}},{"$f":"#REF!","v":{"$error":"#REF!"}},{"$f":"#REF!","v":{"$error":"#REF!"}}]
[66,{"$f":"'w-E_R'!B113","v":"W16/06-Regel"},{"$f":"'w-E_R'!D113","v":0},{"$f":"'w-E_R'!L113","v":0},{"$f":"'w-E_R'!M113","v":0},null,{"$error":"#REF!"},{"$f":"#REF!","v":{"$error":"#REF!"}},{"$f":"#REF!","v":{"$error":"#REF!"}},{"$f":"#REF!","v":{"$error":"#REF!"}},{"$f":"#REF!","v":{"$error":"#REF!"}}]
[{"$f":"RANK(E99,$E$3:$E$122,0)","v":66},{"$f":"'w-E_R'!B115","v":"W17/01-Regel"},{"$f":"'w-E_R'!D115","v":0},{"$f":"'w-E_R'!L115","v":0},{"$f":"'w-E_R'!M115","v":0},null,{"$f":"RANK(K99,$K$3:$K$122,0)","v":{"$error":"#REF!"}},{"$f":"#REF!","v":{"$error":"#REF!"}},{"$f":"#REF!","v":{"$error":"#REF!"}},{"$f":"#REF!","v":{"$error":"#REF!"}},{"$f":"#REF!","v":{"$error":"#REF!"}}]
[66,{"$f":"'w-E_R'!B116","v":"W17/02-Regel"},{"$f":"'w-E_R'!D116","v":0},{"$f":"'w-E_R'!L116","v":0},{"$f":"'w-E_R'!M116","v":0},null,{"$error":"#REF!"},{"$f":"#REF!","v":{"$error":"#REF!"}},{"$f":"#REF!","v":{"$error":"#REF!"}},{"$f":"#REF!","v":{"$error":"#REF!"}},{"$f":"#REF!","v":{"$error":"#REF!"}}]
[66,{"$f":"'w-E_R'!B117","v":"W17/03-Regel"},{"$f":"'w-E_R'!D117","v":0},{"$f":"'w-E_R'!L117","v":0},{"$f":"'w-E_R'!M117","v":0},null,{"$error":"#REF!"},{"$f":"#REF!","v":{"$error":"#REF!"}},{"$f":"#REF!","v":{"$error":"#REF!"}},{"$f":"#REF!","v":{"$error":"#REF!"}},{"$f":"#REF!","v":{"$error":"#REF!"}}]
[66,{"$f":"'w-E_R'!B118","v":"W17/04-Regel"},{"$f":"'w-E_R'!D118","v":0},{"$f":"'w-E_R'!L118","v":0},{"$f":"'w-E_R'!M118","v":0},null,{"$error":"#REF!"},{"$f":"#REF!","v":{"$error":"#REF!"}},{"$f":"#REF!","v":{"$error":"#REF!"}},{"$f":"#REF!","v":{"$error":"#REF!"}},{"$f":"#REF!","v":{"$error":"#REF!"}}]
[66,{"$f":"'w-E_R'!B119","v":"W17/05-Regel"},{"$f":"'w-E_R'!D119","v":0},{"$f":"'w-E_R'!L119","v":0},{"$f":"'w-E_R'!M119","v":0},null,{"$error":"#REF!"},{"$f":"#REF!","v":{"$error":"#REF!"}},{"$f":"#REF!","v":{"$error":"#REF!"}},{"$f":"#REF!","v":{"$error":"#REF!"}},{"$f":"#REF!","v":{"$error":"#REF!"}}]
[66,{"$f":"'w-E_R'!B120","v":"W17/06-Regel"},{"$f":"'w-E_R'!D120","v":0},{"$f":"'w-E_R'!L120","v":0},{"$f":"'w-E_R'!M120","v":0},null,{"$error":"#REF!"},{"$f":"#REF!","v":{"$error":"#REF!"}},{"$f":"#REF!","v":{"$error":"#REF!"}},{"$f":"#REF!","v":{"$error":"#REF!"}},{"$f":"#REF!","v":{"$error":"#REF!"}}]
[66,{"$f":"'w-E_R'!B122","v":"W18/01-Regel"},{"$f":"'w-E_R'!D122","v":0},{"$f":"'w-E_R'!L122","v":0},{"$f":"'w-E_R'!M122","v":0},null,{"$error":"#REF!"},{"$f":"#REF!","v":{"$error":"#REF!"}},{"$f":"#REF!","v":{"$error":"#REF!"}},{"$f":"#REF!","v":{"$error":"#REF!"}},{"$f":"#REF!","v":{"$error":"#REF!"}}]
[66,{"$f":"'w-E_R'!B123","v":"W18/02-Regel"},{"$f":"'w-E_R'!D123","v":0},{"$f":"'w-E_R'!L123","v":0},{"$f":"'w-E_R'!M123","v":0},null,{"$error":"#REF!"},{"$f":"#REF!","v":{"$error":"#REF!"}},{"$f":"#REF!","v":{"$error":"#REF!"}},{"$f":"#REF!","v":{"$error":"#REF!"}},{"$f":"#REF!","v":{"$error":"#REF!"}}]
[66,{"$f":"'w-E_R'!B124","v":"W18/03-Regel"},{"$f":"'w-E_R'!D124","v":0},{"$f":"'w-E_R'!L124","v":0},{"$f":"'w-E_R'!M124","v":0},null,{"$error":"#REF!"},{"$f":"#REF!","v":{"$error":"#REF!"}},{"$f":"#REF!","v":{"$error":"#REF!"}},{"$f":"#REF!","v":{"$error":"#REF!"}},{"$f":"#REF!","v":{"$error":"#REF!"}}]
[66,{"$f":"'w-E_R'!B125","v":"W18/04-Regel"},{"$f":"'w-E_R'!D125","v":0},{"$f":"'w-E_R'!L125","v":0},{"$f":"'w-E_R'!M125","v":0},null,{"$error":"#REF!"},{"$f":"#REF!","v":{"$error":"#REF!"}},{"$f":"#REF!","v":{"$error":"#REF!"}},{"$f":"#REF!","v":{"$error":"#REF!"}},{"$f":"#REF!","v":{"$error":"#REF!"}}]
[66,{"$f":"'w-E_R'!B126","v":"W18/05-Regel"},{"$f":"'w-E_R'!D126","v":0},{"$f":"'w-E_R'!L126","v":0},{"$f":"'w-E_R'!M126","v":0},null,{"$error":"#REF!"},{"$f":"#REF!","v":{"$error":"#REF!"}},{"$f":"#REF!","v":{"$error":"#REF!"}},{"$f":"#REF!","v":{"$error":"#REF!"}},{"$f":"#REF!","v":{"$error":"#REF!"}}]
[66,{"$f":"'w-E_R'!B127","v":"W18/06-Regel"},{"$f":"'w-E_R'!D127","v":0},{"$f":"'w-E_R'!L127","v":0},{"$f":"'w-E_R'!M127","v":0},null,{"$error":"#REF!"},{"$f":"#REF!","v":{"$error":"#REF!"}},{"$f":"#REF!","v":{"$error":"#REF!"}},{"$f":"#REF!","v":{"$error":"#REF!"}},{"$f":"#REF!","v":{"$error":"#REF!"}}]
[66,{"$f":"'w-E_R'!B129","v":"W19/01-Regel"},{"$f":"'w-E_R'!D129","v":0},{"$f":"'w-E_R'!L129","v":0},{"$f":"'w-E_R'!M129","v":0},null,{"$error":"#REF!"},{"$f":"#REF!","v":{"$error":"#REF!"}},{"$f":"#REF!","v":{"$error":"#REF!"}},{"$f":"#REF!","v":{"$error":"#REF!"}},{"$f":"#REF!","v":{"$error":"#REF!"}}]
[66,{"$f":"'w-E_R'!B130","v":"W19/02-Regel"},{"$f":"'w-E_R'!D130","v":0},{"$f":"'w-E_R'!L130","v":0},{"$f":"'w-E_R'!M130","v":0},null,{"$error":"#REF!"},{"$f":"#REF!","v":{"$error":"#REF!"}},{"$f":"#REF!","v":{"$error":"#REF!"}},{"$f":"#REF!","v":{"$error":"#REF!"}},{"$f":"#REF!","v":{"$error":"#REF!"}}]
[66,{"$f":"'w-E_R'!B131","v":"W19/03-Regel"},{"$f":"'w-E_R'!D131","v":0},{"$f":"'w-E_R'!L131","v":0},{"$f":"'w-E_R'!M131","v":0},null,{"$error":"#REF!"},{"$f":"#REF!","v":{"$error":"#REF!"}},{"$f":"#REF!","v":{"$error":"#REF!"}},{"$f":"#REF!","v":{"$error":"#REF!"}},{"$f":"#REF!","v":{"$error":"#REF!"}}]
[66,{"$f":"'w-E_R'!B132","v":"W19/04-Regel"},{"$f":"'w-E_R'!D132","v":0},{"$f":"'w-E_R'!L132","v":0},{"$f":"'w-E_R'!M132","v":0},null,{"$error":"#REF!"},{"$f":"#REF!","v":{"$error":"#REF!"}},{"$f":"#REF!","v":{"$error":"#REF!"}},{"$f":"#REF!","v":{"$error":"#REF!"}},{"$f":"#REF!","v":{"$error":"#REF!"}}]
[66,{"$f":"'w-E_R'!B133","v":"W19/05-Regel"},{"$f":"'w-E_R'!D133","v":0},{"$f":"'w-E_R'!L133","v":0},{"$f":"'w-E_R'!M133","v":0},null,{"$error":"#REF!"},{"$f":"#REF!","v":{"$error":"#REF!"}},{"$f":"#REF!","v":{"$error":"#REF!"}},{"$f":"#REF!","v":{"$error":"#REF!"}},{"$f":"#REF!","v":{"$error":"#REF!"}}]
[66,{"$f":"'w-E_R'!B134","v":"W19/06-Regel"},{"$f":"'w-E_R'!D134","v":0},{"$f":"'w-E_R'!L134","v":0},{"$f":"'w-E_R'!M134","v":0},null,{"$error":"#REF!"},{"$f":"#REF!","v":{"$error":"#REF!"}},{"$f":"#REF!","v":{"$error":"#REF!"}},{"$f":"#REF!","v":{"$error":"#REF!"}},{"$f":"#REF!","v":{"$error":"#REF!"}}]
[66,{"$f":"'w-E_R'!B136","v":"W20/01-Regel"},{"$f":"'w-E_R'!D136","v":0},{"$f":"'w-E_R'!L136","v":0},{"$f":"'w-E_R'!M136","v":0},null,{"$error":"#REF!"},{"$f":"#REF!","v":{"$error":"#REF!"}},{"$f":"#REF!","v":{"$error":"#REF!"}},{"$f":"#REF!","v":{"$error":"#REF!"}},{"$f":"#REF!","v":{"$error":"#REF!"}}]
[66,{"$f":"'w-E_R'!B137","v":"W20/02-Regel"},{"$f":"'w-E_R'!D137","v":0},{"$f":"'w-E_R'!L137","v":0},{"$f":"'w-E_R'!M137","v":0},null,{"$error":"#REF!"},{"$f":"#REF!","v":{"$error":"#REF!"}},{"$f":"#REF!","v":{"$error":"#REF!"}},{"$f":"#REF!","v":{"$error":"#REF!"}},{"$f":"#REF!","v":{"$error":"#REF!"}}]
[66,{"$f":"'w-E_R'!B138","v":"W20/03-Regel"},{"$f":"'w-E_R'!D138","v":0},{"$f":"'w-E_R'!L138","v":0},{"$f":"'w-E_R'!M138","v":0},null,{"$error":"#REF!"},{"$f":"#REF!","v":{"$error":"#REF!"}},{"$f":"#REF!","v":{"$error":"#REF!"}},{"$f":"#REF!","v":{"$error":"#REF!"}},{"$f":"#REF!","v":{"$error":"#REF!"}}]
[66,{"$f":"'w-E_R'!B139","v":"W20/04-Regel"},{"$f":"'w-E_R'!D139","v":0},{"$f":"'w-E_R'!L139","v":0},{"$f":"'w-E_R'!M139","v":0},null,{"$error":"#REF!"},{"$f":"#REF!","v":{"$error":"#REF!"}},{"$f":"#REF!","v":{"$error":"#REF!"}},{"$f":"#REF!","v":{"$error":"#REF!"}},{"$f":"#REF!","v":{"$error":"#REF!"}}]
[66,{"$f":"'w-E_R'!B140","v":"W20/05-Regel"},{"$f":"'w-E_R'!D140","v":0},{"$f":"'w-E_R'!L140","v":0},{"$f":"'w-E_R'!M140","v":0},null,{"$error":"#REF!"},{"$f":"#REF!","v":{"$error":"#REF!"}},{"$f":"#REF!","v":{"$error":"#REF!"}},{"$f":"#REF!","v":{"$error":"#REF!"}},{"$f":"#REF!","v":{"$error":"#REF!"}}]
[66,{"$f":"'w-E_R'!B141","v":"W20/06-Regel"},{"$f":"'w-E_R'!D141","v":0},{"$f":"'w-E_R'!L141","v":0},{"$f":"'w-E_R'!M141","v":0},null,{"$error":"#REF!"},{"$f":"#REF!","v":{"$error":"#REF!"}},{"$f":"#REF!","v":{"$error":"#REF!"}},{"$f":"#REF!","v":{"$error":"#REF!"}},{"$f":"#REF!","v":{"$error":"#REF!"}}]
["Einzelwertung Weit Weiblich",null,{"$f":"'w-E_R'!C1","v":"D-C/Regel-Schulen"},{"$f":"'w-E_R'!E1","v":"Ortsangabe,Datum"},null,null,"Einzelwertung Weit Männlich",null,{"$f":"#REF!","v":{"$error":"#REF!"}},{"$f":"#REF!","v":{"$error":"#REF!"}}]
["Einzelwertung Weit",null,{"$f":"#REF!","v":{"$error":"#REF!"}},{"$f":"#REF!","v":{"$error":"#REF!"}},null,null,"Einzelwertung Weit",null,{"$f":"#REF!","v":{"$error":"#REF!"}},{"$f":"#REF!","v":{"$error":"#REF!"}}]
["Rang","WEIBLICH","Schule:","Leistung","Punkte",null,"Rang","MÄNNLICH","Schule:","Leistung","Punkte"]
[{"$f":"RANK(E126,$E$126:$E245,0)","v":{"$error":"#REF!"}},{"$f":"#REF!","v":{"$error":"#REF!"}},{"$f":"#REF!","v":{"$error":"#REF!"}},{"$f":"#REF!","v":{"$error":"#REF!"}},{"$f":"#REF!","v":{"$error":"#REF!"}},null,{"$f":"RANK(K126,$K$126:$K245,0)","v":{"$error":"#REF!"}},{"$f":"#REF!","v":{"$error":"#REF!"}},{"$f":"#REF!","v":{"$error":"#REF!"}},{"$f":"#REF!","v":{"$error":"#REF!"}},{"$f":"#REF!","v":{"$error":"#REF!"}}]
[{"$f":"RANK(E127,$E$126:$E245,0)","v":{"$error":"#REF!"}},{"$f":"#REF!","v":{"$error":"#REF!"}},{"$f":"#REF!","v":{"$error":"#REF!"}},{"$f":"#REF!","v":{"$error":"#REF!"}},{"$f":"#REF!","v":{"$error":"#REF!"}},null,{"$f":"RANK(K127,$K$126:$K245,0)","v":{"$error":"#REF!"}},{"$f":"#REF!","v":{"$error":"#REF!"}},{"$f":"#REF!","v":{"$error":"#REF!"}},{"$f":"#REF!","v":{"$error":"#REF!"}},{"$f":"#REF!","v":{"$error":"#REF!"}}]
[{"$f":"RANK(E128,$E$126:$E245,0)","v":{"$error":"#REF!"}},{"$f":"#REF!","v":{"$error":"#REF!"}},{"$f":"#REF!","v":{"$error":"#REF!"}},{"$f":"#REF!","v":{"$error":"#REF!"}},{"$f":"#REF!","v":{"$error":"#REF!"}},null,{"$f":"RANK(K128,$K$126:$K245,0)","v":{"$error":"#REF!"}},{"$f":"#REF!","v":{"$error":"#REF!"}},{"$f":"#REF!","v":{"$error":"#REF!"}},{"$f":"#REF!","v":{"$error":"#REF!"}},{"$f":"#REF!","v":{"$error":"#REF!"}}]
[{"$f":"RANK(E129,$E$126:$E245,0)","v":{"$error":"#REF!"}},{"$f":"#REF!","v":{"$error":"#REF!"}},{"$f":"#REF!","v":{"$error":"#REF!"}},{"$f":"#REF!","v":{"$error":"#REF!"}},{"$f":"#REF!","v":{"$error":"#REF!"}},null,{"$f":"RANK(K129,$K$126:$K245,0)","v":{"$error":"#REF!"}},{"$f":"#REF!","v":{"$error":"#REF!"}},{"$f":"#REF!","v":{"$error":"#REF!"}},{"$f":"#REF!","v":{"$error":"#REF!"}},{"$f":"#REF!","v":{"$error":"#REF!"}}]
[{"$f":"RANK(E130,$E$126:$E245,0)","v":{"$error":"#REF!"}},{"$f":"#REF!","v":{"$error":"#REF!"}},{"$f":"#REF!","v":{"$error":"#REF!"}},{"$f":"#REF!","v":{"$error":"#REF!"}},{"$f":"#REF!","v":{"$error":"#REF!"}},null,{"$f":"RANK(K130,$K$126:$K245,0)","v":{"$error":"#REF!"}},{"$f":"#REF!","v":{"$error":"#REF!"}},{"$f":"#REF!","v":{"$error":"#REF!"}},{"$f":"#REF!","v":{"$error":"#REF!"}},{"$f":"#REF!","v":{"$error":"#REF!"}}]
[{"$f":"RANK(E131,$E$126:$E245,0)","v":{"$error":"#REF!"}},{"$f":"#REF!","v":{"$error":"#REF!"}},{"$f":"#REF!","v":{"$error":"#REF!"}},{"$f":"#REF!","v":{"$error":"#REF!"}},{"$f":"#REF!","v":{"$error":"#REF!"}},null,{"$f":"RANK(K131,$K$126:$K245,0)","v":{"$error":"#REF!"}},{"$f":"#REF!","v":{"$error":"#REF!"}},{"$f":"#REF!","v":{"$error":"#REF!"}},{"$f":"#REF!","v":{"$error":"#REF!"}},{"$f":"#REF!","v":{"$error":"#REF!"}}]
[{"$f":"RANK(E132,$E$126:$E245,0)","v":{"$error":"#REF!"}},{"$f":"#REF!","v":{"$error":"#REF!"}},{"$f":"#REF!","v":{"$error":"#REF!"}},{"$f":"#REF!","v":{"$error":"#REF!"}},{"$f":"#REF!","v":{"$error":"#REF!"}},null,{"$f":"RANK(K132,$K$126:$K245,0)","v":{"$error":"#REF!"}},{"$f":"#REF!","v":{"$error":"#REF!"}},{"$f":"#REF!","v":{"$error":"#REF!"}},{"$f":"#REF!","v":{"$error":"#REF!"}},{"$f":"#REF!","v":{"$error":"#REF!"}}]
[{"$f":"RANK(E133,$E$126:$E245,0)","v":{"$error":"#REF!"}},{"$f":"#REF!","v":{"$error":"#REF!"}},{"$f":"#REF!","v":{"$error":"#REF!"}},{"$f":"#REF!","v":{"$error":"#REF!"}},{"$f":"#REF!","v":{"$error":"#REF!"}},null,{"$f":"RANK(K133,$K$126:$K245,0)","v":{"$error":"#REF!"}},{"$f":"#REF!","v":{"$error":"#REF!"}},{"$f":"#REF!","v":{"$error":"#REF!"}},{"$f":"#REF!","v":{"$error":"#REF!"}},{"$f":"#REF!","v":{"$error":"#REF!"}}]
[{"$f":"RANK(E134,$E$126:$E245,0)","v":{"$error":"#REF!"}},{"$f":"#REF!","v":{"$error":"#REF!"}},{"$f":"#REF!","v":{"$error":"#REF!"}},{"$f":"#REF!","v":{"$error":"#REF!"}},{"$f":"#REF!","v":{"$error":"#REF!"}},null,{"$f":"RANK(K134,$K$126:$K245,0)","v":{"$error":"#REF!"}},{"$f":"#REF!","v":{"$error":"#REF!"}},{"$f":"#REF!","v":{"$error":"#REF!"}},{"$f":"#REF!","v":{"$error":"#REF!"}},{"$f":"#REF!","v":{"$error":"#REF!"}}]
[{"$f":"RANK(E135,$E$126:$E245,0)","v":{"$error":"#REF!"}},{"$f":"#REF!","v":{"$error":"#REF!"}},{"$f":"#REF!","v":{"$error":"#REF!"}},{"$f":"#REF!","v":{"$error":"#REF!"}},{"$f":"#REF!","v":{"$error":"#REF!"}},null,{"$f":"RANK(K135,$K$126:$K245,0)","v":{"$error":"#REF!"}},{"$f":"#REF!","v":{"$error":"#REF!"}},{"$f":"#REF!","v":{"$error":"#REF!"}},{"$f":"#REF!","v":{"$error":"#REF!"}},{"$f":"#REF!","v":{"$error":"#REF!"}}]
[{"$f":"RANK(E136,$E$126:$E245,0)","v":{"$error":"#REF!"}},{"$f":"#REF!","v":{"$error":"#REF!"}},{"$f":"#REF!","v":{"$error":"#REF!"}},{"$f":"#REF!","v":{"$error":"#REF!"}},{"$f":"#REF!","v":{"$error":"#REF!"}},null,{"$f":"RANK(K136,$K$126:$K245,0)","v":{"$error":"#REF!"}},{"$f":"#REF!","v":{"$error":"#REF!"}},{"$f":"#REF!","v":{"$error":"#REF!"}},{"$f":"#REF!","v":{"$error":"#REF!"}},{"$f":"#REF!","v":{"$error":"#REF!"}}]
[{"$f":"RANK(E137,$E$126:$E245,0)","v":{"$error":"#REF!"}},{"$f":"#REF!","v":{"$error":"#REF!"}},{"$f":"#REF!","v":{"$error":"#REF!"}},{"$f":"#REF!","v":{"$error":"#REF!"}},{"$f":"#REF!","v":{"$error":"#REF!"}},null,{"$f":"RANK(K137,$K$126:$K245,0)","v":{"$error":"#REF!"}},{"$f":"#REF!","v":{"$error":"#REF!"}},{"$f":"#REF!","v":{"$error":"#REF!"}},{"$f":"#REF!","v":{"$error":"#REF!"}},{"$f":"#REF!","v":{"$error":"#REF!"}}]
[{"$f":"RANK(E138,$E$126:$E245,0)","v":{"$error":"#REF!"}},{"$f":"#REF!","v":{"$error":"#REF!"}},{"$f":"#REF!","v":{"$error":"#REF!"}},{"$f":"#REF!","v":{"$error":"#REF!"}},{"$f":"#REF!","v":{"$error":"#REF!"}},null,{"$f":"RANK(K138,$K$126:$K245,0)","v":{"$error":"#REF!"}},{"$f":"#REF!","v":{"$error":"#REF!"}},{"$f":"#REF!","v":{"$error":"#REF!"}},{"$f":"#REF!","v":{"$error":"#REF!"}},{"$f":"#REF!","v":{"$error":"#REF!"}}]
[{"$f":"RANK(E139,$E$126:$E245,0)","v":{"$error":"#REF!"}},{"$f":"#REF!","v":{"$error":"#REF!"}},{"$f":"#REF!","v":{"$error":"#REF!"}},{"$f":"#REF!","v":{"$error":"#REF!"}},{"$f":"#REF!","v":{"$error":"#REF!"}},null,{"$f":"RANK(K139,$K$126:$K245,0)","v":{"$error":"#REF!"}},{"$f":"#REF!","v":{"$error":"#REF!"}},{"$f":"#REF!","v":{"$error":"#REF!"}},{"$f":"#REF!","v":{"$error":"#REF!"}},{"$f":"#REF!","v":{"$error":"#REF!"}}]
[{"$f":"RANK(E140,$E$126:$E245,0)","v":{"$error":"#REF!"}},{"$f":"#REF!","v":{"$error":"#REF!"}},{"$f":"#REF!","v":{"$error":"#REF!"}},{"$f":"#REF!","v":{"$error":"#REF!"}},{"$f":"#REF!","v":{"$error":"#REF!"}},null,{"$f":"RANK(K140,$K$126:$K245,0)","v":{"$error":"#REF!"}},{"$f":"#REF!","v":{"$error":"#REF!"}},{"$f":"#REF!","v":{"$error":"#REF!"}},{"$f":"#REF!","v":{"$error":"#REF!"}},{"$f":"#REF!","v":{"$error":"#REF!"}}]
[{"$f":"RANK(E141,$E$126:$E245,0)","v":{"$error":"#REF!"}},{"$f":"#REF!","v":{"$error":"#REF!"}},{"$f":"#REF!","v":{"$error":"#REF!"}},{"$f":"#REF!","v":{"$error":"#REF!"}},{"$f":"#REF!","v":{"$error":"#REF!"}},null,{"$f":"RANK(K141,$K$126:$K245,0)","v":{"$error":"#REF!"}},{"$f":"#REF!","v":{"$error":"#REF!"}},{"$f":"#REF!","v":{"$error":"#REF!"}},{"$f":"#REF!","v":{"$error":"#REF!"}},{"$f":"#REF!","v":{"$error":"#REF!"}}]
[{"$f":"RANK(E142,$E$126:$E245,0)","v":{"$error":"#REF!"}},{"$f":"#REF!","v":{"$error":"#REF!"}},{"$f":"#REF!","v":{"$error":"#REF!"}},{"$f":"#REF!","v":{"$error":"#REF!"}},{"$f":"#REF!","v":{"$error":"#REF!"}},null,{"$f":"RANK(K142,$K$126:$K245,0)","v":{"$error":"#REF!"}},{"$f":"#REF!","v":{"$error":"#REF!"}},{"$f":"#REF!","v":{"$error":"#REF!"}},{"$f":"#REF!","v":{"$error":"#REF!"}},{"$f":"#REF!","v":{"$error":"#REF!"}}]
[{"$f":"RANK(E143,$E$126:$E245,0)","v":{"$error":"#REF!"}},{"$f":"#REF!","v":{"$error":"#REF!"}},{"$f":"#REF!","v":{"$error":"#REF!"}},{"$f":"#REF!","v":{"$error":"#REF!"}},{"$f":"#REF!","v":{"$error":"#REF!"}},null,{"$f":"RANK(K143,$K$126:$K245,0)","v":{"$error":"#REF!"}},{"$f":"#REF!","v":{"$error":"#REF!"}},{"$f":"#REF!","v":{"$error":"#REF!"}},{"$f":"#REF!","v":{"$error":"#REF!"}},{"$f":"#REF!","v":{"$error":"#REF!"}}]
[{"$f":"RANK(E144,$E$126:$E245,0)","v":{"$error":"#REF!"}},{"$f":"#REF!","v":{"$error":"#REF!"}},{"$f":"#REF!","v":{"$error":"#REF!"}},{"$f":"#REF!","v":{"$error":"#REF!"}},{"$f":"#REF!","v":{"$error":"#REF!"}},null,{"$f":"RANK(K144,$K$126:$K245,0)","v":{"$error":"#REF!"}},{"$f":"#REF!","v":{"$error":"#REF!"}},{"$f":"#REF!","v":{"$error":"#REF!"}},{"$f":"#REF!","v":{"$error":"#REF!"}},{"$f":"#REF!","v":{"$error":"#REF!"}}]
[{"$f":"RANK(E145,$E$126:$E245,0)","v":{"$error":"#REF!"}},{"$f":"#REF!","v":{"$error":"#REF!"}},{"$f":"#REF!","v":{"$error":"#REF!"}},{"$f":"#REF!","v":{"$error":"#REF!"}},{"$f":"#REF!","v":{"$error":"#REF!"}},null,{"$f":"RANK(K145,$K$126:$K245,0)","v":{"$error":"#REF!"}},{"$f":"#REF!","v":{"$error":"#REF!"}},{"$f":"#REF!","v":{"$error":"#REF!"}},{"$f":"#REF!","v":{"$error":"#REF!"}},{"$f":"#REF!","v":{"$error":"#REF!"}}]
[{"$f":"RANK(E146,$E$126:$E245,0)","v":{"$error":"#REF!"}},{"$f":"#REF!","v":{"$error":"#REF!"}},{"$f":"#REF!","v":{"$error":"#REF!"}},{"$f":"#REF!","v":{"$error":"#REF!"}},{"$f":"#REF!","v":{"$error":"#REF!"}},null,{"$f":"RANK(K146,$K$126:$K245,0)","v":{"$error":"#REF!"}},{"$f":"#REF!","v":{"$error":"#REF!"}},{"$f":"#REF!","v":{"$error":"#REF!"}},{"$f":"#REF!","v":{"$error":"#REF!"}},{"$f":"#REF!","v":{"$error":"#REF!"}}]
[{"$f":"RANK(E147,$E$126:$E245,0)","v":{"$error":"#REF!"}},{"$f":"#REF!","v":{"$error":"#REF!"}},{"$f":"#REF!","v":{"$error":"#REF!"}},{"$f":"#REF!","v":{"$error":"#REF!"}},{"$f":"#REF!","v":{"$error":"#REF!"}},null,{"$f":"RANK(K147,$K$126:$K245,0)","v":{"$error":"#REF!"}},{"$f":"#REF!","v":{"$error":"#REF!"}},{"$f":"#REF!","v":{"$error":"#REF!"}},{"$f":"#REF!","v":{"$error":"#REF!"}},{"$f":"#REF!","v":{"$error":"#REF!"}}]
[{"$f":"RANK(E148,$E$126:$E245,0)","v":{"$error":"#REF!"}},{"$f":"#REF!","v":{"$error":"#REF!"}},{"$f":"#REF!","v":{"$error":"#REF!"}},{"$f":"#REF!","v":{"$error":"#REF!"}},{"$f":"#REF!","v":{"$error":"#REF!"}},null,{"$f":"RANK(K148,$K$126:$K245,0)","v":{"$error":"#REF!"}},{"$f":"#REF!","v":{"$error":"#REF!"}},{"$f":"#REF!","v":{"$error":"#REF!"}},{"$f":"#REF!","v":{"$error":"#REF!"}},{"$f":"#REF!","v":{"$error":"#REF!"}}]
[{"$f":"RANK(E149,$E$126:$E245,0)","v":{"$error":"#REF!"}},{"$f":"#REF!","v":{"$error":"#REF!"}},{"$f":"#REF!","v":{"$error":"#REF!"}},{"$f":"#REF!","v":{"$error":"#REF!"}},{"$f":"#REF!","v":{"$error":"#REF!"}},null,{"$f":"RANK(K149,$K$126:$K245,0)","v":{"$error":"#REF!"}},{"$f":"#REF!","v":{"$error":"#REF!"}},{"$f":"#REF!","v":{"$error":"#REF!"}},{"$f":"#REF!","v":{"$error":"#REF!"}},{"$f":"#REF!","v":{"$error":"#REF!"}}]
[{"$f":"RANK(E150,$E$126:$E245,0)","v":{"$error":"#REF!"}},{"$f":"#REF!","v":{"$error":"#REF!"}},{"$f":"#REF!","v":{"$error":"#REF!"}},{"$f":"#REF!","v":{"$error":"#REF!"}},{"$f":"#REF!","v":{"$error":"#REF!"}},null,{"$f":"RANK(K150,$K$126:$K245,0)","v":{"$error":"#REF!"}},{"$f":"#REF!","v":{"$error":"#REF!"}},{"$f":"#REF!","v":{"$error":"#REF!"}},{"$f":"#REF!","v":{"$error":"#REF!"}},{"$f":"#REF!","v":{"$error":"#REF!"}}]
[{"$f":"RANK(E151,$E$126:$E245,0)","v":{"$error":"#REF!"}},{"$f":"#REF!","v":{"$error":"#REF!"}},{"$f":"#REF!","v":{"$error":"#REF!"}},{"$f":"#REF!","v":{"$error":"#REF!"}},{"$f":"#REF!","v":{"$error":"#REF!"}},null,{"$f":"RANK(K151,$K$126:$K245,0)","v":{"$error":"#REF!"}},{"$f":"#REF!","v":{"$error":"#REF!"}},{"$f":"#REF!","v":{"$error":"#REF!"}},{"$f":"#REF!","v":{"$error":"#REF!"}},{"$f":"#REF!","v":{"$error":"#REF!"}}]
[{"$f":"RANK(E152,$E$126:$E245,0)","v":{"$error":"#REF!"}},{"$f":"#REF!","v":{"$error":"#REF!"}},{"$f":"#REF!","v":{"$error":"#REF!"}},{"$f":"#REF!","v":{"$error":"#REF!"}},{"$f":"#REF!","v":{"$error":"#REF!"}},null,{"$f":"RANK(K152,$K$126:$K245,0)","v":{"$error":"#REF!"}},{"$f":"#REF!","v":{"$error":"#REF!"}},{"$f":"#REF!","v":{"$error":"#REF!"}},{"$f":"#REF!","v":{"$error":"#REF!"}},{"$f":"#REF!","v":{"$error":"#REF!"}}]
[{"$f":"RANK(E153,$E$126:$E245,0)","v":{"$error":"#REF!"}},{"$f":"#REF!","v":{"$error":"#REF!"}},{"$f":"#REF!","v":{"$error":"#REF!"}},{"$f":"#REF!","v":{"$error":"#REF!"}},{"$f":"#REF!","v":{"$error":"#REF!"}},null,{"$f":"RANK(K153,$K$126:$K245,0)","v":{"$error":"#REF!"}},{"$f":"#REF!","v":{"$error":"#REF!"}},{"$f":"#REF!","v":{"$error":"#REF!"}},{"$f":"#REF!","v":{"$error":"#REF!"}},{"$f":"#REF!","v":{"$error":"#REF!"}}]
[{"$f":"RANK(E154,$E$126:$E245,0)","v":{"$error":"#REF!"}},{"$f":"#REF!","v":{"$error":"#REF!"}},{"$f":"#REF!","v":{"$error":"#REF!"}},{"$f":"#REF!","v":{"$error":"#REF!"}},{"$f":"#REF!","v":{"$error":"#REF!"}},null,{"$f":"RANK(K154,$K$126:$K245,0)","v":{"$error":"#REF!"}},{"$f":"#REF!","v":{"$error":"#REF!"}},{"$f":"#REF!","v":{"$error":"#REF!"}},{"$f":"#REF!","v":{"$error":"#REF!"}},{"$f":"#REF!","v":{"$error":"#REF!"}}]
[{"$f":"RANK(E155,$E$126:$E245,0)","v":{"$error":"#REF!"}},{"$f":"#REF!","v":{"$error":"#REF!"}},{"$f":"#REF!","v":{"$error":"#REF!"}},{"$f":"#REF!","v":{"$error":"#REF!"}},{"$f":"#REF!","v":{"$error":"#REF!"}},null,{"$f":"RANK(K155,$K$126:$K245,0)","v":{"$error":"#REF!"}},{"$f":"#REF!","v":{"$error":"#REF!"}},{"$f":"#REF!","v":{"$error":"#REF!"}},{"$f":"#REF!","v":{"$error":"#REF!"}},{"$f":"#REF!","v":{"$error":"#REF!"}}]
[{"$f":"RANK(E156,$E$126:$E245,0)","v":{"$error":"#REF!"}},{"$f":"#REF!","v":{"$error":"#REF!"}},{"$f":"#REF!","v":{"$error":"#REF!"}},{"$f":"#REF!","v":{"$error":"#REF!"}},{"$f":"#REF!","v":{"$error":"#REF!"}},null,{"$f":"RANK(K156,$K$126:$K245,0)","v":{"$error":"#REF!"}},{"$f":"#REF!","v":{"$error":"#REF!"}},{"$f":"#REF!","v":{"$error":"#REF!"}},{"$f":"#REF!","v":{"$error":"#REF!"}},{"$f":"#REF!","v":{"$error":"#REF!"}}]
[{"$f":"RANK(E157,$E$126:$E245,0)","v":{"$error":"#REF!"}},{"$f":"#REF!","v":{"$error":"#REF!"}},{"$f":"#REF!","v":{"$error":"#REF!"}},{"$f":"#REF!","v":{"$error":"#REF!"}},{"$f":"#REF!","v":{"$error":"#REF!"}},null,{"$f":"RANK(K157,$K$126:$K245,0)","v":{"$error":"#REF!"}},{"$f":"#REF!","v":{"$error":"#REF!"}},{"$f":"#REF!","v":{"$error":"#REF!"}},{"$f":"#REF!","v":{"$error":"#REF!"}},{"$f":"#REF!","v":{"$error":"#REF!"}}]
[{"$f":"RANK(E158,$E$126:$E245,0)","v":{"$error":"#REF!"}},{"$f":"#REF!","v":{"$error":"#REF!"}},{"$f":"#REF!","v":{"$error":"#REF!"}},{"$f":"#REF!","v":{"$error":"#REF!"}},{"$f":"#REF!","v":{"$error":"#REF!"}},null,{"$f":"RANK(K158,$K$126:$K245,0)","v":{"$error":"#REF!"}},{"$f":"#REF!","v":{"$error":"#REF!"}},{"$f":"#REF!","v":{"$error":"#REF!"}},{"$f":"#REF!","v":{"$error":"#REF!"}},{"$f":"#REF!","v":{"$error":"#REF!"}}]
[{"$f":"RANK(E159,$E$126:$E245,0)","v":{"$error":"#REF!"}},{"$f":"#REF!","v":{"$error":"#REF!"}},{"$f":"#REF!","v":{"$error":"#REF!"}},{"$f":"#REF!","v":{"$error":"#REF!"}},{"$f":"#REF!","v":{"$error":"#REF!"}},null,{"$f":"RANK(K159,$K$126:$K245,0)","v":{"$error":"#REF!"}},{"$f":"#REF!","v":{"$error":"#REF!"}},{"$f":"#REF!","v":{"$error":"#REF!"}},{"$f":"#REF!","v":{"$error":"#REF!"}},{"$f":"#REF!","v":{"$error":"#REF!"}}]
[{"$f":"RANK(E160,$E$126:$E245,0)","v":{"$error":"#REF!"}},{"$f":"#REF!","v":{"$error":"#REF!"}},{"$f":"#REF!","v":{"$error":"#REF!"}},{"$f":"#REF!","v":{"$error":"#REF!"}},{"$f":"#REF!","v":{"$error":"#REF!"}},null,{"$f":"RANK(K160,$K$126:$K245,0)","v":{"$error":"#REF!"}},{"$f":"#REF!","v":{"$error":"#REF!"}},{"$f":"#REF!","v":{"$error":"#REF!"}},{"$f":"#REF!","v":{"$error":"#REF!"}},{"$f":"#REF!","v":{"$error":"#REF!"}}]
[{"$f":"RANK(E161,$E$126:$E245,0)","v":{"$error":"#REF!"}},{"$f":"#REF!","v":{"$error":"#REF!"}},{"$f":"#REF!","v":{"$error":"#REF!"}},{"$f":"#REF!","v":{"$error":"#REF!"}},{"$f":"#REF!","v":{"$error":"#REF!"}},null,{"$f":"RANK(K161,$K$126:$K245,0)","v":{"$error":"#REF!"}},{"$f":"#REF!","v":{"$error":"#REF!"}},{"$f":"#REF!","v":{"$error":"#REF!"}},{"$f":"#REF!","v":{"$error":"#REF!"}},{"$f":"#REF!","v":{"$error":"#REF!"}}]
[{"$f":"RANK(E162,$E$126:$E245,0)","v":{"$error":"#REF!"}},{"$f":"#REF!","v":{"$error":"#REF!"}},{"$f":"#REF!","v":{"$error":"#REF!"}},{"$f":"#REF!","v":{"$error":"#REF!"}},{"$f":"#REF!","v":{"$error":"#REF!"}},null,{"$f":"RANK(K162,$K$126:$K245,0)","v":{"$error":"#REF!"}},{"$f":"#REF!","v":{"$error":"#REF!"}},{"$f":"#REF!","v":{"$error":"#REF!"}},{"$f":"#REF!","v":{"$error":"#REF!"}},{"$f":"#REF!","v":{"$error":"#REF!"}}]
[{"$f":"RANK(E163,$E$126:$E245,0)","v":{"$error":"#REF!"}},{"$f":"#REF!","v":{"$error":"#REF!"}},{"$f":"#REF!","v":{"$error":"#REF!"}},{"$f":"#REF!","v":{"$error":"#REF!"}},{"$f":"#REF!","v":{"$error":"#REF!"}},null,{"$f":"RANK(K163,$K$126:$K245,0)","v":{"$error":"#REF!"}},{"$f":"#REF!","v":{"$error":"#REF!"}},{"$f":"#REF!","v":{"$error":"#REF!"}},{"$f":"#REF!","v":{"$error":"#REF!"}},{"$f":"#REF!","v":{"$error":"#REF!"}}]
[{"$f":"RANK(E164,$E$126:$E245,0)","v":{"$error":"#REF!"}},{"$f":"#REF!","v":{"$error":"#REF!"}},{"$f":"#REF!","v":{"$error":"#REF!"}},{"$f":"#REF!","v":{"$error":"#REF!"}},{"$f":"#REF!","v":{"$error":"#REF!"}},null,{"$f":"RANK(K164,$K$126:$K245,0)","v":{"$error":"#REF!"}},{"$f":"#REF!","v":{"$error":"#REF!"}},{"$f":"#REF!","v":{"$error":"#REF!"}},{"$f":"#REF!","v":{"$error":"#REF!"}},{"$f":"#REF!","v":{"$error":"#REF!"}}]
[{"$f":"RANK(E165,$E$126:$E245,0)","v":{"$error":"#REF!"}},{"$f":"#REF!","v":{"$error":"#REF!"}},{"$f":"#REF!","v":{"$error":"#REF!"}},{"$f":"#REF!","v":{"$error":"#REF!"}},{"$f":"#REF!","v":{"$error":"#REF!"}},null,{"$f":"RANK(K165,$K$126:$K245,0)","v":{"$error":"#REF!"}},{"$f":"#REF!","v":{"$error":"#REF!"}},{"$f":"#REF!","v":{"$error":"#REF!"}},{"$f":"#REF!","v":{"$error":"#REF!"}},{"$f":"#REF!","v":{"$error":"#REF!"}}]
[{"$f":"RANK(E166,$E$126:$E245,0)","v":{"$error":"#REF!"}},{"$f":"#REF!","v":{"$error":"#REF!"}},{"$f":"#REF!","v":{"$error":"#REF!"}},{"$f":"#REF!","v":{"$error":"#REF!"}},{"$f":"#REF!","v":{"$error":"#REF!"}},null,{"$f":"RANK(K166,$K$126:$K245,0)","v":{"$error":"#REF!"}},{"$f":"#REF!","v":{"$error":"#REF!"}},{"$f":"#REF!","v":{"$error":"#REF!"}},{"$f":"#REF!","v":{"$error":"#REF!"}},{"$f":"#REF!","v":{"$error":"#REF!"}}]
[{"$f":"RANK(E167,$E$126:$E245,0)","v":{"$error":"#REF!"}},{"$f":"#REF!","v":{"$error":"#REF!"}},{"$f":"#REF!","v":{"$error":"#REF!"}},{"$f":"#REF!","v":{"$error":"#REF!"}},{"$f":"#REF!","v":{"$error":"#REF!"}},null,{"$f":"RANK(K167,$K$126:$K245,0)","v":{"$error":"#REF!"}},{"$f":"#REF!","v":{"$error":"#REF!"}},{"$f":"#REF!","v":{"$error":"#REF!"}},{"$f":"#REF!","v":{"$error":"#REF!"}},{"$f":"#REF!","v":{"$error":"#REF!"}}]
[{"$f":"RANK(E168,$E$126:$E245,0)","v":{"$error":"#REF!"}},{"$f":"#REF!","v":{"$error":"#REF!"}},{"$f":"#REF!","v":{"$error":"#REF!"}},{"$f":"#REF!","v":{"$error":"#REF!"}},{"$f":"#REF!","v":{"$error":"#REF!"}},null,{"$f":"RANK(K168,$K$126:$K245,0)","v":{"$error":"#REF!"}},{"$f":"#REF!","v":{"$error":"#REF!"}},{"$f":"#REF!","v":{"$error":"#REF!"}},{"$f":"#REF!","v":{"$error":"#REF!"}},{"$f":"#REF!","v":{"$error":"#REF!"}}]
[{"$f":"RANK(E169,$E$126:$E245,0)","v":{"$error":"#REF!"}},{"$f":"#REF!","v":{"$error":"#REF!"}},{"$f":"#REF!","v":{"$error":"#REF!"}},{"$f":"#REF!","v":{"$error":"#REF!"}},{"$f":"#REF!","v":{"$error":"#REF!"}},null,{"$f":"RANK(K169,$K$126:$K245,0)","v":{"$error":"#REF!"}},{"$f":"#REF!","v":{"$error":"#REF!"}},{"$f":"#REF!","v":{"$error":"#REF!"}},{"$f":"#REF!","v":{"$error":"#REF!"}},{"$f":"#REF!","v":{"$error":"#REF!"}}]
[{"$f":"RANK(E170,$E$126:$E245,0)","v":{"$error":"#REF!"}},{"$f":"#REF!","v":{"$error":"#REF!"}},{"$f":"#REF!","v":{"$error":"#REF!"}},{"$f":"#REF!","v":{"$error":"#REF!"}},{"$f":"#REF!","v":{"$error":"#REF!"}},null,{"$f":"RANK(K170,$K$126:$K245,0)","v":{"$error":"#REF!"}},{"$f":"#REF!","v":{"$error":"#REF!"}},{"$f":"#REF!","v":{"$error":"#REF!"}},{"$f":"#REF!","v":{"$error":"#REF!"}},{"$f":"#REF!","v":{"$error":"#REF!"}}]
[{"$f":"RANK(E171,$E$126:$E245,0)","v":{"$error":"#REF!"}},{"$f":"#REF!","v":{"$error":"#REF!"}},{"$f":"#REF!","v":{"$error":"#REF!"}},{"$f":"#REF!","v":{"$error":"#REF!"}},{"$f":"#REF!","v":{"$error":"#REF!"}},null,{"$f":"RANK(K171,$K$126:$K245,0)","v":{"$error":"#REF!"}},{"$f":"#REF!","v":{"$error":"#REF!"}},{"$f":"#REF!","v":{"$error":"#REF!"}},{"$f":"#REF!","v":{"$error":"#REF!"}},{"$f":"#REF!","v":{"$error":"#REF!"}}]
[{"$f":"RANK(E172,$E$126:$E245,0)","v":{"$error":"#REF!"}},{"$f":"#REF!","v":{"$error":"#REF!"}},{"$f":"#REF!","v":{"$error":"#REF!"}},{"$f":"#REF!","v":{"$error":"#REF!"}},{"$f":"#REF!","v":{"$error":"#REF!"}},null,{"$f":"RANK(K172,$K$126:$K245,0)","v":{"$error":"#REF!"}},{"$f":"#REF!","v":{"$error":"#REF!"}},{"$f":"#REF!","v":{"$error":"#REF!"}},{"$f":"#REF!","v":{"$error":"#REF!"}},{"$f":"#REF!","v":{"$error":"#REF!"}}]
[{"$f":"RANK(E173,$E$126:$E245,0)","v":{"$error":"#REF!"}},{"$f":"#REF!","v":{"$error":"#REF!"}},{"$f":"#REF!","v":{"$error":"#REF!"}},{"$f":"#REF!","v":{"$error":"#REF!"}},{"$f":"#REF!","v":{"$error":"#REF!"}},null,{"$f":"RANK(K173,$K$126:$K245,0)","v":{"$error":"#REF!"}},{"$f":"#REF!","v":{"$error":"#REF!"}},{"$f":"#REF!","v":{"$error":"#REF!"}},{"$f":"#REF!","v":{"$error":"#REF!"}},{"$f":"#REF!","v":{"$error":"#REF!"}}]
[{"$f":"RANK(E174,$E$126:$E245,0)","v":{"$error":"#REF!"}},{"$f":"#REF!","v":{"$error":"#REF!"}},{"$f":"#REF!","v":{"$error":"#REF!"}},{"$f":"#REF!","v":{"$error":"#REF!"}},{"$f":"#REF!","v":{"$error":"#REF!"}},null,{"$f":"RANK(K174,$K$126:$K245,0)","v":{"$error":"#REF!"}},{"$f":"#REF!","v":{"$error":"#REF!"}},{"$f":"#REF!","v":{"$error":"#REF!"}},{"$f":"#REF!","v":{"$error":"#REF!"}},{"$f":"#REF!","v":{"$error":"#REF!"}}]
[{"$f":"RANK(E175,$E$126:$E245,0)","v":{"$error":"#REF!"}},{"$f":"#REF!","v":{"$error":"#REF!"}},{"$f":"#REF!","v":{"$error":"#REF!"}},{"$f":"#REF!","v":{"$error":"#REF!"}},{"$f":"#REF!","v":{"$error":"#REF!"}},null,{"$f":"RANK(K175,$K$126:$K245,0)","v":{"$error":"#REF!"}},{"$f":"#REF!","v":{"$error":"#REF!"}},{"$f":"#REF!","v":{"$error":"#REF!"}},{"$f":"#REF!","v":{"$error":"#REF!"}},{"$f":"#REF!","v":{"$error":"#REF!"}}]
[{"$f":"RANK(E176,$E$126:$E245,0)","v":{"$error":"#REF!"}},{"$f":"#REF!","v":{"$error":"#REF!"}},{"$f":"#REF!","v":{"$error":"#REF!"}},{"$f":"#REF!","v":{"$error":"#REF!"}},{"$f":"#REF!","v":{"$error":"#REF!"}},null,{"$f":"RANK(K176,$K$126:$K245,0)","v":{"$error":"#REF!"}},{"$f":"#REF!","v":{"$error":"#REF!"}},{"$f":"#REF!","v":{"$error":"#REF!"}},{"$f":"#REF!","v":{"$error":"#REF!"}},{"$f":"#REF!","v":{"$error":"#REF!"}}]
[{"$f":"RANK(E177,$E$126:$E245,0)","v":{"$error":"#REF!"}},{"$f":"#REF!","v":{"$error":"#REF!"}},{"$f":"#REF!","v":{"$error":"#REF!"}},{"$f":"#REF!","v":{"$error":"#REF!"}},{"$f":"#REF!","v":{"$error":"#REF!"}},null,{"$f":"RANK(K177,$K$126:$K245,0)","v":{"$error":"#REF!"}},{"$f":"#REF!","v":{"$error":"#REF!"}},{"$f":"#REF!","v":{"$error":"#REF!"}},{"$f":"#REF!","v":{"$error":"#REF!"}},{"$f":"#REF!","v":{"$error":"#REF!"}}]
[{"$f":"RANK(E178,$E$126:$E245,0)","v":{"$error":"#REF!"}},{"$f":"#REF!","v":{"$error":"#REF!"}},{"$f":"#REF!","v":{"$error":"#REF!"}},{"$f":"#REF!","v":{"$error":"#REF!"}},{"$f":"#REF!","v":{"$error":"#REF!"}},null,{"$f":"RANK(K178,$K$126:$K245,0)","v":{"$error":"#REF!"}},{"$f":"#REF!","v":{"$error":"#REF!"}},{"$f":"#REF!","v":{"$error":"#REF!"}},{"$f":"#REF!","v":{"$error":"#REF!"}},{"$f":"#REF!","v":{"$error":"#REF!"}}]
[{"$f":"RANK(E179,$E$126:$E245,0)","v":{"$error":"#REF!"}},{"$f":"#REF!","v":{"$error":"#REF!"}},{"$f":"#REF!","v":{"$error":"#REF!"}},{"$f":"#REF!","v":{"$error":"#REF!"}},{"$f":"#REF!","v":{"$error":"#REF!"}},null,{"$f":"RANK(K179,$K$126:$K245,0)","v":{"$error":"#REF!"}},{"$f":"#REF!","v":{"$error":"#REF!"}},{"$f":"#REF!","v":{"$error":"#REF!"}},{"$f":"#REF!","v":{"$error":"#REF!"}},{"$f":"#REF!","v":{"$error":"#REF!"}}]
[{"$f":"RANK(E180,$E$126:$E245,0)","v":{"$error":"#REF!"}},{"$f":"#REF!","v":{"$error":"#REF!"}},{"$f":"#REF!","v":{"$error":"#REF!"}},{"$f":"#REF!","v":{"$error":"#REF!"}},{"$f":"#REF!","v":{"$error":"#REF!"}},null,{"$f":"RANK(K180,$K$126:$K245,0)","v":{"$error":"#REF!"}},{"$f":"#REF!","v":{"$error":"#REF!"}},{"$f":"#REF!","v":{"$error":"#REF!"}},{"$f":"#REF!","v":{"$error":"#REF!"}},{"$f":"#REF!","v":{"$error":"#REF!"}}]
[{"$f":"RANK(E181,$E$126:$E245,0)","v":{"$error":"#REF!"}},{"$f":"#REF!","v":{"$error":"#REF!"}},{"$f":"#REF!","v":{"$error":"#REF!"}},{"$f":"#REF!","v":{"$error":"#REF!"}},{"$f":"#REF!","v":{"$error":"#REF!"}},null,{"$f":"RANK(K181,$K$126:$K245,0)","v":{"$error":"#REF!"}},{"$f":"#REF!","v":{"$error":"#REF!"}},{"$f":"#REF!","v":{"$error":"#REF!"}},{"$f":"#REF!","v":{"$error":"#REF!"}},{"$f":"#REF!","v":{"$error":"#REF!"}}]
[{"$f":"RANK(E182,$E$126:$E245,0)","v":{"$error":"#REF!"}},{"$f":"#REF!","v":{"$error":"#REF!"}},{"$f":"#REF!","v":{"$error":"#REF!"}},{"$f":"#REF!","v":{"$error":"#REF!"}},{"$f":"#REF!","v":{"$error":"#REF!"}},null,{"$f":"RANK(K182,$K$126:$K245,0)","v":{"$error":"#REF!"}},{"$f":"#REF!","v":{"$error":"#REF!"}},{"$f":"#REF!","v":{"$error":"#REF!"}},{"$f":"#REF!","v":{"$error":"#REF!"}},{"$f":"#REF!","v":{"$error":"#REF!"}}]
[{"$f":"RANK(E183,$E$126:$E245,0)","v":{"$error":"#REF!"}},{"$f":"#REF!","v":{"$error":"#REF!"}},{"$f":"#REF!","v":{"$error":"#REF!"}},{"$f":"#REF!","v":{"$error":"#REF!"}},{"$f":"#REF!","v":{"$error":"#REF!"}},null,{"$f":"RANK(K183,$K$126:$K245,0)","v":{"$error":"#REF!"}},{"$f":"#REF!","v":{"$error":"#REF!"}},{"$f":"#REF!","v":{"$error":"#REF!"}},{"$f":"#REF!","v":{"$error":"#REF!"}},{"$f":"#REF!","v":{"$error":"#REF!"}}]
[{"$f":"RANK(E184,$E$126:$E245,0)","v":{"$error":"#REF!"}},{"$f":"#REF!","v":{"$error":"#REF!"}},{"$f":"#REF!","v":{"$error":"#REF!"}},{"$f":"#REF!","v":{"$error":"#REF!"}},{"$f":"#REF!","v":{"$error":"#REF!"}},null,{"$f":"RANK(K184,$K$126:$K245,0)","v":{"$error":"#REF!"}},{"$f":"#REF!","v":{"$error":"#REF!"}},{"$f":"#REF!","v":{"$error":"#REF!"}},{"$f":"#REF!","v":{"$error":"#REF!"}},{"$f":"#REF!","v":{"$error":"#REF!"}}]
[{"$f":"RANK(E185,$E$126:$E245,0)","v":{"$error":"#REF!"}},{"$f":"#REF!","v":{"$error":"#REF!"}},{"$f":"#REF!","v":{"$error":"#REF!"}},{"$f":"#REF!","v":{"$error":"#REF!"}},{"$f":"#REF!","v":{"$error":"#REF!"}},null,{"$f":"RANK(K185,$K$126:$K245,0)","v":{"$error":"#REF!"}},{"$f":"#REF!","v":{"$error":"#REF!"}},{"$f":"#REF!","v":{"$error":"#REF!"}},{"$f":"#REF!","v":{"$error":"#REF!"}},{"$f":"#REF!","v":{"$error":"#REF!"}}]
[{"$f":"RANK(E186,$E$126:$E245,0)","v":{"$error":"#REF!"}},{"$f":"#REF!","v":{"$error":"#REF!"}},{"$f":"#REF!","v":{"$error":"#REF!"}},{"$f":"#REF!","v":{"$error":"#REF!"}},{"$f":"#REF!","v":{"$error":"#REF!"}},null,{"$f":"RANK(K186,$K$126:$K245,0)","v":{"$error":"#REF!"}},{"$f":"#REF!","v":{"$error":"#REF!"}},{"$f":"#REF!","v":{"$error":"#REF!"}},{"$f":"#REF!","v":{"$error":"#REF!"}},{"$f":"#REF!","v":{"$error":"#REF!"}}]
[{"$f":"RANK(E187,$E$126:$E245,0)","v":{"$error":"#REF!"}},{"$f":"#REF!","v":{"$error":"#REF!"}},{"$f":"#REF!","v":{"$error":"#REF!"}},{"$f":"#REF!","v":{"$error":"#REF!"}},{"$f":"#REF!","v":{"$error":"#REF!"}},null,{"$f":"RANK(K187,$K$126:$K245,0)","v":{"$error":"#REF!"}},{"$f":"#REF!","v":{"$error":"#REF!"}},{"$f":"#REF!","v":{"$error":"#REF!"}},{"$f":"#REF!","v":{"$error":"#REF!"}},{"$f":"#REF!","v":{"$error":"#REF!"}}]
[{"$f":"RANK(E188,$E$126:$E245,0)","v":{"$error":"#REF!"}},{"$f":"#REF!","v":{"$error":"#REF!"}},{"$f":"#REF!","v":{"$error":"#REF!"}},{"$f":"#REF!","v":{"$error":"#REF!"}},{"$f":"#REF!","v":{"$error":"#REF!"}},null,{"$f":"RANK(K188,$K$126:$K245,0)","v":{"$error":"#REF!"}},{"$f":"#REF!","v":{"$error":"#REF!"}},{"$f":"#REF!","v":{"$error":"#REF!"}},{"$f":"#REF!","v":{"$error":"#REF!"}},{"$f":"#REF!","v":{"$error":"#REF!"}}]
[{"$f":"RANK(E189,$E$126:$E245,0)","v":{"$error":"#REF!"}},{"$f":"#REF!","v":{"$error":"#REF!"}},{"$f":"#REF!","v":{"$error":"#REF!"}},{"$f":"#REF!","v":{"$error":"#REF!"}},{"$f":"#REF!","v":{"$error":"#REF!"}},null,{"$f":"RANK(K189,$K$126:$K245,0)","v":{"$error":"#REF!"}},{"$f":"#REF!","v":{"$error":"#REF!"}},{"$f":"#REF!","v":{"$error":"#REF!"}},{"$f":"#REF!","v":{"$error":"#REF!"}},{"$f":"#REF!","v":{"$error":"#REF!"}}]
[{"$f":"RANK(E190,$E$126:$E245,0)","v":{"$error":"#REF!"}},{"$f":"#REF!","v":{"$error":"#REF!"}},{"$f":"#REF!","v":{"$error":"#REF!"}},{"$f":"#REF!","v":{"$error":"#REF!"}},{"$f":"#REF!","v":{"$error":"#REF!"}},null,{"$f":"RANK(K190,$K$126:$K245,0)","v":{"$error":"#REF!"}},{"$f":"#REF!","v":{"$error":"#REF!"}},{"$f":"#REF!","v":{"$error":"#REF!"}},{"$f":"#REF!","v":{"$error":"#REF!"}},{"$f":"#REF!","v":{"$error":"#REF!"}}]
[{"$f":"RANK(E191,$E$126:$E245,0)","v":{"$error":"#REF!"}},{"$f":"#REF!","v":{"$error":"#REF!"}},{"$f":"#REF!","v":{"$error":"#REF!"}},{"$f":"#REF!","v":{"$error":"#REF!"}},{"$f":"#REF!","v":{"$error":"#REF!"}},null,{"$f":"RANK(K191,$K$126:$K245,0)","v":{"$error":"#REF!"}},{"$f":"#REF!","v":{"$error":"#REF!"}},{"$f":"#REF!","v":{"$error":"#REF!"}},{"$f":"#REF!","v":{"$error":"#REF!"}},{"$f":"#REF!","v":{"$error":"#REF!"}}]
[{"$f":"RANK(E192,$E$126:$E245,0)","v":{"$error":"#REF!"}},{"$f":"#REF!","v":{"$error":"#REF!"}},{"$f":"#REF!","v":{"$error":"#REF!"}},{"$f":"#REF!","v":{"$error":"#REF!"}},{"$f":"#REF!","v":{"$error":"#REF!"}},null,{"$f":"RANK(K192,$K$126:$K245,0)","v":{"$error":"#REF!"}},{"$f":"#REF!","v":{"$error":"#REF!"}},{"$f":"#REF!","v":{"$error":"#REF!"}},{"$f":"#REF!","v":{"$error":"#REF!"}},{"$f":"#REF!","v":{"$error":"#REF!"}}]
[{"$f":"RANK(E193,$E$126:$E245,0)","v":{"$error":"#REF!"}},{"$f":"#REF!","v":{"$error":"#REF!"}},{"$f":"#REF!","v":{"$error":"#REF!"}},{"$f":"#REF!","v":{"$error":"#REF!"}},{"$f":"#REF!","v":{"$error":"#REF!"}},null,{"$f":"RANK(K193,$K$126:$K245,0)","v":{"$error":"#REF!"}},{"$f":"#REF!","v":{"$error":"#REF!"}},{"$f":"#REF!","v":{"$error":"#REF!"}},{"$f":"#REF!","v":{"$error":"#REF!"}},{"$f":"#REF!","v":{"$error":"#REF!"}}]
[{"$f":"RANK(E194,$E$126:$E245,0)","v":{"$error":"#REF!"}},{"$f":"#REF!","v":{"$error":"#REF!"}},{"$f":"#REF!","v":{"$error":"#REF!"}},{"$f":"#REF!","v":{"$error":"#REF!"}},{"$f":"#REF!","v":{"$error":"#REF!"}},null,{"$f":"RANK(K194,$K$126:$K245,0)","v":{"$error":"#REF!"}},{"$f":"#REF!","v":{"$error":"#REF!"}},{"$f":"#REF!","v":{"$error":"#REF!"}},{"$f":"#REF!","v":{"$error":"#REF!"}},{"$f":"#REF!","v":{"$error":"#REF!"}}]
[{"$f":"RANK(E195,$E$126:$E245,0)","v":{"$error":"#REF!"}},{"$f":"#REF!","v":{"$error":"#REF!"}},{"$f":"#REF!","v":{"$error":"#REF!"}},{"$f":"#REF!","v":{"$error":"#REF!"}},{"$f":"#REF!","v":{"$error":"#REF!"}},null,{"$f":"RANK(K195,$K$126:$K245,0)","v":{"$error":"#REF!"}},{"$f":"#REF!","v":{"$error":"#REF!"}},{"$f":"#REF!","v":{"$error":"#REF!"}},{"$f":"#REF!","v":{"$error":"#REF!"}},{"$f":"#REF!","v":{"$error":"#REF!"}}]
[{"$f":"RANK(E196,$E$126:$E245,0)","v":{"$error":"#REF!"}},{"$f":"#REF!","v":{"$error":"#REF!"}},{"$f":"#REF!","v":{"$error":"#REF!"}},{"$f":"#REF!","v":{"$error":"#REF!"}},{"$f":"#REF!","v":{"$error":"#REF!"}},null,{"$f":"RANK(K196,$K$126:$K245,0)","v":{"$error":"#REF!"}},{"$f":"#REF!","v":{"$error":"#REF!"}},{"$f":"#REF!","v":{"$error":"#REF!"}},{"$f":"#REF!","v":{"$error":"#REF!"}},{"$f":"#REF!","v":{"$error":"#REF!"}}]
[{"$f":"RANK(E197,$E$126:$E245,0)","v":{"$error":"#REF!"}},{"$f":"#REF!","v":{"$error":"#REF!"}},{"$f":"#REF!","v":{"$error":"#REF!"}},{"$f":"#REF!","v":{"$error":"#REF!"}},{"$f":"#REF!","v":{"$error":"#REF!"}},null,{"$f":"RANK(K197,$K$126:$K245,0)","v":{"$error":"#REF!"}},{"$f":"#REF!","v":{"$error":"#REF!"}},{"$f":"#REF!","v":{"$error":"#REF!"}},{"$f":"#REF!","v":{"$error":"#REF!"}},{"$f":"#REF!","v":{"$error":"#REF!"}}]
[{"$f":"RANK(E198,$E$126:$E245,0)","v":{"$error":"#REF!"}},{"$f":"#REF!","v":{"$error":"#REF!"}},{"$f":"#REF!","v":{"$error":"#REF!"}},{"$f":"#REF!","v":{"$error":"#REF!"}},{"$f":"#REF!","v":{"$error":"#REF!"}},null,{"$f":"RANK(K198,$K$126:$K245,0)","v":{"$error":"#REF!"}},{"$f":"#REF!","v":{"$error":"#REF!"}},{"$f":"#REF!","v":{"$error":"#REF!"}},{"$f":"#REF!","v":{"$error":"#REF!"}},{"$f":"#REF!","v":{"$error":"#REF!"}}]
[{"$f":"RANK(E199,$E$126:$E245,0)","v":{"$error":"#REF!"}},{"$f":"#REF!","v":{"$error":"#REF!"}},{"$f":"#REF!","v":{"$error":"#REF!"}},{"$f":"#REF!","v":{"$error":"#REF!"}},{"$f":"#REF!","v":{"$error":"#REF!"}},null,{"$f":"RANK(K199,$K$126:$K245,0)","v":{"$error":"#REF!"}},{"$f":"#REF!","v":{"$error":"#REF!"}},{"$f":"#REF!","v":{"$error":"#REF!"}},{"$f":"#REF!","v":{"$error":"#REF!"}},{"$f":"#REF!","v":{"$error":"#REF!"}}]
[{"$f":"RANK(E200,$E$126:$E245,0)","v":{"$error":"#REF!"}},{"$f":"#REF!","v":{"$error":"#REF!"}},{"$f":"#REF!","v":{"$error":"#REF!"}},{"$f":"#REF!","v":{"$error":"#REF!"}},{"$f":"#REF!","v":{"$error":"#REF!"}},null,{"$f":"RANK(K200,$K$126:$K245,0)","v":{"$error":"#REF!"}},{"$f":"#REF!","v":{"$error":"#REF!"}},{"$f":"#REF!","v":{"$error":"#REF!"}},{"$f":"#REF!","v":{"$error":"#REF!"}},{"$f":"#REF!","v":{"$error":"#REF!"}}]
[{"$f":"RANK(E201,$E$126:$E245,0)","v":{"$error":"#REF!"}},{"$f":"#REF!","v":{"$error":"#REF!"}},{"$f":"#REF!","v":{"$error":"#REF!"}},{"$f":"#REF!","v":{"$error":"#REF!"}},{"$f":"#REF!","v":{"$error":"#REF!"}},null,{"$f":"RANK(K201,$K$126:$K245,0)","v":{"$error":"#REF!"}},{"$f":"#REF!","v":{"$error":"#REF!"}},{"$f":"#REF!","v":{"$error":"#REF!"}},{"$f":"#REF!","v":{"$error":"#REF!"}},{"$f":"#REF!","v":{"$error":"#REF!"}}]
[{"$f":"RANK(E202,$E$126:$E245,0)","v":{"$error":"#REF!"}},{"$f":"#REF!","v":{"$error":"#REF!"}},{"$f":"#REF!","v":{"$error":"#REF!"}},{"$f":"#REF!","v":{"$error":"#REF!"}},{"$f":"#REF!","v":{"$error":"#REF!"}},null,{"$f":"RANK(K202,$K$126:$K245,0)","v":{"$error":"#REF!"}},{"$f":"#REF!","v":{"$error":"#REF!"}},{"$f":"#REF!","v":{"$error":"#REF!"}},{"$f":"#REF!","v":{"$error":"#REF!"}},{"$f":"#REF!","v":{"$error":"#REF!"}}]
[{"$f":"RANK(E203,$E$126:$E245,0)","v":{"$error":"#REF!"}},{"$f":"#REF!","v":{"$error":"#REF!"}},{"$f":"#REF!","v":{"$error":"#REF!"}},{"$f":"#REF!","v":{"$error":"#REF!"}},{"$f":"#REF!","v":{"$error":"#REF!"}},null,{"$f":"RANK(K203,$K$126:$K245,0)","v":{"$error":"#REF!"}},{"$f":"#REF!","v":{"$error":"#REF!"}},{"$f":"#REF!","v":{"$error":"#REF!"}},{"$f":"#REF!","v":{"$error":"#REF!"}},{"$f":"#REF!","v":{"$error":"#REF!"}}]
[{"$f":"RANK(E204,$E$126:$E245,0)","v":{"$error":"#REF!"}},{"$f":"#REF!","v":{"$error":"#REF!"}},{"$f":"#REF!","v":{"$error":"#REF!"}},{"$f":"#REF!","v":{"$error":"#REF!"}},{"$f":"#REF!","v":{"$error":"#REF!"}},null,{"$f":"RANK(K204,$K$126:$K245,0)","v":{"$error":"#REF!"}},{"$f":"#REF!","v":{"$error":"#REF!"}},{"$f":"#REF!","v":{"$error":"#REF!"}},{"$f":"#REF!","v":{"$error":"#REF!"}},{"$f":"#REF!","v":{"$error":"#REF!"}}]
[{"$f":"RANK(E205,$E$126:$E245,0)","v":{"$error":"#REF!"}},{"$f":"#REF!","v":{"$error":"#REF!"}},{"$f":"#REF!","v":{"$error":"#REF!"}},{"$f":"#REF!","v":{"$error":"#REF!"}},{"$f":"#REF!","v":{"$error":"#REF!"}},null,{"$f":"RANK(K205,$K$126:$K245,0)","v":{"$error":"#REF!"}},{"$f":"#REF!","v":{"$error":"#REF!"}},{"$f":"#REF!","v":{"$error":"#REF!"}},{"$f":"#REF!","v":{"$error":"#REF!"}},{"$f":"#REF!","v":{"$error":"#REF!"}}]
[{"$f":"RANK(E206,$E$126:$E245,0)","v":{"$error":"#REF!"}},{"$f":"#REF!","v":{"$error":"#REF!"}},{"$f":"#REF!","v":{"$error":"#REF!"}},{"$f":"#REF!","v":{"$error":"#REF!"}},{"$f":"#REF!","v":{"$error":"#REF!"}},null,{"$f":"RANK(K206,$K$126:$K245,0)","v":{"$error":"#REF!"}},{"$f":"#REF!","v":{"$error":"#REF!"}},{"$f":"#REF!","v":{"$error":"#REF!"}},{"$f":"#REF!","v":{"$error":"#REF!"}},{"$f":"#REF!","v":{"$error":"#REF!"}}]
[{"$f":"RANK(E207,$E$126:$E245,0)","v":{"$error":"#REF!"}},{"$f":"#REF!","v":{"$error":"#REF!"}},{"$f":"#REF!","v":{"$error":"#REF!"}},{"$f":"#REF!","v":{"$error":"#REF!"}},{"$f":"#REF!","v":{"$error":"#REF!"}},null,{"$f":"RANK(K207,$K$126:$K245,0)","v":{"$error":"#REF!"}},{"$f":"#REF!","v":{"$error":"#REF!"}},{"$f":"#REF!","v":{"$error":"#REF!"}},{"$f":"#REF!","v":{"$error":"#REF!"}},{"$f":"#REF!","v":{"$error":"#REF!"}}]
[{"$f":"RANK(E208,$E$126:$E245,0)","v":{"$error":"#REF!"}},{"$f":"#REF!","v":{"$error":"#REF!"}},{"$f":"#REF!","v":{"$error":"#REF!"}},{"$f":"#REF!","v":{"$error":"#REF!"}},{"$f":"#REF!","v":{"$error":"#REF!"}},null,{"$f":"RANK(K208,$K$126:$K245,0)","v":{"$error":"#REF!"}},{"$f":"#REF!","v":{"$error":"#REF!"}},{"$f":"#REF!","v":{"$error":"#REF!"}},{"$f":"#REF!","v":{"$error":"#REF!"}},{"$f":"#REF!","v":{"$error":"#REF!"}}]
[{"$f":"RANK(E209,$E$126:$E245,0)","v":{"$error":"#REF!"}},{"$f":"#REF!","v":{"$error":"#REF!"}},{"$f":"#REF!","v":{"$error":"#REF!"}},{"$f":"#REF!","v":{"$error":"#REF!"}},{"$f":"#REF!","v":{"$error":"#REF!"}},null,{"$f":"RANK(K209,$K$126:$K245,0)","v":{"$error":"#REF!"}},{"$f":"#REF!","v":{"$error":"#REF!"}},{"$f":"#REF!","v":{"$error":"#REF!"}},{"$f":"#REF!","v":{"$error":"#REF!"}},{"$f":"#REF!","v":{"$error":"#REF!"}}]
[{"$f":"RANK(E210,$E$126:$E245,0)","v":{"$error":"#REF!"}},{"$f":"#REF!","v":{"$error":"#REF!"}},{"$f":"#REF!","v":{"$error":"#REF!"}},{"$f":"#REF!","v":{"$error":"#REF!"}},{"$f":"#REF!","v":{"$error":"#REF!"}},null,{"$f":"RANK(K210,$K$126:$K245,0)","v":{"$error":"#REF!"}},{"$f":"#REF!","v":{"$error":"#REF!"}},{"$f":"#REF!","v":{"$error":"#REF!"}},{"$f":"#REF!","v":{"$error":"#REF!"}},{"$f":"#REF!","v":{"$error":"#REF!"}}]
[{"$f":"RANK(E211,$E$126:$E245,0)","v":{"$error":"#REF!"}},{"$f":"#REF!","v":{"$error":"#REF!"}},{"$f":"#REF!","v":{"$error":"#REF!"}},{"$f":"#REF!","v":{"$error":"#REF!"}},{"$f":"#REF!","v":{"$error":"#REF!"}},null,{"$f":"RANK(K211,$K$126:$K245,0)","v":{"$error":"#REF!"}},{"$f":"#REF!","v":{"$error":"#REF!"}},{"$f":"#REF!","v":{"$error":"#REF!"}},{"$f":"#REF!","v":{"$error":"#REF!"}},{"$f":"#REF!","v":{"$error":"#REF!"}}]
[{"$f":"RANK(E212,$E$126:$E245,0)","v":{"$error":"#REF!"}},{"$f":"#REF!","v":{"$error":"#REF!"}},{"$f":"#REF!","v":{"$error":"#REF!"}},{"$f":"#REF!","v":{"$error":"#REF!"}},{"$f":"#REF!","v":{"$error":"#REF!"}},null,{"$f":"RANK(K212,$K$126:$K245,0)","v":{"$error":"#REF!"}},{"$f":"#REF!","v":{"$error":"#REF!"}},{"$f":"#REF!","v":{"$error":"#REF!"}},{"$f":"#REF!","v":{"$error":"#REF!"}},{"$f":"#REF!","v":{"$error":"#REF!"}}]
[{"$f":"RANK(E213,$E$126:$E245,0)","v":{"$error":"#REF!"}},{"$f":"#REF!","v":{"$error":"#REF!"}},{"$f":"#REF!","v":{"$error":"#REF!"}},{"$f":"#REF!","v":{"$error":"#REF!"}},{"$f":"#REF!","v":{"$error":"#REF!"}},null,{"$f":"RANK(K213,$K$126:$K245,0)","v":{"$error":"#REF!"}},{"$f":"#REF!","v":{"$error":"#REF!"}},{"$f":"#REF!","v":{"$error":"#REF!"}},{"$f":"#REF!","v":{"$error":"#REF!"}},{"$f":"#REF!","v":{"$error":"#REF!"}}]
[{"$f":"RANK(E214,$E$126:$E245,0)","v":{"$error":"#REF!"}},{"$f":"#REF!","v":{"$error":"#REF!"}},{"$f":"#REF!","v":{"$error":"#REF!"}},{"$f":"#REF!","v":{"$error":"#REF!"}},{"$f":"#REF!","v":{"$error":"#REF!"}},null,{"$f":"RANK(K214,$K$126:$K245,0)","v":{"$error":"#REF!"}},{"$f":"#REF!","v":{"$error":"#REF!"}},{"$f":"#REF!","v":{"$error":"#REF!"}},{"$f":"#REF!","v":{"$error":"#REF!"}},{"$f":"#REF!","v":{"$error":"#REF!"}}]
[{"$f":"RANK(E215,$E$126:$E245,0)","v":{"$error":"#REF!"}},{"$f":"#REF!","v":{"$error":"#REF!"}},{"$f":"#REF!","v":{"$error":"#REF!"}},{"$f":"#REF!","v":{"$error":"#REF!"}},{"$f":"#REF!","v":{"$error":"#REF!"}},null,{"$f":"RANK(K215,$K$126:$K245,0)","v":{"$error":"#REF!"}},{"$f":"#REF!","v":{"$error":"#REF!"}},{"$f":"#REF!","v":{"$error":"#REF!"}},{"$f":"#REF!","v":{"$error":"#REF!"}},{"$f":"#REF!","v":{"$error":"#REF!"}}]
[{"$f":"RANK(E216,$E$126:$E245,0)","v":{"$error":"#REF!"}},{"$f":"#REF!","v":{"$error":"#REF!"}},{"$f":"#REF!","v":{"$error":"#REF!"}},{"$f":"#REF!","v":{"$error":"#REF!"}},{"$f":"#REF!","v":{"$error":"#REF!"}},null,{"$f":"RANK(K216,$K$126:$K245,0)","v":{"$error":"#REF!"}},{"$f":"#REF!","v":{"$error":"#REF!"}},{"$f":"#REF!","v":{"$error":"#REF!"}},{"$f":"#REF!","v":{"$error":"#REF!"}},{"$f":"#REF!","v":{"$error":"#REF!"}}]
[{"$f":"RANK(E217,$E$126:$E245,0)","v":{"$error":"#REF!"}},{"$f":"#REF!","v":{"$error":"#REF!"}},{"$f":"#REF!","v":{"$error":"#REF!"}},{"$f":"#REF!","v":{"$error":"#REF!"}},{"$f":"#REF!","v":{"$error":"#REF!"}},null,{"$f":"RANK(K217,$K$126:$K245,0)","v":{"$error":"#REF!"}},{"$f":"#REF!","v":{"$error":"#REF!"}},{"$f":"#REF!","v":{"$error":"#REF!"}},{"$f":"#REF!","v":{"$error":"#REF!"}},{"$f":"#REF!","v":{"$error":"#REF!"}}]
[{"$f":"RANK(E218,$E$126:$E245,0)","v":{"$error":"#REF!"}},{"$f":"#REF!","v":{"$error":"#REF!"}},{"$f":"#REF!","v":{"$error":"#REF!"}},{"$f":"#REF!","v":{"$error":"#REF!"}},{"$f":"#REF!","v":{"$error":"#REF!"}},null,{"$f":"RANK(K218,$K$126:$K245,0)","v":{"$error":"#REF!"}},{"$f":"#REF!","v":{"$error":"#REF!"}},{"$f":"#REF!","v":{"$error":"#REF!"}},{"$f":"#REF!","v":{"$error":"#REF!"}},{"$f":"#REF!","v":{"$error":"#REF!"}}]
[{"$f":"RANK(E219,$E$126:$E245,0)","v":{"$error":"#REF!"}},{"$f":"#REF!","v":{"$error":"#REF!"}},{"$f":"#REF!","v":{"$error":"#REF!"}},{"$f":"#REF!","v":{"$error":"#REF!"}},{"$f":"#REF!","v":{"$error":"#REF!"}},null,{"$f":"RANK(K219,$K$126:$K245,0)","v":{"$error":"#REF!"}},{"$f":"#REF!","v":{"$error":"#REF!"}},{"$f":"#REF!","v":{"$error":"#REF!"}},{"$f":"#REF!","v":{"$error":"#REF!"}},{"$f":"#REF!","v":{"$error":"#REF!"}}]
[{"$f":"RANK(E220,$E$126:$E245,0)","v":{"$error":"#REF!"}},{"$f":"#REF!","v":{"$error":"#REF!"}},{"$f":"#REF!","v":{"$error":"#REF!"}},{"$f":"#REF!","v":{"$error":"#REF!"}},{"$f":"#REF!","v":{"$error":"#REF!"}},null,{"$f":"RANK(K220,$K$126:$K245,0)","v":{"$error":"#REF!"}},{"$f":"#REF!","v":{"$error":"#REF!"}},{"$f":"#REF!","v":{"$error":"#REF!"}},{"$f":"#REF!","v":{"$error":"#REF!"}},{"$f":"#REF!","v":{"$error":"#REF!"}}]
[{"$f":"RANK(E221,$E$126:$E245,0)","v":{"$error":"#REF!"}},{"$f":"#REF!","v":{"$error":"#REF!"}},{"$f":"#REF!","v":{"$error":"#REF!"}},{"$f":"#REF!","v":{"$error":"#REF!"}},{"$f":"#REF!","v":{"$error":"#REF!"}},null,{"$f":"RANK(K221,$K$126:$K245,0)","v":{"$error":"#REF!"}},{"$f":"#REF!","v":{"$error":"#REF!"}},{"$f":"#REF!","v":{"$error":"#REF!"}},{"$f":"#REF!","v":{"$error":"#REF!"}},{"$f":"#REF!","v":{"$error":"#REF!"}}]
[{"$f":"RANK(E222,$E$126:$E245,0)","v":{"$error":"#REF!"}},{"$f":"#REF!","v":{"$error":"#REF!"}},{"$f":"#REF!","v":{"$error":"#REF!"}},{"$f":"#REF!","v":{"$error":"#REF!"}},{"$f":"#REF!","v":{"$error":"#REF!"}},null,{"$f":"RANK(K222,$K$126:$K245,0)","v":{"$error":"#REF!"}},{"$f":"#REF!","v":{"$error":"#REF!"}},{"$f":"#REF!","v":{"$error":"#REF!"}},{"$f":"#REF!","v":{"$error":"#REF!"}},{"$f":"#REF!","v":{"$error":"#REF!"}}]
[{"$f":"RANK(E223,$E$126:$E245,0)","v":{"$error":"#REF!"}},{"$f":"#REF!","v":{"$error":"#REF!"}},{"$f":"#REF!","v":{"$error":"#REF!"}},{"$f":"#REF!","v":{"$error":"#REF!"}},{"$f":"#REF!","v":{"$error":"#REF!"}},null,{"$f":"RANK(K223,$K$126:$K245,0)","v":{"$error":"#REF!"}},{"$f":"#REF!","v":{"$error":"#REF!"}},{"$f":"#REF!","v":{"$error":"#REF!"}},{"$f":"#REF!","v":{"$error":"#REF!"}},{"$f":"#REF!","v":{"$error":"#REF!"}}]
[{"$f":"RANK(E224,$E$126:$E245,0)","v":{"$error":"#REF!"}},{"$f":"#REF!","v":{"$error":"#REF!"}},{"$f":"#REF!","v":{"$error":"#REF!"}},{"$f":"#REF!","v":{"$error":"#REF!"}},{"$f":"#REF!","v":{"$error":"#REF!"}},null,{"$f":"RANK(K224,$K$126:$K245,0)","v":{"$error":"#REF!"}},{"$f":"#REF!","v":{"$error":"#REF!"}},{"$f":"#REF!","v":{"$error":"#REF!"}},{"$f":"#REF!","v":{"$error":"#REF!"}},{"$f":"#REF!","v":{"$error":"#REF!"}}]
[{"$f":"RANK(E225,$E$126:$E245,0)","v":{"$error":"#REF!"}},{"$f":"#REF!","v":{"$error":"#REF!"}},{"$f":"#REF!","v":{"$error":"#REF!"}},{"$f":"#REF!","v":{"$error":"#REF!"}},{"$f":"#REF!","v":{"$error":"#REF!"}},null,{"$f":"RANK(K225,$K$126:$K245,0)","v":{"$error":"#REF!"}},{"$f":"#REF!","v":{"$error":"#REF!"}},{"$f":"#REF!","v":{"$error":"#REF!"}},{"$f":"#REF!","v":{"$error":"#REF!"}},{"$f":"#REF!","v":{"$error":"#REF!"}}]
[{"$f":"RANK(E226,$E$126:$E245,0)","v":{"$error":"#REF!"}},{"$f":"#REF!","v":{"$error":"#REF!"}},{"$f":"#REF!","v":{"$error":"#REF!"}},{"$f":"#REF!","v":{"$error":"#REF!"}},{"$f":"#REF!","v":{"$error":"#REF!"}},null,{"$f":"RANK(K226,$K$126:$K245,0)","v":{"$error":"#REF!"}},{"$f":"#REF!","v":{"$error":"#REF!"}},{"$f":"#REF!","v":{"$error":"#REF!"}},{"$f":"#REF!","v":{"$error":"#REF!"}},{"$f":"#REF!","v":{"$error":"#REF!"}}]
[{"$f":"RANK(E227,$E$126:$E245,0)","v":{"$error":"#REF!"}},{"$f":"#REF!","v":{"$error":"#REF!"}},{"$f":"#REF!","v":{"$error":"#REF!"}},{"$f":"#REF!","v":{"$error":"#REF!"}},{"$f":"#REF!","v":{"$error":"#REF!"}},null,{"$f":"RANK(K227,$K$126:$K245,0)","v":{"$error":"#REF!"}},{"$f":"#REF!","v":{"$error":"#REF!"}},{"$f":"#REF!","v":{"$error":"#REF!"}},{"$f":"#REF!","v":{"$error":"#REF!"}},{"$f":"#REF!","v":{"$error":"#REF!"}}]
[{"$f":"RANK(E228,$E$126:$E245,0)","v":{"$error":"#REF!"}},{"$f":"#REF!","v":{"$error":"#REF!"}},{"$f":"#REF!","v":{"$error":"#REF!"}},{"$f":"#REF!","v":{"$error":"#REF!"}},{"$f":"#REF!","v":{"$error":"#REF!"}},null,{"$f":"RANK(K228,$K$126:$K245,0)","v":{"$error":"#REF!"}},{"$f":"#REF!","v":{"$error":"#REF!"}},{"$f":"#REF!","v":{"$error":"#REF!"}},{"$f":"#REF!","v":{"$error":"#REF!"}},{"$f":"#REF!","v":{"$error":"#REF!"}}]
[{"$f":"RANK(E229,$E$126:$E245,0)","v":{"$error":"#REF!"}},{"$f":"#REF!","v":{"$error":"#REF!"}},{"$f":"#REF!","v":{"$error":"#REF!"}},{"$f":"#REF!","v":{"$error":"#REF!"}},{"$f":"#REF!","v":{"$error":"#REF!"}},null,{"$f":"RANK(K229,$K$126:$K245,0)","v":{"$error":"#REF!"}},{"$f":"#REF!","v":{"$error":"#REF!"}},{"$f":"#REF!","v":{"$error":"#REF!"}},{"$f":"#REF!","v":{"$error":"#REF!"}},{"$f":"#REF!","v":{"$error":"#REF!"}}]
[{"$f":"RANK(E230,$E$126:$E245,0)","v":{"$error":"#REF!"}},{"$f":"#REF!","v":{"$error":"#REF!"}},{"$f":"#REF!","v":{"$error":"#REF!"}},{"$f":"#REF!","v":{"$error":"#REF!"}},{"$f":"#REF!","v":{"$error":"#REF!"}},null,{"$f":"RANK(K230,$K$126:$K245,0)","v":{"$error":"#REF!"}},{"$f":"#REF!","v":{"$error":"#REF!"}},{"$f":"#REF!","v":{"$error":"#REF!"}},{"$f":"#REF!","v":{"$error":"#REF!"}},{"$f":"#REF!","v":{"$error":"#REF!"}}]
[{"$f":"RANK(E231,$E$126:$E245,0)","v":{"$error":"#REF!"}},{"$f":"#REF!","v":{"$error":"#REF!"}},{"$f":"#REF!","v":{"$error":"#REF!"}},{"$f":"#REF!","v":{"$error":"#REF!"}},{"$f":"#REF!","v":{"$error":"#REF!"}},null,{"$f":"RANK(K231,$K$126:$K245,0)","v":{"$error":"#REF!"}},{"$f":"#REF!","v":{"$error":"#REF!"}},{"$f":"#REF!","v":{"$error":"#REF!"}},{"$f":"#REF!","v":{"$error":"#REF!"}},{"$f":"#REF!","v":{"$error":"#REF!"}}]
[{"$f":"RANK(E232,$E$126:$E245,0)","v":{"$error":"#REF!"}},{"$f":"#REF!","v":{"$error":"#REF!"}},{"$f":"#REF!","v":{"$error":"#REF!"}},{"$f":"#REF!","v":{"$error":"#REF!"}},{"$f":"#REF!","v":{"$error":"#REF!"}},null,{"$f":"RANK(K232,$K$126:$K245,0)","v":{"$error":"#REF!"}},{"$f":"#REF!","v":{"$error":"#REF!"}},{"$f":"#REF!","v":{"$error":"#REF!"}},{"$f":"#REF!","v":{"$error":"#REF!"}},{"$f":"#REF!","v":{"$error":"#REF!"}}]
[{"$f":"RANK(E233,$E$126:$E245,0)","v":{"$error":"#REF!"}},{"$f":"#REF!","v":{"$error":"#REF!"}},{"$f":"#REF!","v":{"$error":"#REF!"}},{"$f":"#REF!","v":{"$error":"#REF!"}},{"$f":"#REF!","v":{"$error":"#REF!"}},null,{"$f":"RANK(K233,$K$126:$K245,0)","v":{"$error":"#REF!"}},{"$f":"#REF!","v":{"$error":"#REF!"}},{"$f":"#REF!","v":{"$error":"#REF!"}},{"$f":"#REF!","v":{"$error":"#REF!"}},{"$f":"#REF!","v":{"$error":"#REF!"}}]
[{"$f":"RANK(E234,$E$126:$E245,0)","v":{"$error":"#REF!"}},{"$f":"#REF!","v":{"$error":"#REF!"}},{"$f":"#REF!","v":{"$error":"#REF!"}},{"$f":"#REF!","v":{"$error":"#REF!"}},{"$f":"#REF!","v":{"$error":"#REF!"}},null,{"$f":"RANK(K234,$K$126:$K245,0)","v":{"$error":"#REF!"}},{"$f":"#REF!","v":{"$error":"#REF!"}},{"$f":"#REF!","v":{"$error":"#REF!"}},{"$f":"#REF!","v":{"$error":"#REF!"}},{"$f":"#REF!","v":{"$error":"#REF!"}}]
[{"$f":"RANK(E235,$E$126:$E245,0)","v":{"$error":"#REF!"}},{"$f":"#REF!","v":{"$error":"#REF!"}},{"$f":"#REF!","v":{"$error":"#REF!"}},{"$f":"#REF!","v":{"$error":"#REF!"}},{"$f":"#REF!","v":{"$error":"#REF!"}},null,{"$f":"RANK(K235,$K$126:$K245,0)","v":{"$error":"#REF!"}},{"$f":"#REF!","v":{"$error":"#REF!"}},{"$f":"#REF!","v":{"$error":"#REF!"}},{"$f":"#REF!","v":{"$error":"#REF!"}},{"$f":"#REF!","v":{"$error":"#REF!"}}]
[{"$f":"RANK(E236,$E$126:$E245,0)","v":{"$error":"#REF!"}},{"$f":"#REF!","v":{"$error":"#REF!"}},{"$f":"#REF!","v":{"$error":"#REF!"}},{"$f":"#REF!","v":{"$error":"#REF!"}},{"$f":"#REF!","v":{"$error":"#REF!"}},null,{"$f":"RANK(K236,$K$126:$K245,0)","v":{"$error":"#REF!"}},{"$f":"#REF!","v":{"$error":"#REF!"}},{"$f":"#REF!","v":{"$error":"#REF!"}},{"$f":"#REF!","v":{"$error":"#REF!"}},{"$f":"#REF!","v":{"$error":"#REF!"}}]
[{"$f":"RANK(E237,$E$126:$E245,0)","v":{"$error":"#REF!"}},{"$f":"#REF!","v":{"$error":"#REF!"}},{"$f":"#REF!","v":{"$error":"#REF!"}},{"$f":"#REF!","v":{"$error":"#REF!"}},{"$f":"#REF!","v":{"$error":"#REF!"}},null,{"$f":"RANK(K237,$K$126:$K245,0)","v":{"$error":"#REF!"}},{"$f":"#REF!","v":{"$error":"#REF!"}},{"$f":"#REF!","v":{"$error":"#REF!"}},{"$f":"#REF!","v":{"$error":"#REF!"}},{"$f":"#REF!","v":{"$error":"#REF!"}}]
[{"$f":"RANK(E238,$E$126:$E245,0)","v":{"$error":"#REF!"}},{"$f":"#REF!","v":{"$error":"#REF!"}},{"$f":"#REF!","v":{"$error":"#REF!"}},{"$f":"#REF!","v":{"$error":"#REF!"}},{"$f":"#REF!","v":{"$error":"#REF!"}},null,{"$f":"RANK(K238,$K$126:$K245,0)","v":{"$error":"#REF!"}},{"$f":"#REF!","v":{"$error":"#REF!"}},{"$f":"#REF!","v":{"$error":"#REF!"}},{"$f":"#REF!","v":{"$error":"#REF!"}},{"$f":"#REF!","v":{"$error":"#REF!"}}]
[{"$f":"RANK(E239,$E$126:$E245,0)","v":{"$error":"#REF!"}},{"$f":"#REF!","v":{"$error":"#REF!"}},{"$f":"#REF!","v":{"$error":"#REF!"}},{"$f":"#REF!","v":{"$error":"#REF!"}},{"$f":"#REF!","v":{"$error":"#REF!"}},null,{"$f":"RANK(K239,$K$126:$K245,0)","v":{"$error":"#REF!"}},{"$f":"#REF!","v":{"$error":"#REF!"}},{"$f":"#REF!","v":{"$error":"#REF!"}},{"$f":"#REF!","v":{"$error":"#REF!"}},{"$f":"#REF!","v":{"$error":"#REF!"}}]
[{"$f":"RANK(E240,$E$126:$E245,0)","v":{"$error":"#REF!"}},{"$f":"#REF!","v":{"$error":"#REF!"}},{"$f":"#REF!","v":{"$error":"#REF!"}},{"$f":"#REF!","v":{"$error":"#REF!"}},{"$f":"#REF!","v":{"$error":"#REF!"}},null,{"$f":"RANK(K240,$K$126:$K245,0)","v":{"$error":"#REF!"}},{"$f":"#REF!","v":{"$error":"#REF!"}},{"$f":"#REF!","v":{"$error":"#REF!"}},{"$f":"#REF!","v":{"$error":"#REF!"}},{"$f":"#REF!","v":{"$error":"#REF!"}}]
[{"$f":"RANK(E241,$E$126:$E245,0)","v":{"$error":"#REF!"}},{"$f":"#REF!","v":{"$error":"#REF!"}},{"$f":"#REF!","v":{"$error":"#REF!"}},{"$f":"#REF!","v":{"$error":"#REF!"}},{"$f":"#REF!","v":{"$error":"#REF!"}},null,{"$f":"RANK(K241,$K$126:$K245,0)","v":{"$error":"#REF!"}},{"$f":"#REF!","v":{"$error":"#REF!"}},{"$f":"#REF!","v":{"$error":"#REF!"}},{"$f":"#REF!","v":{"$error":"#REF!"}},{"$f":"#REF!","v":{"$error":"#REF!"}}]
[{"$f":"RANK(E242,$E$126:$E245,0)","v":{"$error":"#REF!"}},{"$f":"#REF!","v":{"$error":"#REF!"}},{"$f":"#REF!","v":{"$error":"#REF!"}},{"$f":"#REF!","v":{"$error":"#REF!"}},{"$f":"#REF!","v":{"$error":"#REF!"}},null,{"$f":"RANK(K242,$K$126:$K245,0)","v":{"$error":"#REF!"}},{"$f":"#REF!","v":{"$error":"#REF!"}},{"$f":"#REF!","v":{"$error":"#REF!"}},{"$f":"#REF!","v":{"$error":"#REF!"}},{"$f":"#REF!","v":{"$error":"#REF!"}}]
[{"$f":"RANK(E243,$E$126:$E245,0)","v":{"$error":"#REF!"}},{"$f":"#REF!","v":{"$error":"#REF!"}},{"$f":"#REF!","v":{"$error":"#REF!"}},{"$f":"#REF!","v":{"$error":"#REF!"}},{"$f":"#REF!","v":{"$error":"#REF!"}},null,{"$f":"RANK(K243,$K$126:$K245,0)","v":{"$error":"#REF!"}},{"$f":"#REF!","v":{"$error":"#REF!"}},{"$f":"#REF!","v":{"$error":"#REF!"}},{"$f":"#REF!","v":{"$error":"#REF!"}},{"$f":"#REF!","v":{"$error":"#REF!"}}]
[{"$f":"RANK(E244,$E$126:$E245,0)","v":{"$error":"#REF!"}},{"$f":"#REF!","v":{"$error":"#REF!"}},{"$f":"#REF!","v":{"$error":"#REF!"}},{"$f":"#REF!","v":{"$error":"#REF!"}},{"$f":"#REF!","v":{"$error":"#REF!"}},null,{"$f":"RANK(K244,$K$126:$K245,0)","v":{"$error":"#REF!"}},{"$f":"#REF!","v":{"$error":"#REF!"}},{"$f":"#REF!","v":{"$error":"#REF!"}},{"$f":"#REF!","v":{"$error":"#REF!"}},{"$f":"#REF!","v":{"$error":"#REF!"}}]
[{"$f":"RANK(E245,$E$126:$E245,0)","v":{"$error":"#REF!"}},{"$f":"#REF!","v":{"$error":"#REF!"}},{"$f":"#REF!","v":{"$error":"#REF!"}},{"$f":"#REF!","v":{"$error":"#REF!"}},{"$f":"#REF!","v":{"$error":"#REF!"}},null,{"$f":"RANK(K245,$K$126:$K245,0)","v":{"$error":"#REF!"}},{"$f":"#REF!","v":{"$error":"#REF!"}},{"$f":"#REF!","v":{"$error":"#REF!"}},{"$f":"#REF!","v":{"$error":"#REF!"}},{"$f":"#REF!","v":{"$error":"#REF!"}}]
["Einzelwertung Weit Weiblich",null,{"$f":"#REF!","v":{"$error":"#REF!"}},{"$f":"#REF!","v":{"$error":"#REF!"}},null,null,"Einzelwertung Weit Männlich",null,{"$f":"#REF!","v":{"$error":"#REF!"}},{"$f":"#REF!","v":{"$error":"#REF!"}}]

{"sheet":"Ez-Staffel","index":16,"n_rows":47,"n_cols":9,"rows_kept":47,"cut":false,"hidden":false,"merged":[[25,2,25,3],[0,0,0,1],[0,2,0,3],[0,5,0,6],[0,7,0,8],[24,0,24,1],[24,2,24,3],[24,5,24,6],[24,7,24,8]]}
["Einzelwertung Staffel",null,{"$f":"'w-E_R'!E1","v":"Ortsangabe,Datum"},null,null,"Einzelwertung Staffel",null,{"$f":"#REF!","v":{"$error":"#REF!"}}]
[null,{"$f":"'w-E_R'!C1","v":"D-C/Regel-Schulen"},null,null,null,null,{"$f":"#REF!","v":{"$error":"#REF!"}}]
["Rang","WEIBLICH - SCHULE","Leistung","Punkte",null,"Rang","MÄNNLICH - SCHULE","Leistung","Punkte"]
[{"$f":"RANK(D4,$D$4:$D$23,0)","v":1},{"$f":"'w-E_R'!D17","v":"BRG Spittal"},{"$f":"'w-E_R'!N17","v":56.19},{"$f":"'w-E_R'!O17","v":549},null,{"$f":"RANK(I4,$I$4:$I$23,0)","v":{"$error":"#REF!"}},{"$f":"#REF!","v":{"$error":"#REF!"}},{"$f":"#REF!","v":{"$error":"#REF!"}},{"$f":"#REF!","v":{"$error":"#REF!"}}]
[2,{"$f":"'w-E_R'!D38","v":"Musik NMS Hermagor"},{"$f":"'w-E_R'!N38","v":56.92},{"$f":"'w-E_R'!O38","v":522},null,{"$error":"#REF!"},{"$f":"#REF!","v":{"$error":"#REF!"}},{"$f":"#REF!","v":{"$error":"#REF!"}},{"$f":"#REF!","v":{"$error":"#REF!"}}]
[3,{"$f":"'w-E_R'!D3","v":"BG St.Martin"},{"$f":"'w-E_R'!N3","v":56.97},{"$f":"'w-E_R'!O3","v":521},null,{"$error":"#REF!"},{"$f":"#REF!","v":{"$error":"#REF!"}},{"$f":"#REF!","v":{"$error":"#REF!"}},{"$f":"#REF!","v":{"$error":"#REF!"}}]
[3,{"$f":"'w-E_R'!D73","v":"RNMS Feldkirchen"},{"$f":"'w-E_R'!N73","v":56.95},{"$f":"'w-E_R'!O73","v":521},null,{"$error":"#REF!"},{"$f":"#REF!","v":{"$error":"#REF!"}},{"$f":"#REF!","v":{"$error":"#REF!"}},{"$f":"#REF!","v":{"$error":"#REF!"}}]
[5,{"$f":"'w-E_R'!D59","v":"NMS Landskron"},{"$f":"'w-E_R'!N59","v":57.69},{"$f":"'w-E_R'!O59","v":495},null,{"$error":"#REF!"},{"$f":"#REF!","v":{"$error":"#REF!"}},{"$f":"#REF!","v":{"$error":"#REF!"}},{"$f":"#REF!","v":{"$error":"#REF!"}}]
[6,{"$f":"'w-E_R'!D31","v":"Ingeborg Bachmann Gymnasium"},{"$f":"'w-E_R'!N31","v":58.23},{"$f":"'w-E_R'!O31","v":476},null,{"$error":"#REF!"},{"$f":"#REF!","v":{"$error":"#REF!"}},{"$f":"#REF!","v":{"$error":"#REF!"}},{"$f":"#REF!","v":{"$error":"#REF!"}}]
[7,{"$f":"'w-E_R'!D45","v":"NMS Friesach"},{"$f":"'w-E_R'!N45","v":58.88},{"$f":"'w-E_R'!O45","v":454},null,{"$error":"#REF!"},{"$f":"#REF!","v":{"$error":"#REF!"}},{"$f":"#REF!","v":{"$error":"#REF!"}},{"$f":"#REF!","v":{"$error":"#REF!"}}]
[8,{"$f":"'w-E_R'!D24","v":"BZ Bad Eisenkappel"},{"$f":"'w-E_R'!N24","v":59},{"$f":"'w-E_R'!O24","v":450},null,{"$error":"#REF!"},{"$f":"#REF!","v":{"$error":"#REF!"}},{"$f":"#REF!","v":{"$error":"#REF!"}},{"$f":"#REF!","v":{"$error":"#REF!"}}]
[9,{"$f":"'w-E_R'!D10","v":"Borg Wolfsberg"},{"$f":"'w-E_R'!N10","v":59.98},{"$f":"'w-E_R'!O10","v":418},null,{"$error":"#REF!"},{"$f":"#REF!","v":{"$error":"#REF!"}},{"$f":"#REF!","v":{"$error":"#REF!"}},{"$f":"#REF!","v":{"$error":"#REF!"}}]
[10,{"$f":"'w-E_R'!D66","v":"NMS Viktring"},{"$f":"'w-E_R'!N66","v":61.09},{"$f":"'w-E_R'!O66","v":383},null,{"$error":"#REF!"},{"$f":"#REF!","v":{"$error":"#REF!"}},{"$f":"#REF!","v":{"$error":"#REF!"}},{"$f":"#REF!","v":{"$error":"#REF!"}}]
[11,{"$f":"'w-E_R'!D52","v":"NMS Gegendtal"},{"$f":"'w-E_R'!N52","v":61.39},{"$f":"'w-E_R'!O52","v":373},null,{"$error":"#REF!"},{"$f":"#REF!","v":{"$error":"#REF!"}},{"$f":"#REF!","v":{"$error":"#REF!"}},{"$f":"#REF!","v":{"$error":"#REF!"}}]
[12,{"$f":"'w-E_R'!D80","v":0},{"$f":"'w-E_R'!N80","v":0},{"$f":"'w-E_R'!O80","v":0},null,{"$error":"#REF!"},{"$f":"#REF!","v":{"$error":"#REF!"}},{"$f":"#REF!","v":{"$error":"#REF!"}},{"$f":"#REF!","v":{"$error":"#REF!"}}]
[12,{"$f":"'w-E_R'!D87","v":0},{"$f":"'w-E_R'!N87","v":0},{"$f":"'w-E_R'!O87","v":0},null,{"$error":"#REF!"},{"$f":"#REF!","v":{"$error":"#REF!"}},{"$f":"#REF!","v":{"$error":"#REF!"}},{"$f":"#REF!","v":{"$error":"#REF!"}}]
[12,{"$f":"'w-E_R'!D94","v":0},{"$f":"'w-E_R'!N94","v":0},{"$f":"'w-E_R'!O94","v":0},null,{"$error":"#REF!"},{"$f":"#REF!","v":{"$error":"#REF!"}},{"$f":"#REF!","v":{"$error":"#REF!"}},{"$f":"#REF!","v":{"$error":"#REF!"}}]
[12,{"$f":"'w-E_R'!D101","v":0},{"$f":"'w-E_R'!N101","v":0},{"$f":"'w-E_R'!O101","v":0},null,{"$error":"#REF!"},{"$f":"#REF!","v":{"$error":"#REF!"}},{"$f":"#REF!","v":{"$error":"#REF!"}},{"$f":"#REF!","v":{"$error":"#REF!"}}]
[12,{"$f":"'w-E_R'!D108","v":0},{"$f":"'w-E_R'!N108","v":0},{"$f":"'w-E_R'!O108","v":0},null,{"$error":"#REF!"},{"$f":"#REF!","v":{"$error":"#REF!"}},{"$f":"#REF!","v":{"$error":"#REF!"}},{"$f":"#REF!","v":{"$error":"#REF!"}}]
[12,{"$f":"'w-E_R'!D115","v":0},{"$f":"'w-E_R'!N115","v":0},{"$f":"'w-E_R'!O115","v":0},null,{"$error":"#REF!"},{"$f":"#REF!","v":{"$error":"#REF!"}},{"$f":"#REF!","v":{"$error":"#REF!"}},{"$f":"#REF!","v":{"$error":"#REF!"}}]
[12,{"$f":"'w-E_R'!D122","v":0},{"$f":"'w-E_R'!N122","v":0},{"$f":"'w-E_R'!O122","v":0},null,{"$error":"#REF!"},{"$f":"#REF!","v":{"$error":"#REF!"}},{"$f":"#REF!","v":{"$error":"#REF!"}},{"$f":"#REF!","v":{"$error":"#REF!"}}]
[12,{"$f":"'w-E_R'!D129","v":0},{"$f":"'w-E_R'!N129","v":0},{"$f":"'w-E_R'!O129","v":0},null,{"$error":"#REF!"},{"$f":"#REF!","v":{"$error":"#REF!"}},{"$f":"#REF!","v":{"$error":"#REF!"}},{"$f":"#REF!","v":{"$error":"#REF!"}}]
[12,{"$f":"'w-E_R'!D136","v":0},{"$f":"'w-E_R'!N136","v":0},{"$f":"'w-E_R'!O136","v":0},null,{"$error":"#REF!"},{"$f":"#REF!","v":{"$error":"#REF!"}},{"$f":"#REF!","v":{"$error":"#REF!"}},{"$f":"#REF!","v":{"$error":"#REF!"}}]
[]
["Einzelwertung Staffel",null,{"$f":"#REF!","v":{"$error":"#REF!"}},null,null,"Einzelwertung Staffel",null,{"$f":"#REF!","v":{"$error":"#REF!"}}]
[null,{"$f":"#REF!","v":{"$error":"#REF!"}},null,null,null,null,{"$f":"#REF!","v":{"$error":"#REF!"}}]
["Rang","WEIBLICH - SCHULE","Leistung","Punkte",null,"Rang","MÄNNLICH - SCHULE","Leistung","Punkte"]
[{"$f":"RANK(D28,$D$28:$D$47,0)","v":{"$error":"#REF!"}},{"$f":"#REF!","v":{"$error":"#REF!"}},{"$f":"#REF!","v":{"$error":"#REF!"}},{"$f":"#REF!","v":{"$error":"#REF!"}},null,{"$f":"RANK(I28,$I$28:$I$47,0)","v":{"$error":"#REF!"}},{"$f":"#REF!","v":{"$error":"#REF!"}},{"$f":"#REF!","v":{"$error":"#REF!"}},{"$f":"#REF!","v":{"$error":"#REF!"}}]
[{"$error":"#REF!"},{"$f":"#REF!","v":{"$error":"#REF!"}},{"$f":"#REF!","v":{"$error":"#REF!"}},{"$f":"#REF!","v":{"$error":"#REF!"}},null,{"$error":"#REF!"},{"$f":"#REF!","v":{"$error":"#REF!"}},{"$f":"#REF!","v":{"$error":"#REF!"}},{"$f":"#REF!","v":{"$error":"#REF!"}}]
[{"$error":"#REF!"},{"$f":"#REF!","v":{"$error":"#REF!"}},{"$f":"#REF!","v":{"$error":"#REF!"}},{"$f":"#REF!","v":{"$error":"#REF!"}},null,{"$error":"#REF!"},{"$f":"#REF!","v":{"$error":"#REF!"}},{"$f":"#REF!","v":{"$error":"#REF!"}},{"$f":"#REF!","v":{"$error":"#REF!"}}]
[{"$error":"#REF!"},{"$f":"#REF!","v":{"$error":"#REF!"}},{"$f":"#REF!","v":{"$error":"#REF!"}},{"$f":"#REF!","v":{"$error":"#REF!"}},null,{"$error":"#REF!"},{"$f":"#REF!","v":{"$error":"#REF!"}},{"$f":"#REF!","v":{"$error":"#REF!"}},{"$f":"#REF!","v":{"$error":"#REF!"}}]
[{"$error":"#REF!"},{"$f":"#REF!","v":{"$error":"#REF!"}},{"$f":"#REF!","v":{"$error":"#REF!"}},{"$f":"#REF!","v":{"$error":"#REF!"}},null,{"$error":"#REF!"},{"$f":"#REF!","v":{"$error":"#REF!"}},{"$f":"#REF!","v":{"$error":"#REF!"}},{"$f":"#REF!","v":{"$error":"#REF!"}}]
[{"$error":"#REF!"},{"$f":"#REF!","v":{"$error":"#REF!"}},{"$f":"#REF!","v":{"$error":"#REF!"}},{"$f":"#REF!","v":{"$error":"#REF!"}},null,{"$error":"#REF!"},{"$f":"#REF!","v":{"$error":"#REF!"}},{"$f":"#REF!","v":{"$error":"#REF!"}},{"$f":"#REF!","v":{"$error":"#REF!"}}]
[{"$error":"#REF!"},{"$f":"#REF!","v":{"$error":"#REF!"}},{"$f":"#REF!","v":{"$error":"#REF!"}},{"$f":"#REF!","v":{"$error":"#REF!"}},null,{"$error":"#REF!"},{"$f":"#REF!","v":{"$error":"#REF!"}},{"$f":"#REF!","v":{"$error":"#REF!"}},{"$f":"#REF!","v":{"$error":"#REF!"}}]
[{"$error":"#REF!"},{"$f":"#REF!","v":{"$error":"#REF!"}},{"$f":"#REF!","v":{"$error":"#REF!"}},{"$f":"#REF!","v":{"$error":"#REF!"}},null,{"$error":"#REF!"},{"$f":"#REF!","v":{"$error":"#REF!"}},{"$f":"#REF!","v":{"$error":"#REF!"}},{"$f":"#REF!","v":{"$error":"#REF!"}}]
[{"$error":"#REF!"},{"$f":"#REF!","v":{"$error":"#REF!"}},{"$f":"#REF!","v":{"$error":"#REF!"}},{"$f":"#REF!","v":{"$error":"#REF!"}},null,{"$error":"#REF!"},{"$f":"#REF!","v":{"$error":"#REF!"}},{"$f":"#REF!","v":{"$error":"#REF!"}},{"$f":"#REF!","v":{"$error":"#REF!"}}]
[{"$error":"#REF!"},{"$f":"#REF!","v":{"$error":"#REF!"}},{"$f":"#REF!","v":{"$error":"#REF!"}},{"$f":"#REF!","v":{"$error":"#REF!"}},null,{"$error":"#REF!"},{"$f":"#REF!","v":{"$error":"#REF!"}},{"$f":"#REF!","v":{"$error":"#REF!"}},{"$f":"#REF!","v":{"$error":"#REF!"}}]
[{"$error":"#REF!"},{"$f":"#REF!","v":{"$error":"#REF!"}},{"$f":"#REF!","v":{"$error":"#REF!"}},{"$f":"#REF!","v":{"$error":"#REF!"}},null,{"$error":"#REF!"},{"$f":"#REF!","v":{"$error":"#REF!"}},{"$f":"#REF!","v":{"$error":"#REF!"}},{"$f":"#REF!","v":{"$error":"#REF!"}}]
[{"$error":"#REF!"},{"$f":"#REF!","v":{"$error":"#REF!"}},{"$f":"#REF!","v":{"$error":"#REF!"}},{"$f":"#REF!","v":{"$error":"#REF!"}},null,{"$error":"#REF!"},{"$f":"#REF!","v":{"$error":"#REF!"}},{"$f":"#REF!","v":{"$error":"#REF!"}},{"$f":"#REF!","v":{"$error":"#REF!"}}]
[{"$error":"#REF!"},{"$f":"#REF!","v":{"$error":"#REF!"}},{"$f":"#REF!","v":{"$error":"#REF!"}},{"$f":"#REF!","v":{"$error":"#REF!"}},null,{"$error":"#REF!"},{"$f":"#REF!","v":{"$error":"#REF!"}},{"$f":"#REF!","v":{"$error":"#REF!"}},{"$f":"#REF!","v":{"$error":"#REF!"}}]
[{"$error":"#REF!"},{"$f":"#REF!","v":{"$error":"#REF!"}},{"$f":"#REF!","v":{"$error":"#REF!"}},{"$f":"#REF!","v":{"$error":"#REF!"}},null,{"$error":"#REF!"},{"$f":"#REF!","v":{"$error":"#REF!"}},{"$f":"#REF!","v":{"$error":"#REF!"}},{"$f":"#REF!","v":{"$error":"#REF!"}}]
[{"$error":"#REF!"},{"$f":"#REF!","v":{"$error":"#REF!"}},{"$f":"#REF!","v":{"$error":"#REF!"}},{"$f":"#REF!","v":{"$error":"#REF!"}},null,{"$error":"#REF!"},{"$f":"#REF!","v":{"$error":"#REF!"}},{"$f":"#REF!","v":{"$error":"#REF!"}},{"$f":"#REF!","v":{"$error":"#REF!"}}]
[{"$error":"#REF!"},{"$f":"#REF!","v":{"$error":"#REF!"}},{"$f":"#REF!","v":{"$error":"#REF!"}},{"$f":"#REF!","v":{"$error":"#REF!"}},null,{"$error":"#REF!"},{"$f":"#REF!","v":{"$error":"#REF!"}},{"$f":"#REF!","v":{"$error":"#REF!"}},{"$f":"#REF!","v":{"$error":"#REF!"}}]
[{"$error":"#REF!"},{"$f":"#REF!","v":{"$error":"#REF!"}},{"$f":"#REF!","v":{"$error":"#REF!"}},{"$f":"#REF!","v":{"$error":"#REF!"}},null,{"$error":"#REF!"},{"$f":"#REF!","v":{"$error":"#REF!"}},{"$f":"#REF!","v":{"$error":"#REF!"}},{"$f":"#REF!","v":{"$error":"#REF!"}}]
[{"$error":"#REF!"},{"$f":"#REF!","v":{"$error":"#REF!"}},{"$f":"#REF!","v":{"$error":"#REF!"}},{"$f":"#REF!","v":{"$error":"#REF!"}},null,{"$error":"#REF!"},{"$f":"#REF!","v":{"$error":"#REF!"}},{"$f":"#REF!","v":{"$error":"#REF!"}},{"$f":"#REF!","v":{"$error":"#REF!"}}]
[{"$error":"#REF!"},{"$f":"#REF!","v":{"$error":"#REF!"}},{"$f":"#REF!","v":{"$error":"#REF!"}},{"$f":"#REF!","v":{"$error":"#REF!"}},null,{"$error":"#REF!"},{"$f":"#REF!","v":{"$error":"#REF!"}},{"$f":"#REF!","v":{"$error":"#REF!"}},{"$f":"#REF!","v":{"$error":"#REF!"}}]
[{"$error":"#REF!"},{"$f":"#REF!","v":{"$error":"#REF!"}},{"$f":"#REF!","v":{"$error":"#REF!"}},{"$f":"#REF!","v":{"$error":"#REF!"}},null,{"$error":"#REF!"},{"$f":"#REF!","v":{"$error":"#REF!"}},{"$f":"#REF!","v":{"$error":"#REF!"}},{"$f":"#REF!","v":{"$error":"#REF!"}}]

{"sheet":"Ges-Erg_R","index":17,"n_rows":123,"n_cols":24,"rows_kept":123,"cut":false,"hidden":false,"merged":[[1,0,1,1],[1,3,1,11],[1,12,1,13],[1,15,1,23]]}
[]
[{"$f":"'w-E_R'!A1","v":"Wettkampfdaten-Art"},null,{"$f":"'w-E_R'!C1","v":"D-C/Regel-Schulen"},{"$f":"'w-E_R'!E1","v":"Ortsangabe,Datum"},null,null,null,null,null,null,null,null,{"$f":"#REF!","v":{"$error":"#REF!"}},null,{"$f":"#REF!","v":{"$error":"#REF!"}},{"$f":"#REF!","v":{"$error":"#REF!"}}]
["Rang","SCHÜLERINNEN","Schule:","60m","Pkt","Schlagb.","Pkt","Kugel","Pkt","Weit","Pkt","Gesamt-PKT","Rang","SCHÜLER","Schule:","60m","Pkt","Schlagb.","Pkt","Kugel","Pkt","Weit","Pkt","Gesamt-PKT"]
[{"$f":"RANK(L4,$L$4:$L$123,0)","v":1},{"$f":"'w-E_R'!B15","v":"Riegler Vanessa"},{"$f":"'w-E_R'!D15","v":"Borg Wolfsberg"},{"$f":"'w-E_R'!F15","v":8.36},{"$f":"'w-E_R'!G15","v":794},{"$f":"'w-E_R'!H15","v":43.9},{"$f":"'w-E_R'!I15","v":593},{"$f":"'w-E_R'!J15","v":0},{"$f":"'w-E_R'!K15","v":0},{"$f":"'w-E_R'!L15","v":5.25},{"$f":"'w-E_R'!M15","v":761},{"$f":"'w-E_R'!P15","v":2148},{"$f":"RANK(X4,$X$4:$X$123,0)","v":{"$error":"#REF!"}},{"$f":"#REF!","v":{"$error":"#REF!"}},{"$f":"#REF!","v":{"$error":"#REF!"}},{"$f":"#REF!","v":{"$error":"#REF!"}},{"$f":"#REF!","v":{"$error":"#REF!"}},{"$f":"#REF!","v":{"$error":"#REF!"}},{"$f":"#REF!","v":{"$error":"#REF!"}},{"$f":"#REF!","v":{"$error":"#REF!"}},{"$f":"#REF!","v":{"$error":"#REF!"}},{"$f":"#REF!","v":{"$error":"#REF!"}},{"$f":"#REF!","v":{"$error":"#REF!"}},{"$f":"#REF!","v":{"$error":"#REF!"}}]
[2,{"$f":"'w-E_R'!B22","v":"Thaler Laurentine"},{"$f":"'w-E_R'!D22","v":"BRG Spittal"},{"$f":"'w-E_R'!F22","v":8.34},{"$f":"'w-E_R'!G22","v":800},{"$f":"'w-E_R'!H22","v":40.5},{"$f":"'w-E_R'!I22","v":546},{"$f":"'w-E_R'!J22","v":0},{"$f":"'w-E_R'!K22","v":0},{"$f":"'w-E_R'!L22","v":5.19},{"$f":"'w-E_R'!M22","v":747},{"$f":"'w-E_R'!P22","v":2093},{"$error":"#REF!"},{"$f":"#REF!","v":{"$error":"#REF!"}},{"$f":"#REF!","v":{"$error":"#REF!"}},{"$f":"#REF!","v":{"$error":"#REF!"}},{"$f":"#REF!","v":{"$error":"#REF!"}},{"$f":"#REF!","v":{"$error":"#REF!"}},{"$f":"#REF!","v":{"$error":"#REF!"}},{"$f":"#REF!","v":{"$error":"#REF!"}},{"$f":"#REF!","v":{"$error":"#REF!"}},{"$f":"#REF!","v":{"$error":"#REF!"}},{"$f":"#REF!","v":{"$error":"#REF!"}},{"$f":"#REF!","v":{"$error":"#REF!"}}]
[3,{"$f":"'w-E_R'!B38","v":"Fercher Annabell"},{"$f":"'w-E_R'!D38","v":"Musik NMS Hermagor"},{"$f":"'w-E_R'!F38","v":8.5500000000000007},{"$f":"'w-E_R'!G38","v":741},{"$f":"'w-E_R'!H38","v":41.9},{"$f":"'w-E_R'!I38","v":565},{"$f":"'w-E_R'!J38","v":0},{"$f":"'w-E_R'!K38","v":0},{"$f":"'w-E_R'!L38","v":4.8},{"$f":"'w-E_R'!M38","v":661},{"$f":"'w-E_R'!P38","v":1967},{"$error":"#REF!"},{"$f":"#REF!","v":{"$error":"#REF!"}},{"$f":"#REF!","v":{"$error":"#REF!"}},{"$f":"#REF!","v":{"$error":"#REF!"}},{"$f":"#REF!","v":{"$error":"#REF!"}},{"$f":"#REF!","v":{"$error":"#REF!"}},{"$f":"#REF!","v":{"$error":"#REF!"}},{"$f":"#REF!","v":{"$error":"#REF!"}},{"$f":"#REF!","v":{"$error":"#REF!"}},{"$f":"#REF!","v":{"$error":"#REF!"}},{"$f":"#REF!","v":{"$error":"#REF!"}},{"$f":"#REF!","v":{"$error":"#REF!"}}]
[4,{"$f":"'w-E_R'!B14","v":"Pum Julia"},{"$f":"'w-E_R'!D14","v":"Borg Wolfsberg"},{"$f":"'w-E_R'!F14","v":8.6},{"$f":"'w-E_R'!G14","v":727},{"$f":"'w-E_R'!H14","v":37},{"$f":"'w-E_R'!I14","v":497},{"$f":"'w-E_R'!J14","v":0},{"$f":"'w-E_R'!K14","v":0},{"$f":"'w-E_R'!L14","v":5},{"$f":"'w-E_R'!M14","v":706},{"$f":"'w-E_R'!P14","v":1930},{"$error":"#REF!"},{"$f":"#REF!","v":{"$error":"#REF!"}},{"$f":"#REF!","v":{"$error":"#REF!"}},{"$f":"#REF!","v":{"$error":"#REF!"}},{"$f":"#REF!","v":{"$error":"#REF!"}},{"$f":"#REF!","v":{"$error":"#REF!"}},{"$f":"#REF!","v":{"$error":"#REF!"}},{"$f":"#REF!","v":{"$error":"#REF!"}},{"$f":"#REF!","v":{"$error":"#REF!"}},{"$f":"#REF!","v":{"$error":"#REF!"}},{"$f":"#REF!","v":{"$error":"#REF!"}},{"$f":"#REF!","v":{"$error":"#REF!"}}]
[5,{"$f":"'w-E_R'!B34","v":"Schmaranz Sophie"},{"$f":"'w-E_R'!D34","v":"Ingeborg Bachmann Gymnasium"},{"$f":"'w-E_R'!F34","v":8.51},{"$f":"'w-E_R'!G34","v":752},{"$f":"'w-E_R'!H34","v":23.1},{"$f":"'w-E_R'!I34","v":298},{"$f":"'w-E_R'!J34","v":0},{"$f":"'w-E_R'!K34","v":0},{"$f":"'w-E_R'!L34","v":5.07},{"$f":"'w-E_R'!M34","v":721},{"$f":"'w-E_R'!P34","v":1771},{"$error":"#REF!"},{"$f":"#REF!","v":{"$error":"#REF!"}},{"$f":"#REF!","v":{"$error":"#REF!"}},{"$f":"#REF!","v":{"$error":"#REF!"}},{"$f":"#REF!","v":{"$error":"#REF!"}},{"$f":"#REF!","v":{"$error":"#REF!"}},{"$f":"#REF!","v":{"$error":"#REF!"}},{"$f":"#REF!","v":{"$error":"#REF!"}},{"$f":"#REF!","v":{"$error":"#REF!"}},{"$f":"#REF!","v":{"$error":"#REF!"}},{"$f":"#REF!","v":{"$error":"#REF!"}},{"$f":"#REF!","v":{"$error":"#REF!"}}]
[6,{"$f":"'w-E_R'!B59","v":"Kassin Larissa"},{"$f":"'w-E_R'!D59","v":"NMS Landskron"},{"$f":"'w-E_R'!F59","v":8.73},{"$f":"'w-E_R'!G59","v":692},{"$f":"'w-E_R'!H59","v":35.9},{"$f":"'w-E_R'!I59","v":482},{"$f":"'w-E_R'!J59","v":0},{"$f":"'w-E_R'!K59","v":0},{"$f":"'w-E_R'!L59","v":4.41},{"$f":"'w-E_R'!M59","v":575},{"$f":"'w-E_R'!P59","v":1749},{"$error":"#REF!"},{"$f":"#REF!","v":{"$error":"#REF!"}},{"$f":"#REF!","v":{"$error":"#REF!"}},{"$f":"#REF!","v":{"$error":"#REF!"}},{"$f":"#REF!","v":{"$error":"#REF!"}},{"$f":"#REF!","v":{"$error":"#REF!"}},{"$f":"#REF!","v":{"$error":"#REF!"}},{"$f":"#REF!","v":{"$error":"#REF!"}},{"$f":"#REF!","v":{"$error":"#REF!"}},{"$f":"#REF!","v":{"$error":"#REF!"}},{"$f":"#REF!","v":{"$error":"#REF!"}},{"$f":"#REF!","v":{"$error":"#REF!"}}]
[7,{"$f":"'w-E_R'!B73","v":"Ebner Elena"},{"$f":"'w-E_R'!D73","v":"RNMS Feldkirchen"},{"$f":"'w-E_R'!F73","v":8.92},{"$f":"'w-E_R'!G73","v":642},{"$f":"'w-E_R'!H73","v":35.200000000000003},{"$f":"'w-E_R'!I73","v":472},{"$f":"'w-E_R'!J73","v":0},{"$f":"'w-E_R'!K73","v":0},{"$f":"'w-E_R'!L73","v":4.66},{"$f":"'w-E_R'!M73","v":630},{"$f":"'w-E_R'!P73","v":1744},{"$error":"#REF!"},{"$f":"#REF!","v":{"$error":"#REF!"}},{"$f":"#REF!","v":{"$error":"#REF!"}},{"$f":"#REF!","v":{"$error":"#REF!"}},{"$f":"#REF!","v":{"$error":"#REF!"}},{"$f":"#REF!","v":{"$error":"#REF!"}},{"$f":"#REF!","v":{"$error":"#REF!"}},{"$f":"#REF!","v":{"$error":"#REF!"}},{"$f":"#REF!","v":{"$error":"#REF!"}},{"$f":"#REF!","v":{"$error":"#REF!"}},{"$f":"#REF!","v":{"$error":"#REF!"}},{"$f":"#REF!","v":{"$error":"#REF!"}}]
[8,{"$f":"'w-E_R'!B21","v":"Possegger Christina"},{"$f":"'w-E_R'!D21","v":"BRG Spittal"},{"$f":"'w-E_R'!F21","v":8.98},{"$f":"'w-E_R'!G21","v":626},{"$f":"'w-E_R'!H21","v":32.6},{"$f":"'w-E_R'!I21","v":435},{"$f":"'w-E_R'!J21","v":0},{"$f":"'w-E_R'!K21","v":0},{"$f":"'w-E_R'!L21","v":4.8899999999999997},{"$f":"'w-E_R'!M21","v":681},{"$f":"'w-E_R'!P21","v":1742},{"$error":"#REF!"},{"$f":"#REF!","v":{"$error":"#REF!"}},{"$f":"#REF!","v":{"$error":"#REF!"}},{"$f":"#REF!","v":{"$error":"#REF!"}},{"$f":"#REF!","v":{"$error":"#REF!"}},{"$f":"#REF!","v":{"$error":"#REF!"}},{"$f":"#REF!","v":{"$error":"#REF!"}},{"$f":"#REF!","v":{"$error":"#REF!"}},{"$f":"#REF!","v":{"$error":"#REF!"}},{"$f":"#REF!","v":{"$error":"#REF!"}},{"$f":"#REF!","v":{"$error":"#REF!"}},{"$f":"#REF!","v":{"$error":"#REF!"}}]
[9,{"$f":"'w-E_R'!B6","v":"Enzi Sarah"},{"$f":"'w-E_R'!D6","v":"BG St.Martin"},{"$f":"'w-E_R'!F6","v":8.9},{"$f":"'w-E_R'!G6","v":647},{"$f":"'w-E_R'!H6","v":33.200000000000003},{"$f":"'w-E_R'!I6","v":444},{"$f":"'w-E_R'!J6","v":0},{"$f":"'w-E_R'!K6","v":0},{"$f":"'w-E_R'!L6","v":4.7},{"$f":"'w-E_R'!M6","v":639},{"$f":"'w-E_R'!P6","v":1730},{"$error":"#REF!"},{"$f":"#REF!","v":{"$error":"#REF!"}},{"$f":"#REF!","v":{"$error":"#REF!"}},{"$f":"#REF!","v":{"$error":"#REF!"}},{"$f":"#REF!","v":{"$error":"#REF!"}},{"$f":"#REF!","v":{"$error":"#REF!"}},{"$f":"#REF!","v":{"$error":"#REF!"}},{"$f":"#REF!","v":{"$error":"#REF!"}},{"$f":"#REF!","v":{"$error":"#REF!"}},{"$f":"#REF!","v":{"$error":"#REF!"}},{"$f":"#REF!","v":{"$error":"#REF!"}},{"$f":"#REF!","v":{"$error":"#REF!"}}]
[10,{"$f":"'w-E_R'!B7","v":"Koch Anna"},{"$f":"'w-E_R'!D7","v":"BG St.Martin"},{"$f":"'w-E_R'!F7","v":8.57},{"$f":"'w-E_R'!G7","v":735},{"$f":"'w-E_R'!H7","v":27.8},{"$f":"'w-E_R'!I7","v":366},{"$f":"'w-E_R'!J7","v":0},{"$f":"'w-E_R'!K7","v":0},{"$f":"'w-E_R'!L7","v":4.6500000000000004},{"$f":"'w-E_R'!M7","v":628},{"$f":"'w-E_R'!P7","v":1729},{"$error":"#REF!"},{"$f":"#REF!","v":{"$error":"#REF!"}},{"$f":"#REF!","v":{"$error":"#REF!"}},{"$f":"#REF!","v":{"$error":"#REF!"}},{"$f":"#REF!","v":{"$error":"#REF!"}},{"$f":"#REF!","v":{"$error":"#REF!"}},{"$f":"#REF!","v":{"$error":"#REF!"}},{"$f":"#REF!","v":{"$error":"#REF!"}},{"$f":"#REF!","v":{"$error":"#REF!"}},{"$f":"#REF!","v":{"$error":"#REF!"}},{"$f":"#REF!","v":{"$error":"#REF!"}},{"$f":"#REF!","v":{"$error":"#REF!"}}]
[11,{"$f":"'w-E_R'!B40","v":"Wernitznig Nina"},{"$f":"'w-E_R'!D40","v":"Musik NMS Hermagor"},{"$f":"'w-E_R'!F40","v":9.2200000000000006},{"$f":"'w-E_R'!G40","v":567},{"$f":"'w-E_R'!H40","v":38.9},{"$f":"'w-E_R'!I40","v":524},{"$f":"'w-E_R'!J40","v":0},{"$f":"'w-E_R'!K40","v":0},{"$f":"'w-E_R'!L40","v":4.62},{"$f":"'w-E_R'!M40","v":622},{"$f":"'w-E_R'!P40","v":1713},{"$error":"#REF!"},{"$f":"#REF!","v":{"$error":"#REF!"}},{"$f":"#REF!","v":{"$error":"#REF!"}},{"$f":"#REF!","v":{"$error":"#REF!"}},{"$f":"#REF!","v":{"$error":"#REF!"}},{"$f":"#REF!","v":{"$error":"#REF!"}},{"$f":"#REF!","v":{"$error":"#REF!"}},{"$f":"#REF!","v":{"$error":"#REF!"}},{"$f":"#REF!","v":{"$error":"#REF!"}},{"$f":"#REF!","v":{"$error":"#REF!"}},{"$f":"#REF!","v":{"$error":"#REF!"}},{"$f":"#REF!","v":{"$error":"#REF!"}}]
[12,{"$f":"'w-E_R'!B3","v":"Wallner Paulina"},{"$f":"'w-E_R'!D3","v":"BG St.Martin"},{"$f":"'w-E_R'!F3","v":8.64},{"$f":"'w-E_R'!G3","v":716},{"$f":"'w-E_R'!H3","v":31.5},{"$f":"'w-E_R'!I3","v":420},{"$f":"'w-E_R'!J3","v":0},{"$f":"'w-E_R'!K3","v":0},{"$f":"'w-E_R'!L3","v":4.4000000000000004},{"$f":"'w-E_R'!M3","v":573},{"$f":"'w-E_R'!P3","v":1709},{"$error":"#REF!"},{"$f":"#REF!","v":{"$error":"#REF!"}},{"$f":"#REF!","v":{"$error":"#REF!"}},{"$f":"#REF!","v":{"$error":"#REF!"}},{"$f":"#REF!","v":{"$error":"#REF!"}},{"$f":"#REF!","v":{"$error":"#REF!"}},{"$f":"#REF!","v":{"$error":"#REF!"}},{"$f":"#REF!","v":{"$error":"#REF!"}},{"$f":"#REF!","v":{"$error":"#REF!"}},{"$f":"#REF!","v":{"$error":"#REF!"}},{"$f":"#REF!","v":{"$error":"#REF!"}},{"$f":"#REF!","v":{"$error":"#REF!"}}]
[13,{"$f":"'w-E_R'!B8","v":"Fugger Sophie"},{"$f":"'w-E_R'!D8","v":"BG St.Martin"},{"$f":"'w-E_R'!F8","v":8.7799999999999994},{"$f":"'w-E_R'!G8","v":678},{"$f":"'w-E_R'!H8","v":32.799999999999997},{"$f":"'w-E_R'!I8","v":438},{"$f":"'w-E_R'!J8","v":0},{"$f":"'w-E_R'!K8","v":0},{"$f":"'w-E_R'!L8","v":4.45},{"$f":"'w-E_R'!M8","v":584},{"$f":"'w-E_R'!P8","v":1700},{"$error":"#REF!"},{"$f":"#REF!","v":{"$error":"#REF!"}},{"$f":"#REF!","v":{"$error":"#REF!"}},{"$f":"#REF!","v":{"$error":"#REF!"}},{"$f":"#REF!","v":{"$error":"#REF!"}},{"$f":"#REF!","v":{"$error":"#REF!"}},{"$f":"#REF!","v":{"$error":"#REF!"}},{"$f":"#REF!","v":{"$error":"#REF!"}},{"$f":"#REF!","v":{"$error":"#REF!"}},{"$f":"#REF!","v":{"$error":"#REF!"}},{"$f":"#REF!","v":{"$error":"#REF!"}},{"$f":"#REF!","v":{"$error":"#REF!"}}]
[14,{"$f":"'w-E_R'!B74","v":"Reiter Katharina"},{"$f":"'w-E_R'!D74","v":"RNMS Feldkirchen"},{"$f":"'w-E_R'!F74","v":9.2899999999999991},{"$f":"'w-E_R'!G74","v":550},{"$f":"'w-E_R'!H74","v":40.700000000000003},{"$f":"'w-E_R'!I74","v":549},{"$f":"'w-E_R'!J74","v":0},{"$f":"'w-E_R'!K74","v":0},{"$f":"'w-E_R'!L74","v":4.45},{"$f":"'w-E_R'!M74","v":584},{"$f":"'w-E_R'!P74","v":1683},{"$error":"#REF!"},{"$f":"#REF!","v":{"$error":"#REF!"}},{"$f":"#REF!","v":{"$error":"#REF!"}},{"$f":"#REF!","v":{"$error":"#REF!"}},{"$f":"#REF!","v":{"$error":"#REF!"}},{"$f":"#REF!","v":{"$error":"#REF!"}},{"$f":"#REF!","v":{"$error":"#REF!"}},{"$f":"#REF!","v":{"$error":"#REF!"}},{"$f":"#REF!","v":{"$error":"#REF!"}},{"$f":"#REF!","v":{"$error":"#REF!"}},{"$f":"#REF!","v":{"$error":"#REF!"}},{"$f":"#REF!","v":{"$error":"#REF!"}}]
[15,{"$f":"'w-E_R'!B25","v":"Kaschnig Lea"},{"$f":"'w-E_R'!D25","v":"BZ Bad Eisenkappel"},{"$f":"'w-E_R'!F25","v":8.86},{"$f":"'w-E_R'!G25","v":657},{"$f":"'w-E_R'!H25","v":36.6},{"$f":"'w-E_R'!I25","v":492},{"$f":"'w-E_R'!J25","v":0},{"$f":"'w-E_R'!K25","v":0},{"$f":"'w-E_R'!L25","v":4.21},{"$f":"'w-E_R'!M25","v":531},{"$f":"'w-E_R'!P25","v":1680},{"$error":"#REF!"},{"$f":"#REF!","v":{"$error":"#REF!"}},{"$f":"#REF!","v":{"$error":"#REF!"}},{"$f":"#REF!","v":{"$error":"#REF!"}},{"$f":"#REF!","v":{"$error":"#REF!"}},{"$f":"#REF!","v":{"$error":"#REF!"}},{"$f":"#REF!","v":{"$error":"#REF!"}},{"$f":"#REF!","v":{"$error":"#REF!"}},{"$f":"#REF!","v":{"$error":"#REF!"}},{"$f":"#REF!","v":{"$error":"#REF!"}},{"$f":"#REF!","v":{"$error":"#REF!"}},{"$f":"#REF!","v":{"$error":"#REF!"}}]
[16,{"$f":"'w-E_R'!B26","v":"Ebner Anna-Lena"},{"$f":"'w-E_R'!D26","v":"BZ Bad Eisenkappel"},{"$f":"'w-E_R'!F26","v":8.5500000000000007},{"$f":"'w-E_R'!G26","v":741},{"$f":"'w-E_R'!H26","v":31.4},{"$f":"'w-E_R'!I26","v":418},{"$f":"'w-E_R'!J26","v":0},{"$f":"'w-E_R'!K26","v":0},{"$f":"'w-E_R'!L26","v":4.12},{"$f":"'w-E_R'!M26","v":511},{"$f":"'w-E_R'!P26","v":1670},{"$error":"#REF!"},{"$f":"#REF!","v":{"$error":"#REF!"}},{"$f":"#REF!","v":{"$error":"#REF!"}},{"$f":"#REF!","v":{"$error":"#REF!"}},{"$f":"#REF!","v":{"$error":"#REF!"}},{"$f":"#REF!","v":{"$error":"#REF!"}},{"$f":"#REF!","v":{"$error":"#REF!"}},{"$f":"#REF!","v":{"$error":"#REF!"}},{"$f":"#REF!","v":{"$error":"#REF!"}},{"$f":"#REF!","v":{"$error":"#REF!"}},{"$f":"#REF!","v":{"$error":"#REF!"}},{"$f":"#REF!","v":{"$error":"#REF!"}}]
[17,{"$f":"'w-E_R'!B4","v":"Feichter Nelly"},{"$f":"'w-E_R'!D4","v":"BG St.Martin"},{"$f":"'w-E_R'!F4","v":9.25},{"$f":"'w-E_R'!G4","v":560},{"$f":"'w-E_R'!H4","v":39.4},{"$f":"'w-E_R'!I4","v":531},{"$f":"'w-E_R'!J4","v":0},{"$f":"'w-E_R'!K4","v":0},{"$f":"'w-E_R'!L4","v":4.4000000000000004},{"$f":"'w-E_R'!M4","v":573},{"$f":"'w-E_R'!P4","v":1664},{"$error":"#REF!"},{"$f":"#REF!","v":{"$error":"#REF!"}},{"$f":"#REF!","v":{"$error":"#REF!"}},{"$f":"#REF!","v":{"$error":"#REF!"}},{"$f":"#REF!","v":{"$error":"#REF!"}},{"$f":"#REF!","v":{"$error":"#REF!"}},{"$f":"#REF!","v":{"$error":"#REF!"}},{"$f":"#REF!","v":{"$error":"#REF!"}},{"$f":"#REF!","v":{"$error":"#REF!"}},{"$f":"#REF!","v":{"$error":"#REF!"}},{"$f":"#REF!","v":{"$error":"#REF!"}},{"$f":"#REF!","v":{"$error":"#REF!"}}]
[18,{"$f":"'w-E_R'!B39","v":"Ebenwaldner Carina"},{"$f":"'w-E_R'!D39","v":"Musik NMS Hermagor"},{"$f":"'w-E_R'!F39","v":9.01},{"$f":"'w-E_R'!G39","v":619},{"$f":"'w-E_R'!H39","v":30.9},{"$f":"'w-E_R'!I39","v":411},{"$f":"'w-E_R'!J39","v":0},{"$f":"'w-E_R'!K39","v":0},{"$f":"'w-E_R'!L39","v":4.63},{"$f":"'w-E_R'!M39","v":624},{"$f":"'w-E_R'!P39","v":1654},{"$error":"#REF!"},{"$f":"#REF!","v":{"$error":"#REF!"}},{"$f":"#REF!","v":{"$error":"#REF!"}},{"$f":"#REF!","v":{"$error":"#REF!"}},{"$f":"#REF!","v":{"$error":"#REF!"}},{"$f":"#REF!","v":{"$error":"#REF!"}},{"$f":"#REF!","v":{"$error":"#REF!"}},{"$f":"#REF!","v":{"$error":"#REF!"}},{"$f":"#REF!","v":{"$error":"#REF!"}},{"$f":"#REF!","v":{"$error":"#REF!"}},{"$f":"#REF!","v":{"$error":"#REF!"}},{"$f":"#REF!","v":{"$error":"#REF!"}}]
[19,{"$f":"'w-E_R'!B75","v":"Hinteregger Katrin"},{"$f":"'w-E_R'!D75","v":"RNMS Feldkirchen"},{"$f":"'w-E_R'!F75","v":8.9},{"$f":"'w-E_R'!G75","v":647},{"$f":"'w-E_R'!H75","v":29.8},{"$f":"'w-E_R'!I75","v":395},{"$f":"'w-E_R'!J75","v":0},{"$f":"'w-E_R'!K75","v":0},{"$f":"'w-E_R'!L75","v":4.5599999999999996},{"$f":"'w-E_R'!M75","v":608},{"$f":"'w-E_R'!P75","v":1650},{"$error":"#REF!"},{"$f":"#REF!","v":{"$error":"#REF!"}},{"$f":"#REF!","v":{"$error":"#REF!"}},{"$f":"#REF!","v":{"$error":"#REF!"}},{"$f":"#REF!","v":{"$error":"#REF!"}},{"$f":"#REF!","v":{"$error":"#REF!"}},{"$f":"#REF!","v":{"$error":"#REF!"}},{"$f":"#REF!","v":{"$error":"#REF!"}},{"$f":"#REF!","v":{"$error":"#REF!"}},{"$f":"#REF!","v":{"$error":"#REF!"}},{"$f":"#REF!","v":{"$error":"#REF!"}},{"$f":"#REF!","v":{"$error":"#REF!"}}]
[20,{"$f":"'w-E_R'!B20","v":"Kowatsch Anna"},{"$f":"'w-E_R'!D20","v":"BRG Spittal"},{"$f":"'w-E_R'!F20","v":9.43},{"$f":"'w-E_R'!G20","v":518},{"$f":"'w-E_R'!H20","v":36.6},{"$f":"'w-E_R'!I20","v":492},{"$f":"'w-E_R'!J20","v":0},{"$f":"'w-E_R'!K20","v":0},{"$f":"'w-E_R'!L20","v":4.6500000000000004},{"$f":"'w-E_R'!M20","v":628},{"$f":"'w-E_R'!P20","v":1638},{"$error":"#REF!"},{"$f":"#REF!","v":{"$error":"#REF!"}},{"$f":"#REF!","v":{"$error":"#REF!"}},{"$f":"#REF!","v":{"$error":"#REF!"}},{"$f":"#REF!","v":{"$error":"#REF!"}},{"$f":"#REF!","v":{"$error":"#REF!"}},{"$f":"#REF!","v":{"$error":"#REF!"}},{"$f":"#REF!","v":{"$error":"#REF!"}},{"$f":"#REF!","v":{"$error":"#REF!"}},{"$f":"#REF!","v":{"$error":"#REF!"}},{"$f":"#REF!","v":{"$error":"#REF!"}},{"$f":"#REF!","v":{"$error":"#REF!"}}]
[21,{"$f":"'w-E_R'!B68","v":"Krnjic Sonja"},{"$f":"'w-E_R'!D68","v":"NMS Viktring"},{"$f":"'w-E_R'!F68","v":9.2200000000000006},{"$f":"'w-E_R'!G68","v":567},{"$f":"'w-E_R'!H68","v":41},{"$f":"'w-E_R'!I68","v":553},{"$f":"'w-E_R'!J68","v":0},{"$f":"'w-E_R'!K68","v":0},{"$f":"'w-E_R'!L68","v":4.0999999999999996},{"$f":"'w-E_R'!M68","v":507},{"$f":"'w-E_R'!P68","v":1627},{"$error":"#REF!"},{"$f":"#REF!","v":{"$error":"#REF!"}},{"$f":"#REF!","v":{"$error":"#REF!"}},{"$f":"#REF!","v":{"$error":"#REF!"}},{"$f":"#REF!","v":{"$error":"#REF!"}},{"$f":"#REF!","v":{"$error":"#REF!"}},{"$f":"#REF!","v":{"$error":"#REF!"}},{"$f":"#REF!","v":{"$error":"#REF!"}},{"$f":"#REF!","v":{"$error":"#REF!"}},{"$f":"#REF!","v":{"$error":"#REF!"}},{"$f":"#REF!","v":{"$error":"#REF!"}},{"$f":"#REF!","v":{"$error":"#REF!"}}]
[22,{"$f":"'w-E_R'!B18","v":"Reiter Anna-Lena"},{"$f":"'w-E_R'!D18","v":"BRG Spittal"},{"$f":"'w-E_R'!F18","v":9.11},{"$f":"'w-E_R'!G18","v":594},{"$f":"'w-E_R'!H18","v":31.4},{"$f":"'w-E_R'!I18","v":418},{"$f":"'w-E_R'!J18","v":0},{"$f":"'w-E_R'!K18","v":0},{"$f":"'w-E_R'!L18","v":4.55},{"$f":"'w-E_R'!M18","v":606},{"$f":"'w-E_R'!P18","v":1618},{"$error":"#REF!"},{"$f":"#REF!","v":{"$error":"#REF!"}},{"$f":"#REF!","v":{"$error":"#REF!"}},{"$f":"#REF!","v":{"$error":"#REF!"}},{"$f":"#REF!","v":{"$error":"#REF!"}},{"$f":"#REF!","v":{"$error":"#REF!"}},{"$f":"#REF!","v":{"$error":"#REF!"}},{"$f":"#REF!","v":{"$error":"#REF!"}},{"$f":"#REF!","v":{"$error":"#REF!"}},{"$f":"#REF!","v":{"$error":"#REF!"}},{"$f":"#REF!","v":{"$error":"#REF!"}},{"$f":"#REF!","v":{"$error":"#REF!"}}]
[23,{"$f":"'w-E_R'!B17","v":"Hartlieb Michelle"},{"$f":"'w-E_R'!D17","v":"BRG Spittal"},{"$f":"'w-E_R'!F17","v":9.09},{"$f":"'w-E_R'!G17","v":599},{"$f":"'w-E_R'!H17","v":36.799999999999997},{"$f":"'w-E_R'!I17","v":495},{"$f":"'w-E_R'!J17","v":0},{"$f":"'w-E_R'!K17","v":0},{"$f":"'w-E_R'!L17","v":4.1100000000000003},{"$f":"'w-E_R'!M17","v":509},{"$f":"'w-E_R'!P17","v":1603},{"$error":"#REF!"},{"$f":"#REF!","v":{"$error":"#REF!"}},{"$f":"#REF!","v":{"$error":"#REF!"}},{"$f":"#REF!","v":{"$error":"#REF!"}},{"$f":"#REF!","v":{"$error":"#REF!"}},{"$f":"#REF!","v":{"$error":"#REF!"}},{"$f":"#REF!","v":{"$error":"#REF!"}},{"$f":"#REF!","v":{"$error":"#REF!"}},{"$f":"#REF!","v":{"$error":"#REF!"}},{"$f":"#REF!","v":{"$error":"#REF!"}},{"$f":"#REF!","v":{"$error":"#REF!"}},{"$f":"#REF!","v":{"$error":"#REF!"}}]
[24,{"$f":"'w-E_R'!B19","v":"Krammer Kristin"},{"$f":"'w-E_R'!D19","v":"BRG Spittal"},{"$f":"'w-E_R'!F19","v":9.24},{"$f":"'w-E_R'!G19","v":562},{"$f":"'w-E_R'!H19","v":32.799999999999997},{"$f":"'w-E_R'!I19","v":438},{"$f":"'w-E_R'!J19","v":0},{"$f":"'w-E_R'!K19","v":0},{"$f":"'w-E_R'!L19","v":4.5},{"$f":"'w-E_R'!M19","v":595},{"$f":"'w-E_R'!P19","v":1595},{"$error":"#REF!"},{"$f":"#REF!","v":{"$error":"#REF!"}},{"$f":"#REF!","v":{"$error":"#REF!"}},{"$f":"#REF!","v":{"$error":"#REF!"}},{"$f":"#REF!","v":{"$error":"#REF!"}},{"$f":"#REF!","v":{"$error":"#REF!"}},{"$f":"#REF!","v":{"$error":"#REF!"}},{"$f":"#REF!","v":{"$error":"#REF!"}},{"$f":"#REF!","v":{"$error":"#REF!"}},{"$f":"#REF!","v":{"$error":"#REF!"}},{"$f":"#REF!","v":{"$error":"#REF!"}},{"$f":"#REF!","v":{"$error":"#REF!"}}]
[25,{"$f":"'w-E_R'!B48","v":"Schaller Victoria"},{"$f":"'w-E_R'!D48","v":"NMS Friesach"},{"$f":"'w-E_R'!F48","v":9.32},{"$f":"'w-E_R'!G48","v":543},{"$f":"'w-E_R'!H48","v":35.9},{"$f":"'w-E_R'!I48","v":482},{"$f":"'w-E_R'!J48","v":0},{"$f":"'w-E_R'!K48","v":0},{"$f":"'w-E_R'!L48","v":4.3499999999999996},{"$f":"'w-E_R'!M48","v":562},{"$f":"'w-E_R'!P48","v":1587},{"$error":"#REF!"},{"$f":"#REF!","v":{"$error":"#REF!"}},{"$f":"#REF!","v":{"$error":"#REF!"}},{"$f":"#REF!","v":{"$error":"#REF!"}},{"$f":"#REF!","v":{"$error":"#REF!"}},{"$f":"#REF!","v":{"$error":"#REF!"}},{"$f":"#REF!","v":{"$error":"#REF!"}},{"$f":"#REF!","v":{"$error":"#REF!"}},{"$f":"#REF!","v":{"$error":"#REF!"}},{"$f":"#REF!","v":{"$error":"#REF!"}},{"$f":"#REF!","v":{"$error":"#REF!"}},{"$f":"#REF!","v":{"$error":"#REF!"}}]
[26,{"$f":"'w-E_R'!B35","v":"Zenkl Hannah"},{"$f":"'w-E_R'!D35","v":"Ingeborg Bachmann Gymnasium"},{"$f":"'w-E_R'!F35","v":9.31},{"$f":"'w-E_R'!G35","v":546},{"$f":"'w-E_R'!H35","v":35.5},{"$f":"'w-E_R'!I35","v":476},{"$f":"'w-E_R'!J35","v":0},{"$f":"'w-E_R'!K35","v":0},{"$f":"'w-E_R'!L35","v":4.3600000000000003},{"$f":"'w-E_R'!M35","v":564},{"$f":"'w-E_R'!P35","v":1586},{"$error":"#REF!"},{"$f":"#REF!","v":{"$error":"#REF!"}},{"$f":"#REF!","v":{"$error":"#REF!"}},{"$f":"#REF!","v":{"$error":"#REF!"}},{"$f":"#REF!","v":{"$error":"#REF!"}},{"$f":"#REF!","v":{"$error":"#REF!"}},{"$f":"#REF!","v":{"$error":"#REF!"}},{"$f":"#REF!","v":{"$error":"#REF!"}},{"$f":"#REF!","v":{"$error":"#REF!"}},{"$f":"#REF!","v":{"$error":"#REF!"}},{"$f":"#REF!","v":{"$error":"#REF!"}},{"$f":"#REF!","v":{"$error":"#REF!"}}]
[26,{"$f":"'w-E_R'!B60","v":"Wiener Sophie"},{"$f":"'w-E_R'!D60","v":"NMS Landskron"},{"$f":"'w-E_R'!F60","v":9.4499999999999993},{"$f":"'w-E_R'!G60","v":513},{"$f":"'w-E_R'!H60","v":38},{"$f":"'w-E_R'!I60","v":511},{"$f":"'w-E_R'!J60","v":0},{"$f":"'w-E_R'!K60","v":0},{"$f":"'w-E_R'!L60","v":4.3499999999999996},{"$f":"'w-E_R'!M60","v":562},{"$f":"'w-E_R'!P60","v":1586},{"$error":"#REF!"},{"$f":"#REF!","v":{"$error":"#REF!"}},{"$f":"#REF!","v":{"$error":"#REF!"}},{"$f":"#REF!","v":{"$error":"#REF!"}},{"$f":"#REF!","v":{"$error":"#REF!"}},{"$f":"#REF!","v":{"$error":"#REF!"}},{"$f":"#REF!","v":{"$error":"#REF!"}},{"$f":"#REF!","v":{"$error":"#REF!"}},{"$f":"#REF!","v":{"$error":"#REF!"}},{"$f":"#REF!","v":{"$error":"#REF!"}},{"$f":"#REF!","v":{"$error":"#REF!"}},{"$f":"#REF!","v":{"$error":"#REF!"}}]
[28,{"$f":"'w-E_R'!B43","v":"Seebacher Mathilda"},{"$f":"'w-E_R'!D43","v":"Musik NMS Hermagor"},{"$f":"'w-E_R'!F43","v":9.3699999999999992},{"$f":"'w-E_R'!G43","v":532},{"$f":"'w-E_R'!H43","v":35.6},{"$f":"'w-E_R'!I43","v":478},{"$f":"'w-E_R'!J43","v":0},{"$f":"'w-E_R'!K43","v":0},{"$f":"'w-E_R'!L43","v":4.26},{"$f":"'w-E_R'!M43","v":542},{"$f":"'w-E_R'!P43","v":1552},{"$error":"#REF!"},{"$f":"#REF!","v":{"$error":"#REF!"}},{"$f":"#REF!","v":{"$error":"#REF!"}},{"$f":"#REF!","v":{"$error":"#REF!"}},{"$f":"#REF!","v":{"$error":"#REF!"}},{"$f":"#REF!","v":{"$error":"#REF!"}},{"$f":"#REF!","v":{"$error":"#REF!"}},{"$f":"#REF!","v":{"$error":"#REF!"}},{"$f":"#REF!","v":{"$error":"#REF!"}},{"$f":"#REF!","v":{"$error":"#REF!"}},{"$f":"#REF!","v":{"$error":"#REF!"}},{"$f":"#REF!","v":{"$error":"#REF!"}}]
[29,{"$f":"'w-E_R'!B5","v":"Heincz Gerit"},{"$f":"'w-E_R'!D5","v":"BG St.Martin"},{"$f":"'w-E_R'!F5","v":9.59},{"$f":"'w-E_R'!G5","v":482},{"$f":"'w-E_R'!H5","v":39.1},{"$f":"'w-E_R'!I5","v":527},{"$f":"'w-E_R'!J5","v":0},{"$f":"'w-E_R'!K5","v":0},{"$f":"'w-E_R'!L5","v":4.24},{"$f":"'w-E_R'!M5","v":538},{"$f":"'w-E_R'!P5","v":1547},{"$error":"#REF!"},{"$f":"#REF!","v":{"$error":"#REF!"}},{"$f":"#REF!","v":{"$error":"#REF!"}},{"$f":"#REF!","v":{"$error":"#REF!"}},{"$f":"#REF!","v":{"$error":"#REF!"}},{"$f":"#REF!","v":{"$error":"#REF!"}},{"$f":"#REF!","v":{"$error":"#REF!"}},{"$f":"#REF!","v":{"$error":"#REF!"}},{"$f":"#REF!","v":{"$error":"#REF!"}},{"$f":"#REF!","v":{"$error":"#REF!"}},{"$f":"#REF!","v":{"$error":"#REF!"}},{"$f":"#REF!","v":{"$error":"#REF!"}}]
[29,{"$f":"'w-E_R'!B41","v":"Pettauer Sara"},{"$f":"'w-E_R'!D41","v":"Musik NMS Hermagor"},{"$f":"'w-E_R'!F41","v":8.93},{"$f":"'w-E_R'!G41","v":639},{"$f":"'w-E_R'!H41","v":26.9},{"$f":"'w-E_R'!I41","v":353},{"$f":"'w-E_R'!J41","v":0},{"$f":"'w-E_R'!K41","v":0},{"$f":"'w-E_R'!L41","v":4.32},{"$f":"'w-E_R'!M41","v":555},{"$f":"'w-E_R'!P41","v":1547},{"$error":"#REF!"},{"$f":"#REF!","v":{"$error":"#REF!"}},{"$f":"#REF!","v":{"$error":"#REF!"}},{"$f":"#REF!","v":{"$error":"#REF!"}},{"$f":"#REF!","v":{"$error":"#REF!"}},{"$f":"#REF!","v":{"$error":"#REF!"}},{"$f":"#REF!","v":{"$error":"#REF!"}},{"$f":"#REF!","v":{"$error":"#REF!"}},{"$f":"#REF!","v":{"$error":"#REF!"}},{"$f":"#REF!","v":{"$error":"#REF!"}},{"$f":"#REF!","v":{"$error":"#REF!"}},{"$f":"#REF!","v":{"$error":"#REF!"}}]
[31,{"$f":"'w-E_R'!B66","v":"Edlmann Chiara"},{"$f":"'w-E_R'!D66","v":"NMS Viktring"},{"$f":"'w-E_R'!F66","v":9.0399999999999991},{"$f":"'w-E_R'!G66","v":611},{"$f":"'w-E_R'!H66","v":29.5},{"$f":"'w-E_R'!I66","v":391},{"$f":"'w-E_R'!J66","v":0},{"$f":"'w-E_R'!K66","v":0},{"$f":"'w-E_R'!L66","v":4.25},{"$f":"'w-E_R'!M66","v":540},{"$f":"'w-E_R'!P66","v":1542},{"$error":"#REF!"},{"$f":"#REF!","v":{"$error":"#REF!"}},{"$f":"#REF!","v":{"$error":"#REF!"}},{"$f":"#REF!","v":{"$error":"#REF!"}},{"$f":"#REF!","v":{"$error":"#REF!"}},{"$f":"#REF!","v":{"$error":"#REF!"}},{"$f":"#REF!","v":{"$error":"#REF!"}},{"$f":"#REF!","v":{"$error":"#REF!"}},{"$f":"#REF!","v":{"$error":"#REF!"}},{"$f":"#REF!","v":{"$error":"#REF!"}},{"$f":"#REF!","v":{"$error":"#REF!"}},{"$f":"#REF!","v":{"$error":"#REF!"}}]
[32,{"$f":"'w-E_R'!B49","v":"Hölbling Laura"},{"$f":"'w-E_R'!D49","v":"NMS Friesach"},{"$f":"'w-E_R'!F49","v":9.43},{"$f":"'w-E_R'!G49","v":518},{"$f":"'w-E_R'!H49","v":35.200000000000003},{"$f":"'w-E_R'!I49","v":472},{"$f":"'w-E_R'!J49","v":0},{"$f":"'w-E_R'!K49","v":0},{"$f":"'w-E_R'!L49","v":4.3},{"$f":"'w-E_R'!M49","v":551},{"$f":"'w-E_R'!P49","v":1541},{"$error":"#REF!"},{"$f":"#REF!","v":{"$error":"#REF!"}},{"$f":"#REF!","v":{"$error":"#REF!"}},{"$f":"#REF!","v":{"$error":"#REF!"}},{"$f":"#REF!","v":{"$error":"#REF!"}},{"$f":"#REF!","v":{"$error":"#REF!"}},{"$f":"#REF!","v":{"$error":"#REF!"}},{"$f":"#REF!","v":{"$error":"#REF!"}},{"$f":"#REF!","v":{"$error":"#REF!"}},{"$f":"#REF!","v":{"$error":"#REF!"}},{"$f":"#REF!","v":{"$error":"#REF!"}},{"$f":"#REF!","v":{"$error":"#REF!"}}]
[{"$f":"RANK(L36,$L$4:$L$123,0)","v":33},{"$f":"'w-E_R'!B33","v":"Doboczky Sophie"},{"$f":"'w-E_R'!D33","v":"Ingeborg Bachmann Gymnasium"},{"$f":"'w-E_R'!F33","v":9.02},{"$f":"'w-E_R'!G33","v":616},{"$f":"'w-E_R'!H33","v":28.1},{"$f":"'w-E_R'!I33","v":371},{"$f":"'w-E_R'!J33","v":0},{"$f":"'w-E_R'!K33","v":0},{"$f":"'w-E_R'!L33","v":4.18},{"$f":"'w-E_R'!M33","v":525},{"$f":"'w-E_R'!P33","v":1512},{"$f":"RANK(X36,$X$4:$X$123,0)","v":{"$error":"#REF!"}},{"$f":"#REF!","v":{"$error":"#REF!"}},{"$f":"#REF!","v":{"$error":"#REF!"}},{"$f":"#REF!","v":{"$error":"#REF!"}},{"$f":"#REF!","v":{"$error":"#REF!"}},{"$f":"#REF!","v":{"$error":"#REF!"}},{"$f":"#REF!","v":{"$error":"#REF!"}},{"$f":"#REF!","v":{"$error":"#REF!"}},{"$f":"#REF!","v":{"$error":"#REF!"}},{"$f":"#REF!","v":{"$error":"#REF!"}},{"$f":"#REF!","v":{"$error":"#REF!"}},{"$f":"#REF!","v":{"$error":"#REF!"}}]
[34,{"$f":"'w-E_R'!B36","v":"Laßnig Katharina"},{"$f":"'w-E_R'!D36","v":"Ingeborg Bachmann Gymnasium"},{"$f":"'w-E_R'!F36","v":9.5299999999999994},{"$f":"'w-E_R'!G36","v":495},{"$f":"'w-E_R'!H36","v":34.700000000000003},{"$f":"'w-E_R'!I36","v":465},{"$f":"'w-E_R'!J36","v":0},{"$f":"'w-E_R'!K36","v":0},{"$f":"'w-E_R'!L36","v":4.3},{"$f":"'w-E_R'!M36","v":551},{"$f":"'w-E_R'!P36","v":1511},{"$error":"#REF!"},{"$f":"#REF!","v":{"$error":"#REF!"}},{"$f":"#REF!","v":{"$error":"#REF!"}},{"$f":"#REF!","v":{"$error":"#REF!"}},{"$f":"#REF!","v":{"$error":"#REF!"}},{"$f":"#REF!","v":{"$error":"#REF!"}},{"$f":"#REF!","v":{"$error":"#REF!"}},{"$f":"#REF!","v":{"$error":"#REF!"}},{"$f":"#REF!","v":{"$error":"#REF!"}},{"$f":"#REF!","v":{"$error":"#REF!"}},{"$f":"#REF!","v":{"$error":"#REF!"}},{"$f":"#REF!","v":{"$error":"#REF!"}}]
[35,{"$f":"'w-E_R'!B46","v":"Kronlechner Bettina"},{"$f":"'w-E_R'!D46","v":"NMS Friesach"},{"$f":"'w-E_R'!F46","v":9.35},{"$f":"'w-E_R'!G46","v":536},{"$f":"'w-E_R'!H46","v":31.3},{"$f":"'w-E_R'!I46","v":417},{"$f":"'w-E_R'!J46","v":0},{"$f":"'w-E_R'!K46","v":0},{"$f":"'w-E_R'!L46","v":4.3},{"$f":"'w-E_R'!M46","v":551},{"$f":"'w-E_R'!P46","v":1504},{"$error":"#REF!"},{"$f":"#REF!","v":{"$error":"#REF!"}},{"$f":"#REF!","v":{"$error":"#REF!"}},{"$f":"#REF!","v":{"$error":"#REF!"}},{"$f":"#REF!","v":{"$error":"#REF!"}},{"$f":"#REF!","v":{"$error":"#REF!"}},{"$f":"#REF!","v":{"$error":"#REF!"}},{"$f":"#REF!","v":{"$error":"#REF!"}},{"$f":"#REF!","v":{"$error":"#REF!"}},{"$f":"#REF!","v":{"$error":"#REF!"}},{"$f":"#REF!","v":{"$error":"#REF!"}},{"$f":"#REF!","v":{"$error":"#REF!"}}]
[35,{"$f":"'w-E_R'!B52","v":"Mayer Elena"},{"$f":"'w-E_R'!D52","v":"NMS Gegendtal"},{"$f":"'w-E_R'!F52","v":9.5299999999999994},{"$f":"'w-E_R'!G52","v":495},{"$f":"'w-E_R'!H52","v":33.700000000000003},{"$f":"'w-E_R'!I52","v":451},{"$f":"'w-E_R'!J52","v":0},{"$f":"'w-E_R'!K52","v":0},{"$f":"'w-E_R'!L52","v":4.33},{"$f":"'w-E_R'!M52","v":558},{"$f":"'w-E_R'!P52","v":1504},{"$error":"#REF!"},{"$f":"#REF!","v":{"$error":"#REF!"}},{"$f":"#REF!","v":{"$error":"#REF!"}},{"$f":"#REF!","v":{"$error":"#REF!"}},{"$f":"#REF!","v":{"$error":"#REF!"}},{"$f":"#REF!","v":{"$error":"#REF!"}},{"$f":"#REF!","v":{"$error":"#REF!"}},{"$f":"#REF!","v":{"$error":"#REF!"}},{"$f":"#REF!","v":{"$error":"#REF!"}},{"$f":"#REF!","v":{"$error":"#REF!"}},{"$f":"#REF!","v":{"$error":"#REF!"}},{"$f":"#REF!","v":{"$error":"#REF!"}}]
[37,{"$f":"'w-E_R'!B42","v":"Matthei Laura"},{"$f":"'w-E_R'!D42","v":"Musik NMS Hermagor"},{"$f":"'w-E_R'!F42","v":9.3000000000000007},{"$f":"'w-E_R'!G42","v":548},{"$f":"'w-E_R'!H42","v":28},{"$f":"'w-E_R'!I42","v":369},{"$f":"'w-E_R'!J42","v":0},{"$f":"'w-E_R'!K42","v":0},{"$f":"'w-E_R'!L42","v":4.3499999999999996},{"$f":"'w-E_R'!M42","v":562},{"$f":"'w-E_R'!P42","v":1479},{"$error":"#REF!"},{"$f":"#REF!","v":{"$error":"#REF!"}},{"$f":"#REF!","v":{"$error":"#REF!"}},{"$f":"#REF!","v":{"$error":"#REF!"}},{"$f":"#REF!","v":{"$error":"#REF!"}},{"$f":"#REF!","v":{"$error":"#REF!"}},{"$f":"#REF!","v":{"$error":"#REF!"}},{"$f":"#REF!","v":{"$error":"#REF!"}},{"$f":"#REF!","v":{"$error":"#REF!"}},{"$f":"#REF!","v":{"$error":"#REF!"}},{"$f":"#REF!","v":{"$error":"#REF!"}},{"$f":"#REF!","v":{"$error":"#REF!"}}]
[38,{"$f":"'w-E_R'!B24","v":"Kampusch Michelle"},{"$f":"'w-E_R'!D24","v":"BZ Bad Eisenkappel"},{"$f":"'w-E_R'!F24","v":9.5500000000000007},{"$f":"'w-E_R'!G24","v":491},{"$f":"'w-E_R'!H24","v":37.700000000000003},{"$f":"'w-E_R'!I24","v":507},{"$f":"'w-E_R'!J24","v":0},{"$f":"'w-E_R'!K24","v":0},{"$f":"'w-E_R'!L24","v":3.98},{"$f":"'w-E_R'!M24","v":480},{"$f":"'w-E_R'!P24","v":1478},{"$error":"#REF!"},{"$f":"#REF!","v":{"$error":"#REF!"}},{"$f":"#REF!","v":{"$error":"#REF!"}},{"$f":"#REF!","v":{"$error":"#REF!"}},{"$f":"#REF!","v":{"$error":"#REF!"}},{"$f":"#REF!","v":{"$error":"#REF!"}},{"$f":"#REF!","v":{"$error":"#REF!"}},{"$f":"#REF!","v":{"$error":"#REF!"}},{"$f":"#REF!","v":{"$error":"#REF!"}},{"$f":"#REF!","v":{"$error":"#REF!"}},{"$f":"#REF!","v":{"$error":"#REF!"}},{"$f":"#REF!","v":{"$error":"#REF!"}}]
[39,{"$f":"'w-E_R'!B78","v":"Petrascu Elisabeth"},{"$f":"'w-E_R'!D78","v":"RNMS Feldkirchen"},{"$f":"'w-E_R'!F78","v":9.25},{"$f":"'w-E_R'!G78","v":560},{"$f":"'w-E_R'!H78","v":23.4},{"$f":"'w-E_R'!I78","v":302},{"$f":"'w-E_R'!J78","v":0},{"$f":"'w-E_R'!K78","v":0},{"$f":"'w-E_R'!L78","v":4.53},{"$f":"'w-E_R'!M78","v":602},{"$f":"'w-E_R'!P78","v":1464},{"$error":"#REF!"},{"$f":"#REF!","v":{"$error":"#REF!"}},{"$f":"#REF!","v":{"$error":"#REF!"}},{"$f":"#REF!","v":{"$error":"#REF!"}},{"$f":"#REF!","v":{"$error":"#REF!"}},{"$f":"#REF!","v":{"$error":"#REF!"}},{"$f":"#REF!","v":{"$error":"#REF!"}},{"$f":"#REF!","v":{"$error":"#REF!"}},{"$f":"#REF!","v":{"$error":"#REF!"}},{"$f":"#REF!","v":{"$error":"#REF!"}},{"$f":"#REF!","v":{"$error":"#REF!"}},{"$f":"#REF!","v":{"$error":"#REF!"}}]
[40,{"$f":"'w-E_R'!B13","v":"Spendl Jennifer"},{"$f":"'w-E_R'!D13","v":"Borg Wolfsberg"},{"$f":"'w-E_R'!F13","v":9.5399999999999991},{"$f":"'w-E_R'!G13","v":493},{"$f":"'w-E_R'!H13","v":35.799999999999997},{"$f":"'w-E_R'!I13","v":480},{"$f":"'w-E_R'!J13","v":0},{"$f":"'w-E_R'!K13","v":0},{"$f":"'w-E_R'!L13","v":3.99},{"$f":"'w-E_R'!M13","v":483},{"$f":"'w-E_R'!P13","v":1456},{"$error":"#REF!"},{"$f":"#REF!","v":{"$error":"#REF!"}},{"$f":"#REF!","v":{"$error":"#REF!"}},{"$f":"#REF!","v":{"$error":"#REF!"}},{"$f":"#REF!","v":{"$error":"#REF!"}},{"$f":"#REF!","v":{"$error":"#REF!"}},{"$f":"#REF!","v":{"$error":"#REF!"}},{"$f":"#REF!","v":{"$error":"#REF!"}},{"$f":"#REF!","v":{"$error":"#REF!"}},{"$f":"#REF!","v":{"$error":"#REF!"}},{"$f":"#REF!","v":{"$error":"#REF!"}},{"$f":"#REF!","v":{"$error":"#REF!"}}]
[41,{"$f":"'w-E_R'!B47","v":"Delfser Anna-Magdalena"},{"$f":"'w-E_R'!D47","v":"NMS Friesach"},{"$f":"'w-E_R'!F47","v":9.26},{"$f":"'w-E_R'!G47","v":558},{"$f":"'w-E_R'!H47","v":28.2},{"$f":"'w-E_R'!I47","v":372},{"$f":"'w-E_R'!J47","v":0},{"$f":"'w-E_R'!K47","v":0},{"$f":"'w-E_R'!L47","v":4.16},{"$f":"'w-E_R'!M47","v":520},{"$f":"'w-E_R'!P47","v":1450},{"$error":"#REF!"},{"$f":"#REF!","v":{"$error":"#REF!"}},{"$f":"#REF!","v":{"$error":"#REF!"}},{"$f":"#REF!","v":{"$error":"#REF!"}},{"$f":"#REF!","v":{"$error":"#REF!"}},{"$f":"#REF!","v":{"$error":"#REF!"}},{"$f":"#REF!","v":{"$error":"#REF!"}},{"$f":"#REF!","v":{"$error":"#REF!"}},{"$f":"#REF!","v":{"$error":"#REF!"}},{"$f":"#REF!","v":{"$error":"#REF!"}},{"$f":"#REF!","v":{"$error":"#REF!"}},{"$f":"#REF!","v":{"$error":"#REF!"}}]
[42,{"$f":"'w-E_R'!B76","v":"Kircher Florentina"},{"$f":"'w-E_R'!D76","v":"RNMS Feldkirchen"},{"$f":"'w-E_R'!F76","v":9.5399999999999991},{"$f":"'w-E_R'!G76","v":493},{"$f":"'w-E_R'!H76","v":0},{"$f":"'w-E_R'!I76","v":0},{"$f":"'w-E_R'!J76","v":7.6},{"$f":"'w-E_R'!K76","v":437},{"$f":"'w-E_R'!L76","v":4.1500000000000004},{"$f":"'w-E_R'!M76","v":518},{"$f":"'w-E_R'!P76","v":1448},{"$error":"#REF!"},{"$f":"#REF!","v":{"$error":"#REF!"}},{"$f":"#REF!","v":{"$error":"#REF!"}},{"$f":"#REF!","v":{"$error":"#REF!"}},{"$f":"#REF!","v":{"$error":"#REF!"}},{"$f":"#REF!","v":{"$error":"#REF!"}},{"$f":"#REF!","v":{"$error":"#REF!"}},{"$f":"#REF!","v":{"$error":"#REF!"}},{"$f":"#REF!","v":{"$error":"#REF!"}},{"$f":"#REF!","v":{"$error":"#REF!"}},{"$f":"#REF!","v":{"$error":"#REF!"}},{"$f":"#REF!","v":{"$error":"#REF!"}}]
[43,{"$f":"'w-E_R'!B53","v":"Steiner Patricia"},{"$f":"'w-E_R'!D53","v":"NMS Gegendtal"},{"$f":"'w-E_R'!F53","v":9.5299999999999994},{"$f":"'w-E_R'!G53","v":495},{"$f":"'w-E_R'!H53","v":0},{"$f":"'w-E_R'!I53","v":0},{"$f":"'w-E_R'!J53","v":7.29},{"$f":"'w-E_R'!K53","v":417},{"$f":"'w-E_R'!L53","v":4.18},{"$f":"'w-E_R'!M53","v":525},{"$f":"'w-E_R'!P53","v":1437},{"$error":"#REF!"},{"$f":"#REF!","v":{"$error":"#REF!"}},{"$f":"#REF!","v":{"$error":"#REF!"}},{"$f":"#REF!","v":{"$error":"#REF!"}},{"$f":"#REF!","v":{"$error":"#REF!"}},{"$f":"#REF!","v":{"$error":"#REF!"}},{"$f":"#REF!","v":{"$error":"#REF!"}},{"$f":"#REF!","v":{"$error":"#REF!"}},{"$f":"#REF!","v":{"$error":"#REF!"}},{"$f":"#REF!","v":{"$error":"#REF!"}},{"$f":"#REF!","v":{"$error":"#REF!"}},{"$f":"#REF!","v":{"$error":"#REF!"}}]
[43,{"$f":"'w-E_R'!B61","v":"Neumann Lisa"},{"$f":"'w-E_R'!D61","v":"NMS Landskron"},{"$f":"'w-E_R'!F61","v":9.1},{"$f":"'w-E_R'!G61","v":596},{"$f":"'w-E_R'!H61","v":25.1},{"$f":"'w-E_R'!I61","v":327},{"$f":"'w-E_R'!J61","v":0},{"$f":"'w-E_R'!K61","v":0},{"$f":"'w-E_R'!L61","v":4.13},{"$f":"'w-E_R'!M61","v":514},{"$f":"'w-E_R'!P61","v":1437},{"$error":"#REF!"},{"$f":"#REF!","v":{"$error":"#REF!"}},{"$f":"#REF!","v":{"$error":"#REF!"}},{"$f":"#REF!","v":{"$error":"#REF!"}},{"$f":"#REF!","v":{"$error":"#REF!"}},{"$f":"#REF!","v":{"$error":"#REF!"}},{"$f":"#REF!","v":{"$error":"#REF!"}},{"$f":"#REF!","v":{"$error":"#REF!"}},{"$f":"#REF!","v":{"$error":"#REF!"}},{"$f":"#REF!","v":{"$error":"#REF!"}},{"$f":"#REF!","v":{"$error":"#REF!"}},{"$f":"#REF!","v":{"$error":"#REF!"}}]
[45,{"$f":"'w-E_R'!B27","v":"Millicevvic Renate"},{"$f":"'w-E_R'!D27","v":"BZ Bad Eisenkappel"},{"$f":"'w-E_R'!F27","v":9.76},{"$f":"'w-E_R'!G27","v":445},{"$f":"'w-E_R'!H27","v":35.299999999999997},{"$f":"'w-E_R'!I27","v":473},{"$f":"'w-E_R'!J27","v":0},{"$f":"'w-E_R'!K27","v":0},{"$f":"'w-E_R'!L27","v":4.0999999999999996},{"$f":"'w-E_R'!M27","v":507},{"$f":"'w-E_R'!P27","v":1425},{"$error":"#REF!"},{"$f":"#REF!","v":{"$error":"#REF!"}},{"$f":"#REF!","v":{"$error":"#REF!"}},{"$f":"#REF!","v":{"$error":"#REF!"}},{"$f":"#REF!","v":{"$error":"#REF!"}},{"$f":"#REF!","v":{"$error":"#REF!"}},{"$f":"#REF!","v":{"$error":"#REF!"}},{"$f":"#REF!","v":{"$error":"#REF!"}},{"$f":"#REF!","v":{"$error":"#REF!"}},{"$f":"#REF!","v":{"$error":"#REF!"}},{"$f":"#REF!","v":{"$error":"#REF!"}},{"$f":"#REF!","v":{"$error":"#REF!"}}]
[45,{"$f":"'w-E_R'!B63","v":"Santner Fabienne"},{"$f":"'w-E_R'!D63","v":"NMS Landskron"},{"$f":"'w-E_R'!F63","v":9.48},{"$f":"'w-E_R'!G63","v":506},{"$f":"'w-E_R'!H63","v":31.9},{"$f":"'w-E_R'!I63","v":425},{"$f":"'w-E_R'!J63","v":0},{"$f":"'w-E_R'!K63","v":0},{"$f":"'w-E_R'!L63","v":4.04},{"$f":"'w-E_R'!M63","v":494},{"$f":"'w-E_R'!P63","v":1425},{"$error":"#REF!"},{"$f":"#REF!","v":{"$error":"#REF!"}},{"$f":"#REF!","v":{"$error":"#REF!"}},{"$f":"#REF!","v":{"$error":"#REF!"}},{"$f":"#REF!","v":{"$error":"#REF!"}},{"$f":"#REF!","v":{"$error":"#REF!"}},{"$f":"#REF!","v":{"$error":"#REF!"}},{"$f":"#REF!","v":{"$error":"#REF!"}},{"$f":"#REF!","v":{"$error":"#REF!"}},{"$f":"#REF!","v":{"$error":"#REF!"}},{"$f":"#REF!","v":{"$error":"#REF!"}},{"$f":"#REF!","v":{"$error":"#REF!"}}]
[47,{"$f":"'w-E_R'!B45","v":"Pörtschacher Vanessa"},{"$f":"'w-E_R'!D45","v":"NMS Friesach"},{"$f":"'w-E_R'!F45","v":9.39},{"$f":"'w-E_R'!G45","v":527},{"$f":"'w-E_R'!H45","v":29.2},{"$f":"'w-E_R'!I45","v":387},{"$f":"'w-E_R'!J45","v":0},{"$f":"'w-E_R'!K45","v":0},{"$f":"'w-E_R'!L45","v":4.0999999999999996},{"$f":"'w-E_R'!M45","v":507},{"$f":"'w-E_R'!P45","v":1421},{"$error":"#REF!"},{"$f":"#REF!","v":{"$error":"#REF!"}},{"$f":"#REF!","v":{"$error":"#REF!"}},{"$f":"#REF!","v":{"$error":"#REF!"}},{"$f":"#REF!","v":{"$error":"#REF!"}},{"$f":"#REF!","v":{"$error":"#REF!"}},{"$f":"#REF!","v":{"$error":"#REF!"}},{"$f":"#REF!","v":{"$error":"#REF!"}},{"$f":"#REF!","v":{"$error":"#REF!"}},{"$f":"#REF!","v":{"$error":"#REF!"}},{"$f":"#REF!","v":{"$error":"#REF!"}},{"$f":"#REF!","v":{"$error":"#REF!"}}]
[48,{"$f":"'w-E_R'!B50","v":"Pacher Selina"},{"$f":"'w-E_R'!D50","v":"NMS Friesach"},{"$f":"'w-E_R'!F50","v":9.4499999999999993},{"$f":"'w-E_R'!G50","v":513},{"$f":"'w-E_R'!H50","v":29.2},{"$f":"'w-E_R'!I50","v":387},{"$f":"'w-E_R'!J50","v":0},{"$f":"'w-E_R'!K50","v":0},{"$f":"'w-E_R'!L50","v":4.1399999999999997},{"$f":"'w-E_R'!M50","v":516},{"$f":"'w-E_R'!P50","v":1416},{"$error":"#REF!"},{"$f":"#REF!","v":{"$error":"#REF!"}},{"$f":"#REF!","v":{"$error":"#REF!"}},{"$f":"#REF!","v":{"$error":"#REF!"}},{"$f":"#REF!","v":{"$error":"#REF!"}},{"$f":"#REF!","v":{"$error":"#REF!"}},{"$f":"#REF!","v":{"$error":"#REF!"}},{"$f":"#REF!","v":{"$error":"#REF!"}},{"$f":"#REF!","v":{"$error":"#REF!"}},{"$f":"#REF!","v":{"$error":"#REF!"}},{"$f":"#REF!","v":{"$error":"#REF!"}},{"$f":"#REF!","v":{"$error":"#REF!"}}]
[49,{"$f":"'w-E_R'!B71","v":"Herkner Anna"},{"$f":"'w-E_R'!D71","v":"NMS Viktring"},{"$f":"'w-E_R'!F71","v":9.5500000000000007},{"$f":"'w-E_R'!G71","v":491},{"$f":"'w-E_R'!H71","v":28.7},{"$f":"'w-E_R'!I71","v":379},{"$f":"'w-E_R'!J71","v":0},{"$f":"'w-E_R'!K71","v":0},{"$f":"'w-E_R'!L71","v":4.2},{"$f":"'w-E_R'!M71","v":529},{"$f":"'w-E_R'!P71","v":1399},{"$error":"#REF!"},{"$f":"#REF!","v":{"$error":"#REF!"}},{"$f":"#REF!","v":{"$error":"#REF!"}},{"$f":"#REF!","v":{"$error":"#REF!"}},{"$f":"#REF!","v":{"$error":"#REF!"}},{"$f":"#REF!","v":{"$error":"#REF!"}},{"$f":"#REF!","v":{"$error":"#REF!"}},{"$f":"#REF!","v":{"$error":"#REF!"}},{"$f":"#REF!","v":{"$error":"#REF!"}},{"$f":"#REF!","v":{"$error":"#REF!"}},{"$f":"#REF!","v":{"$error":"#REF!"}},{"$f":"#REF!","v":{"$error":"#REF!"}}]
[50,{"$f":"'w-E_R'!B11","v":"Maier Magdalena"},{"$f":"'w-E_R'!D11","v":"Borg Wolfsberg"},{"$f":"'w-E_R'!F11","v":9.3800000000000008},{"$f":"'w-E_R'!G11","v":529},{"$f":"'w-E_R'!H11","v":23.4},{"$f":"'w-E_R'!I11","v":302},{"$f":"'w-E_R'!J11","v":0},{"$f":"'w-E_R'!K11","v":0},{"$f":"'w-E_R'!L11","v":4.34},{"$f":"'w-E_R'!M11","v":560},{"$f":"'w-E_R'!P11","v":1391},{"$error":"#REF!"},{"$f":"#REF!","v":{"$error":"#REF!"}},{"$f":"#REF!","v":{"$error":"#REF!"}},{"$f":"#REF!","v":{"$error":"#REF!"}},{"$f":"#REF!","v":{"$error":"#REF!"}},{"$f":"#REF!","v":{"$error":"#REF!"}},{"$f":"#REF!","v":{"$error":"#REF!"}},{"$f":"#REF!","v":{"$error":"#REF!"}},{"$f":"#REF!","v":{"$error":"#REF!"}},{"$f":"#REF!","v":{"$error":"#REF!"}},{"$f":"#REF!","v":{"$error":"#REF!"}},{"$f":"#REF!","v":{"$error":"#REF!"}}]
[50,{"$f":"'w-E_R'!B32","v":"Lippitsch Amelie"},{"$f":"'w-E_R'!D32","v":"Ingeborg Bachmann Gymnasium"},{"$f":"'w-E_R'!F32","v":9.66},{"$f":"'w-E_R'!G32","v":466},{"$f":"'w-E_R'!H32","v":38.1},{"$f":"'w-E_R'!I32","v":513},{"$f":"'w-E_R'!J32","v":0},{"$f":"'w-E_R'!K32","v":0},{"$f":"'w-E_R'!L32","v":3.67},{"$f":"'w-E_R'!M32","v":412},{"$f":"'w-E_R'!P32","v":1391},{"$error":"#REF!"},{"$f":"#REF!","v":{"$error":"#REF!"}},{"$f":"#REF!","v":{"$error":"#REF!"}},{"$f":"#REF!","v":{"$error":"#REF!"}},{"$f":"#REF!","v":{"$error":"#REF!"}},{"$f":"#REF!","v":{"$error":"#REF!"}},{"$f":"#REF!","v":{"$error":"#REF!"}},{"$f":"#REF!","v":{"$error":"#REF!"}},{"$f":"#REF!","v":{"$error":"#REF!"}},{"$f":"#REF!","v":{"$error":"#REF!"}},{"$f":"#REF!","v":{"$error":"#REF!"}},{"$f":"#REF!","v":{"$error":"#REF!"}}]
[52,{"$f":"'w-E_R'!B67","v":"Toth Lili"},{"$f":"'w-E_R'!D67","v":"NMS Viktring"},{"$f":"'w-E_R'!F67","v":10},{"$f":"'w-E_R'!G67","v":395},{"$f":"'w-E_R'!H67","v":31.8},{"$f":"'w-E_R'!I67","v":424},{"$f":"'w-E_R'!J67","v":0},{"$f":"'w-E_R'!K67","v":0},{"$f":"'w-E_R'!L67","v":4.25},{"$f":"'w-E_R'!M67","v":540},{"$f":"'w-E_R'!P67","v":1359},{"$error":"#REF!"},{"$f":"#REF!","v":{"$error":"#REF!"}},{"$f":"#REF!","v":{"$error":"#REF!"}},{"$f":"#REF!","v":{"$error":"#REF!"}},{"$f":"#REF!","v":{"$error":"#REF!"}},{"$f":"#REF!","v":{"$error":"#REF!"}},{"$f":"#REF!","v":{"$error":"#REF!"}},{"$f":"#REF!","v":{"$error":"#REF!"}},{"$f":"#REF!","v":{"$error":"#REF!"}},{"$f":"#REF!","v":{"$error":"#REF!"}},{"$f":"#REF!","v":{"$error":"#REF!"}},{"$f":"#REF!","v":{"$error":"#REF!"}}]
[53,{"$f":"'w-E_R'!B31","v":"Donner Rosa"},{"$f":"'w-E_R'!D31","v":"Ingeborg Bachmann Gymnasium"},{"$f":"'w-E_R'!F31","v":9.57},{"$f":"'w-E_R'!G31","v":486},{"$f":"'w-E_R'!H31","v":26.8},{"$f":"'w-E_R'!I31","v":352},{"$f":"'w-E_R'!J31","v":0},{"$f":"'w-E_R'!K31","v":0},{"$f":"'w-E_R'!L31","v":4.13},{"$f":"'w-E_R'!M31","v":514},{"$f":"'w-E_R'!P31","v":1352},{"$error":"#REF!"},{"$f":"#REF!","v":{"$error":"#REF!"}},{"$f":"#REF!","v":{"$error":"#REF!"}},{"$f":"#REF!","v":{"$error":"#REF!"}},{"$f":"#REF!","v":{"$error":"#REF!"}},{"$f":"#REF!","v":{"$error":"#REF!"}},{"$f":"#REF!","v":{"$error":"#REF!"}},{"$f":"#REF!","v":{"$error":"#REF!"}},{"$f":"#REF!","v":{"$error":"#REF!"}},{"$f":"#REF!","v":{"$error":"#REF!"}},{"$f":"#REF!","v":{"$error":"#REF!"}},{"$f":"#REF!","v":{"$error":"#REF!"}}]
[54,{"$f":"'w-E_R'!B64","v":"Petscher Maria"},{"$f":"'w-E_R'!D64","v":"NMS Landskron"},{"$f":"'w-E_R'!F64","v":9.23},{"$f":"'w-E_R'!G64","v":565},{"$f":"'w-E_R'!H64","v":20.2},{"$f":"'w-E_R'!I64","v":254},{"$f":"'w-E_R'!J64","v":0},{"$f":"'w-E_R'!K64","v":0},{"$f":"'w-E_R'!L64","v":4.0999999999999996},{"$f":"'w-E_R'!M64","v":507},{"$f":"'w-E_R'!P64","v":1326},{"$error":"#REF!"},{"$f":"#REF!","v":{"$error":"#REF!"}},{"$f":"#REF!","v":{"$error":"#REF!"}},{"$f":"#REF!","v":{"$error":"#REF!"}},{"$f":"#REF!","v":{"$error":"#REF!"}},{"$f":"#REF!","v":{"$error":"#REF!"}},{"$f":"#REF!","v":{"$error":"#REF!"}},{"$f":"#REF!","v":{"$error":"#REF!"}},{"$f":"#REF!","v":{"$error":"#REF!"}},{"$f":"#REF!","v":{"$error":"#REF!"}},{"$f":"#REF!","v":{"$error":"#REF!"}},{"$f":"#REF!","v":{"$error":"#REF!"}}]
[56,{"$f":"'w-E_R'!B55","v":"Schweiger Nadja"},{"$f":"'w-E_R'!D55","v":"NMS Gegendtal"},{"$f":"'w-E_R'!F55","v":9.7100000000000009},{"$f":"'w-E_R'!G55","v":456},{"$f":"'w-E_R'!H55","v":0},{"$f":"'w-E_R'!I55","v":0},{"$f":"'w-E_R'!J55","v":6.93},{"$f":"'w-E_R'!K55","v":395},{"$f":"'w-E_R'!L55","v":3.9},{"$f":"'w-E_R'!M55","v":463},{"$f":"'w-E_R'!P55","v":1314},{"$error":"#REF!"},{"$f":"#REF!","v":{"$error":"#REF!"}},{"$f":"#REF!","v":{"$error":"#REF!"}},{"$f":"#REF!","v":{"$error":"#REF!"}},{"$f":"#REF!","v":{"$error":"#REF!"}},{"$f":"#REF!","v":{"$error":"#REF!"}},{"$f":"#REF!","v":{"$error":"#REF!"}},{"$f":"#REF!","v":{"$error":"#REF!"}},{"$f":"#REF!","v":{"$error":"#REF!"}},{"$f":"#REF!","v":{"$error":"#REF!"}},{"$f":"#REF!","v":{"$error":"#REF!"}},{"$f":"#REF!","v":{"$error":"#REF!"}}]
[55,{"$f":"'w-E_R'!B77","v":"Mühlbacher Nina"},{"$f":"'w-E_R'!D77","v":"RNMS Feldkirchen"},{"$f":"'w-E_R'!F77","v":9.86},{"$f":"'w-E_R'!G77","v":424},{"$f":"'w-E_R'!H77","v":0},{"$f":"'w-E_R'!I77","v":0},{"$f":"'w-E_R'!J77","v":6.97},{"$f":"'w-E_R'!K77","v":397},{"$f":"'w-E_R'!L77","v":4.0599999999999996},{"$f":"'w-E_R'!M77","v":498},{"$f":"'w-E_R'!P77","v":1319},{"$error":"#REF!"},{"$f":"#REF!","v":{"$error":"#REF!"}},{"$f":"#REF!","v":{"$error":"#REF!"}},{"$f":"#REF!","v":{"$error":"#REF!"}},{"$f":"#REF!","v":{"$error":"#REF!"}},{"$f":"#REF!","v":{"$error":"#REF!"}},{"$f":"#REF!","v":{"$error":"#REF!"}},{"$f":"#REF!","v":{"$error":"#REF!"}},{"$f":"#REF!","v":{"$error":"#REF!"}},{"$f":"#REF!","v":{"$error":"#REF!"}},{"$f":"#REF!","v":{"$error":"#REF!"}},{"$f":"#REF!","v":{"$error":"#REF!"}}]
[57,{"$f":"'w-E_R'!B28","v":"Pudgar Domenika"},{"$f":"'w-E_R'!D28","v":"BZ Bad Eisenkappel"},{"$f":"'w-E_R'!F28","v":9.7799999999999994},{"$f":"'w-E_R'!G28","v":441},{"$f":"'w-E_R'!H28","v":27.5},{"$f":"'w-E_R'!I28","v":362},{"$f":"'w-E_R'!J28","v":0},{"$f":"'w-E_R'!K28","v":0},{"$f":"'w-E_R'!L28","v":3.92},{"$f":"'w-E_R'!M28","v":467},{"$f":"'w-E_R'!P28","v":1270},{"$error":"#REF!"},{"$f":"#REF!","v":{"$error":"#REF!"}},{"$f":"#REF!","v":{"$error":"#REF!"}},{"$f":"#REF!","v":{"$error":"#REF!"}},{"$f":"#REF!","v":{"$error":"#REF!"}},{"$f":"#REF!","v":{"$error":"#REF!"}},{"$f":"#REF!","v":{"$error":"#REF!"}},{"$f":"#REF!","v":{"$error":"#REF!"}},{"$f":"#REF!","v":{"$error":"#REF!"}},{"$f":"#REF!","v":{"$error":"#REF!"}},{"$f":"#REF!","v":{"$error":"#REF!"}},{"$f":"#REF!","v":{"$error":"#REF!"}}]
[58,{"$f":"'w-E_R'!B62","v":"Pinzer Alina"},{"$f":"'w-E_R'!D62","v":"NMS Landskron"},{"$f":"'w-E_R'!F62","v":9.65},{"$f":"'w-E_R'!G62","v":469},{"$f":"'w-E_R'!H62","v":25.2},{"$f":"'w-E_R'!I62","v":329},{"$f":"'w-E_R'!J62","v":0},{"$f":"'w-E_R'!K62","v":0},{"$f":"'w-E_R'!L62","v":3.92},{"$f":"'w-E_R'!M62","v":467},{"$f":"'w-E_R'!P62","v":1265},{"$error":"#REF!"},{"$f":"#REF!","v":{"$error":"#REF!"}},{"$f":"#REF!","v":{"$error":"#REF!"}},{"$f":"#REF!","v":{"$error":"#REF!"}},{"$f":"#REF!","v":{"$error":"#REF!"}},{"$f":"#REF!","v":{"$error":"#REF!"}},{"$f":"#REF!","v":{"$error":"#REF!"}},{"$f":"#REF!","v":{"$error":"#REF!"}},{"$f":"#REF!","v":{"$error":"#REF!"}},{"$f":"#REF!","v":{"$error":"#REF!"}},{"$f":"#REF!","v":{"$error":"#REF!"}},{"$f":"#REF!","v":{"$error":"#REF!"}}]
[59,{"$f":"'w-E_R'!B57","v":"Ostertschnig Lisa"},{"$f":"'w-E_R'!D57","v":"NMS Gegendtal"},{"$f":"'w-E_R'!F57","v":9.74},{"$f":"'w-E_R'!G57","v":449},{"$f":"'w-E_R'!H57","v":27.6},{"$f":"'w-E_R'!I57","v":364},{"$f":"'w-E_R'!J57","v":0},{"$f":"'w-E_R'!K57","v":0},{"$f":"'w-E_R'!L57","v":3.83},{"$f":"'w-E_R'!M57","v":447},{"$f":"'w-E_R'!P57","v":1260},{"$error":"#REF!"},{"$f":"#REF!","v":{"$error":"#REF!"}},{"$f":"#REF!","v":{"$error":"#REF!"}},{"$f":"#REF!","v":{"$error":"#REF!"}},{"$f":"#REF!","v":{"$error":"#REF!"}},{"$f":"#REF!","v":{"$error":"#REF!"}},{"$f":"#REF!","v":{"$error":"#REF!"}},{"$f":"#REF!","v":{"$error":"#REF!"}},{"$f":"#REF!","v":{"$error":"#REF!"}},{"$f":"#REF!","v":{"$error":"#REF!"}},{"$f":"#REF!","v":{"$error":"#REF!"}},{"$f":"#REF!","v":{"$error":"#REF!"}}]
[60,{"$f":"'w-E_R'!B56","v":"Gasser Valentina"},{"$f":"'w-E_R'!D56","v":"NMS Gegendtal"},{"$f":"'w-E_R'!F56","v":9.7899999999999991},{"$f":"'w-E_R'!G56","v":439},{"$f":"'w-E_R'!H56","v":27.5},{"$f":"'w-E_R'!I56","v":362},{"$f":"'w-E_R'!J56","v":0},{"$f":"'w-E_R'!K56","v":0},{"$f":"'w-E_R'!L56","v":3.83},{"$f":"'w-E_R'!M56","v":447},{"$f":"'w-E_R'!P56","v":1248},{"$error":"#REF!"},{"$f":"#REF!","v":{"$error":"#REF!"}},{"$f":"#REF!","v":{"$error":"#REF!"}},{"$f":"#REF!","v":{"$error":"#REF!"}},{"$f":"#REF!","v":{"$error":"#REF!"}},{"$f":"#REF!","v":{"$error":"#REF!"}},{"$f":"#REF!","v":{"$error":"#REF!"}},{"$f":"#REF!","v":{"$error":"#REF!"}},{"$f":"#REF!","v":{"$error":"#REF!"}},{"$f":"#REF!","v":{"$error":"#REF!"}},{"$f":"#REF!","v":{"$error":"#REF!"}},{"$f":"#REF!","v":{"$error":"#REF!"}}]
[61,{"$f":"'w-E_R'!B54","v":"Maier Jasmin"},{"$f":"'w-E_R'!D54","v":"NMS Gegendtal"},{"$f":"'w-E_R'!F54","v":10.02},{"$f":"'w-E_R'!G54","v":392},{"$f":"'w-E_R'!H54","v":30.8},{"$f":"'w-E_R'!I54","v":410},{"$f":"'w-E_R'!J54","v":0},{"$f":"'w-E_R'!K54","v":0},{"$f":"'w-E_R'!L54","v":3.79},{"$f":"'w-E_R'!M54","v":439},{"$f":"'w-E_R'!P54","v":1241},{"$error":"#REF!"},{"$f":"#REF!","v":{"$error":"#REF!"}},{"$f":"#REF!","v":{"$error":"#REF!"}},{"$f":"#REF!","v":{"$error":"#REF!"}},{"$f":"#REF!","v":{"$error":"#REF!"}},{"$f":"#REF!","v":{"$error":"#REF!"}},{"$f":"#REF!","v":{"$error":"#REF!"}},{"$f":"#REF!","v":{"$error":"#REF!"}},{"$f":"#REF!","v":{"$error":"#REF!"}},{"$f":"#REF!","v":{"$error":"#REF!"}},{"$f":"#REF!","v":{"$error":"#REF!"}},{"$f":"#REF!","v":{"$error":"#REF!"}}]
[62,{"$f":"'w-E_R'!B69","v":"Esel Michelle"},{"$f":"'w-E_R'!D69","v":"NMS Viktring"},{"$f":"'w-E_R'!F69","v":9.94},{"$f":"'w-E_R'!G69","v":408},{"$f":"'w-E_R'!H69","v":24.8},{"$f":"'w-E_R'!I69","v":323},{"$f":"'w-E_R'!J69","v":0},{"$f":"'w-E_R'!K69","v":0},{"$f":"'w-E_R'!L69","v":4},{"$f":"'w-E_R'!M69","v":485},{"$f":"'w-E_R'!P69","v":1216},{"$error":"#REF!"},{"$f":"#REF!","v":{"$error":"#REF!"}},{"$f":"#REF!","v":{"$error":"#REF!"}},{"$f":"#REF!","v":{"$error":"#REF!"}},{"$f":"#REF!","v":{"$error":"#REF!"}},{"$f":"#REF!","v":{"$error":"#REF!"}},{"$f":"#REF!","v":{"$error":"#REF!"}},{"$f":"#REF!","v":{"$error":"#REF!"}},{"$f":"#REF!","v":{"$error":"#REF!"}},{"$f":"#REF!","v":{"$error":"#REF!"}},{"$f":"#REF!","v":{"$error":"#REF!"}},{"$f":"#REF!","v":{"$error":"#REF!"}}]
[63,{"$f":"'w-E_R'!B12","v":"Frauwallner Hanna"},{"$f":"'w-E_R'!D12","v":"Borg Wolfsberg"},{"$f":"'w-E_R'!F12","v":10.15},{"$f":"'w-E_R'!G12","v":366},{"$f":"'w-E_R'!H12","v":21.9},{"$f":"'w-E_R'!I12","v":280},{"$f":"'w-E_R'!J12","v":0},{"$f":"'w-E_R'!K12","v":0},{"$f":"'w-E_R'!L12","v":3.87},{"$f":"'w-E_R'!M12","v":456},{"$f":"'w-E_R'!P12","v":1102},{"$error":"#REF!"},{"$f":"#REF!","v":{"$error":"#REF!"}},{"$f":"#REF!","v":{"$error":"#REF!"}},{"$f":"#REF!","v":{"$error":"#REF!"}},{"$f":"#REF!","v":{"$error":"#REF!"}},{"$f":"#REF!","v":{"$error":"#REF!"}},{"$f":"#REF!","v":{"$error":"#REF!"}},{"$f":"#REF!","v":{"$error":"#REF!"}},{"$f":"#REF!","v":{"$error":"#REF!"}},{"$f":"#REF!","v":{"$error":"#REF!"}},{"$f":"#REF!","v":{"$error":"#REF!"}},{"$f":"#REF!","v":{"$error":"#REF!"}}]
[64,{"$f":"'w-E_R'!B70","v":"Bierbaumer Selina"},{"$f":"'w-E_R'!D70","v":"NMS Viktring"},{"$f":"'w-E_R'!F70","v":10.59},{"$f":"'w-E_R'!G70","v":287},{"$f":"'w-E_R'!H70","v":31.3},{"$f":"'w-E_R'!I70","v":417},{"$f":"'w-E_R'!J70","v":0},{"$f":"'w-E_R'!K70","v":0},{"$f":"'w-E_R'!L70","v":3.48},{"$f":"'w-E_R'!M70","v":370},{"$f":"'w-E_R'!P70","v":1074},{"$error":"#REF!"},{"$f":"#REF!","v":{"$error":"#REF!"}},{"$f":"#REF!","v":{"$error":"#REF!"}},{"$f":"#REF!","v":{"$error":"#REF!"}},{"$f":"#REF!","v":{"$error":"#REF!"}},{"$f":"#REF!","v":{"$error":"#REF!"}},{"$f":"#REF!","v":{"$error":"#REF!"}},{"$f":"#REF!","v":{"$error":"#REF!"}},{"$f":"#REF!","v":{"$error":"#REF!"}},{"$f":"#REF!","v":{"$error":"#REF!"}},{"$f":"#REF!","v":{"$error":"#REF!"}},{"$f":"#REF!","v":{"$error":"#REF!"}}]
[{"$f":"RANK(L68,$L$4:$L$123,0)","v":65},{"$f":"'w-E_R'!B10","v":"Maier Celina"},{"$f":"'w-E_R'!D10","v":"Borg Wolfsberg"},{"$f":"'w-E_R'!F10","v":11.48},{"$f":"'w-E_R'!G10","v":157},{"$f":"'w-E_R'!H10","v":19},{"$f":"'w-E_R'!I10","v":236},{"$f":"'w-E_R'!J10","v":0},{"$f":"'w-E_R'!K10","v":0},{"$f":"'w-E_R'!L10","v":2.69},{"$f":"'w-E_R'!M10","v":196},{"$f":"'w-E_R'!P10","v":589},{"$f":"RANK(X68,$X$4:$X$123,0)","v":{"$error":"#REF!"}},{"$f":"#REF!","v":{"$error":"#REF!"}},{"$f":"#REF!","v":{"$error":"#REF!"}},{"$f":"#REF!","v":{"$error":"#REF!"}},{"$f":"#REF!","v":{"$error":"#REF!"}},{"$f":"#REF!","v":{"$error":"#REF!"}},{"$f":"#REF!","v":{"$error":"#REF!"}},{"$f":"#REF!","v":{"$error":"#REF!"}},{"$f":"#REF!","v":{"$error":"#REF!"}},{"$f":"#REF!","v":{"$error":"#REF!"}},{"$f":"#REF!","v":{"$error":"#REF!"}},{"$f":"#REF!","v":{"$error":"#REF!"}}]
[66,{"$f":"'w-E_R'!B29","v":0},{"$f":"'w-E_R'!D29","v":"BZ Bad Eisenkappel"},{"$f":"'w-E_R'!F29","v":0},{"$f":"'w-E_R'!G29","v":0},{"$f":"'w-E_R'!H29","v":0},{"$f":"'w-E_R'!I29","v":0},{"$f":"'w-E_R'!J29","v":0},{"$f":"'w-E_R'!K29","v":0},{"$f":"'w-E_R'!L29","v":0},{"$f":"'w-E_R'!M29","v":0},{"$f":"'w-E_R'!P29","v":0},{"$error":"#REF!"},{"$f":"#REF!","v":{"$error":"#REF!"}},{"$f":"#REF!","v":{"$error":"#REF!"}},{"$f":"#REF!","v":{"$error":"#REF!"}},{"$f":"#REF!","v":{"$error":"#REF!"}},{"$f":"#REF!","v":{"$error":"#REF!"}},{"$f":"#REF!","v":{"$error":"#REF!"}},{"$f":"#REF!","v":{"$error":"#REF!"}},{"$f":"#REF!","v":{"$error":"#REF!"}},{"$f":"#REF!","v":{"$error":"#REF!"}},{"$f":"#REF!","v":{"$error":"#REF!"}},{"$f":"#REF!","v":{"$error":"#REF!"}}]
[66,{"$f":"'w-E_R'!B80","v":"W12/01-Regel"},{"$f":"'w-E_R'!D80","v":0},{"$f":"'w-E_R'!F80","v":0},{"$f":"'w-E_R'!G80","v":0},{"$f":"'w-E_R'!H80","v":0},{"$f":"'w-E_R'!I80","v":0},{"$f":"'w-E_R'!J80","v":0},{"$f":"'w-E_R'!K80","v":0},{"$f":"'w-E_R'!L80","v":0},{"$f":"'w-E_R'!M80","v":0},{"$f":"'w-E_R'!P80","v":0},{"$error":"#REF!"},{"$f":"#REF!","v":{"$error":"#REF!"}},{"$f":"#REF!","v":{"$error":"#REF!"}},{"$f":"#REF!","v":{"$error":"#REF!"}},{"$f":"#REF!","v":{"$error":"#REF!"}},{"$f":"#REF!","v":{"$error":"#REF!"}},{"$f":"#REF!","v":{"$error":"#REF!"}},{"$f":"#REF!","v":{"$error":"#REF!"}},{"$f":"#REF!","v":{"$error":"#REF!"}},{"$f":"#REF!","v":{"$error":"#REF!"}},{"$f":"#REF!","v":{"$error":"#REF!"}},{"$f":"#REF!","v":{"$error":"#REF!"}}]
[66,{"$f":"'w-E_R'!B81","v":"W12/02-Regel"},{"$f":"'w-E_R'!D81","v":0},{"$f":"'w-E_R'!F81","v":0},{"$f":"'w-E_R'!G81","v":0},{"$f":"'w-E_R'!H81","v":0},{"$f":"'w-E_R'!I81","v":0},{"$f":"'w-E_R'!J81","v":0},{"$f":"'w-E_R'!K81","v":0},{"$f":"'w-E_R'!L81","v":0},{"$f":"'w-E_R'!M81","v":0},{"$f":"'w-E_R'!P81","v":0},{"$error":"#REF!"},{"$f":"#REF!","v":{"$error":"#REF!"}},{"$f":"#REF!","v":{"$error":"#REF!"}},{"$f":"#REF!","v":{"$error":"#REF!"}},{"$f":"#REF!","v":{"$error":"#REF!"}},{"$f":"#REF!","v":{"$error":"#REF!"}},{"$f":"#REF!","v":{"$error":"#REF!"}},{"$f":"#REF!","v":{"$error":"#REF!"}},{"$f":"#REF!","v":{"$error":"#REF!"}},{"$f":"#REF!","v":{"$error":"#REF!"}},{"$f":"#REF!","v":{"$error":"#REF!"}},{"$f":"#REF!","v":{"$error":"#REF!"}}]
[66,{"$f":"'w-E_R'!B82","v":"W12/03-Regel"},{"$f":"'w-E_R'!D82","v":0},{"$f":"'w-E_R'!F82","v":0},{"$f":"'w-E_R'!G82","v":0},{"$f":"'w-E_R'!H82","v":0},{"$f":"'w-E_R'!I82","v":0},{"$f":"'w-E_R'!J82","v":0},{"$f":"'w-E_R'!K82","v":0},{"$f":"'w-E_R'!L82","v":0},{"$f":"'w-E_R'!M82","v":0},{"$f":"'w-E_R'!P82","v":0},{"$error":"#REF!"},{"$f":"#REF!","v":{"$error":"#REF!"}},{"$f":"#REF!","v":{"$error":"#REF!"}},{"$f":"#REF!","v":{"$error":"#REF!"}},{"$f":"#REF!","v":{"$error":"#REF!"}},{"$f":"#REF!","v":{"$error":"#REF!"}},{"$f":"#REF!","v":{"$error":"#REF!"}},{"$f":"#REF!","v":{"$error":"#REF!"}},{"$f":"#REF!","v":{"$error":"#REF!"}},{"$f":"#REF!","v":{"$error":"#REF!"}},{"$f":"#REF!","v":{"$error":"#REF!"}},{"$f":"#REF!","v":{"$error":"#REF!"}}]
[66,{"$f":"'w-E_R'!B83","v":"W12/04-Regel"},{"$f":"'w-E_R'!D83","v":0},{"$f":"'w-E_R'!F83","v":0},{"$f":"'w-E_R'!G83","v":0},{"$f":"'w-E_R'!H83","v":0},{"$f":"'w-E_R'!I83","v":0},{"$f":"'w-E_R'!J83","v":0},{"$f":"'w-E_R'!K83","v":0},{"$f":"'w-E_R'!L83","v":0},{"$f":"'w-E_R'!M83","v":0},{"$f":"'w-E_R'!P83","v":0},{"$error":"#REF!"},{"$f":"#REF!","v":{"$error":"#REF!"}},{"$f":"#REF!","v":{"$error":"#REF!"}},{"$f":"#REF!","v":{"$error":"#REF!"}},{"$f":"#REF!","v":{"$error":"#REF!"}},{"$f":"#REF!","v":{"$error":"#REF!"}},{"$f":"#REF!","v":{"$error":"#REF!"}},{"$f":"#REF!","v":{"$error":"#REF!"}},{"$f":"#REF!","v":{"$error":"#REF!"}},{"$f":"#REF!","v":{"$error":"#REF!"}},{"$f":"#REF!","v":{"$error":"#REF!"}},{"$f":"#REF!","v":{"$error":"#REF!"}}]
[66,{"$f":"'w-E_R'!B84","v":"W12/05-Regel"},{"$f":"'w-E_R'!D84","v":0},{"$f":"'w-E_R'!F84","v":0},{"$f":"'w-E_R'!G84","v":0},{"$f":"'w-E_R'!H84","v":0},{"$f":"'w-E_R'!I84","v":0},{"$f":"'w-E_R'!J84","v":0},{"$f":"'w-E_R'!K84","v":0},{"$f":"'w-E_R'!L84","v":0},{"$f":"'w-E_R'!M84","v":0},{"$f":"'w-E_R'!P84","v":0},{"$error":"#REF!"},{"$f":"#REF!","v":{"$error":"#REF!"}},{"$f":"#REF!","v":{"$error":"#REF!"}},{"$f":"#REF!","v":{"$error":"#REF!"}},{"$f":"#REF!","v":{"$error":"#REF!"}},{"$f":"#REF!","v":{"$error":"#REF!"}},{"$f":"#REF!","v":{"$error":"#REF!"}},{"$f":"#REF!","v":{"$error":"#REF!"}},{"$f":"#REF!","v":{"$error":"#REF!"}},{"$f":"#REF!","v":{"$error":"#REF!"}},{"$f":"#REF!","v":{"$error":"#REF!"}},{"$f":"#REF!","v":{"$error":"#REF!"}}]
[66,{"$f":"'w-E_R'!B85","v":"W12/06-Regel"},{"$f":"'w-E_R'!D85","v":0},{"$f":"'w-E_R'!F85","v":0},{"$f":"'w-E_R'!G85","v":0},{"$f":"'w-E_R'!H85","v":0},{"$f":"'w-E_R'!I85","v":0},{"$f":"'w-E_R'!J85","v":0},{"$f":"'w-E_R'!K85","v":0},{"$f":"'w-E_R'!L85","v":0},{"$f":"'w-E_R'!M85","v":0},{"$f":"'w-E_R'!P85","v":0},{"$error":"#REF!"},{"$f":"#REF!","v":{"$error":"#REF!"}},{"$f":"#REF!","v":{"$error":"#REF!"}},{"$f":"#REF!","v":{"$error":"#REF!"}},{"$f":"#REF!","v":{"$error":"#REF!"}},{"$f":"#REF!","v":{"$error":"#REF!"}},{"$f":"#REF!","v":{"$error":"#REF!"}},{"$f":"#REF!","v":{"$error":"#REF!"}},{"$f":"#REF!","v":{"$error":"#REF!"}},{"$f":"#REF!","v":{"$error":"#REF!"}},{"$f":"#REF!","v":{"$error":"#REF!"}},{"$f":"#REF!","v":{"$error":"#REF!"}}]
[66,{"$f":"'w-E_R'!B87","v":"W13/01-Regel"},{"$f":"'w-E_R'!D87","v":0},{"$f":"'w-E_R'!F87","v":0},{"$f":"'w-E_R'!G87","v":0},{"$f":"'w-E_R'!H87","v":0},{"$f":"'w-E_R'!I87","v":0},{"$f":"'w-E_R'!J87","v":0},{"$f":"'w-E_R'!K87","v":0},{"$f":"'w-E_R'!L87","v":0},{"$f":"'w-E_R'!M87","v":0},{"$f":"'w-E_R'!P87","v":0},{"$error":"#REF!"},{"$f":"#REF!","v":{"$error":"#REF!"}},{"$f":"#REF!","v":{"$error":"#REF!"}},{"$f":"#REF!","v":{"$error":"#REF!"}},{"$f":"#REF!","v":{"$error":"#REF!"}},{"$f":"#REF!","v":{"$error":"#REF!"}},{"$f":"#REF!","v":{"$error":"#REF!"}},{"$f":"#REF!","v":{"$error":"#REF!"}},{"$f":"#REF!","v":{"$error":"#REF!"}},{"$f":"#REF!","v":{"$error":"#REF!"}},{"$f":"#REF!","v":{"$error":"#REF!"}},{"$f":"#REF!","v":{"$error":"#REF!"}}]
[66,{"$f":"'w-E_R'!B88","v":"W13/02-Regel"},{"$f":"'w-E_R'!D88","v":0},{"$f":"'w-E_R'!F88","v":0},{"$f":"'w-E_R'!G88","v":0},{"$f":"'w-E_R'!H88","v":0},{"$f":"'w-E_R'!I88","v":0},{"$f":"'w-E_R'!J88","v":0},{"$f":"'w-E_R'!K88","v":0},{"$f":"'w-E_R'!L88","v":0},{"$f":"'w-E_R'!M88","v":0},{"$f":"'w-E_R'!P88","v":0},{"$error":"#REF!"},{"$f":"#REF!","v":{"$error":"#REF!"}},{"$f":"#REF!","v":{"$error":"#REF!"}},{"$f":"#REF!","v":{"$error":"#REF!"}},{"$f":"#REF!","v":{"$error":"#REF!"}},{"$f":"#REF!","v":{"$error":"#REF!"}},{"$f":"#REF!","v":{"$error":"#REF!"}},{"$f":"#REF!","v":{"$error":"#REF!"}},{"$f":"#REF!","v":{"$error":"#REF!"}},{"$f":"#REF!","v":{"$error":"#REF!"}},{"$f":"#REF!","v":{"$error":"#REF!"}},{"$f":"#REF!","v":{"$error":"#REF!"}}]
[66,{"$f":"'w-E_R'!B89","v":"W13/03-Regel"},{"$f":"'w-E_R'!D89","v":0},{"$f":"'w-E_R'!F89","v":0},{"$f":"'w-E_R'!G89","v":0},{"$f":"'w-E_R'!H89","v":0},{"$f":"'w-E_R'!I89","v":0},{"$f":"'w-E_R'!J89","v":0},{"$f":"'w-E_R'!K89","v":0},{"$f":"'w-E_R'!L89","v":0},{"$f":"'w-E_R'!M89","v":0},{"$f":"'w-E_R'!P89","v":0},{"$error":"#REF!"},{"$f":"#REF!","v":{"$error":"#REF!"}},{"$f":"#REF!","v":{"$error":"#REF!"}},{"$f":"#REF!","v":{"$error":"#REF!"}},{"$f":"#REF!","v":{"$error":"#REF!"}},{"$f":"#REF!","v":{"$error":"#REF!"}},{"$f":"#REF!","v":{"$error":"#REF!"}},{"$f":"#REF!","v":{"$error":"#REF!"}},{"$f":"#REF!","v":{"$error":"#REF!"}},{"$f":"#REF!","v":{"$error":"#REF!"}},{"$f":"#REF!","v":{"$error":"#REF!"}},{"$f":"#REF!","v":{"$error":"#REF!"}}]
[66,{"$f":"'w-E_R'!B90","v":"W13/04-Regel"},{"$f":"'w-E_R'!D90","v":0},{"$f":"'w-E_R'!F90","v":0},{"$f":"'w-E_R'!G90","v":0},{"$f":"'w-E_R'!H90","v":0},{"$f":"'w-E_R'!I90","v":0},{"$f":"'w-E_R'!J90","v":0},{"$f":"'w-E_R'!K90","v":0},{"$f":"'w-E_R'!L90","v":0},{"$f":"'w-E_R'!M90","v":0},{"$f":"'w-E_R'!P90","v":0},{"$error":"#REF!"},{"$f":"#REF!","v":{"$error":"#REF!"}},{"$f":"#REF!","v":{"$error":"#REF!"}},{"$f":"#REF!","v":{"$error":"#REF!"}},{"$f":"#REF!","v":{"$error":"#REF!"}},{"$f":"#REF!","v":{"$error":"#REF!"}},{"$f":"#REF!","v":{"$error":"#REF!"}},{"$f":"#REF!","v":{"$error":"#REF!"}},{"$f":"#REF!","v":{"$error":"#REF!"}},{"$f":"#REF!","v":{"$error":"#REF!"}},{"$f":"#REF!","v":{"$error":"#REF!"}},{"$f":"#REF!","v":{"$error":"#REF!"}}]
[66,{"$f":"'w-E_R'!B91","v":"W13/05-Regel"},{"$f":"'w-E_R'!D91","v":0},{"$f":"'w-E_R'!F91","v":0},{"$f":"'w-E_R'!G91","v":0},{"$f":"'w-E_R'!H91","v":0},{"$f":"'w-E_R'!I91","v":0},{"$f":"'w-E_R'!J91","v":0},{"$f":"'w-E_R'!K91","v":0},{"$f":"'w-E_R'!L91","v":0},{"$f":"'w-E_R'!M91","v":0},{"$f":"'w-E_R'!P91","v":0},{"$error":"#REF!"},{"$f":"#REF!","v":{"$error":"#REF!"}},{"$f":"#REF!","v":{"$error":"#REF!"}},{"$f":"#REF!","v":{"$error":"#REF!"}},{"$f":"#REF!","v":{"$error":"#REF!"}},{"$f":"#REF!","v":{"$error":"#REF!"}},{"$f":"#REF!","v":{"$error":"#REF!"}},{"$f":"#REF!","v":{"$error":"#REF!"}},{"$f":"#REF!","v":{"$error":"#REF!"}},{"$f":"#REF!","v":{"$error":"#REF!"}},{"$f":"#REF!","v":{"$error":"#REF!"}},{"$f":"#REF!","v":{"$error":"#REF!"}}]
[66,{"$f":"'w-E_R'!B92","v":"W13/06-Regel"},{"$f":"'w-E_R'!D92","v":0},{"$f":"'w-E_R'!F92","v":0},{"$f":"'w-E_R'!G92","v":0},{"$f":"'w-E_R'!H92","v":0},{"$f":"'w-E_R'!I92","v":0},{"$f":"'w-E_R'!J92","v":0},{"$f":"'w-E_R'!K92","v":0},{"$f":"'w-E_R'!L92","v":0},{"$f":"'w-E_R'!M92","v":0},{"$f":"'w-E_R'!P92","v":0},{"$error":"#REF!"},{"$f":"#REF!","v":{"$error":"#REF!"}},{"$f":"#REF!","v":{"$error":"#REF!"}},{"$f":"#REF!","v":{"$error":"#REF!"}},{"$f":"#REF!","v":{"$error":"#REF!"}},{"$f":"#REF!","v":{"$error":"#REF!"}},{"$f":"#REF!","v":{"$error":"#REF!"}},{"$f":"#REF!","v":{"$error":"#REF!"}},{"$f":"#REF!","v":{"$error":"#REF!"}},{"$f":"#REF!","v":{"$error":"#REF!"}},{"$f":"#REF!","v":{"$error":"#REF!"}},{"$f":"#REF!","v":{"$error":"#REF!"}}]
[66,{"$f":"'w-E_R'!B94","v":"W14/01-Regel"},{"$f":"'w-E_R'!D94","v":0},{"$f":"'w-E_R'!F94","v":0},{"$f":"'w-E_R'!G94","v":0},{"$f":"'w-E_R'!H94","v":0},{"$f":"'w-E_R'!I94","v":0},{"$f":"'w-E_R'!J94","v":0},{"$f":"'w-E_R'!K94","v":0},{"$f":"'w-E_R'!L94","v":0},{"$f":"'w-E_R'!M94","v":0},{"$f":"'w-E_R'!P94","v":0},{"$error":"#REF!"},{"$f":"#REF!","v":{"$error":"#REF!"}},{"$f":"#REF!","v":{"$error":"#REF!"}},{"$f":"#REF!","v":{"$error":"#REF!"}},{"$f":"#REF!","v":{"$error":"#REF!"}},{"$f":"#REF!","v":{"$error":"#REF!"}},{"$f":"#REF!","v":{"$error":"#REF!"}},{"$f":"#REF!","v":{"$error":"#REF!"}},{"$f":"#REF!","v":{"$error":"#REF!"}},{"$f":"#REF!","v":{"$error":"#REF!"}},{"$f":"#REF!","v":{"$error":"#REF!"}},{"$f":"#REF!","v":{"$error":"#REF!"}}]
[66,{"$f":"'w-E_R'!B95","v":"W14/02-Regel"},{"$f":"'w-E_R'!D95","v":0},{"$f":"'w-E_R'!F95","v":0},{"$f":"'w-E_R'!G95","v":0},{"$f":"'w-E_R'!H95","v":0},{"$f":"'w-E_R'!I95","v":0},{"$f":"'w-E_R'!J95","v":0},{"$f":"'w-E_R'!K95","v":0},{"$f":"'w-E_R'!L95","v":0},{"$f":"'w-E_R'!M95","v":0},{"$f":"'w-E_R'!P95","v":0},{"$error":"#REF!"},{"$f":"#REF!","v":{"$error":"#REF!"}},{"$f":"#REF!","v":{"$error":"#REF!"}},{"$f":"#REF!","v":{"$error":"#REF!"}},{"$f":"#REF!","v":{"$error":"#REF!"}},{"$f":"#REF!","v":{"$error":"#REF!"}},{"$f":"#REF!","v":{"$error":"#REF!"}},{"$f":"#REF!","v":{"$error":"#REF!"}},{"$f":"#REF!","v":{"$error":"#REF!"}},{"$f":"#REF!","v":{"$error":"#REF!"}},{"$f":"#REF!","v":{"$error":"#REF!"}},{"$f":"#REF!","v":{"$error":"#REF!"}}]
[66,{"$f":"'w-E_R'!B96","v":"W14/03-Regel"},{"$f":"'w-E_R'!D96","v":0},{"$f":"'w-E_R'!F96","v":0},{"$f":"'w-E_R'!G96","v":0},{"$f":"'w-E_R'!H96","v":0},{"$f":"'w-E_R'!I96","v":0},{"$f":"'w-E_R'!J96","v":0},{"$f":"'w-E_R'!K96","v":0},{"$f":"'w-E_R'!L96","v":0},{"$f":"'w-E_R'!M96","v":0},{"$f":"'w-E_R'!P96","v":0},{"$error":"#REF!"},{"$f":"#REF!","v":{"$error":"#REF!"}},{"$f":"#REF!","v":{"$error":"#REF!"}},{"$f":"#REF!","v":{"$error":"#REF!"}},{"$f":"#REF!","v":{"$error":"#REF!"}},{"$f":"#REF!","v":{"$error":"#REF!"}},{"$f":"#REF!","v":{"$error":"#REF!"}},{"$f":"#REF!","v":{"$error":"#REF!"}},{"$f":"#REF!","v":{"$error":"#REF!"}},{"$f":"#REF!","v":{"$error":"#REF!"}},{"$f":"#REF!","v":{"$error":"#REF!"}},{"$f":"#REF!","v":{"$error":"#REF!"}}]
[66,{"$f":"'w-E_R'!B97","v":"W14/04-Regel"},{"$f":"'w-E_R'!D97","v":0},{"$f":"'w-E_R'!F97","v":0},{"$f":"'w-E_R'!G97","v":0},{"$f":"'w-E_R'!H97","v":0},{"$f":"'w-E_R'!I97","v":0},{"$f":"'w-E_R'!J97","v":0},{"$f":"'w-E_R'!K97","v":0},{"$f":"'w-E_R'!L97","v":0},{"$f":"'w-E_R'!M97","v":0},{"$f":"'w-E_R'!P97","v":0},{"$error":"#REF!"},{"$f":"#REF!","v":{"$error":"#REF!"}},{"$f":"#REF!","v":{"$error":"#REF!"}},{"$f":"#REF!","v":{"$error":"#REF!"}},{"$f":"#REF!","v":{"$error":"#REF!"}},{"$f":"#REF!","v":{"$error":"#REF!"}},{"$f":"#REF!","v":{"$error":"#REF!"}},{"$f":"#REF!","v":{"$error":"#REF!"}},{"$f":"#REF!","v":{"$error":"#REF!"}},{"$f":"#REF!","v":{"$error":"#REF!"}},{"$f":"#REF!","v":{"$error":"#REF!"}},{"$f":"#REF!","v":{"$error":"#REF!"}}]
[66,{"$f":"'w-E_R'!B98","v":"W14/05-Regel"},{"$f":"'w-E_R'!D98","v":0},{"$f":"'w-E_R'!F98","v":0},{"$f":"'w-E_R'!G98","v":0},{"$f":"'w-E_R'!H98","v":0},{"$f":"'w-E_R'!I98","v":0},{"$f":"'w-E_R'!J98","v":0},{"$f":"'w-E_R'!K98","v":0},{"$f":"'w-E_R'!L98","v":0},{"$f":"'w-E_R'!M98","v":0},{"$f":"'w-E_R'!P98","v":0},{"$error":"#REF!"},{"$f":"#REF!","v":{"$error":"#REF!"}},{"$f":"#REF!","v":{"$error":"#REF!"}},{"$f":"#REF!","v":{"$error":"#REF!"}},{"$f":"#REF!","v":{"$error":"#REF!"}},{"$f":"#REF!","v":{"$error":"#REF!"}},{"$f":"#REF!","v":{"$error":"#REF!"}},{"$f":"#REF!","v":{"$error":"#REF!"}},{"$f":"#REF!","v":{"$error":"#REF!"}},{"$f":"#REF!","v":{"$error":"#REF!"}},{"$f":"#REF!","v":{"$error":"#REF!"}},{"$f":"#REF!","v":{"$error":"#REF!"}}]
[66,{"$f":"'w-E_R'!B99","v":"W14/06-Regel"},{"$f":"'w-E_R'!D99","v":0},{"$f":"'w-E_R'!F99","v":0},{"$f":"'w-E_R'!G99","v":0},{"$f":"'w-E_R'!H99","v":0},{"$f":"'w-E_R'!I99","v":0},{"$f":"'w-E_R'!J99","v":0},{"$f":"'w-E_R'!K99","v":0},{"$f":"'w-E_R'!L99","v":0},{"$f":"'w-E_R'!M99","v":0},{"$f":"'w-E_R'!P99","v":0},{"$error":"#REF!"},{"$f":"#REF!","v":{"$error":"#REF!"}},{"$f":"#REF!","v":{"$error":"#REF!"}},{"$f":"#REF!","v":{"$error":"#REF!"}},{"$f":"#REF!","v":{"$error":"#REF!"}},{"$f":"#REF!","v":{"$error":"#REF!"}},{"$f":"#REF!","v":{"$error":"#REF!"}},{"$f":"#REF!","v":{"$error":"#REF!"}},{"$f":"#REF!","v":{"$error":"#REF!"}},{"$f":"#REF!","v":{"$error":"#REF!"}},{"$f":"#REF!","v":{"$error":"#REF!"}},{"$f":"#REF!","v":{"$error":"#REF!"}}]
[66,{"$f":"'w-E_R'!B101","v":"W15/01-Regel"},{"$f":"'w-E_R'!D101","v":0},{"$f":"'w-E_R'!F101","v":0},{"$f":"'w-E_R'!G101","v":0},{"$f":"'w-E_R'!H101","v":0},{"$f":"'w-E_R'!I101","v":0},{"$f":"'w-E_R'!J101","v":0},{"$f":"'w-E_R'!K101","v":0},{"$f":"'w-E_R'!L101","v":0},{"$f":"'w-E_R'!M101","v":0},{"$f":"'w-E_R'!P101","v":0},{"$error":"#REF!"},{"$f":"#REF!","v":{"$error":"#REF!"}},{"$f":"#REF!","v":{"$error":"#REF!"}},{"$f":"#REF!","v":{"$error":"#REF!"}},{"$f":"#REF!","v":{"$error":"#REF!"}},{"$f":"#REF!","v":{"$error":"#REF!"}},{"$f":"#REF!","v":{"$error":"#REF!"}},{"$f":"#REF!","v":{"$error":"#REF!"}},{"$f":"#REF!","v":{"$error":"#REF!"}},{"$f":"#REF!","v":{"$error":"#REF!"}},{"$f":"#REF!","v":{"$error":"#REF!"}},{"$f":"#REF!","v":{"$error":"#REF!"}}]
[66,{"$f":"'w-E_R'!B102","v":"W15/02-Regel"},{"$f":"'w-E_R'!D102","v":0},{"$f":"'w-E_R'!F102","v":0},{"$f":"'w-E_R'!G102","v":0},{"$f":"'w-E_R'!H102","v":0},{"$f":"'w-E_R'!I102","v":0},{"$f":"'w-E_R'!J102","v":0},{"$f":"'w-E_R'!K102","v":0},{"$f":"'w-E_R'!L102","v":0},{"$f":"'w-E_R'!M102","v":0},{"$f":"'w-E_R'!P102","v":0},{"$error":"#REF!"},{"$f":"#REF!","v":{"$error":"#REF!"}},{"$f":"#REF!","v":{"$error":"#REF!"}},{"$f":"#REF!","v":{"$error":"#REF!"}},{"$f":"#REF!","v":{"$error":"#REF!"}},{"$f":"#REF!","v":{"$error":"#REF!"}},{"$f":"#REF!","v":{"$error":"#REF!"}},{"$f":"#REF!","v":{"$error":"#REF!"}},{"$f":"#REF!","v":{"$error":"#REF!"}},{"$f":"#REF!","v":{"$error":"#REF!"}},{"$f":"#REF!","v":{"$error":"#REF!"}},{"$f":"#REF!","v":{"$error":"#REF!"}}]
[66,{"$f":"'w-E_R'!B103","v":"W15/03-Regel"},{"$f":"'w-E_R'!D103","v":0},{"$f":"'w-E_R'!F103","v":0},{"$f":"'w-E_R'!G103","v":0},{"$f":"'w-E_R'!H103","v":0},{"$f":"'w-E_R'!I103","v":0},{"$f":"'w-E_R'!J103","v":0},{"$f":"'w-E_R'!K103","v":0},{"$f":"'w-E_R'!L103","v":0},{"$f":"'w-E_R'!M103","v":0},{"$f":"'w-E_R'!P103","v":0},{"$error":"#REF!"},{"$f":"#REF!","v":{"$error":"#REF!"}},{"$f":"#REF!","v":{"$error":"#REF!"}},{"$f":"#REF!","v":{"$error":"#REF!"}},{"$f":"#REF!","v":{"$error":"#REF!"}},{"$f":"#REF!","v":{"$error":"#REF!"}},{"$f":"#REF!","v":{"$error":"#REF!"}},{"$f":"#REF!","v":{"$error":"#REF!"}},{"$f":"#REF!","v":{"$error":"#REF!"}},{"$f":"#REF!","v":{"$error":"#REF!"}},{"$f":"#REF!","v":{"$error":"#REF!"}},{"$f":"#REF!","v":{"$error":"#REF!"}}]
[66,{"$f":"'w-E_R'!B104","v":"W15/04-Regel"},{"$f":"'w-E_R'!D104","v":0},{"$f":"'w-E_R'!F104","v":0},{"$f":"'w-E_R'!G104","v":0},{"$f":"'w-E_R'!H104","v":0},{"$f":"'w-E_R'!I104","v":0},{"$f":"'w-E_R'!J104","v":0},{"$f":"'w-E_R'!K104","v":0},{"$f":"'w-E_R'!L104","v":0},{"$f":"'w-E_R'!M104","v":0},{"$f":"'w-E_R'!P104","v":0},{"$error":"#REF!"},{"$f":"#REF!","v":{"$error":"#REF!"}},{"$f":"#REF!","v":{"$error":"#REF!"}},{"$f":"#REF!","v":{"$error":"#REF!"}},{"$f":"#REF!","v":{"$error":"#REF!"}},{"$f":"#REF!","v":{"$error":"#REF!"}},{"$f":"#REF!","v":{"$error":"#REF!"}},{"$f":"#REF!","v":{"$error":"#REF!"}},{"$f":"#REF!","v":{"$error":"#REF!"}},{"$f":"#REF!","v":{"$error":"#REF!"}},{"$f":"#REF!","v":{"$error":"#REF!"}},{"$f":"#REF!","v":{"$error":"#REF!"}}]
[66,{"$f":"'w-E_R'!B105","v":"W15/05-Regel"},{"$f":"'w-E_R'!D105","v":0},{"$f":"'w-E_R'!F105","v":0},{"$f":"'w-E_R'!G105","v":0},{"$f":"'w-E_R'!H105","v":0},{"$f":"'w-E_R'!I105","v":0},{"$f":"'w-E_R'!J105","v":0},{"$f":"'w-E_R'!K105","v":0},{"$f":"'w-E_R'!L105","v":0},{"$f":"'w-E_R'!M105","v":0},{"$f":"'w-E_R'!P105","v":0},{"$error":"#REF!"},{"$f":"#REF!","v":{"$error":"#REF!"}},{"$f":"#REF!","v":{"$error":"#REF!"}},{"$f":"#REF!","v":{"$error":"#REF!"}},{"$f":"#REF!","v":{"$error":"#REF!"}},{"$f":"#REF!","v":{"$error":"#REF!"}},{"$f":"#REF!","v":{"$error":"#REF!"}},{"$f":"#REF!","v":{"$error":"#REF!"}},{"$f":"#REF!","v":{"$error":"#REF!"}},{"$f":"#REF!","v":{"$error":"#REF!"}},{"$f":"#REF!","v":{"$error":"#REF!"}},{"$f":"#REF!","v":{"$error":"#REF!"}}]
[66,{"$f":"'w-E_R'!B106","v":"W15/06-Regel"},{"$f":"'w-E_R'!D106","v":0},{"$f":"'w-E_R'!F106","v":0},{"$f":"'w-E_R'!G106","v":0},{"$f":"'w-E_R'!H106","v":0},{"$f":"'w-E_R'!I106","v":0},{"$f":"'w-E_R'!J106","v":0},{"$f":"'w-E_R'!K106","v":0},{"$f":"'w-E_R'!L106","v":0},{"$f":"'w-E_R'!M106","v":0},{"$f":"'w-E_R'!P106","v":0},{"$error":"#REF!"},{"$f":"#REF!","v":{"$error":"#REF!"}},{"$f":"#REF!","v":{"$error":"#REF!"}},{"$f":"#REF!","v":{"$error":"#REF!"}},{"$f":"#REF!","v":{"$error":"#REF!"}},{"$f":"#REF!","v":{"$error":"#REF!"}},{"$f":"#REF!","v":{"$error":"#REF!"}},{"$f":"#REF!","v":{"$error":"#REF!"}},{"$f":"#REF!","v":{"$error":"#REF!"}},{"$f":"#REF!","v":{"$error":"#REF!"}},{"$f":"#REF!","v":{"$error":"#REF!"}},{"$f":"#REF!","v":{"$error":"#REF!"}}]
[66,{"$f":"'w-E_R'!B108","v":"W16/01-Regel"},{"$f":"'w-E_R'!D108","v":0},{"$f":"'w-E_R'!F108","v":0},{"$f":"'w-E_R'!G108","v":0},{"$f":"'w-E_R'!H108","v":0},{"$f":"'w-E_R'!I108","v":0},{"$f":"'w-E_R'!J108","v":0},{"$f":"'w-E_R'!K108","v":0},{"$f":"'w-E_R'!L108","v":0},{"$f":"'w-E_R'!M108","v":0},{"$f":"'w-E_R'!P108","v":0},{"$error":"#REF!"},{"$f":"#REF!","v":{"$error":"#REF!"}},{"$f":"#REF!","v":{"$error":"#REF!"}},{"$f":"#REF!","v":{"$error":"#REF!"}},{"$f":"#REF!","v":{"$error":"#REF!"}},{"$f":"#REF!","v":{"$error":"#REF!"}},{"$f":"#REF!","v":{"$error":"#REF!"}},{"$f":"#REF!","v":{"$error":"#REF!"}},{"$f":"#REF!","v":{"$error":"#REF!"}},{"$f":"#REF!","v":{"$error":"#REF!"}},{"$f":"#REF!","v":{"$error":"#REF!"}},{"$f":"#REF!","v":{"$error":"#REF!"}}]
[66,{"$f":"'w-E_R'!B109","v":"W16/02-Regel"},{"$f":"'w-E_R'!D109","v":0},{"$f":"'w-E_R'!F109","v":0},{"$f":"'w-E_R'!G109","v":0},{"$f":"'w-E_R'!H109","v":0},{"$f":"'w-E_R'!I109","v":0},{"$f":"'w-E_R'!J109","v":0},{"$f":"'w-E_R'!K109","v":0},{"$f":"'w-E_R'!L109","v":0},{"$f":"'w-E_R'!M109","v":0},{"$f":"'w-E_R'!P109","v":0},{"$error":"#REF!"},{"$f":"#REF!","v":{"$error":"#REF!"}},{"$f":"#REF!","v":{"$error":"#REF!"}},{"$f":"#REF!","v":{"$error":"#REF!"}},{"$f":"#REF!","v":{"$error":"#REF!"}},{"$f":"#REF!","v":{"$error":"#REF!"}},{"$f":"#REF!","v":{"$error":"#REF!"}},{"$f":"#REF!","v":{"$error":"#REF!"}},{"$f":"#REF!","v":{"$error":"#REF!"}},{"$f":"#REF!","v":{"$error":"#REF!"}},{"$f":"#REF!","v":{"$error":"#REF!"}},{"$f":"#REF!","v":{"$error":"#REF!"}}]
[66,{"$f":"'w-E_R'!B110","v":"W16/03-Regel"},{"$f":"'w-E_R'!D110","v":0},{"$f":"'w-E_R'!F110","v":0},{"$f":"'w-E_R'!G110","v":0},{"$f":"'w-E_R'!H110","v":0},{"$f":"'w-E_R'!I110","v":0},{"$f":"'w-E_R'!J110","v":0},{"$f":"'w-E_R'!K110","v":0},{"$f":"'w-E_R'!L110","v":0},{"$f":"'w-E_R'!M110","v":0},{"$f":"'w-E_R'!P110","v":0},{"$error":"#REF!"},{"$f":"#REF!","v":{"$error":"#REF!"}},{"$f":"#REF!","v":{"$error":"#REF!"}},{"$f":"#REF!","v":{"$error":"#REF!"}},{"$f":"#REF!","v":{"$error":"#REF!"}},{"$f":"#REF!","v":{"$error":"#REF!"}},{"$f":"#REF!","v":{"$error":"#REF!"}},{"$f":"#REF!","v":{"$error":"#REF!"}},{"$f":"#REF!","v":{"$error":"#REF!"}},{"$f":"#REF!","v":{"$error":"#REF!"}},{"$f":"#REF!","v":{"$error":"#REF!"}},{"$f":"#REF!","v":{"$error":"#REF!"}}]
[66,{"$f":"'w-E_R'!B111","v":"W16/04-Regel"},{"$f":"'w-E_R'!D111","v":0},{"$f":"'w-E_R'!F111","v":0},{"$f":"'w-E_R'!G111","v":0},{"$f":"'w-E_R'!H111","v":0},{"$f":"'w-E_R'!I111","v":0},{"$f":"'w-E_R'!J111","v":0},{"$f":"'w-E_R'!K111","v":0},{"$f":"'w-E_R'!L111","v":0},{"$f":"'w-E_R'!M111","v":0},{"$f":"'w-E_R'!P111","v":0},{"$error":"#REF!"},{"$f":"#REF!","v":{"$error":"#REF!"}},{"$f":"#REF!","v":{"$error":"#REF!"}},{"$f":"#REF!","v":{"$error":"#REF!"}},{"$f":"#REF!","v":{"$error":"#REF!"}},{"$f":"#REF!","v":{"$error":"#REF!"}},{"$f":"#REF!","v":{"$error":"#REF!"}},{"$f":"#REF!","v":{"$error":"#REF!"}},{"$f":"#REF!","v":{"$error":"#REF!"}},{"$f":"#REF!","v":{"$error":"#REF!"}},{"$f":"#REF!","v":{"$error":"#REF!"}},{"$f":"#REF!","v":{"$error":"#REF!"}}]
[66,{"$f":"'w-E_R'!B112","v":"W16/05-Regel"},{"$f":"'w-E_R'!D112","v":0},{"$f":"'w-E_R'!F112","v":0},{"$f":"'w-E_R'!G112","v":0},{"$f":"'w-E_R'!H112","v":0},{"$f":"'w-E_R'!I112","v":0},{"$f":"'w-E_R'!J112","v":0},{"$f":"'w-E_R'!K112","v":0},{"$f":"'w-E_R'!L112","v":0},{"$f":"'w-E_R'!M112","v":0},{"$f":"'w-E_R'!P112","v":0},{"$error":"#REF!"},{"$f":"#REF!","v":{"$error":"#REF!"}},{"$f":"#REF!","v":{"$error":"#REF!"}},{"$f":"#REF!","v":{"$error":"#REF!"}},{"$f":"#REF!","v":{"$error":"#REF!"}},{"$f":"#REF!","v":{"$error":"#REF!"}},{"$f":"#REF!","v":{"$error":"#REF!"}},{"$f":"#REF!","v":{"$error":"#REF!"}},{"$f":"#REF!","v":{"$error":"#REF!"}},{"$f":"#REF!","v":{"$error":"#REF!"}},{"$f":"#REF!","v":{"$error":"#REF!"}},{"$f":"#REF!","v":{"$error":"#REF!"}}]
[66,{"$f":"'w-E_R'!B113","v":"W16/06-Regel"},{"$f":"'w-E_R'!D113","v":0},{"$f":"'w-E_R'!F113","v":0},{"$f":"'w-E_R'!G113","v":0},{"$f":"'w-E_R'!H113","v":0},{"$f":"'w-E_R'!I113","v":0},{"$f":"'w-E_R'!J113","v":0},{"$f":"'w-E_R'!K113","v":0},{"$f":"'w-E_R'!L113","v":0},{"$f":"'w-E_R'!M113","v":0},{"$f":"'w-E_R'!P113","v":0},{"$error":"#REF!"},{"$f":"#REF!","v":{"$error":"#REF!"}},{"$f":"#REF!","v":{"$error":"#REF!"}},{"$f":"#REF!","v":{"$error":"#REF!"}},{"$f":"#REF!","v":{"$error":"#REF!"}},{"$f":"#REF!","v":{"$error":"#REF!"}},{"$f":"#REF!","v":{"$error":"#REF!"}},{"$f":"#REF!","v":{"$error":"#REF!"}},{"$f":"#REF!","v":{"$error":"#REF!"}},{"$f":"#REF!","v":{"$error":"#REF!"}},{"$f":"#REF!","v":{"$error":"#REF!"}},{"$f":"#REF!","v":{"$error":"#REF!"}}]
[{"$f":"RANK(L100,$L$4:$L$123,0)","v":66},{"$f":"'w-E_R'!B115","v":"W17/01-Regel"},{"$f":"'w-E_R'!D115","v":0},{"$f":"'w-E_R'!F115","v":0},{"$f":"'w-E_R'!G115","v":0},{"$f":"'w-E_R'!H115","v":0},{"$f":"'w-E_R'!I115","v":0},{"$f":"'w-E_R'!J115","v":0},{"$f":"'w-E_R'!K115","v":0},{"$f":"'w-E_R'!L115","v":0},{"$f":"'w-E_R'!M115","v":0},{"$f":"'w-E_R'!P115","v":0},{"$f":"RANK(X100,$X$4:$X$123,0)","v":{"$error":"#REF!"}},{"$f":"#REF!","v":{"$error":"#REF!"}},{"$f":"#REF!","v":{"$error":"#REF!"}},{"$f":"#REF!","v":{"$error":"#REF!"}},{"$f":"#REF!","v":{"$error":"#REF!"}},{"$f":"#REF!","v":{"$error":"#REF!"}},{"$f":"#REF!","v":{"$error":"#REF!"}},{"$f":"#REF!","v":{"$error":"#REF!"}},{"$f":"#REF!","v":{"$error":"#REF!"}},{"$f":"#REF!","v":{"$error":"#REF!"}},{"$f":"#REF!","v":{"$error":"#REF!"}},{"$f":"#REF!","v":{"$error":"#REF!"}}]
[66,{"$f":"'w-E_R'!B116","v":"W17/02-Regel"},{"$f":"'w-E_R'!D116","v":0},{"$f":"'w-E_R'!F116","v":0},{"$f":"'w-E_R'!G116","v":0},{"$f":"'w-E_R'!H116","v":0},{"$f":"'w-E_R'!I116","v":0},{"$f":"'w-E_R'!J116","v":0},{"$f":"'w-E_R'!K116","v":0},{"$f":"'w-E_R'!L116","v":0},{"$f":"'w-E_R'!M116","v":0},{"$f":"'w-E_R'!P116","v":0},{"$error":"#REF!"},{"$f":"#REF!","v":{"$error":"#REF!"}},{"$f":"#REF!","v":{"$error":"#REF!"}},{"$f":"#REF!","v":{"$error":"#REF!"}},{"$f":"#REF!","v":{"$error":"#REF!"}},{"$f":"#REF!","v":{"$error":"#REF!"}},{"$f":"#REF!","v":{"$error":"#REF!"}},{"$f":"#REF!","v":{"$error":"#REF!"}},{"$f":"#REF!","v":{"$error":"#REF!"}},{"$f":"#REF!","v":{"$error":"#REF!"}},{"$f":"#REF!","v":{"$error":"#REF!"}},{"$f":"#REF!","v":{"$error":"#REF!"}}]
[66,{"$f":"'w-E_R'!B117","v":"W17/03-Regel"},{"$f":"'w-E_R'!D117","v":0},{"$f":"'w-E_R'!F117","v":0},{"$f":"'w-E_R'!G117","v":0},{"$f":"'w-E_R'!H117","v":0},{"$f":"'w-E_R'!I117","v":0},{"$f":"'w-E_R'!J117","v":0},{"$f":"'w-E_R'!K117","v":0},{"$f":"'w-E_R'!L117","v":0},{"$f":"'w-E_R'!M117","v":0},{"$f":"'w-E_R'!P117","v":0},{"$error":"#REF!"},{"$f":"#REF!","v":{"$error":"#REF!"}},{"$f":"#REF!","v":{"$error":"#REF!"}},{"$f":"#REF!","v":{"$error":"#REF!"}},{"$f":"#REF!","v":{"$error":"#REF!"}},{"$f":"#REF!","v":{"$error":"#REF!"}},{"$f":"#REF!","v":{"$error":"#REF!"}},{"$f":"#REF!","v":{"$error":"#REF!"}},{"$f":"#REF!","v":{"$error":"#REF!"}},{"$f":"#REF!","v":{"$error":"#REF!"}},{"$f":"#REF!","v":{"$error":"#REF!"}},{"$f":"#REF!","v":{"$error":"#REF!"}}]
[66,{"$f":"'w-E_R'!B118","v":"W17/04-Regel"},{"$f":"'w-E_R'!D118","v":0},{"$f":"'w-E_R'!F118","v":0},{"$f":"'w-E_R'!G118","v":0},{"$f":"'w-E_R'!H118","v":0},{"$f":"'w-E_R'!I118","v":0},{"$f":"'w-E_R'!J118","v":0},{"$f":"'w-E_R'!K118","v":0},{"$f":"'w-E_R'!L118","v":0},{"$f":"'w-E_R'!M118","v":0},{"$f":"'w-E_R'!P118","v":0},{"$error":"#REF!"},{"$f":"#REF!","v":{"$error":"#REF!"}},{"$f":"#REF!","v":{"$error":"#REF!"}},{"$f":"#REF!","v":{"$error":"#REF!"}},{"$f":"#REF!","v":{"$error":"#REF!"}},{"$f":"#REF!","v":{"$error":"#REF!"}},{"$f":"#REF!","v":{"$error":"#REF!"}},{"$f":"#REF!","v":{"$error":"#REF!"}},{"$f":"#REF!","v":{"$error":"#REF!"}},{"$f":"#REF!","v":{"$error":"#REF!"}},{"$f":"#REF!","v":{"$error":"#REF!"}},{"$f":"#REF!","v":{"$error":"#REF!"}}]
[66,{"$f":"'w-E_R'!B119","v":"W17/05-Regel"},{"$f":"'w-E_R'!D119","v":0},{"$f":"'w-E_R'!F119","v":0},{"$f":"'w-E_R'!G119","v":0},{"$f":"'w-E_R'!H119","v":0},{"$f":"'w-E_R'!I119","v":0},{"$f":"'w-E_R'!J119","v":0},{"$f":"'w-E_R'!K119","v":0},{"$f":"'w-E_R'!L119","v":0},{"$f":"'w-E_R'!M119","v":0},{"$f":"'w-E_R'!P119","v":0},{"$error":"#REF!"},{"$f":"#REF!","v":{"$error":"#REF!"}},{"$f":"#REF!","v":{"$error":"#REF!"}},{"$f":"#REF!","v":{"$error":"#REF!"}},{"$f":"#REF!","v":{"$error":"#REF!"}},{"$f":"#REF!","v":{"$error":"#REF!"}},{"$f":"#REF!","v":{"$error":"#REF!"}},{"$f":"#REF!","v":{"$error":"#REF!"}},{"$f":"#REF!","v":{"$error":"#REF!"}},{"$f":"#REF!","v":{"$error":"#REF!"}},{"$f":"#REF!","v":{"$error":"#REF!"}},{"$f":"#REF!","v":{"$error":"#REF!"}}]
[66,{"$f":"'w-E_R'!B120","v":"W17/06-Regel"},{"$f":"'w-E_R'!D120","v":0},{"$f":"'w-E_R'!F120","v":0},{"$f":"'w-E_R'!G120","v":0},{"$f":"'w-E_R'!H120","v":0},{"$f":"'w-E_R'!I120","v":0},{"$f":"'w-E_R'!J120","v":0},{"$f":"'w-E_R'!K120","v":0},{"$f":"'w-E_R'!L120","v":0},{"$f":"'w-E_R'!M120","v":0},{"$f":"'w-E_R'!P120","v":0},{"$error":"#REF!"},{"$f":"#REF!","v":{"$error":"#REF!"}},{"$f":"#REF!","v":{"$error":"#REF!"}},{"$f":"#REF!","v":{"$error":"#REF!"}},{"$f":"#REF!","v":{"$error":"#REF!"}},{"$f":"#REF!","v":{"$error":"#REF!"}},{"$f":"#REF!","v":{"$error":"#REF!"}},{"$f":"#REF!","v":{"$error":"#REF!"}},{"$f":"#REF!","v":{"$error":"#REF!"}},{"$f":"#REF!","v":{"$error":"#REF!"}},{"$f":"#REF!","v":{"$error":"#REF!"}},{"$f":"#REF!","v":{"$error":"#REF!"}}]
[66,{"$f":"'w-E_R'!B122","v":"W18/01-Regel"},{"$f":"'w-E_R'!D122","v":0},{"$f":"'w-E_R'!F122","v":0},{"$f":"'w-E_R'!G122","v":0},{"$f":"'w-E_R'!H122","v":0},{"$f":"'w-E_R'!I122","v":0},{"$f":"'w-E_R'!J122","v":0},{"$f":"'w-E_R'!K122","v":0},{"$f":"'w-E_R'!L122","v":0},{"$f":"'w-E_R'!M122","v":0},{"$f":"'w-E_R'!P122","v":0},{"$error":"#REF!"},{"$f":"#REF!","v":{"$error":"#REF!"}},{"$f":"#REF!","v":{"$error":"#REF!"}},{"$f":"#REF!","v":{"$error":"#REF!"}},{"$f":"#REF!","v":{"$error":"#REF!"}},{"$f":"#REF!","v":{"$error":"#REF!"}},{"$f":"#REF!","v":{"$error":"#REF!"}},{"$f":"#REF!","v":{"$error":"#REF!"}},{"$f":"#REF!","v":{"$error":"#REF!"}},{"$f":"#REF!","v":{"$error":"#REF!"}},{"$f":"#REF!","v":{"$error":"#REF!"}},{"$f":"#REF!","v":{"$error":"#REF!"}}]
[66,{"$f":"'w-E_R'!B123","v":"W18/02-Regel"},{"$f":"'w-E_R'!D123","v":0},{"$f":"'w-E_R'!F123","v":0},{"$f":"'w-E_R'!G123","v":0},{"$f":"'w-E_R'!H123","v":0},{"$f":"'w-E_R'!I123","v":0},{"$f":"'w-E_R'!J123","v":0},{"$f":"'w-E_R'!K123","v":0},{"$f":"'w-E_R'!L123","v":0},{"$f":"'w-E_R'!M123","v":0},{"$f":"'w-E_R'!P123","v":0},{"$error":"#REF!"},{"$f":"#REF!","v":{"$error":"#REF!"}},{"$f":"#REF!","v":{"$error":"#REF!"}},{"$f":"#REF!","v":{"$error":"#REF!"}},{"$f":"#REF!","v":{"$error":"#REF!"}},{"$f":"#REF!","v":{"$error":"#REF!"}},{"$f":"#REF!","v":{"$error":"#REF!"}},{"$f":"#REF!","v":{"$error":"#REF!"}},{"$f":"#REF!","v":{"$error":"#REF!"}},{"$f":"#REF!","v":{"$error":"#REF!"}},{"$f":"#REF!","v":{"$error":"#REF!"}},{"$f":"#REF!","v":{"$error":"#REF!"}}]
[66,{"$f":"'w-E_R'!B124","v":"W18/03-Regel"},{"$f":"'w-E_R'!D124","v":0},{"$f":"'w-E_R'!F124","v":0},{"$f":"'w-E_R'!G124","v":0},{"$f":"'w-E_R'!H124","v":0},{"$f":"'w-E_R'!I124","v":0},{"$f":"'w-E_R'!J124","v":0},{"$f":"'w-E_R'!K124","v":0},{"$f":"'w-E_R'!L124","v":0},{"$f":"'w-E_R'!M124","v":0},{"$f":"'w-E_R'!P124","v":0},{"$error":"#REF!"},{"$f":"#REF!","v":{"$error":"#REF!"}},{"$f":"#REF!","v":{"$error":"#REF!"}},{"$f":"#REF!","v":{"$error":"#REF!"}},{"$f":"#REF!","v":{"$error":"#REF!"}},{"$f":"#REF!","v":{"$error":"#REF!"}},{"$f":"#REF!","v":{"$error":"#REF!"}},{"$f":"#REF!","v":{"$error":"#REF!"}},{"$f":"#REF!","v":{"$error":"#REF!"}},{"$f":"#REF!","v":{"$error":"#REF!"}},{"$f":"#REF!","v":{"$error":"#REF!"}},{"$f":"#REF!","v":{"$error":"#REF!"}}]
[66,{"$f":"'w-E_R'!B125","v":"W18/04-Regel"},{"$f":"'w-E_R'!D125","v":0},{"$f":"'w-E_R'!F125","v":0},{"$f":"'w-E_R'!G125","v":0},{"$f":"'w-E_R'!H125","v":0},{"$f":"'w-E_R'!I125","v":0},{"$f":"'w-E_R'!J125","v":0},{"$f":"'w-E_R'!K125","v":0},{"$f":"'w-E_R'!L125","v":0},{"$f":"'w-E_R'!M125","v":0},{"$f":"'w-E_R'!P125","v":0},{"$error":"#REF!"},{"$f":"#REF!","v":{"$error":"#REF!"}},{"$f":"#REF!","v":{"$error":"#REF!"}},{"$f":"#REF!","v":{"$error":"#REF!"}},{"$f":"#REF!","v":{"$error":"#REF!"}},{"$f":"#REF!","v":{"$error":"#REF!"}},{"$f":"#REF!","v":{"$error":"#REF!"}},{"$f":"#REF!","v":{"$error":"#REF!"}},{"$f":"#REF!","v":{"$error":"#REF!"}},{"$f":"#REF!","v":{"$error":"#REF!"}},{"$f":"#REF!","v":{"$error":"#REF!"}},{"$f":"#REF!","v":{"$error":"#REF!"}}]
[66,{"$f":"'w-E_R'!B126","v":"W18/05-Regel"},{"$f":"'w-E_R'!D126","v":0},{"$f":"'w-E_R'!F126","v":0},{"$f":"'w-E_R'!G126","v":0},{"$f":"'w-E_R'!H126","v":0},{"$f":"'w-E_R'!I126","v":0},{"$f":"'w-E_R'!J126","v":0},{"$f":"'w-E_R'!K126","v":0},{"$f":"'w-E_R'!L126","v":0},{"$f":"'w-E_R'!M126","v":0},{"$f":"'w-E_R'!P126","v":0},{"$error":"#REF!"},{"$f":"#REF!","v":{"$error":"#REF!"}},{"$f":"#REF!","v":{"$error":"#REF!"}},{"$f":"#REF!","v":{"$error":"#REF!"}},{"$f":"#REF!","v":{"$error":"#REF!"}},{"$f":"#REF!","v":{"$error":"#REF!"}},{"$f":"#REF!","v":{"$error":"#REF!"}},{"$f":"#REF!","v":{"$error":"#REF!"}},{"$f":"#REF!","v":{"$error":"#REF!"}},{"$f":"#REF!","v":{"$error":"#REF!"}},{"$f":"#REF!","v":{"$error":"#REF!"}},{"$f":"#REF!","v":{"$error":"#REF!"}}]
[66,{"$f":"'w-E_R'!B127","v":"W18/06-Regel"},{"$f":"'w-E_R'!D127","v":0},{"$f":"'w-E_R'!F127","v":0},{"$f":"'w-E_R'!G127","v":0},{"$f":"'w-E_R'!H127","v":0},{"$f":"'w-E_R'!I127","v":0},{"$f":"'w-E_R'!J127","v":0},{"$f":"'w-E_R'!K127","v":0},{"$f":"'w-E_R'!L127","v":0},{"$f":"'w-E_R'!M127","v":0},{"$f":"'w-E_R'!P127","v":0},{"$error":"#REF!"},{"$f":"#REF!","v":{"$error":"#REF!"}},{"$f":"#REF!","v":{"$error":"#REF!"}},{"$f":"#REF!","v":{"$error":"#REF!"}},{"$f":"#REF!","v":{"$error":"#REF!"}},{"$f":"#REF!","v":{"$error":"#REF!"}},{"$f":"#REF!","v":{"$error":"#REF!"}},{"$f":"#REF!","v":{"$error":"#REF!"}},{"$f":"#REF!","v":{"$error":"#REF!"}},{"$f":"#REF!","v":{"$error":"#REF!"}},{"$f":"#REF!","v":{"$error":"#REF!"}},{"$f":"#REF!","v":{"$error":"#REF!"}}]
[66,{"$f":"'w-E_R'!B129","v":"W19/01-Regel"},{"$f":"'w-E_R'!D129","v":0},{"$f":"'w-E_R'!F129","v":0},{"$f":"'w-E_R'!G129","v":0},{"$f":"'w-E_R'!H129","v":0},{"$f":"'w-E_R'!I129","v":0},{"$f":"'w-E_R'!J129","v":0},{"$f":"'w-E_R'!K129","v":0},{"$f":"'w-E_R'!L129","v":0},{"$f":"'w-E_R'!M129","v":0},{"$f":"'w-E_R'!P129","v":0},{"$error":"#REF!"},{"$f":"#REF!","v":{"$error":"#REF!"}},{"$f":"#REF!","v":{"$error":"#REF!"}},{"$f":"#REF!","v":{"$error":"#REF!"}},{"$f":"#REF!","v":{"$error":"#REF!"}},{"$f":"#REF!","v":{"$error":"#REF!"}},{"$f":"#REF!","v":{"$error":"#REF!"}},{"$f":"#REF!","v":{"$error":"#REF!"}},{"$f":"#REF!","v":{"$error":"#REF!"}},{"$f":"#REF!","v":{"$error":"#REF!"}},{"$f":"#REF!","v":{"$error":"#REF!"}},{"$f":"#REF!","v":{"$error":"#REF!"}}]
[66,{"$f":"'w-E_R'!B130","v":"W19/02-Regel"},{"$f":"'w-E_R'!D130","v":0},{"$f":"'w-E_R'!F130","v":0},{"$f":"'w-E_R'!G130","v":0},{"$f":"'w-E_R'!H130","v":0},{"$f":"'w-E_R'!I130","v":0},{"$f":"'w-E_R'!J130","v":0},{"$f":"'w-E_R'!K130","v":0},{"$f":"'w-E_R'!L130","v":0},{"$f":"'w-E_R'!M130","v":0},{"$f":"'w-E_R'!P130","v":0},{"$error":"#REF!"},{"$f":"#REF!","v":{"$error":"#REF!"}},{"$f":"#REF!","v":{"$error":"#REF!"}},{"$f":"#REF!","v":{"$error":"#REF!"}},{"$f":"#REF!","v":{"$error":"#REF!"}},{"$f":"#REF!","v":{"$error":"#REF!"}},{"$f":"#REF!","v":{"$error":"#REF!"}},{"$f":"#REF!","v":{"$error":"#REF!"}},{"$f":"#REF!","v":{"$error":"#REF!"}},{"$f":"#REF!","v":{"$error":"#REF!"}},{"$f":"#REF!","v":{"$error":"#REF!"}},{"$f":"#REF!","v":{"$error":"#REF!"}}]
[66,{"$f":"'w-E_R'!B131","v":"W19/03-Regel"},{"$f":"'w-E_R'!D131","v":0},{"$f":"'w-E_R'!F131","v":0},{"$f":"'w-E_R'!G131","v":0},{"$f":"'w-E_R'!H131","v":0},{"$f":"'w-E_R'!I131","v":0},{"$f":"'w-E_R'!J131","v":0},{"$f":"'w-E_R'!K131","v":0},{"$f":"'w-E_R'!L131","v":0},{"$f":"'w-E_R'!M131","v":0},{"$f":"'w-E_R'!P131","v":0},{"$error":"#REF!"},{"$f":"#REF!","v":{"$error":"#REF!"}},{"$f":"#REF!","v":{"$error":"#REF!"}},{"$f":"#REF!","v":{"$error":"#REF!"}},{"$f":"#REF!","v":{"$error":"#REF!"}},{"$f":"#REF!","v":{"$error":"#REF!"}},{"$f":"#REF!","v":{"$error":"#REF!"}},{"$f":"#REF!","v":{"$error":"#REF!"}},{"$f":"#REF!","v":{"$error":"#REF!"}},{"$f":"#REF!","v":{"$error":"#REF!"}},{"$f":"#REF!","v":{"$error":"#REF!"}},{"$f":"#REF!","v":{"$error":"#REF!"}}]
[66,{"$f":"'w-E_R'!B132","v":"W19/04-Regel"},{"$f":"'w-E_R'!D132","v":0},{"$f":"'w-E_R'!F132","v":0},{"$f":"'w-E_R'!G132","v":0},{"$f":"'w-E_R'!H132","v":0},{"$f":"'w-E_R'!I132","v":0},{"$f":"'w-E_R'!J132","v":0},{"$f":"'w-E_R'!K132","v":0},{"$f":"'w-E_R'!L132","v":0},{"$f":"'w-E_R'!M132","v":0},{"$f":"'w-E_R'!P132","v":0},{"$error":"#REF!"},{"$f":"#REF!","v":{"$error":"#REF!"}},{"$f":"#REF!","v":{"$error":"#REF!"}},{"$f":"#REF!","v":{"$error":"#REF!"}},{"$f":"#REF!","v":{"$error":"#REF!"}},{"$f":"#REF!","v":{"$error":"#REF!"}},{"$f":"#REF!","v":{"$error":"#REF!"}},{"$f":"#REF!","v":{"$error":"#REF!"}},{"$f":"#REF!","v":{"$error":"#REF!"}},{"$f":"#REF!","v":{"$error":"#REF!"}},{"$f":"#REF!","v":{"$error":"#REF!"}},{"$f":"#REF!","v":{"$error":"#REF!"}}]
[66,{"$f":"'w-E_R'!B133","v":"W19/05-Regel"},{"$f":"'w-E_R'!D133","v":0},{"$f":"'w-E_R'!F133","v":0},{"$f":"'w-E_R'!G133","v":0},{"$f":"'w-E_R'!H133","v":0},{"$f":"'w-E_R'!I133","v":0},{"$f":"'w-E_R'!J133","v":0},{"$f":"'w-E_R'!K133","v":0},{"$f":"'w-E_R'!L133","v":0},{"$f":"'w-E_R'!M133","v":0},{"$f":"'w-E_R'!P133","v":0},{"$error":"#REF!"},{"$f":"#REF!","v":{"$error":"#REF!"}},{"$f":"#REF!","v":{"$error":"#REF!"}},{"$f":"#REF!","v":{"$error":"#REF!"}},{"$f":"#REF!","v":{"$error":"#REF!"}},{"$f":"#REF!","v":{"$error":"#REF!"}},{"$f":"#REF!","v":{"$error":"#REF!"}},{"$f":"#REF!","v":{"$error":"#REF!"}},{"$f":"#REF!","v":{"$error":"#REF!"}},{"$f":"#REF!","v":{"$error":"#REF!"}},{"$f":"#REF!","v":{"$error":"#REF!"}},{"$f":"#REF!","v":{"$error":"#REF!"}}]
[66,{"$f":"'w-E_R'!B134","v":"W19/06-Regel"},{"$f":"'w-E_R'!D134","v":0},{"$f":"'w-E_R'!F134","v":0},{"$f":"'w-E_R'!G134","v":0},{"$f":"'w-E_R'!H134","v":0},{"$f":"'w-E_R'!I134","v":0},{"$f":"'w-E_R'!J134","v":0},{"$f":"'w-E_R'!K134","v":0},{"$f":"'w-E_R'!L134","v":0},{"$f":"'w-E_R'!M134","v":0},{"$f":"'w-E_R'!P134","v":0},{"$error":"#REF!"},{"$f":"#REF!","v":{"$error":"#REF!"}},{"$f":"#REF!","v":{"$error":"#REF!"}},{"$f":"#REF!","v":{"$error":"#REF!"}},{"$f":"#REF!","v":{"$error":"#REF!"}},{"$f":"#REF!","v":{"$error":"#REF!"}},{"$f":"#REF!","v":{"$error":"#REF!"}},{"$f":"#REF!","v":{"$error":"#REF!"}},{"$f":"#REF!","v":{"$error":"#REF!"}},{"$f":"#REF!","v":{"$error":"#REF!"}},{"$f":"#REF!","v":{"$error":"#REF!"}},{"$f":"#REF!","v":{"$error":"#REF!"}}]
[66,{"$f":"'w-E_R'!B136","v":"W20/01-Regel"},{"$f":"'w-E_R'!D136","v":0},{"$f":"'w-E_R'!F136","v":0},{"$f":"'w-E_R'!G136","v":0},{"$f":"'w-E_R'!H136","v":0},{"$f":"'w-E_R'!I136","v":0},{"$f":"'w-E_R'!J136","v":0},{"$f":"'w-E_R'!K136","v":0},{"$f":"'w-E_R'!L136","v":0},{"$f":"'w-E_R'!M136","v":0},{"$f":"'w-E_R'!P136","v":0},{"$error":"#REF!"},{"$f":"#REF!","v":{"$error":"#REF!"}},{"$f":"#REF!","v":{"$error":"#REF!"}},{"$f":"#REF!","v":{"$error":"#REF!"}},{"$f":"#REF!","v":{"$error":"#REF!"}},{"$f":"#REF!","v":{"$error":"#REF!"}},{"$f":"#REF!","v":{"$error":"#REF!"}},{"$f":"#REF!","v":{"$error":"#REF!"}},{"$f":"#REF!","v":{"$error":"#REF!"}},{"$f":"#REF!","v":{"$error":"#REF!"}},{"$f":"#REF!","v":{"$error":"#REF!"}},{"$f":"#REF!","v":{"$error":"#REF!"}}]
[66,{"$f":"'w-E_R'!B137","v":"W20/02-Regel"},{"$f":"'w-E_R'!D137","v":0},{"$f":"'w-E_R'!F137","v":0},{"$f":"'w-E_R'!G137","v":0},{"$f":"'w-E_R'!H137","v":0},{"$f":"'w-E_R'!I137","v":0},{"$f":"'w-E_R'!J137","v":0},{"$f":"'w-E_R'!K137","v":0},{"$f":"'w-E_R'!L137","v":0},{"$f":"'w-E_R'!M137","v":0},{"$f":"'w-E_R'!P137","v":0},{"$error":"#REF!"},{"$f":"#REF!","v":{"$error":"#REF!"}},{"$f":"#REF!","v":{"$error":"#REF!"}},{"$f":"#REF!","v":{"$error":"#REF!"}},{"$f":"#REF!","v":{"$error":"#REF!"}},{"$f":"#REF!","v":{"$error":"#REF!"}},{"$f":"#REF!","v":{"$error":"#REF!"}},{"$f":"#REF!","v":{"$error":"#REF!"}},{"$f":"#REF!","v":{"$error":"#REF!"}},{"$f":"#REF!","v":{"$error":"#REF!"}},{"$f":"#REF!","v":{"$error":"#REF!"}},{"$f":"#REF!","v":{"$error":"#REF!"}}]
[66,{"$f":"'w-E_R'!B138","v":"W20/03-Regel"},{"$f":"'w-E_R'!D138","v":0},{"$f":"'w-E_R'!F138","v":0},{"$f":"'w-E_R'!G138","v":0},{"$f":"'w-E_R'!H138","v":0},{"$f":"'w-E_R'!I138","v":0},{"$f":"'w-E_R'!J138","v":0},{"$f":"'w-E_R'!K138","v":0},{"$f":"'w-E_R'!L138","v":0},{"$f":"'w-E_R'!M138","v":0},{"$f":"'w-E_R'!P138","v":0},{"$error":"#REF!"},{"$f":"#REF!","v":{"$error":"#REF!"}},{"$f":"#REF!","v":{"$error":"#REF!"}},{"$f":"#REF!","v":{"$error":"#REF!"}},{"$f":"#REF!","v":{"$error":"#REF!"}},{"$f":"#REF!","v":{"$error":"#REF!"}},{"$f":"#REF!","v":{"$error":"#REF!"}},{"$f":"#REF!","v":{"$error":"#REF!"}},{"$f":"#REF!","v":{"$error":"#REF!"}},{"$f":"#REF!","v":{"$error":"#REF!"}},{"$f":"#REF!","v":{"$error":"#REF!"}},{"$f":"#REF!","v":{"$error":"#REF!"}}]
[66,{"$f":"'w-E_R'!B139","v":"W20/04-Regel"},{"$f":"'w-E_R'!D139","v":0},{"$f":"'w-E_R'!F139","v":0},{"$f":"'w-E_R'!G139","v":0},{"$f":"'w-E_R'!H139","v":0},{"$f":"'w-E_R'!I139","v":0},{"$f":"'w-E_R'!J139","v":0},{"$f":"'w-E_R'!K139","v":0},{"$f":"'w-E_R'!L139","v":0},{"$f":"'w-E_R'!M139","v":0},{"$f":"'w-E_R'!P139","v":0},{"$error":"#REF!"},{"$f":"#REF!","v":{"$error":"#REF!"}},{"$f":"#REF!","v":{"$error":"#REF!"}},{"$f":"#REF!","v":{"$error":"#REF!"}},{"$f":"#REF!","v":{"$error":"#REF!"}},{"$f":"#REF!","v":{"$error":"#REF!"}},{"$f":"#REF!","v":{"$error":"#REF!"}},{"$f":"#REF!","v":{"$error":"#REF!"}},{"$f":"#REF!","v":{"$error":"#REF!"}},{"$f":"#REF!","v":{"$error":"#REF!"}},{"$f":"#REF!","v":{"$error":"#REF!"}},{"$f":"#REF!","v":{"$error":"#REF!"}}]
[66,{"$f":"'w-E_R'!B140","v":"W20/05-Regel"},{"$f":"'w-E_R'!D140","v":0},{"$f":"'w-E_R'!F140","v":0},{"$f":"'w-E_R'!G140","v":0},{"$f":"'w-E_R'!H140","v":0},{"$f":"'w-E_R'!I140","v":0},{"$f":"'w-E_R'!J140","v":0},{"$f":"'w-E_R'!K140","v":0},{"$f":"'w-E_R'!L140","v":0},{"$f":"'w-E_R'!M140","v":0},{"$f":"'w-E_R'!P140","v":0},{"$error":"#REF!"},{"$f":"#REF!","v":{"$error":"#REF!"}},{"$f":"#REF!","v":{"$error":"#REF!"}},{"$f":"#REF!","v":{"$error":"#REF!"}},{"$f":"#REF!","v":{"$error":"#REF!"}},{"$f":"#REF!","v":{"$error":"#REF!"}},{"$f":"#REF!","v":{"$error":"#REF!"}},{"$f":"#REF!","v":{"$error":"#REF!"}},{"$f":"#REF!","v":{"$error":"#REF!"}},{"$f":"#REF!","v":{"$error":"#REF!"}},{"$f":"#REF!","v":{"$error":"#REF!"}},{"$f":"#REF!","v":{"$error":"#REF!"}}]
[66,{"$f":"'w-E_R'!B141","v":"W20/06-Regel"},{"$f":"'w-E_R'!D141","v":0},{"$f":"'w-E_R'!F141","v":0},{"$f":"'w-E_R'!G141","v":0},{"$f":"'w-E_R'!H141","v":0},{"$f":"'w-E_R'!I141","v":0},{"$f":"'w-E_R'!J141","v":0},{"$f":"'w-E_R'!K141","v":0},{"$f":"'w-E_R'!L141","v":0},{"$f":"'w-E_R'!M141","v":0},{"$f":"'w-E_R'!P141","v":0},{"$error":"#REF!"},{"$f":"#REF!","v":{"$error":"#REF!"}},{"$f":"#REF!","v":{"$error":"#REF!"}},{"$f":"#REF!","v":{"$error":"#REF!"}},{"$f":"#REF!","v":{"$error":"#REF!"}},{"$f":"#REF!","v":{"$error":"#REF!"}},{"$f":"#REF!","v":{"$error":"#REF!"}},{"$f":"#REF!","v":{"$error":"#REF!"}},{"$f":"#REF!","v":{"$error":"#REF!"}},{"$f":"#REF!","v":{"$error":"#REF!"}},{"$f":"#REF!","v":{"$error":"#REF!"}},{"$f":"#REF!","v":{"$error":"#REF!"}}]

{"sheet":"Schweizer-Punktetabelle","index":18,"n_rows":25,"n_cols":11,"rows_kept":25,"cut":false,"hidden":false,"merged":[]}
["Schweizer Punktetabelle für die ÖLV Cuppunkteberechnung:"]
[]
["Läufe:"]
["Punkte=A*((B-Leistung)/100)^C",null,null,"In die Formel müssen alle Leistungen in Sekunden x 100 eingesetzt werden!"]
[]
["Sprünge:"]
["Punkte=A*((Leistung-B)/100)^C",null,null,"In die Formel müssen alle Leistungen in Zentimetern eingesetzt werden!"]
[]
["Männer","A","B","C"]
["60m",17.686955000000001,1397,2.1,"Leistung:",null,"sek.",null,null,"Punkte:",{"$f":"IF(F10=0,0,INT(B10*EXP(D10*LN((C10-F10*100)/100))))","v":0}]
["5x80m *)",0.35598200000000002,8600,2.1,"Leistung:",null,"sek.",null,null,"Punkte:",{"$f":"IF(F11=0,0,INT(2*(B11*EXP(D11*LN((C11-F11*100)/100)))))","v":0}]
["Weit",180.85908000000001,190,1,"Leistung:",null,"m",null,null,"Punkte:",{"$f":"IF(F12=0,0,INT(B12*EXP(D12*LN((F12*100-C12)/100))))","v":0}]
["Kugel",82.491673000000006,178,0.9,"Leistung:",null,"m",null,null,"Punkte:",0]
["Ball",18,800,0.9,"Leistung:",null,"m",null,null,"Punkte:",{"$f":"IF(F14=0,0,INT(B14*EXP(D14*LN((F14*100-C14)/100))))","v":0}]
[]
["*)für die Berechnung der Punkte wurde die 4x100m Formel verwendet"]
[]
["Frauen","A","B","C"]
["60m",19.742424,1417,2.1,"Leistung:",null,"sek.",null,null,"Punkte:",{"$f":"IF(F19=0,0,INT(B19*EXP(D19*LN((C19-F19*100)/100))))","v":0}]
["5x80m *)",0.40554800000000002,8720,2.1,"Leistung:",null,"sek.",null,null,"Punkte:",{"$f":"IF(F20=0,0,INT(2*(B20*EXP(D20*LN((C20-F20*100)/100)))))","v":0}]
["Weit",220.628792,180,1,"Leistung:",null,"m",null,null,"Punkte:",{"$f":"IF(F21=0,0,INT(B21*EXP(D21*LN((F21*100-C21)/100))))","v":0}]
["Kugel ",83.435372999999998,130,0.9,"Leistung:",null,"m",null,null,"Punkte:",0]
["Ball",22,500,0.9,"Leistung:",null,"m",null,null,"Punkte:",0]
[]
["*)für die Berechnung der Punkte wurde die 4x100m Formel verwendet"]